BEGIN:VCALENDAR
VERSION:2.0
PRODID:-//Vores Cosmos - ECPv6.15.20//NONSGML v1.0//EN
CALSCALE:GREGORIAN
METHOD:PUBLISH
X-WR-CALNAME:Vores Cosmos
X-ORIGINAL-URL:https://vorescosmos.dk
X-WR-CALDESC:Begivenheder for Vores Cosmos
REFRESH-INTERVAL;VALUE=DURATION:PT1H
X-Robots-Tag:noindex
X-PUBLISHED-TTL:PT1H
BEGIN:VTIMEZONE
TZID:Europe/Copenhagen
BEGIN:DAYLIGHT
TZOFFSETFROM:+0100
TZOFFSETTO:+0200
TZNAME:CEST
DTSTART:20240331T010000
END:DAYLIGHT
BEGIN:STANDARD
TZOFFSETFROM:+0200
TZOFFSETTO:+0100
TZNAME:CET
DTSTART:20241027T010000
END:STANDARD
BEGIN:DAYLIGHT
TZOFFSETFROM:+0100
TZOFFSETTO:+0200
TZNAME:CEST
DTSTART:20250330T010000
END:DAYLIGHT
BEGIN:STANDARD
TZOFFSETFROM:+0200
TZOFFSETTO:+0100
TZNAME:CET
DTSTART:20251026T010000
END:STANDARD
BEGIN:DAYLIGHT
TZOFFSETFROM:+0100
TZOFFSETTO:+0200
TZNAME:CEST
DTSTART:20260329T010000
END:DAYLIGHT
BEGIN:STANDARD
TZOFFSETFROM:+0200
TZOFFSETTO:+0100
TZNAME:CET
DTSTART:20261025T010000
END:STANDARD
BEGIN:DAYLIGHT
TZOFFSETFROM:+0100
TZOFFSETTO:+0200
TZNAME:CEST
DTSTART:20270328T010000
END:DAYLIGHT
BEGIN:STANDARD
TZOFFSETFROM:+0200
TZOFFSETTO:+0100
TZNAME:CET
DTSTART:20271031T010000
END:STANDARD
END:VTIMEZONE
BEGIN:VEVENT
DTSTART;TZID=Europe/Copenhagen:20260420T160000
DTEND;TZID=Europe/Copenhagen:20260420T180000
DTSTAMP:20260422T160219
CREATED:20231030T123535Z
LAST-MODIFIED:20241205T141227Z
UID:10039919-1776700800-1776708000@vorescosmos.dk
SUMMARY:Bibliotekscaféen
DESCRIPTION:
URL:https://vorescosmos.dk/begivenhed/bibliotekscafeen-12/2026-04-20/
LOCATION:Tænketanken\, Søndergade 11\, Viby Sj.\, 4130\, Danmark
CATEGORIES:Lokale bookninger
END:VEVENT
BEGIN:VEVENT
DTSTART;TZID=Europe/Copenhagen:20260413T160000
DTEND;TZID=Europe/Copenhagen:20260413T180000
DTSTAMP:20260422T160219
CREATED:20231030T123535Z
LAST-MODIFIED:20241205T141227Z
UID:10039918-1776096000-1776103200@vorescosmos.dk
SUMMARY:Bibliotekscaféen
DESCRIPTION:
URL:https://vorescosmos.dk/begivenhed/bibliotekscafeen-12/2026-04-13/
LOCATION:Tænketanken\, Søndergade 11\, Viby Sj.\, 4130\, Danmark
CATEGORIES:Lokale bookninger
END:VEVENT
BEGIN:VEVENT
DTSTART;TZID=Europe/Copenhagen:20260406T160000
DTEND;TZID=Europe/Copenhagen:20260406T180000
DTSTAMP:20260422T160219
CREATED:20231030T123535Z
LAST-MODIFIED:20241205T141227Z
UID:10039917-1775491200-1775498400@vorescosmos.dk
SUMMARY:Bibliotekscaféen
DESCRIPTION:
URL:https://vorescosmos.dk/begivenhed/bibliotekscafeen-12/2026-04-06/
LOCATION:Tænketanken\, Søndergade 11\, Viby Sj.\, 4130\, Danmark
CATEGORIES:Lokale bookninger
END:VEVENT
BEGIN:VEVENT
DTSTART;TZID=Europe/Copenhagen:20260330T160000
DTEND;TZID=Europe/Copenhagen:20260330T180000
DTSTAMP:20260422T160219
CREATED:20231030T123535Z
LAST-MODIFIED:20241205T141227Z
UID:10039916-1774886400-1774893600@vorescosmos.dk
SUMMARY:Bibliotekscaféen
DESCRIPTION:
URL:https://vorescosmos.dk/begivenhed/bibliotekscafeen-12/2026-03-30/
LOCATION:Tænketanken\, Søndergade 11\, Viby Sj.\, 4130\, Danmark
CATEGORIES:Lokale bookninger
END:VEVENT
BEGIN:VEVENT
DTSTART;TZID=Europe/Copenhagen:20260323T160000
DTEND;TZID=Europe/Copenhagen:20260323T180000
DTSTAMP:20260422T160219
CREATED:20231030T123535Z
LAST-MODIFIED:20241205T141227Z
UID:10039915-1774281600-1774288800@vorescosmos.dk
SUMMARY:Bibliotekscaféen
DESCRIPTION:
URL:https://vorescosmos.dk/begivenhed/bibliotekscafeen-12/2026-03-23/
LOCATION:Tænketanken\, Søndergade 11\, Viby Sj.\, 4130\, Danmark
CATEGORIES:Lokale bookninger
END:VEVENT
BEGIN:VEVENT
DTSTART;TZID=Europe/Copenhagen:20260316T160000
DTEND;TZID=Europe/Copenhagen:20260316T180000
DTSTAMP:20260422T160219
CREATED:20231030T123535Z
LAST-MODIFIED:20241205T141227Z
UID:10039914-1773676800-1773684000@vorescosmos.dk
SUMMARY:Bibliotekscaféen
DESCRIPTION:
URL:https://vorescosmos.dk/begivenhed/bibliotekscafeen-12/2026-03-16/
LOCATION:Tænketanken\, Søndergade 11\, Viby Sj.\, 4130\, Danmark
CATEGORIES:Lokale bookninger
END:VEVENT
BEGIN:VEVENT
DTSTART;TZID=Europe/Copenhagen:20260309T160000
DTEND;TZID=Europe/Copenhagen:20260309T180000
DTSTAMP:20260422T160219
CREATED:20231030T123535Z
LAST-MODIFIED:20241205T141227Z
UID:10039913-1773072000-1773079200@vorescosmos.dk
SUMMARY:Bibliotekscaféen
DESCRIPTION:
URL:https://vorescosmos.dk/begivenhed/bibliotekscafeen-12/2026-03-09/
LOCATION:Tænketanken\, Søndergade 11\, Viby Sj.\, 4130\, Danmark
CATEGORIES:Lokale bookninger
END:VEVENT
BEGIN:VEVENT
DTSTART;TZID=Europe/Copenhagen:20260302T160000
DTEND;TZID=Europe/Copenhagen:20260302T180000
DTSTAMP:20260422T160219
CREATED:20231030T123535Z
LAST-MODIFIED:20241205T141227Z
UID:10039912-1772467200-1772474400@vorescosmos.dk
SUMMARY:Bibliotekscaféen
DESCRIPTION:
URL:https://vorescosmos.dk/begivenhed/bibliotekscafeen-12/2026-03-02/
LOCATION:Tænketanken\, Søndergade 11\, Viby Sj.\, 4130\, Danmark
CATEGORIES:Lokale bookninger
END:VEVENT
BEGIN:VEVENT
DTSTART;TZID=Europe/Copenhagen:20260223T160000
DTEND;TZID=Europe/Copenhagen:20260223T180000
DTSTAMP:20260422T160219
CREATED:20231030T123535Z
LAST-MODIFIED:20241205T141227Z
UID:10039911-1771862400-1771869600@vorescosmos.dk
SUMMARY:Bibliotekscaféen
DESCRIPTION:
URL:https://vorescosmos.dk/begivenhed/bibliotekscafeen-12/2026-02-23/
LOCATION:Tænketanken\, Søndergade 11\, Viby Sj.\, 4130\, Danmark
CATEGORIES:Lokale bookninger
END:VEVENT
BEGIN:VEVENT
DTSTART;TZID=Europe/Copenhagen:20260216T160000
DTEND;TZID=Europe/Copenhagen:20260216T180000
DTSTAMP:20260422T160219
CREATED:20231030T123535Z
LAST-MODIFIED:20241205T141227Z
UID:10039910-1771257600-1771264800@vorescosmos.dk
SUMMARY:Bibliotekscaféen
DESCRIPTION:
URL:https://vorescosmos.dk/begivenhed/bibliotekscafeen-12/2026-02-16/
LOCATION:Tænketanken\, Søndergade 11\, Viby Sj.\, 4130\, Danmark
CATEGORIES:Lokale bookninger
END:VEVENT
BEGIN:VEVENT
DTSTART;TZID=Europe/Copenhagen:20260209T160000
DTEND;TZID=Europe/Copenhagen:20260209T180000
DTSTAMP:20260422T160219
CREATED:20231030T123535Z
LAST-MODIFIED:20241205T141227Z
UID:10039909-1770652800-1770660000@vorescosmos.dk
SUMMARY:Bibliotekscaféen
DESCRIPTION:
URL:https://vorescosmos.dk/begivenhed/bibliotekscafeen-12/2026-02-09/
LOCATION:Tænketanken\, Søndergade 11\, Viby Sj.\, 4130\, Danmark
CATEGORIES:Lokale bookninger
END:VEVENT
BEGIN:VEVENT
DTSTART;TZID=Europe/Copenhagen:20260202T160000
DTEND;TZID=Europe/Copenhagen:20260202T180000
DTSTAMP:20260422T160219
CREATED:20231030T123535Z
LAST-MODIFIED:20241205T141227Z
UID:10039908-1770048000-1770055200@vorescosmos.dk
SUMMARY:Bibliotekscaféen
DESCRIPTION:
URL:https://vorescosmos.dk/begivenhed/bibliotekscafeen-12/2026-02-02/
LOCATION:Tænketanken\, Søndergade 11\, Viby Sj.\, 4130\, Danmark
CATEGORIES:Lokale bookninger
END:VEVENT
BEGIN:VEVENT
DTSTART;TZID=Europe/Copenhagen:20260126T160000
DTEND;TZID=Europe/Copenhagen:20260126T180000
DTSTAMP:20260422T160219
CREATED:20231030T123535Z
LAST-MODIFIED:20241205T141227Z
UID:10039907-1769443200-1769450400@vorescosmos.dk
SUMMARY:Bibliotekscaféen
DESCRIPTION:
URL:https://vorescosmos.dk/begivenhed/bibliotekscafeen-12/2026-01-26/
LOCATION:Tænketanken\, Søndergade 11\, Viby Sj.\, 4130\, Danmark
CATEGORIES:Lokale bookninger
END:VEVENT
BEGIN:VEVENT
DTSTART;TZID=Europe/Copenhagen:20260119T160000
DTEND;TZID=Europe/Copenhagen:20260119T180000
DTSTAMP:20260422T160219
CREATED:20231030T123535Z
LAST-MODIFIED:20241205T141227Z
UID:10039906-1768838400-1768845600@vorescosmos.dk
SUMMARY:Bibliotekscaféen
DESCRIPTION:
URL:https://vorescosmos.dk/begivenhed/bibliotekscafeen-12/2026-01-19/
LOCATION:Tænketanken\, Søndergade 11\, Viby Sj.\, 4130\, Danmark
CATEGORIES:Lokale bookninger
END:VEVENT
BEGIN:VEVENT
DTSTART;TZID=Europe/Copenhagen:20260112T160000
DTEND;TZID=Europe/Copenhagen:20260112T180000
DTSTAMP:20260422T160219
CREATED:20231030T123535Z
LAST-MODIFIED:20241205T141227Z
UID:10039905-1768233600-1768240800@vorescosmos.dk
SUMMARY:Bibliotekscaféen
DESCRIPTION:
URL:https://vorescosmos.dk/begivenhed/bibliotekscafeen-12/2026-01-12/
LOCATION:Tænketanken\, Søndergade 11\, Viby Sj.\, 4130\, Danmark
CATEGORIES:Lokale bookninger
END:VEVENT
BEGIN:VEVENT
DTSTART;TZID=Europe/Copenhagen:20260105T160000
DTEND;TZID=Europe/Copenhagen:20260105T180000
DTSTAMP:20260422T160219
CREATED:20231030T123535Z
LAST-MODIFIED:20241205T141227Z
UID:10039904-1767628800-1767636000@vorescosmos.dk
SUMMARY:Bibliotekscaféen
DESCRIPTION:
URL:https://vorescosmos.dk/begivenhed/bibliotekscafeen-12/2026-01-05/
LOCATION:Tænketanken\, Søndergade 11\, Viby Sj.\, 4130\, Danmark
CATEGORIES:Lokale bookninger
END:VEVENT
BEGIN:VEVENT
DTSTART;TZID=Europe/Copenhagen:20251229T160000
DTEND;TZID=Europe/Copenhagen:20251229T180000
DTSTAMP:20260422T160219
CREATED:20231030T123535Z
LAST-MODIFIED:20241205T141227Z
UID:10039903-1767024000-1767031200@vorescosmos.dk
SUMMARY:Bibliotekscaféen
DESCRIPTION:
URL:https://vorescosmos.dk/begivenhed/bibliotekscafeen-12/2025-12-29/
LOCATION:Tænketanken\, Søndergade 11\, Viby Sj.\, 4130\, Danmark
CATEGORIES:Lokale bookninger
END:VEVENT
BEGIN:VEVENT
DTSTART;TZID=Europe/Copenhagen:20251222T160000
DTEND;TZID=Europe/Copenhagen:20251222T180000
DTSTAMP:20260422T160219
CREATED:20231030T123535Z
LAST-MODIFIED:20241205T141227Z
UID:10039902-1766419200-1766426400@vorescosmos.dk
SUMMARY:Bibliotekscaféen
DESCRIPTION:
URL:https://vorescosmos.dk/begivenhed/bibliotekscafeen-12/2025-12-22/
LOCATION:Tænketanken\, Søndergade 11\, Viby Sj.\, 4130\, Danmark
CATEGORIES:Lokale bookninger
END:VEVENT
BEGIN:VEVENT
DTSTART;TZID=Europe/Copenhagen:20251217T093000
DTEND;TZID=Europe/Copenhagen:20251217T113000
DTSTAMP:20260422T160219
CREATED:20250314T113352Z
LAST-MODIFIED:20250314T113352Z
UID:10043492-1765963800-1765971000@vorescosmos.dk
SUMMARY:Biblioteket
DESCRIPTION:
URL:https://vorescosmos.dk/begivenhed/biblioteket-48/
LOCATION:Peder Syv salen\, Søndergade 11\, Viby Sj.\, 4130\, Danmark
CATEGORIES:Lokale bookninger
END:VEVENT
BEGIN:VEVENT
DTSTART;TZID=Europe/Copenhagen:20251215T160000
DTEND;TZID=Europe/Copenhagen:20251215T180000
DTSTAMP:20260422T160219
CREATED:20231030T123535Z
LAST-MODIFIED:20241205T141227Z
UID:10039901-1765814400-1765821600@vorescosmos.dk
SUMMARY:Bibliotekscaféen
DESCRIPTION:
URL:https://vorescosmos.dk/begivenhed/bibliotekscafeen-12/2025-12-15/
LOCATION:Tænketanken\, Søndergade 11\, Viby Sj.\, 4130\, Danmark
CATEGORIES:Lokale bookninger
END:VEVENT
BEGIN:VEVENT
DTSTART;TZID=Europe/Copenhagen:20251210T093000
DTEND;TZID=Europe/Copenhagen:20251210T113000
DTSTAMP:20260422T160219
CREATED:20250314T113306Z
LAST-MODIFIED:20250314T113307Z
UID:10043491-1765359000-1765366200@vorescosmos.dk
SUMMARY:Biblioteket
DESCRIPTION:
URL:https://vorescosmos.dk/begivenhed/biblioteket-47/
LOCATION:Peder Syv salen\, Søndergade 11\, Viby Sj.\, 4130\, Danmark
CATEGORIES:Lokale bookninger
END:VEVENT
BEGIN:VEVENT
DTSTART;TZID=Europe/Copenhagen:20251208T160000
DTEND;TZID=Europe/Copenhagen:20251208T180000
DTSTAMP:20260422T160219
CREATED:20231030T123535Z
LAST-MODIFIED:20241205T141227Z
UID:10039900-1765209600-1765216800@vorescosmos.dk
SUMMARY:Bibliotekscaféen
DESCRIPTION:
URL:https://vorescosmos.dk/begivenhed/bibliotekscafeen-12/2025-12-08/
LOCATION:Tænketanken\, Søndergade 11\, Viby Sj.\, 4130\, Danmark
CATEGORIES:Lokale bookninger
END:VEVENT
BEGIN:VEVENT
DTSTART;TZID=Europe/Copenhagen:20251201T160000
DTEND;TZID=Europe/Copenhagen:20251201T180000
DTSTAMP:20260422T160219
CREATED:20231030T123535Z
LAST-MODIFIED:20241205T141227Z
UID:10039899-1764604800-1764612000@vorescosmos.dk
SUMMARY:Bibliotekscaféen
DESCRIPTION:
URL:https://vorescosmos.dk/begivenhed/bibliotekscafeen-12/2025-12-01/
LOCATION:Tænketanken\, Søndergade 11\, Viby Sj.\, 4130\, Danmark
CATEGORIES:Lokale bookninger
END:VEVENT
BEGIN:VEVENT
DTSTART;TZID=Europe/Copenhagen:20251124T160000
DTEND;TZID=Europe/Copenhagen:20251124T180000
DTSTAMP:20260422T160219
CREATED:20231030T123535Z
LAST-MODIFIED:20241205T141227Z
UID:10039898-1764000000-1764007200@vorescosmos.dk
SUMMARY:Bibliotekscaféen
DESCRIPTION:
URL:https://vorescosmos.dk/begivenhed/bibliotekscafeen-12/2025-11-24/
LOCATION:Tænketanken\, Søndergade 11\, Viby Sj.\, 4130\, Danmark
CATEGORIES:Lokale bookninger
END:VEVENT
BEGIN:VEVENT
DTSTART;TZID=Europe/Copenhagen:20251119T120000
DTEND;TZID=Europe/Copenhagen:20251119T143000
DTSTAMP:20260422T160219
CREATED:20251003T082139Z
LAST-MODIFIED:20251007T103237Z
UID:10046404-1763553600-1763562600@vorescosmos.dk
SUMMARY:Biblioteket
DESCRIPTION:
URL:https://vorescosmos.dk/begivenhed/biblioteket-57/
LOCATION:Tænketanken\, Søndergade 11\, Viby Sj.\, 4130\, Danmark
CATEGORIES:Lokale bookninger
END:VEVENT
BEGIN:VEVENT
DTSTART;TZID=Europe/Copenhagen:20251117T160000
DTEND;TZID=Europe/Copenhagen:20251117T180000
DTSTAMP:20260422T160219
CREATED:20231030T123535Z
LAST-MODIFIED:20241205T141227Z
UID:10039897-1763395200-1763402400@vorescosmos.dk
SUMMARY:Bibliotekscaféen
DESCRIPTION:
URL:https://vorescosmos.dk/begivenhed/bibliotekscafeen-12/2025-11-17/
LOCATION:Tænketanken\, Søndergade 11\, Viby Sj.\, 4130\, Danmark
CATEGORIES:Lokale bookninger
END:VEVENT
BEGIN:VEVENT
DTSTART;TZID=Europe/Copenhagen:20251112T093000
DTEND;TZID=Europe/Copenhagen:20251112T113000
DTSTAMP:20260422T160219
CREATED:20250314T113127Z
LAST-MODIFIED:20250314T113127Z
UID:10043489-1762939800-1762947000@vorescosmos.dk
SUMMARY:Biblioteket
DESCRIPTION:
URL:https://vorescosmos.dk/begivenhed/biblioteket-45/
LOCATION:Peder Syv salen\, Søndergade 11\, Viby Sj.\, 4130\, Danmark
CATEGORIES:Lokale bookninger
END:VEVENT
BEGIN:VEVENT
DTSTART;TZID=Europe/Copenhagen:20251110T160000
DTEND;TZID=Europe/Copenhagen:20251110T180000
DTSTAMP:20260422T160219
CREATED:20231030T123535Z
LAST-MODIFIED:20241205T141227Z
UID:10039896-1762790400-1762797600@vorescosmos.dk
SUMMARY:Bibliotekscaféen
DESCRIPTION:
URL:https://vorescosmos.dk/begivenhed/bibliotekscafeen-12/2025-11-10/
LOCATION:Tænketanken\, Søndergade 11\, Viby Sj.\, 4130\, Danmark
CATEGORIES:Lokale bookninger
END:VEVENT
BEGIN:VEVENT
DTSTART;TZID=Europe/Copenhagen:20251106T093000
DTEND;TZID=Europe/Copenhagen:20251106T120000
DTSTAMP:20260422T160219
CREATED:20250321T130207Z
LAST-MODIFIED:20250321T130208Z
UID:10043501-1762421400-1762430400@vorescosmos.dk
SUMMARY:Biblioteket
DESCRIPTION:
URL:https://vorescosmos.dk/begivenhed/biblioteket-49/
LOCATION:Peder Syv salen\, Søndergade 11\, Viby Sj.\, 4130\, Danmark
CATEGORIES:Lokale bookninger
END:VEVENT
BEGIN:VEVENT
DTSTART;TZID=Europe/Copenhagen:20251105T140000
DTEND;TZID=Europe/Copenhagen:20251105T180000
DTSTAMP:20260422T160219
CREATED:20250311T120848Z
LAST-MODIFIED:20250311T120849Z
UID:10043480-1762351200-1762365600@vorescosmos.dk
SUMMARY:Biblioteket
DESCRIPTION:
URL:https://vorescosmos.dk/begivenhed/biblioteket-40/
LOCATION:Peder Syv salen\, Søndergade 11\, Viby Sj.\, 4130\, Danmark
CATEGORIES:Lokale bookninger
END:VEVENT
END:VCALENDAR