BEGIN:VCALENDAR
VERSION:2.0
PRODID:-//Vores Cosmos - ECPv6.15.20//NONSGML v1.0//EN
CALSCALE:GREGORIAN
METHOD:PUBLISH
X-WR-CALNAME:Vores Cosmos
X-ORIGINAL-URL:https://vorescosmos.dk
X-WR-CALDESC:Begivenheder for Vores Cosmos
REFRESH-INTERVAL;VALUE=DURATION:PT1H
X-Robots-Tag:noindex
X-PUBLISHED-TTL:PT1H
BEGIN:VTIMEZONE
TZID:Europe/Copenhagen
BEGIN:DAYLIGHT
TZOFFSETFROM:+0100
TZOFFSETTO:+0200
TZNAME:CEST
DTSTART:20250330T010000
END:DAYLIGHT
BEGIN:STANDARD
TZOFFSETFROM:+0200
TZOFFSETTO:+0100
TZNAME:CET
DTSTART:20251026T010000
END:STANDARD
BEGIN:DAYLIGHT
TZOFFSETFROM:+0100
TZOFFSETTO:+0200
TZNAME:CEST
DTSTART:20260329T010000
END:DAYLIGHT
BEGIN:STANDARD
TZOFFSETFROM:+0200
TZOFFSETTO:+0100
TZNAME:CET
DTSTART:20261025T010000
END:STANDARD
BEGIN:DAYLIGHT
TZOFFSETFROM:+0100
TZOFFSETTO:+0200
TZNAME:CEST
DTSTART:20270328T010000
END:DAYLIGHT
BEGIN:STANDARD
TZOFFSETFROM:+0200
TZOFFSETTO:+0100
TZNAME:CET
DTSTART:20271031T010000
END:STANDARD
END:VTIMEZONE
BEGIN:VEVENT
DTSTART;TZID=Europe/Copenhagen:20260427T160000
DTEND;TZID=Europe/Copenhagen:20260427T180000
DTSTAMP:20260422T135944
CREATED:20231030T123535Z
LAST-MODIFIED:20241205T141227Z
UID:10039920-1777305600-1777312800@vorescosmos.dk
SUMMARY:Bibliotekscaféen
DESCRIPTION:
URL:https://vorescosmos.dk/begivenhed/bibliotekscafeen-12/2026-04-27/
LOCATION:Tænketanken\, Søndergade 11\, Viby Sj.\, 4130\, Danmark
CATEGORIES:Lokale bookninger
END:VEVENT
BEGIN:VEVENT
DTSTART;TZID=Europe/Copenhagen:20260504T160000
DTEND;TZID=Europe/Copenhagen:20260504T180000
DTSTAMP:20260422T135944
CREATED:20231030T123535Z
LAST-MODIFIED:20241205T141227Z
UID:10039921-1777910400-1777917600@vorescosmos.dk
SUMMARY:Bibliotekscaféen
DESCRIPTION:
URL:https://vorescosmos.dk/begivenhed/bibliotekscafeen-12/2026-05-04/
LOCATION:Tænketanken\, Søndergade 11\, Viby Sj.\, 4130\, Danmark
CATEGORIES:Lokale bookninger
END:VEVENT
BEGIN:VEVENT
DTSTART;TZID=Europe/Copenhagen:20260511T160000
DTEND;TZID=Europe/Copenhagen:20260511T180000
DTSTAMP:20260422T135944
CREATED:20231030T123535Z
LAST-MODIFIED:20241205T141227Z
UID:10039922-1778515200-1778522400@vorescosmos.dk
SUMMARY:Bibliotekscaféen
DESCRIPTION:
URL:https://vorescosmos.dk/begivenhed/bibliotekscafeen-12/2026-05-11/
LOCATION:Tænketanken\, Søndergade 11\, Viby Sj.\, 4130\, Danmark
CATEGORIES:Lokale bookninger
END:VEVENT
BEGIN:VEVENT
DTSTART;TZID=Europe/Copenhagen:20260518T160000
DTEND;TZID=Europe/Copenhagen:20260518T180000
DTSTAMP:20260422T135944
CREATED:20231030T123535Z
LAST-MODIFIED:20241205T141227Z
UID:10039923-1779120000-1779127200@vorescosmos.dk
SUMMARY:Bibliotekscaféen
DESCRIPTION:
URL:https://vorescosmos.dk/begivenhed/bibliotekscafeen-12/2026-05-18/
LOCATION:Tænketanken\, Søndergade 11\, Viby Sj.\, 4130\, Danmark
CATEGORIES:Lokale bookninger
END:VEVENT
BEGIN:VEVENT
DTSTART;TZID=Europe/Copenhagen:20260525T160000
DTEND;TZID=Europe/Copenhagen:20260525T180000
DTSTAMP:20260422T135944
CREATED:20231030T123535Z
LAST-MODIFIED:20241205T141227Z
UID:10039924-1779724800-1779732000@vorescosmos.dk
SUMMARY:Bibliotekscaféen
DESCRIPTION:
URL:https://vorescosmos.dk/begivenhed/bibliotekscafeen-12/2026-05-25/
LOCATION:Tænketanken\, Søndergade 11\, Viby Sj.\, 4130\, Danmark
CATEGORIES:Lokale bookninger
END:VEVENT
BEGIN:VEVENT
DTSTART;TZID=Europe/Copenhagen:20260601T160000
DTEND;TZID=Europe/Copenhagen:20260601T180000
DTSTAMP:20260422T135944
CREATED:20231030T123535Z
LAST-MODIFIED:20241205T141227Z
UID:10039925-1780329600-1780336800@vorescosmos.dk
SUMMARY:Bibliotekscaféen
DESCRIPTION:
URL:https://vorescosmos.dk/begivenhed/bibliotekscafeen-12/2026-06-01/
LOCATION:Tænketanken\, Søndergade 11\, Viby Sj.\, 4130\, Danmark
CATEGORIES:Lokale bookninger
END:VEVENT
BEGIN:VEVENT
DTSTART;TZID=Europe/Copenhagen:20260606T090000
DTEND;TZID=Europe/Copenhagen:20260606T120000
DTSTAMP:20260422T135944
CREATED:20251125T131152Z
LAST-MODIFIED:20251125T131326Z
UID:10046561-1780736400-1780747200@vorescosmos.dk
SUMMARY:Biblioteket
DESCRIPTION:
URL:https://vorescosmos.dk/begivenhed/biblioteket-62/
LOCATION:Peder Syv salen\, Søndergade 11\, Viby Sj.\, 4130\, Danmark
CATEGORIES:Lokale bookninger
END:VEVENT
BEGIN:VEVENT
DTSTART;TZID=Europe/Copenhagen:20260608T160000
DTEND;TZID=Europe/Copenhagen:20260608T180000
DTSTAMP:20260422T135944
CREATED:20231030T123535Z
LAST-MODIFIED:20241205T141227Z
UID:10039926-1780934400-1780941600@vorescosmos.dk
SUMMARY:Bibliotekscaféen
DESCRIPTION:
URL:https://vorescosmos.dk/begivenhed/bibliotekscafeen-12/2026-06-08/
LOCATION:Tænketanken\, Søndergade 11\, Viby Sj.\, 4130\, Danmark
CATEGORIES:Lokale bookninger
END:VEVENT
BEGIN:VEVENT
DTSTART;TZID=Europe/Copenhagen:20260615T160000
DTEND;TZID=Europe/Copenhagen:20260615T180000
DTSTAMP:20260422T135944
CREATED:20231030T123535Z
LAST-MODIFIED:20241205T141227Z
UID:10039927-1781539200-1781546400@vorescosmos.dk
SUMMARY:Bibliotekscaféen
DESCRIPTION:
URL:https://vorescosmos.dk/begivenhed/bibliotekscafeen-12/2026-06-15/
LOCATION:Tænketanken\, Søndergade 11\, Viby Sj.\, 4130\, Danmark
CATEGORIES:Lokale bookninger
END:VEVENT
BEGIN:VEVENT
DTSTART;TZID=Europe/Copenhagen:20260622T160000
DTEND;TZID=Europe/Copenhagen:20260622T180000
DTSTAMP:20260422T135944
CREATED:20231030T123535Z
LAST-MODIFIED:20241205T141227Z
UID:10039928-1782144000-1782151200@vorescosmos.dk
SUMMARY:Bibliotekscaféen
DESCRIPTION:
URL:https://vorescosmos.dk/begivenhed/bibliotekscafeen-12/2026-06-22/
LOCATION:Tænketanken\, Søndergade 11\, Viby Sj.\, 4130\, Danmark
CATEGORIES:Lokale bookninger
END:VEVENT
BEGIN:VEVENT
DTSTART;TZID=Europe/Copenhagen:20260629T160000
DTEND;TZID=Europe/Copenhagen:20260629T180000
DTSTAMP:20260422T135944
CREATED:20231030T123535Z
LAST-MODIFIED:20241205T141227Z
UID:10039929-1782748800-1782756000@vorescosmos.dk
SUMMARY:Bibliotekscaféen
DESCRIPTION:
URL:https://vorescosmos.dk/begivenhed/bibliotekscafeen-12/2026-06-29/
LOCATION:Tænketanken\, Søndergade 11\, Viby Sj.\, 4130\, Danmark
CATEGORIES:Lokale bookninger
END:VEVENT
BEGIN:VEVENT
DTSTART;TZID=Europe/Copenhagen:20260706T160000
DTEND;TZID=Europe/Copenhagen:20260706T180000
DTSTAMP:20260422T135944
CREATED:20231030T123535Z
LAST-MODIFIED:20241205T141227Z
UID:10039930-1783353600-1783360800@vorescosmos.dk
SUMMARY:Bibliotekscaféen
DESCRIPTION:
URL:https://vorescosmos.dk/begivenhed/bibliotekscafeen-12/2026-07-06/
LOCATION:Tænketanken\, Søndergade 11\, Viby Sj.\, 4130\, Danmark
CATEGORIES:Lokale bookninger
END:VEVENT
BEGIN:VEVENT
DTSTART;TZID=Europe/Copenhagen:20260713T160000
DTEND;TZID=Europe/Copenhagen:20260713T180000
DTSTAMP:20260422T135944
CREATED:20231030T123535Z
LAST-MODIFIED:20241205T141227Z
UID:10039931-1783958400-1783965600@vorescosmos.dk
SUMMARY:Bibliotekscaféen
DESCRIPTION:
URL:https://vorescosmos.dk/begivenhed/bibliotekscafeen-12/2026-07-13/
LOCATION:Tænketanken\, Søndergade 11\, Viby Sj.\, 4130\, Danmark
CATEGORIES:Lokale bookninger
END:VEVENT
BEGIN:VEVENT
DTSTART;TZID=Europe/Copenhagen:20260720T160000
DTEND;TZID=Europe/Copenhagen:20260720T180000
DTSTAMP:20260422T135944
CREATED:20231030T123535Z
LAST-MODIFIED:20241205T141227Z
UID:10039932-1784563200-1784570400@vorescosmos.dk
SUMMARY:Bibliotekscaféen
DESCRIPTION:
URL:https://vorescosmos.dk/begivenhed/bibliotekscafeen-12/2026-07-20/
LOCATION:Tænketanken\, Søndergade 11\, Viby Sj.\, 4130\, Danmark
CATEGORIES:Lokale bookninger
END:VEVENT
BEGIN:VEVENT
DTSTART;TZID=Europe/Copenhagen:20260727T160000
DTEND;TZID=Europe/Copenhagen:20260727T180000
DTSTAMP:20260422T135944
CREATED:20231030T123535Z
LAST-MODIFIED:20241205T141227Z
UID:10039933-1785168000-1785175200@vorescosmos.dk
SUMMARY:Bibliotekscaféen
DESCRIPTION:
URL:https://vorescosmos.dk/begivenhed/bibliotekscafeen-12/2026-07-27/
LOCATION:Tænketanken\, Søndergade 11\, Viby Sj.\, 4130\, Danmark
CATEGORIES:Lokale bookninger
END:VEVENT
BEGIN:VEVENT
DTSTART;TZID=Europe/Copenhagen:20260803T160000
DTEND;TZID=Europe/Copenhagen:20260803T180000
DTSTAMP:20260422T135944
CREATED:20231030T123535Z
LAST-MODIFIED:20241205T141227Z
UID:10039934-1785772800-1785780000@vorescosmos.dk
SUMMARY:Bibliotekscaféen
DESCRIPTION:
URL:https://vorescosmos.dk/begivenhed/bibliotekscafeen-12/2026-08-03/
LOCATION:Tænketanken\, Søndergade 11\, Viby Sj.\, 4130\, Danmark
CATEGORIES:Lokale bookninger
END:VEVENT
BEGIN:VEVENT
DTSTART;TZID=Europe/Copenhagen:20260810T160000
DTEND;TZID=Europe/Copenhagen:20260810T180000
DTSTAMP:20260422T135944
CREATED:20231030T123535Z
LAST-MODIFIED:20241205T141227Z
UID:10039935-1786377600-1786384800@vorescosmos.dk
SUMMARY:Bibliotekscaféen
DESCRIPTION:
URL:https://vorescosmos.dk/begivenhed/bibliotekscafeen-12/2026-08-10/
LOCATION:Tænketanken\, Søndergade 11\, Viby Sj.\, 4130\, Danmark
CATEGORIES:Lokale bookninger
END:VEVENT
BEGIN:VEVENT
DTSTART;TZID=Europe/Copenhagen:20260817T160000
DTEND;TZID=Europe/Copenhagen:20260817T180000
DTSTAMP:20260422T135944
CREATED:20231030T123535Z
LAST-MODIFIED:20241205T141227Z
UID:10039936-1786982400-1786989600@vorescosmos.dk
SUMMARY:Bibliotekscaféen
DESCRIPTION:
URL:https://vorescosmos.dk/begivenhed/bibliotekscafeen-12/2026-08-17/
LOCATION:Tænketanken\, Søndergade 11\, Viby Sj.\, 4130\, Danmark
CATEGORIES:Lokale bookninger
END:VEVENT
BEGIN:VEVENT
DTSTART;TZID=Europe/Copenhagen:20260824T160000
DTEND;TZID=Europe/Copenhagen:20260824T180000
DTSTAMP:20260422T135944
CREATED:20231030T123535Z
LAST-MODIFIED:20241205T141227Z
UID:10039937-1787587200-1787594400@vorescosmos.dk
SUMMARY:Bibliotekscaféen
DESCRIPTION:
URL:https://vorescosmos.dk/begivenhed/bibliotekscafeen-12/2026-08-24/
LOCATION:Tænketanken\, Søndergade 11\, Viby Sj.\, 4130\, Danmark
CATEGORIES:Lokale bookninger
END:VEVENT
BEGIN:VEVENT
DTSTART;TZID=Europe/Copenhagen:20260831T160000
DTEND;TZID=Europe/Copenhagen:20260831T180000
DTSTAMP:20260422T135944
CREATED:20231030T123535Z
LAST-MODIFIED:20241205T141227Z
UID:10039938-1788192000-1788199200@vorescosmos.dk
SUMMARY:Bibliotekscaféen
DESCRIPTION:
URL:https://vorescosmos.dk/begivenhed/bibliotekscafeen-12/2026-08-31/
LOCATION:Tænketanken\, Søndergade 11\, Viby Sj.\, 4130\, Danmark
CATEGORIES:Lokale bookninger
END:VEVENT
BEGIN:VEVENT
DTSTART;TZID=Europe/Copenhagen:20260907T160000
DTEND;TZID=Europe/Copenhagen:20260907T180000
DTSTAMP:20260422T135944
CREATED:20231030T123535Z
LAST-MODIFIED:20241205T141227Z
UID:10039939-1788796800-1788804000@vorescosmos.dk
SUMMARY:Bibliotekscaféen
DESCRIPTION:
URL:https://vorescosmos.dk/begivenhed/bibliotekscafeen-12/2026-09-07/
LOCATION:Tænketanken\, Søndergade 11\, Viby Sj.\, 4130\, Danmark
CATEGORIES:Lokale bookninger
END:VEVENT
BEGIN:VEVENT
DTSTART;TZID=Europe/Copenhagen:20260914T160000
DTEND;TZID=Europe/Copenhagen:20260914T180000
DTSTAMP:20260422T135944
CREATED:20231030T123535Z
LAST-MODIFIED:20241205T141227Z
UID:10039940-1789401600-1789408800@vorescosmos.dk
SUMMARY:Bibliotekscaféen
DESCRIPTION:
URL:https://vorescosmos.dk/begivenhed/bibliotekscafeen-12/2026-09-14/
LOCATION:Tænketanken\, Søndergade 11\, Viby Sj.\, 4130\, Danmark
CATEGORIES:Lokale bookninger
END:VEVENT
BEGIN:VEVENT
DTSTART;TZID=Europe/Copenhagen:20260921T160000
DTEND;TZID=Europe/Copenhagen:20260921T180000
DTSTAMP:20260422T135944
CREATED:20231030T123535Z
LAST-MODIFIED:20241205T141227Z
UID:10039941-1790006400-1790013600@vorescosmos.dk
SUMMARY:Bibliotekscaféen
DESCRIPTION:
URL:https://vorescosmos.dk/begivenhed/bibliotekscafeen-12/2026-09-21/
LOCATION:Tænketanken\, Søndergade 11\, Viby Sj.\, 4130\, Danmark
CATEGORIES:Lokale bookninger
END:VEVENT
BEGIN:VEVENT
DTSTART;TZID=Europe/Copenhagen:20260928T160000
DTEND;TZID=Europe/Copenhagen:20260928T180000
DTSTAMP:20260422T135944
CREATED:20231030T123535Z
LAST-MODIFIED:20241205T141227Z
UID:10039942-1790611200-1790618400@vorescosmos.dk
SUMMARY:Bibliotekscaféen
DESCRIPTION:
URL:https://vorescosmos.dk/begivenhed/bibliotekscafeen-12/2026-09-28/
LOCATION:Tænketanken\, Søndergade 11\, Viby Sj.\, 4130\, Danmark
CATEGORIES:Lokale bookninger
END:VEVENT
BEGIN:VEVENT
DTSTART;TZID=Europe/Copenhagen:20261005T160000
DTEND;TZID=Europe/Copenhagen:20261005T180000
DTSTAMP:20260422T135944
CREATED:20231030T123535Z
LAST-MODIFIED:20241205T141227Z
UID:10039943-1791216000-1791223200@vorescosmos.dk
SUMMARY:Bibliotekscaféen
DESCRIPTION:
URL:https://vorescosmos.dk/begivenhed/bibliotekscafeen-12/2026-10-05/
LOCATION:Tænketanken\, Søndergade 11\, Viby Sj.\, 4130\, Danmark
CATEGORIES:Lokale bookninger
END:VEVENT
BEGIN:VEVENT
DTSTART;TZID=Europe/Copenhagen:20261012T160000
DTEND;TZID=Europe/Copenhagen:20261012T180000
DTSTAMP:20260422T135944
CREATED:20231030T123535Z
LAST-MODIFIED:20241205T141227Z
UID:10039944-1791820800-1791828000@vorescosmos.dk
SUMMARY:Bibliotekscaféen
DESCRIPTION:
URL:https://vorescosmos.dk/begivenhed/bibliotekscafeen-12/2026-10-12/
LOCATION:Tænketanken\, Søndergade 11\, Viby Sj.\, 4130\, Danmark
CATEGORIES:Lokale bookninger
END:VEVENT
BEGIN:VEVENT
DTSTART;TZID=Europe/Copenhagen:20261019T160000
DTEND;TZID=Europe/Copenhagen:20261019T180000
DTSTAMP:20260422T135944
CREATED:20231030T123535Z
LAST-MODIFIED:20241205T141227Z
UID:10039945-1792425600-1792432800@vorescosmos.dk
SUMMARY:Bibliotekscaféen
DESCRIPTION:
URL:https://vorescosmos.dk/begivenhed/bibliotekscafeen-12/2026-10-19/
LOCATION:Tænketanken\, Søndergade 11\, Viby Sj.\, 4130\, Danmark
CATEGORIES:Lokale bookninger
END:VEVENT
BEGIN:VEVENT
DTSTART;TZID=Europe/Copenhagen:20261026T160000
DTEND;TZID=Europe/Copenhagen:20261026T180000
DTSTAMP:20260422T135944
CREATED:20231030T123535Z
LAST-MODIFIED:20241205T141227Z
UID:10039946-1793030400-1793037600@vorescosmos.dk
SUMMARY:Bibliotekscaféen
DESCRIPTION:
URL:https://vorescosmos.dk/begivenhed/bibliotekscafeen-12/2026-10-26/
LOCATION:Tænketanken\, Søndergade 11\, Viby Sj.\, 4130\, Danmark
CATEGORIES:Lokale bookninger
END:VEVENT
BEGIN:VEVENT
DTSTART;TZID=Europe/Copenhagen:20261102T160000
DTEND;TZID=Europe/Copenhagen:20261102T180000
DTSTAMP:20260422T135944
CREATED:20231030T123535Z
LAST-MODIFIED:20241205T141227Z
UID:10039947-1793635200-1793642400@vorescosmos.dk
SUMMARY:Bibliotekscaféen
DESCRIPTION:
URL:https://vorescosmos.dk/begivenhed/bibliotekscafeen-12/2026-11-02/
LOCATION:Tænketanken\, Søndergade 11\, Viby Sj.\, 4130\, Danmark
CATEGORIES:Lokale bookninger
END:VEVENT
BEGIN:VEVENT
DTSTART;TZID=Europe/Copenhagen:20261109T160000
DTEND;TZID=Europe/Copenhagen:20261109T180000
DTSTAMP:20260422T135944
CREATED:20231030T123535Z
LAST-MODIFIED:20241205T141227Z
UID:10039948-1794240000-1794247200@vorescosmos.dk
SUMMARY:Bibliotekscaféen
DESCRIPTION:
URL:https://vorescosmos.dk/begivenhed/bibliotekscafeen-12/2026-11-09/
LOCATION:Tænketanken\, Søndergade 11\, Viby Sj.\, 4130\, Danmark
CATEGORIES:Lokale bookninger
END:VEVENT
END:VCALENDAR