BEGIN:VCALENDAR
VERSION:2.0
PRODID:-//Vores Cosmos - ECPv6.15.20//NONSGML v1.0//EN
CALSCALE:GREGORIAN
METHOD:PUBLISH
X-ORIGINAL-URL:https://vorescosmos.dk
X-WR-CALDESC:Begivenheder for Vores Cosmos
REFRESH-INTERVAL;VALUE=DURATION:PT1H
X-Robots-Tag:noindex
X-PUBLISHED-TTL:PT1H
BEGIN:VTIMEZONE
TZID:Europe/Copenhagen
BEGIN:DAYLIGHT
TZOFFSETFROM:+0100
TZOFFSETTO:+0200
TZNAME:CEST
DTSTART:20230326T010000
END:DAYLIGHT
BEGIN:STANDARD
TZOFFSETFROM:+0200
TZOFFSETTO:+0100
TZNAME:CET
DTSTART:20231029T010000
END:STANDARD
BEGIN:DAYLIGHT
TZOFFSETFROM:+0100
TZOFFSETTO:+0200
TZNAME:CEST
DTSTART:20240331T010000
END:DAYLIGHT
BEGIN:STANDARD
TZOFFSETFROM:+0200
TZOFFSETTO:+0100
TZNAME:CET
DTSTART:20241027T010000
END:STANDARD
BEGIN:DAYLIGHT
TZOFFSETFROM:+0100
TZOFFSETTO:+0200
TZNAME:CEST
DTSTART:20250330T010000
END:DAYLIGHT
BEGIN:STANDARD
TZOFFSETFROM:+0200
TZOFFSETTO:+0100
TZNAME:CET
DTSTART:20251026T010000
END:STANDARD
BEGIN:DAYLIGHT
TZOFFSETFROM:+0100
TZOFFSETTO:+0200
TZNAME:CEST
DTSTART:20260329T010000
END:DAYLIGHT
BEGIN:STANDARD
TZOFFSETFROM:+0200
TZOFFSETTO:+0100
TZNAME:CET
DTSTART:20261025T010000
END:STANDARD
END:VTIMEZONE
BEGIN:VEVENT
DTSTART;TZID=Europe/Copenhagen:20250106T160000
DTEND;TZID=Europe/Copenhagen:20250106T180000
DTSTAMP:20260423T061739
CREATED:20231030T123535Z
LAST-MODIFIED:20241205T141227Z
UID:10039852-1736179200-1736186400@vorescosmos.dk
SUMMARY:Bibliotekscaféen
DESCRIPTION:
URL:https://vorescosmos.dk/begivenhed/bibliotekscafeen-12/2025-01-06/
LOCATION:Tænketanken\, Søndergade 11\, Viby Sj.\, 4130\, Danmark
CATEGORIES:Lokale bookninger
END:VEVENT
BEGIN:VEVENT
DTSTART;TZID=Europe/Copenhagen:20241230T160000
DTEND;TZID=Europe/Copenhagen:20241230T180000
DTSTAMP:20260423T061739
CREATED:20231030T123535Z
LAST-MODIFIED:20241205T141227Z
UID:10039851-1735574400-1735581600@vorescosmos.dk
SUMMARY:Bibliotekscaféen
DESCRIPTION:
URL:https://vorescosmos.dk/begivenhed/bibliotekscafeen-12/2024-12-30/
LOCATION:Tænketanken\, Søndergade 11\, Viby Sj.\, 4130\, Danmark
CATEGORIES:Lokale bookninger
END:VEVENT
BEGIN:VEVENT
DTSTART;TZID=Europe/Copenhagen:20241223T160000
DTEND;TZID=Europe/Copenhagen:20241223T180000
DTSTAMP:20260423T061739
CREATED:20231030T123535Z
LAST-MODIFIED:20241205T141227Z
UID:10039850-1734969600-1734976800@vorescosmos.dk
SUMMARY:Bibliotekscaféen
DESCRIPTION:
URL:https://vorescosmos.dk/begivenhed/bibliotekscafeen-12/2024-12-23/
LOCATION:Tænketanken\, Søndergade 11\, Viby Sj.\, 4130\, Danmark
CATEGORIES:Lokale bookninger
END:VEVENT
BEGIN:VEVENT
DTSTART;TZID=Europe/Copenhagen:20241216T160000
DTEND;TZID=Europe/Copenhagen:20241216T180000
DTSTAMP:20260423T061739
CREATED:20231030T123535Z
LAST-MODIFIED:20241205T141227Z
UID:10039849-1734364800-1734372000@vorescosmos.dk
SUMMARY:Bibliotekscaféen
DESCRIPTION:
URL:https://vorescosmos.dk/begivenhed/bibliotekscafeen-12/2024-12-16/
LOCATION:Tænketanken\, Søndergade 11\, Viby Sj.\, 4130\, Danmark
CATEGORIES:Lokale bookninger
END:VEVENT
BEGIN:VEVENT
DTSTART;TZID=Europe/Copenhagen:20241209T160000
DTEND;TZID=Europe/Copenhagen:20241209T180000
DTSTAMP:20260423T061739
CREATED:20231030T123535Z
LAST-MODIFIED:20241205T141227Z
UID:10039848-1733760000-1733767200@vorescosmos.dk
SUMMARY:Bibliotekscaféen
DESCRIPTION:
URL:https://vorescosmos.dk/begivenhed/bibliotekscafeen-12/2024-12-09/
LOCATION:Tænketanken\, Søndergade 11\, Viby Sj.\, 4130\, Danmark
CATEGORIES:Lokale bookninger
END:VEVENT
BEGIN:VEVENT
DTSTART;TZID=Europe/Copenhagen:20241202T160000
DTEND;TZID=Europe/Copenhagen:20241202T180000
DTSTAMP:20260423T061739
CREATED:20231030T123535Z
LAST-MODIFIED:20241205T141227Z
UID:10039847-1733155200-1733162400@vorescosmos.dk
SUMMARY:Bibliotekscaféen
DESCRIPTION:
URL:https://vorescosmos.dk/begivenhed/bibliotekscafeen-12/2024-12-02/
LOCATION:Tænketanken\, Søndergade 11\, Viby Sj.\, 4130\, Danmark
CATEGORIES:Lokale bookninger
END:VEVENT
BEGIN:VEVENT
DTSTART;TZID=Europe/Copenhagen:20241202T120000
DTEND;TZID=Europe/Copenhagen:20241202T160000
DTSTAMP:20260423T061739
CREATED:20240614T091119Z
LAST-MODIFIED:20240614T091119Z
UID:10042566-1733140800-1733155200@vorescosmos.dk
SUMMARY:Hemmelig film
DESCRIPTION:
URL:https://vorescosmos.dk/begivenhed/hemmelig-film-14/
LOCATION:Peder Syv salen\, Søndergade 11\, Viby Sj.\, 4130\, Danmark
CATEGORIES:Lokale bookninger
END:VEVENT
BEGIN:VEVENT
DTSTART;TZID=Europe/Copenhagen:20241125T160000
DTEND;TZID=Europe/Copenhagen:20241125T180000
DTSTAMP:20260423T061739
CREATED:20231030T123535Z
LAST-MODIFIED:20241205T141227Z
UID:10039846-1732550400-1732557600@vorescosmos.dk
SUMMARY:Bibliotekscaféen
DESCRIPTION:
URL:https://vorescosmos.dk/begivenhed/bibliotekscafeen-12/2024-11-25/
LOCATION:Tænketanken\, Søndergade 11\, Viby Sj.\, 4130\, Danmark
CATEGORIES:Lokale bookninger
END:VEVENT
BEGIN:VEVENT
DTSTART;TZID=Europe/Copenhagen:20241118T160000
DTEND;TZID=Europe/Copenhagen:20241118T180000
DTSTAMP:20260423T061739
CREATED:20231030T123535Z
LAST-MODIFIED:20241205T141227Z
UID:10039845-1731945600-1731952800@vorescosmos.dk
SUMMARY:Bibliotekscaféen
DESCRIPTION:
URL:https://vorescosmos.dk/begivenhed/bibliotekscafeen-12/2024-11-18/
LOCATION:Tænketanken\, Søndergade 11\, Viby Sj.\, 4130\, Danmark
CATEGORIES:Lokale bookninger
END:VEVENT
BEGIN:VEVENT
DTSTART;TZID=Europe/Copenhagen:20241111T160000
DTEND;TZID=Europe/Copenhagen:20241111T180000
DTSTAMP:20260423T061739
CREATED:20231030T123535Z
LAST-MODIFIED:20241205T141227Z
UID:10039844-1731340800-1731348000@vorescosmos.dk
SUMMARY:Bibliotekscaféen
DESCRIPTION:
URL:https://vorescosmos.dk/begivenhed/bibliotekscafeen-12/2024-11-11/
LOCATION:Tænketanken\, Søndergade 11\, Viby Sj.\, 4130\, Danmark
CATEGORIES:Lokale bookninger
END:VEVENT
BEGIN:VEVENT
DTSTART;TZID=Europe/Copenhagen:20241104T160000
DTEND;TZID=Europe/Copenhagen:20241104T180000
DTSTAMP:20260423T061739
CREATED:20231030T123535Z
LAST-MODIFIED:20241205T141227Z
UID:10039843-1730736000-1730743200@vorescosmos.dk
SUMMARY:Bibliotekscaféen
DESCRIPTION:
URL:https://vorescosmos.dk/begivenhed/bibliotekscafeen-12/2024-11-04/
LOCATION:Tænketanken\, Søndergade 11\, Viby Sj.\, 4130\, Danmark
CATEGORIES:Lokale bookninger
END:VEVENT
BEGIN:VEVENT
DTSTART;TZID=Europe/Copenhagen:20241104T120000
DTEND;TZID=Europe/Copenhagen:20241104T160000
DTSTAMP:20260423T061739
CREATED:20240614T091027Z
LAST-MODIFIED:20240614T091028Z
UID:10042565-1730721600-1730736000@vorescosmos.dk
SUMMARY:Hemmelig film
DESCRIPTION:
URL:https://vorescosmos.dk/begivenhed/hemmelig-film-13/
LOCATION:Peder Syv salen\, Søndergade 11\, Viby Sj.\, 4130\, Danmark
CATEGORIES:Lokale bookninger
END:VEVENT
BEGIN:VEVENT
DTSTART;TZID=Europe/Copenhagen:20241028T160000
DTEND;TZID=Europe/Copenhagen:20241028T180000
DTSTAMP:20260423T061739
CREATED:20231030T123535Z
LAST-MODIFIED:20241205T141227Z
UID:10039842-1730131200-1730138400@vorescosmos.dk
SUMMARY:Bibliotekscaféen
DESCRIPTION:
URL:https://vorescosmos.dk/begivenhed/bibliotekscafeen-12/2024-10-28/
LOCATION:Tænketanken\, Søndergade 11\, Viby Sj.\, 4130\, Danmark
CATEGORIES:Lokale bookninger
END:VEVENT
BEGIN:VEVENT
DTSTART;TZID=Europe/Copenhagen:20241021T160000
DTEND;TZID=Europe/Copenhagen:20241021T180000
DTSTAMP:20260423T061739
CREATED:20231030T123535Z
LAST-MODIFIED:20241205T141227Z
UID:10039841-1729526400-1729533600@vorescosmos.dk
SUMMARY:Bibliotekscaféen
DESCRIPTION:
URL:https://vorescosmos.dk/begivenhed/bibliotekscafeen-12/2024-10-21/
LOCATION:Tænketanken\, Søndergade 11\, Viby Sj.\, 4130\, Danmark
CATEGORIES:Lokale bookninger
END:VEVENT
BEGIN:VEVENT
DTSTART;TZID=Europe/Copenhagen:20241014T160000
DTEND;TZID=Europe/Copenhagen:20241014T180000
DTSTAMP:20260423T061739
CREATED:20231030T123535Z
LAST-MODIFIED:20241205T141227Z
UID:10039840-1728921600-1728928800@vorescosmos.dk
SUMMARY:Bibliotekscaféen
DESCRIPTION:
URL:https://vorescosmos.dk/begivenhed/bibliotekscafeen-12/2024-10-14/
LOCATION:Tænketanken\, Søndergade 11\, Viby Sj.\, 4130\, Danmark
CATEGORIES:Lokale bookninger
END:VEVENT
BEGIN:VEVENT
DTSTART;TZID=Europe/Copenhagen:20241007T160000
DTEND;TZID=Europe/Copenhagen:20241007T180000
DTSTAMP:20260423T061739
CREATED:20231030T123535Z
LAST-MODIFIED:20241205T141227Z
UID:10039839-1728316800-1728324000@vorescosmos.dk
SUMMARY:Bibliotekscaféen
DESCRIPTION:
URL:https://vorescosmos.dk/begivenhed/bibliotekscafeen-12/2024-10-07/
LOCATION:Tænketanken\, Søndergade 11\, Viby Sj.\, 4130\, Danmark
CATEGORIES:Lokale bookninger
END:VEVENT
BEGIN:VEVENT
DTSTART;TZID=Europe/Copenhagen:20241007T120000
DTEND;TZID=Europe/Copenhagen:20241007T160000
DTSTAMP:20260423T061739
CREATED:20240614T090932Z
LAST-MODIFIED:20240614T090933Z
UID:10042564-1728302400-1728316800@vorescosmos.dk
SUMMARY:Hemmelig film
DESCRIPTION:
URL:https://vorescosmos.dk/begivenhed/hemmelig-film-12/
LOCATION:Peder Syv salen\, Søndergade 11\, Viby Sj.\, 4130\, Danmark
END:VEVENT
BEGIN:VEVENT
DTSTART;TZID=Europe/Copenhagen:20241005T080000
DTEND;TZID=Europe/Copenhagen:20241005T130000
DTSTAMP:20260423T061739
CREATED:20231207T123430Z
LAST-MODIFIED:20240122T120208Z
UID:10041731-1728115200-1728133200@vorescosmos.dk
SUMMARY:Biblioteket
DESCRIPTION:Teater
URL:https://vorescosmos.dk/begivenhed/biblioteket/
LOCATION:Peder Syv salen\, Søndergade 11\, Viby Sj.\, 4130\, Danmark
CATEGORIES:Lokale bookninger
END:VEVENT
BEGIN:VEVENT
DTSTART;TZID=Europe/Copenhagen:20240930T160000
DTEND;TZID=Europe/Copenhagen:20240930T180000
DTSTAMP:20260423T061739
CREATED:20231030T123535Z
LAST-MODIFIED:20241205T141227Z
UID:10039838-1727712000-1727719200@vorescosmos.dk
SUMMARY:Bibliotekscaféen
DESCRIPTION:
URL:https://vorescosmos.dk/begivenhed/bibliotekscafeen-12/2024-09-30/
LOCATION:Tænketanken\, Søndergade 11\, Viby Sj.\, 4130\, Danmark
CATEGORIES:Lokale bookninger
END:VEVENT
BEGIN:VEVENT
DTSTART;TZID=Europe/Copenhagen:20240923T160000
DTEND;TZID=Europe/Copenhagen:20240923T180000
DTSTAMP:20260423T061739
CREATED:20231030T123535Z
LAST-MODIFIED:20241205T141227Z
UID:10039837-1727107200-1727114400@vorescosmos.dk
SUMMARY:Bibliotekscaféen
DESCRIPTION:
URL:https://vorescosmos.dk/begivenhed/bibliotekscafeen-12/2024-09-23/
LOCATION:Tænketanken\, Søndergade 11\, Viby Sj.\, 4130\, Danmark
CATEGORIES:Lokale bookninger
END:VEVENT
BEGIN:VEVENT
DTSTART;TZID=Europe/Copenhagen:20240916T160000
DTEND;TZID=Europe/Copenhagen:20240916T180000
DTSTAMP:20260423T061739
CREATED:20231030T123535Z
LAST-MODIFIED:20241205T141227Z
UID:10039836-1726502400-1726509600@vorescosmos.dk
SUMMARY:Bibliotekscaféen
DESCRIPTION:
URL:https://vorescosmos.dk/begivenhed/bibliotekscafeen-12/2024-09-16/
LOCATION:Tænketanken\, Søndergade 11\, Viby Sj.\, 4130\, Danmark
CATEGORIES:Lokale bookninger
END:VEVENT
BEGIN:VEVENT
DTSTART;TZID=Europe/Copenhagen:20240909T160000
DTEND;TZID=Europe/Copenhagen:20240909T180000
DTSTAMP:20260423T061739
CREATED:20231030T123535Z
LAST-MODIFIED:20241205T141227Z
UID:10039835-1725897600-1725904800@vorescosmos.dk
SUMMARY:Bibliotekscaféen
DESCRIPTION:
URL:https://vorescosmos.dk/begivenhed/bibliotekscafeen-12/2024-09-09/
LOCATION:Tænketanken\, Søndergade 11\, Viby Sj.\, 4130\, Danmark
CATEGORIES:Lokale bookninger
END:VEVENT
BEGIN:VEVENT
DTSTART;TZID=Europe/Copenhagen:20240909T120000
DTEND;TZID=Europe/Copenhagen:20240909T160000
DTSTAMP:20260423T061739
CREATED:20240614T090842Z
LAST-MODIFIED:20240614T090842Z
UID:10042563-1725883200-1725897600@vorescosmos.dk
SUMMARY:Hemmelig film
DESCRIPTION:
URL:https://vorescosmos.dk/begivenhed/hemmelig-film-11/
LOCATION:Peder Syv salen\, Søndergade 11\, Viby Sj.\, 4130\, Danmark
CATEGORIES:Lokale bookninger
END:VEVENT
BEGIN:VEVENT
DTSTART;TZID=Europe/Copenhagen:20240902T160000
DTEND;TZID=Europe/Copenhagen:20240902T180000
DTSTAMP:20260423T061739
CREATED:20231030T123535Z
LAST-MODIFIED:20241205T141227Z
UID:10039834-1725292800-1725300000@vorescosmos.dk
SUMMARY:Bibliotekscaféen
DESCRIPTION:
URL:https://vorescosmos.dk/begivenhed/bibliotekscafeen-12/2024-09-02/
LOCATION:Tænketanken\, Søndergade 11\, Viby Sj.\, 4130\, Danmark
CATEGORIES:Lokale bookninger
END:VEVENT
BEGIN:VEVENT
DTSTART;TZID=Europe/Copenhagen:20240826T160000
DTEND;TZID=Europe/Copenhagen:20240826T180000
DTSTAMP:20260423T061739
CREATED:20231030T123535Z
LAST-MODIFIED:20241205T141227Z
UID:10039833-1724688000-1724695200@vorescosmos.dk
SUMMARY:Bibliotekscaféen
DESCRIPTION:
URL:https://vorescosmos.dk/begivenhed/bibliotekscafeen-12/2024-08-26/
LOCATION:Tænketanken\, Søndergade 11\, Viby Sj.\, 4130\, Danmark
CATEGORIES:Lokale bookninger
END:VEVENT
BEGIN:VEVENT
DTSTART;TZID=Europe/Copenhagen:20240819T160000
DTEND;TZID=Europe/Copenhagen:20240819T180000
DTSTAMP:20260423T061739
CREATED:20231030T123535Z
LAST-MODIFIED:20241205T141227Z
UID:10039832-1724083200-1724090400@vorescosmos.dk
SUMMARY:Bibliotekscaféen
DESCRIPTION:
URL:https://vorescosmos.dk/begivenhed/bibliotekscafeen-12/2024-08-19/
LOCATION:Tænketanken\, Søndergade 11\, Viby Sj.\, 4130\, Danmark
CATEGORIES:Lokale bookninger
END:VEVENT
BEGIN:VEVENT
DTSTART;TZID=Europe/Copenhagen:20240812T160000
DTEND;TZID=Europe/Copenhagen:20240812T180000
DTSTAMP:20260423T061739
CREATED:20231030T123535Z
LAST-MODIFIED:20241205T141227Z
UID:10039831-1723478400-1723485600@vorescosmos.dk
SUMMARY:Bibliotekscaféen
DESCRIPTION:
URL:https://vorescosmos.dk/begivenhed/bibliotekscafeen-12/2024-08-12/
LOCATION:Tænketanken\, Søndergade 11\, Viby Sj.\, 4130\, Danmark
CATEGORIES:Lokale bookninger
END:VEVENT
BEGIN:VEVENT
DTSTART;TZID=Europe/Copenhagen:20240812T120000
DTEND;TZID=Europe/Copenhagen:20240812T160000
DTSTAMP:20260423T061739
CREATED:20240614T090745Z
LAST-MODIFIED:20240614T090745Z
UID:10042562-1723464000-1723478400@vorescosmos.dk
SUMMARY:Hemmelig Film
DESCRIPTION:
URL:https://vorescosmos.dk/begivenhed/hemmelig-film-10/
LOCATION:Peder Syv salen\, Søndergade 11\, Viby Sj.\, 4130\, Danmark
CATEGORIES:Lokale bookninger
END:VEVENT
BEGIN:VEVENT
DTSTART;TZID=Europe/Copenhagen:20240805T160000
DTEND;TZID=Europe/Copenhagen:20240805T180000
DTSTAMP:20260423T061739
CREATED:20231030T123535Z
LAST-MODIFIED:20241205T141227Z
UID:10039830-1722873600-1722880800@vorescosmos.dk
SUMMARY:Bibliotekscaféen
DESCRIPTION:
URL:https://vorescosmos.dk/begivenhed/bibliotekscafeen-12/2024-08-05/
LOCATION:Tænketanken\, Søndergade 11\, Viby Sj.\, 4130\, Danmark
CATEGORIES:Lokale bookninger
END:VEVENT
BEGIN:VEVENT
DTSTART;TZID=Europe/Copenhagen:20240729T160000
DTEND;TZID=Europe/Copenhagen:20240729T180000
DTSTAMP:20260423T061739
CREATED:20231030T123535Z
LAST-MODIFIED:20241205T141227Z
UID:10039829-1722268800-1722276000@vorescosmos.dk
SUMMARY:Bibliotekscaféen
DESCRIPTION:
URL:https://vorescosmos.dk/begivenhed/bibliotekscafeen-12/2024-07-29/
LOCATION:Tænketanken\, Søndergade 11\, Viby Sj.\, 4130\, Danmark
CATEGORIES:Lokale bookninger
END:VEVENT
END:VCALENDAR