BEGIN:VCALENDAR
VERSION:2.0
PRODID:-//Vores Cosmos - ECPv6.15.20//NONSGML v1.0//EN
CALSCALE:GREGORIAN
METHOD:PUBLISH
X-WR-CALNAME:Vores Cosmos
X-ORIGINAL-URL:https://vorescosmos.dk
X-WR-CALDESC:Begivenheder for Vores Cosmos
REFRESH-INTERVAL;VALUE=DURATION:PT1H
X-Robots-Tag:noindex
X-PUBLISHED-TTL:PT1H
BEGIN:VTIMEZONE
TZID:Europe/Copenhagen
BEGIN:DAYLIGHT
TZOFFSETFROM:+0100
TZOFFSETTO:+0200
TZNAME:CEST
DTSTART:20270328T010000
END:DAYLIGHT
BEGIN:STANDARD
TZOFFSETFROM:+0200
TZOFFSETTO:+0100
TZNAME:CET
DTSTART:20271031T010000
END:STANDARD
BEGIN:DAYLIGHT
TZOFFSETFROM:+0100
TZOFFSETTO:+0200
TZNAME:CEST
DTSTART:20280326T010000
END:DAYLIGHT
BEGIN:STANDARD
TZOFFSETFROM:+0200
TZOFFSETTO:+0100
TZNAME:CET
DTSTART:20281029T010000
END:STANDARD
BEGIN:DAYLIGHT
TZOFFSETFROM:+0100
TZOFFSETTO:+0200
TZNAME:CEST
DTSTART:20290325T010000
END:DAYLIGHT
BEGIN:STANDARD
TZOFFSETFROM:+0200
TZOFFSETTO:+0100
TZNAME:CET
DTSTART:20291028T010000
END:STANDARD
END:VTIMEZONE
BEGIN:VEVENT
DTSTART;TZID=Europe/Copenhagen:20280320T160000
DTEND;TZID=Europe/Copenhagen:20280320T180000
DTSTAMP:20260423T063623
CREATED:20231030T123535Z
LAST-MODIFIED:20241205T141227Z
UID:10040019-1837180800-1837188000@vorescosmos.dk
SUMMARY:Bibliotekscaféen
DESCRIPTION:
URL:https://vorescosmos.dk/begivenhed/bibliotekscafeen-12/2028-03-20/
LOCATION:Tænketanken\, Søndergade 11\, Viby Sj.\, 4130\, Danmark
CATEGORIES:Lokale bookninger
END:VEVENT
BEGIN:VEVENT
DTSTART;TZID=Europe/Copenhagen:20280327T160000
DTEND;TZID=Europe/Copenhagen:20280327T180000
DTSTAMP:20260423T063623
CREATED:20231030T123535Z
LAST-MODIFIED:20241205T141227Z
UID:10040020-1837785600-1837792800@vorescosmos.dk
SUMMARY:Bibliotekscaféen
DESCRIPTION:
URL:https://vorescosmos.dk/begivenhed/bibliotekscafeen-12/2028-03-27/
LOCATION:Tænketanken\, Søndergade 11\, Viby Sj.\, 4130\, Danmark
CATEGORIES:Lokale bookninger
END:VEVENT
BEGIN:VEVENT
DTSTART;TZID=Europe/Copenhagen:20280403T160000
DTEND;TZID=Europe/Copenhagen:20280403T180000
DTSTAMP:20260423T063623
CREATED:20231030T123535Z
LAST-MODIFIED:20241205T141227Z
UID:10040021-1838390400-1838397600@vorescosmos.dk
SUMMARY:Bibliotekscaféen
DESCRIPTION:
URL:https://vorescosmos.dk/begivenhed/bibliotekscafeen-12/2028-04-03/
LOCATION:Tænketanken\, Søndergade 11\, Viby Sj.\, 4130\, Danmark
CATEGORIES:Lokale bookninger
END:VEVENT
BEGIN:VEVENT
DTSTART;TZID=Europe/Copenhagen:20280410T160000
DTEND;TZID=Europe/Copenhagen:20280410T180000
DTSTAMP:20260423T063623
CREATED:20231030T123535Z
LAST-MODIFIED:20241205T141227Z
UID:10040022-1838995200-1839002400@vorescosmos.dk
SUMMARY:Bibliotekscaféen
DESCRIPTION:
URL:https://vorescosmos.dk/begivenhed/bibliotekscafeen-12/2028-04-10/
LOCATION:Tænketanken\, Søndergade 11\, Viby Sj.\, 4130\, Danmark
CATEGORIES:Lokale bookninger
END:VEVENT
BEGIN:VEVENT
DTSTART;TZID=Europe/Copenhagen:20280417T160000
DTEND;TZID=Europe/Copenhagen:20280417T180000
DTSTAMP:20260423T063623
CREATED:20231030T123535Z
LAST-MODIFIED:20241205T141227Z
UID:10040023-1839600000-1839607200@vorescosmos.dk
SUMMARY:Bibliotekscaféen
DESCRIPTION:
URL:https://vorescosmos.dk/begivenhed/bibliotekscafeen-12/2028-04-17/
LOCATION:Tænketanken\, Søndergade 11\, Viby Sj.\, 4130\, Danmark
CATEGORIES:Lokale bookninger
END:VEVENT
BEGIN:VEVENT
DTSTART;TZID=Europe/Copenhagen:20280424T160000
DTEND;TZID=Europe/Copenhagen:20280424T180000
DTSTAMP:20260423T063623
CREATED:20231030T123535Z
LAST-MODIFIED:20241205T141227Z
UID:10040024-1840204800-1840212000@vorescosmos.dk
SUMMARY:Bibliotekscaféen
DESCRIPTION:
URL:https://vorescosmos.dk/begivenhed/bibliotekscafeen-12/2028-04-24/
LOCATION:Tænketanken\, Søndergade 11\, Viby Sj.\, 4130\, Danmark
CATEGORIES:Lokale bookninger
END:VEVENT
BEGIN:VEVENT
DTSTART;TZID=Europe/Copenhagen:20280501T160000
DTEND;TZID=Europe/Copenhagen:20280501T180000
DTSTAMP:20260423T063623
CREATED:20231030T123535Z
LAST-MODIFIED:20241205T141227Z
UID:10040025-1840809600-1840816800@vorescosmos.dk
SUMMARY:Bibliotekscaféen
DESCRIPTION:
URL:https://vorescosmos.dk/begivenhed/bibliotekscafeen-12/2028-05-01/
LOCATION:Tænketanken\, Søndergade 11\, Viby Sj.\, 4130\, Danmark
CATEGORIES:Lokale bookninger
END:VEVENT
BEGIN:VEVENT
DTSTART;TZID=Europe/Copenhagen:20280508T160000
DTEND;TZID=Europe/Copenhagen:20280508T180000
DTSTAMP:20260423T063623
CREATED:20231030T123535Z
LAST-MODIFIED:20241205T141227Z
UID:10040026-1841414400-1841421600@vorescosmos.dk
SUMMARY:Bibliotekscaféen
DESCRIPTION:
URL:https://vorescosmos.dk/begivenhed/bibliotekscafeen-12/2028-05-08/
LOCATION:Tænketanken\, Søndergade 11\, Viby Sj.\, 4130\, Danmark
CATEGORIES:Lokale bookninger
END:VEVENT
BEGIN:VEVENT
DTSTART;TZID=Europe/Copenhagen:20280515T160000
DTEND;TZID=Europe/Copenhagen:20280515T180000
DTSTAMP:20260423T063623
CREATED:20231030T123535Z
LAST-MODIFIED:20241205T141227Z
UID:10040027-1842019200-1842026400@vorescosmos.dk
SUMMARY:Bibliotekscaféen
DESCRIPTION:
URL:https://vorescosmos.dk/begivenhed/bibliotekscafeen-12/2028-05-15/
LOCATION:Tænketanken\, Søndergade 11\, Viby Sj.\, 4130\, Danmark
CATEGORIES:Lokale bookninger
END:VEVENT
BEGIN:VEVENT
DTSTART;TZID=Europe/Copenhagen:20280522T160000
DTEND;TZID=Europe/Copenhagen:20280522T180000
DTSTAMP:20260423T063623
CREATED:20231030T123535Z
LAST-MODIFIED:20241205T141227Z
UID:10040028-1842624000-1842631200@vorescosmos.dk
SUMMARY:Bibliotekscaféen
DESCRIPTION:
URL:https://vorescosmos.dk/begivenhed/bibliotekscafeen-12/2028-05-22/
LOCATION:Tænketanken\, Søndergade 11\, Viby Sj.\, 4130\, Danmark
CATEGORIES:Lokale bookninger
END:VEVENT
BEGIN:VEVENT
DTSTART;TZID=Europe/Copenhagen:20280529T160000
DTEND;TZID=Europe/Copenhagen:20280529T180000
DTSTAMP:20260423T063623
CREATED:20231030T123535Z
LAST-MODIFIED:20241205T141227Z
UID:10040029-1843228800-1843236000@vorescosmos.dk
SUMMARY:Bibliotekscaféen
DESCRIPTION:
URL:https://vorescosmos.dk/begivenhed/bibliotekscafeen-12/2028-05-29/
LOCATION:Tænketanken\, Søndergade 11\, Viby Sj.\, 4130\, Danmark
CATEGORIES:Lokale bookninger
END:VEVENT
BEGIN:VEVENT
DTSTART;TZID=Europe/Copenhagen:20280605T160000
DTEND;TZID=Europe/Copenhagen:20280605T180000
DTSTAMP:20260423T063623
CREATED:20231030T123535Z
LAST-MODIFIED:20241205T141227Z
UID:10040030-1843833600-1843840800@vorescosmos.dk
SUMMARY:Bibliotekscaféen
DESCRIPTION:
URL:https://vorescosmos.dk/begivenhed/bibliotekscafeen-12/2028-06-05/
LOCATION:Tænketanken\, Søndergade 11\, Viby Sj.\, 4130\, Danmark
CATEGORIES:Lokale bookninger
END:VEVENT
BEGIN:VEVENT
DTSTART;TZID=Europe/Copenhagen:20280612T160000
DTEND;TZID=Europe/Copenhagen:20280612T180000
DTSTAMP:20260423T063623
CREATED:20231030T123535Z
LAST-MODIFIED:20241205T141227Z
UID:10040031-1844438400-1844445600@vorescosmos.dk
SUMMARY:Bibliotekscaféen
DESCRIPTION:
URL:https://vorescosmos.dk/begivenhed/bibliotekscafeen-12/2028-06-12/
LOCATION:Tænketanken\, Søndergade 11\, Viby Sj.\, 4130\, Danmark
CATEGORIES:Lokale bookninger
END:VEVENT
BEGIN:VEVENT
DTSTART;TZID=Europe/Copenhagen:20280619T160000
DTEND;TZID=Europe/Copenhagen:20280619T180000
DTSTAMP:20260423T063623
CREATED:20231030T123535Z
LAST-MODIFIED:20241205T141227Z
UID:10040032-1845043200-1845050400@vorescosmos.dk
SUMMARY:Bibliotekscaféen
DESCRIPTION:
URL:https://vorescosmos.dk/begivenhed/bibliotekscafeen-12/2028-06-19/
LOCATION:Tænketanken\, Søndergade 11\, Viby Sj.\, 4130\, Danmark
CATEGORIES:Lokale bookninger
END:VEVENT
BEGIN:VEVENT
DTSTART;TZID=Europe/Copenhagen:20280626T160000
DTEND;TZID=Europe/Copenhagen:20280626T180000
DTSTAMP:20260423T063623
CREATED:20231030T123535Z
LAST-MODIFIED:20241205T141227Z
UID:10040033-1845648000-1845655200@vorescosmos.dk
SUMMARY:Bibliotekscaféen
DESCRIPTION:
URL:https://vorescosmos.dk/begivenhed/bibliotekscafeen-12/2028-06-26/
LOCATION:Tænketanken\, Søndergade 11\, Viby Sj.\, 4130\, Danmark
CATEGORIES:Lokale bookninger
END:VEVENT
BEGIN:VEVENT
DTSTART;TZID=Europe/Copenhagen:20280703T160000
DTEND;TZID=Europe/Copenhagen:20280703T180000
DTSTAMP:20260423T063623
CREATED:20231030T123535Z
LAST-MODIFIED:20241205T141227Z
UID:10040034-1846252800-1846260000@vorescosmos.dk
SUMMARY:Bibliotekscaféen
DESCRIPTION:
URL:https://vorescosmos.dk/begivenhed/bibliotekscafeen-12/2028-07-03/
LOCATION:Tænketanken\, Søndergade 11\, Viby Sj.\, 4130\, Danmark
CATEGORIES:Lokale bookninger
END:VEVENT
BEGIN:VEVENT
DTSTART;TZID=Europe/Copenhagen:20280710T160000
DTEND;TZID=Europe/Copenhagen:20280710T180000
DTSTAMP:20260423T063623
CREATED:20231030T123535Z
LAST-MODIFIED:20241205T141227Z
UID:10040035-1846857600-1846864800@vorescosmos.dk
SUMMARY:Bibliotekscaféen
DESCRIPTION:
URL:https://vorescosmos.dk/begivenhed/bibliotekscafeen-12/2028-07-10/
LOCATION:Tænketanken\, Søndergade 11\, Viby Sj.\, 4130\, Danmark
CATEGORIES:Lokale bookninger
END:VEVENT
BEGIN:VEVENT
DTSTART;TZID=Europe/Copenhagen:20280717T160000
DTEND;TZID=Europe/Copenhagen:20280717T180000
DTSTAMP:20260423T063623
CREATED:20231030T123535Z
LAST-MODIFIED:20241205T141227Z
UID:10040036-1847462400-1847469600@vorescosmos.dk
SUMMARY:Bibliotekscaféen
DESCRIPTION:
URL:https://vorescosmos.dk/begivenhed/bibliotekscafeen-12/2028-07-17/
LOCATION:Tænketanken\, Søndergade 11\, Viby Sj.\, 4130\, Danmark
CATEGORIES:Lokale bookninger
END:VEVENT
BEGIN:VEVENT
DTSTART;TZID=Europe/Copenhagen:20280724T160000
DTEND;TZID=Europe/Copenhagen:20280724T180000
DTSTAMP:20260423T063623
CREATED:20231030T123535Z
LAST-MODIFIED:20241205T141227Z
UID:10040037-1848067200-1848074400@vorescosmos.dk
SUMMARY:Bibliotekscaféen
DESCRIPTION:
URL:https://vorescosmos.dk/begivenhed/bibliotekscafeen-12/2028-07-24/
LOCATION:Tænketanken\, Søndergade 11\, Viby Sj.\, 4130\, Danmark
CATEGORIES:Lokale bookninger
END:VEVENT
BEGIN:VEVENT
DTSTART;TZID=Europe/Copenhagen:20280731T160000
DTEND;TZID=Europe/Copenhagen:20280731T180000
DTSTAMP:20260423T063623
CREATED:20231030T123535Z
LAST-MODIFIED:20241205T141227Z
UID:10040038-1848672000-1848679200@vorescosmos.dk
SUMMARY:Bibliotekscaféen
DESCRIPTION:
URL:https://vorescosmos.dk/begivenhed/bibliotekscafeen-12/2028-07-31/
LOCATION:Tænketanken\, Søndergade 11\, Viby Sj.\, 4130\, Danmark
CATEGORIES:Lokale bookninger
END:VEVENT
BEGIN:VEVENT
DTSTART;TZID=Europe/Copenhagen:20280807T160000
DTEND;TZID=Europe/Copenhagen:20280807T180000
DTSTAMP:20260423T063623
CREATED:20231030T123535Z
LAST-MODIFIED:20241205T141227Z
UID:10040039-1849276800-1849284000@vorescosmos.dk
SUMMARY:Bibliotekscaféen
DESCRIPTION:
URL:https://vorescosmos.dk/begivenhed/bibliotekscafeen-12/2028-08-07/
LOCATION:Tænketanken\, Søndergade 11\, Viby Sj.\, 4130\, Danmark
CATEGORIES:Lokale bookninger
END:VEVENT
BEGIN:VEVENT
DTSTART;TZID=Europe/Copenhagen:20280814T160000
DTEND;TZID=Europe/Copenhagen:20280814T180000
DTSTAMP:20260423T063623
CREATED:20231030T123535Z
LAST-MODIFIED:20241205T141227Z
UID:10040040-1849881600-1849888800@vorescosmos.dk
SUMMARY:Bibliotekscaféen
DESCRIPTION:
URL:https://vorescosmos.dk/begivenhed/bibliotekscafeen-12/2028-08-14/
LOCATION:Tænketanken\, Søndergade 11\, Viby Sj.\, 4130\, Danmark
CATEGORIES:Lokale bookninger
END:VEVENT
BEGIN:VEVENT
DTSTART;TZID=Europe/Copenhagen:20280821T160000
DTEND;TZID=Europe/Copenhagen:20280821T180000
DTSTAMP:20260423T063623
CREATED:20231030T123535Z
LAST-MODIFIED:20241205T141227Z
UID:10040041-1850486400-1850493600@vorescosmos.dk
SUMMARY:Bibliotekscaféen
DESCRIPTION:
URL:https://vorescosmos.dk/begivenhed/bibliotekscafeen-12/2028-08-21/
LOCATION:Tænketanken\, Søndergade 11\, Viby Sj.\, 4130\, Danmark
CATEGORIES:Lokale bookninger
END:VEVENT
BEGIN:VEVENT
DTSTART;TZID=Europe/Copenhagen:20280828T160000
DTEND;TZID=Europe/Copenhagen:20280828T180000
DTSTAMP:20260423T063623
CREATED:20231030T123535Z
LAST-MODIFIED:20241205T141227Z
UID:10040042-1851091200-1851098400@vorescosmos.dk
SUMMARY:Bibliotekscaféen
DESCRIPTION:
URL:https://vorescosmos.dk/begivenhed/bibliotekscafeen-12/2028-08-28/
LOCATION:Tænketanken\, Søndergade 11\, Viby Sj.\, 4130\, Danmark
CATEGORIES:Lokale bookninger
END:VEVENT
BEGIN:VEVENT
DTSTART;TZID=Europe/Copenhagen:20280904T160000
DTEND;TZID=Europe/Copenhagen:20280904T180000
DTSTAMP:20260423T063623
CREATED:20231030T123535Z
LAST-MODIFIED:20241205T141227Z
UID:10040043-1851696000-1851703200@vorescosmos.dk
SUMMARY:Bibliotekscaféen
DESCRIPTION:
URL:https://vorescosmos.dk/begivenhed/bibliotekscafeen-12/2028-09-04/
LOCATION:Tænketanken\, Søndergade 11\, Viby Sj.\, 4130\, Danmark
CATEGORIES:Lokale bookninger
END:VEVENT
BEGIN:VEVENT
DTSTART;TZID=Europe/Copenhagen:20280911T160000
DTEND;TZID=Europe/Copenhagen:20280911T180000
DTSTAMP:20260423T063623
CREATED:20231030T123535Z
LAST-MODIFIED:20241205T141227Z
UID:10040044-1852300800-1852308000@vorescosmos.dk
SUMMARY:Bibliotekscaféen
DESCRIPTION:
URL:https://vorescosmos.dk/begivenhed/bibliotekscafeen-12/2028-09-11/
LOCATION:Tænketanken\, Søndergade 11\, Viby Sj.\, 4130\, Danmark
CATEGORIES:Lokale bookninger
END:VEVENT
BEGIN:VEVENT
DTSTART;TZID=Europe/Copenhagen:20280918T160000
DTEND;TZID=Europe/Copenhagen:20280918T180000
DTSTAMP:20260423T063623
CREATED:20231030T123535Z
LAST-MODIFIED:20241205T141227Z
UID:10040045-1852905600-1852912800@vorescosmos.dk
SUMMARY:Bibliotekscaféen
DESCRIPTION:
URL:https://vorescosmos.dk/begivenhed/bibliotekscafeen-12/2028-09-18/
LOCATION:Tænketanken\, Søndergade 11\, Viby Sj.\, 4130\, Danmark
CATEGORIES:Lokale bookninger
END:VEVENT
BEGIN:VEVENT
DTSTART;TZID=Europe/Copenhagen:20280925T160000
DTEND;TZID=Europe/Copenhagen:20280925T180000
DTSTAMP:20260423T063623
CREATED:20231030T123535Z
LAST-MODIFIED:20241205T141227Z
UID:10040046-1853510400-1853517600@vorescosmos.dk
SUMMARY:Bibliotekscaféen
DESCRIPTION:
URL:https://vorescosmos.dk/begivenhed/bibliotekscafeen-12/2028-09-25/
LOCATION:Tænketanken\, Søndergade 11\, Viby Sj.\, 4130\, Danmark
CATEGORIES:Lokale bookninger
END:VEVENT
BEGIN:VEVENT
DTSTART;TZID=Europe/Copenhagen:20281002T160000
DTEND;TZID=Europe/Copenhagen:20281002T180000
DTSTAMP:20260423T063623
CREATED:20231030T123535Z
LAST-MODIFIED:20241205T141227Z
UID:10040047-1854115200-1854122400@vorescosmos.dk
SUMMARY:Bibliotekscaféen
DESCRIPTION:
URL:https://vorescosmos.dk/begivenhed/bibliotekscafeen-12/2028-10-02/
LOCATION:Tænketanken\, Søndergade 11\, Viby Sj.\, 4130\, Danmark
CATEGORIES:Lokale bookninger
END:VEVENT
BEGIN:VEVENT
DTSTART;TZID=Europe/Copenhagen:20281009T160000
DTEND;TZID=Europe/Copenhagen:20281009T180000
DTSTAMP:20260423T063623
CREATED:20231030T123535Z
LAST-MODIFIED:20241205T141227Z
UID:10040048-1854720000-1854727200@vorescosmos.dk
SUMMARY:Bibliotekscaféen
DESCRIPTION:
URL:https://vorescosmos.dk/begivenhed/bibliotekscafeen-12/2028-10-09/
LOCATION:Tænketanken\, Søndergade 11\, Viby Sj.\, 4130\, Danmark
CATEGORIES:Lokale bookninger
END:VEVENT
END:VCALENDAR