BEGIN:VCALENDAR
VERSION:2.0
PRODID:-//Vores Cosmos - ECPv6.15.20//NONSGML v1.0//EN
CALSCALE:GREGORIAN
METHOD:PUBLISH
X-ORIGINAL-URL:https://vorescosmos.dk
X-WR-CALDESC:Begivenheder for Vores Cosmos
REFRESH-INTERVAL;VALUE=DURATION:PT1H
X-Robots-Tag:noindex
X-PUBLISHED-TTL:PT1H
BEGIN:VTIMEZONE
TZID:Europe/Copenhagen
BEGIN:DAYLIGHT
TZOFFSETFROM:+0100
TZOFFSETTO:+0200
TZNAME:CEST
DTSTART:20230326T010000
END:DAYLIGHT
BEGIN:STANDARD
TZOFFSETFROM:+0200
TZOFFSETTO:+0100
TZNAME:CET
DTSTART:20231029T010000
END:STANDARD
BEGIN:DAYLIGHT
TZOFFSETFROM:+0100
TZOFFSETTO:+0200
TZNAME:CEST
DTSTART:20240331T010000
END:DAYLIGHT
BEGIN:STANDARD
TZOFFSETFROM:+0200
TZOFFSETTO:+0100
TZNAME:CET
DTSTART:20241027T010000
END:STANDARD
BEGIN:DAYLIGHT
TZOFFSETFROM:+0100
TZOFFSETTO:+0200
TZNAME:CEST
DTSTART:20250330T010000
END:DAYLIGHT
BEGIN:STANDARD
TZOFFSETFROM:+0200
TZOFFSETTO:+0100
TZNAME:CET
DTSTART:20251026T010000
END:STANDARD
END:VTIMEZONE
BEGIN:VEVENT
DTSTART;TZID=Europe/Copenhagen:20240916T160000
DTEND;TZID=Europe/Copenhagen:20240916T180000
DTSTAMP:20260423T094309
CREATED:20231030T123535Z
LAST-MODIFIED:20241205T141227Z
UID:10039836-1726502400-1726509600@vorescosmos.dk
SUMMARY:Bibliotekscaféen
DESCRIPTION:
URL:https://vorescosmos.dk/begivenhed/bibliotekscafeen-12/2024-09-16/
LOCATION:Tænketanken\, Søndergade 11\, Viby Sj.\, 4130\, Danmark
CATEGORIES:Lokale bookninger
END:VEVENT
BEGIN:VEVENT
DTSTART;TZID=Europe/Copenhagen:20240909T160000
DTEND;TZID=Europe/Copenhagen:20240909T180000
DTSTAMP:20260423T094309
CREATED:20231030T123535Z
LAST-MODIFIED:20241205T141227Z
UID:10039835-1725897600-1725904800@vorescosmos.dk
SUMMARY:Bibliotekscaféen
DESCRIPTION:
URL:https://vorescosmos.dk/begivenhed/bibliotekscafeen-12/2024-09-09/
LOCATION:Tænketanken\, Søndergade 11\, Viby Sj.\, 4130\, Danmark
CATEGORIES:Lokale bookninger
END:VEVENT
BEGIN:VEVENT
DTSTART;TZID=Europe/Copenhagen:20240909T120000
DTEND;TZID=Europe/Copenhagen:20240909T160000
DTSTAMP:20260423T094309
CREATED:20240614T090842Z
LAST-MODIFIED:20240614T090842Z
UID:10042563-1725883200-1725897600@vorescosmos.dk
SUMMARY:Hemmelig film
DESCRIPTION:
URL:https://vorescosmos.dk/begivenhed/hemmelig-film-11/
LOCATION:Peder Syv salen\, Søndergade 11\, Viby Sj.\, 4130\, Danmark
CATEGORIES:Lokale bookninger
END:VEVENT
BEGIN:VEVENT
DTSTART;TZID=Europe/Copenhagen:20240902T160000
DTEND;TZID=Europe/Copenhagen:20240902T180000
DTSTAMP:20260423T094309
CREATED:20231030T123535Z
LAST-MODIFIED:20241205T141227Z
UID:10039834-1725292800-1725300000@vorescosmos.dk
SUMMARY:Bibliotekscaféen
DESCRIPTION:
URL:https://vorescosmos.dk/begivenhed/bibliotekscafeen-12/2024-09-02/
LOCATION:Tænketanken\, Søndergade 11\, Viby Sj.\, 4130\, Danmark
CATEGORIES:Lokale bookninger
END:VEVENT
BEGIN:VEVENT
DTSTART;TZID=Europe/Copenhagen:20240826T160000
DTEND;TZID=Europe/Copenhagen:20240826T180000
DTSTAMP:20260423T094309
CREATED:20231030T123535Z
LAST-MODIFIED:20241205T141227Z
UID:10039833-1724688000-1724695200@vorescosmos.dk
SUMMARY:Bibliotekscaféen
DESCRIPTION:
URL:https://vorescosmos.dk/begivenhed/bibliotekscafeen-12/2024-08-26/
LOCATION:Tænketanken\, Søndergade 11\, Viby Sj.\, 4130\, Danmark
CATEGORIES:Lokale bookninger
END:VEVENT
BEGIN:VEVENT
DTSTART;TZID=Europe/Copenhagen:20240819T160000
DTEND;TZID=Europe/Copenhagen:20240819T180000
DTSTAMP:20260423T094309
CREATED:20231030T123535Z
LAST-MODIFIED:20241205T141227Z
UID:10039832-1724083200-1724090400@vorescosmos.dk
SUMMARY:Bibliotekscaféen
DESCRIPTION:
URL:https://vorescosmos.dk/begivenhed/bibliotekscafeen-12/2024-08-19/
LOCATION:Tænketanken\, Søndergade 11\, Viby Sj.\, 4130\, Danmark
CATEGORIES:Lokale bookninger
END:VEVENT
BEGIN:VEVENT
DTSTART;TZID=Europe/Copenhagen:20240812T160000
DTEND;TZID=Europe/Copenhagen:20240812T180000
DTSTAMP:20260423T094309
CREATED:20231030T123535Z
LAST-MODIFIED:20241205T141227Z
UID:10039831-1723478400-1723485600@vorescosmos.dk
SUMMARY:Bibliotekscaféen
DESCRIPTION:
URL:https://vorescosmos.dk/begivenhed/bibliotekscafeen-12/2024-08-12/
LOCATION:Tænketanken\, Søndergade 11\, Viby Sj.\, 4130\, Danmark
CATEGORIES:Lokale bookninger
END:VEVENT
BEGIN:VEVENT
DTSTART;TZID=Europe/Copenhagen:20240812T120000
DTEND;TZID=Europe/Copenhagen:20240812T160000
DTSTAMP:20260423T094309
CREATED:20240614T090745Z
LAST-MODIFIED:20240614T090745Z
UID:10042562-1723464000-1723478400@vorescosmos.dk
SUMMARY:Hemmelig Film
DESCRIPTION:
URL:https://vorescosmos.dk/begivenhed/hemmelig-film-10/
LOCATION:Peder Syv salen\, Søndergade 11\, Viby Sj.\, 4130\, Danmark
CATEGORIES:Lokale bookninger
END:VEVENT
BEGIN:VEVENT
DTSTART;TZID=Europe/Copenhagen:20240805T160000
DTEND;TZID=Europe/Copenhagen:20240805T180000
DTSTAMP:20260423T094309
CREATED:20231030T123535Z
LAST-MODIFIED:20241205T141227Z
UID:10039830-1722873600-1722880800@vorescosmos.dk
SUMMARY:Bibliotekscaféen
DESCRIPTION:
URL:https://vorescosmos.dk/begivenhed/bibliotekscafeen-12/2024-08-05/
LOCATION:Tænketanken\, Søndergade 11\, Viby Sj.\, 4130\, Danmark
CATEGORIES:Lokale bookninger
END:VEVENT
BEGIN:VEVENT
DTSTART;TZID=Europe/Copenhagen:20240729T160000
DTEND;TZID=Europe/Copenhagen:20240729T180000
DTSTAMP:20260423T094309
CREATED:20231030T123535Z
LAST-MODIFIED:20241205T141227Z
UID:10039829-1722268800-1722276000@vorescosmos.dk
SUMMARY:Bibliotekscaféen
DESCRIPTION:
URL:https://vorescosmos.dk/begivenhed/bibliotekscafeen-12/2024-07-29/
LOCATION:Tænketanken\, Søndergade 11\, Viby Sj.\, 4130\, Danmark
CATEGORIES:Lokale bookninger
END:VEVENT
BEGIN:VEVENT
DTSTART;TZID=Europe/Copenhagen:20240722T160000
DTEND;TZID=Europe/Copenhagen:20240722T180000
DTSTAMP:20260423T094309
CREATED:20231030T123535Z
LAST-MODIFIED:20241205T141227Z
UID:10039828-1721664000-1721671200@vorescosmos.dk
SUMMARY:Bibliotekscaféen
DESCRIPTION:
URL:https://vorescosmos.dk/begivenhed/bibliotekscafeen-12/2024-07-22/
LOCATION:Tænketanken\, Søndergade 11\, Viby Sj.\, 4130\, Danmark
CATEGORIES:Lokale bookninger
END:VEVENT
BEGIN:VEVENT
DTSTART;TZID=Europe/Copenhagen:20240715T160000
DTEND;TZID=Europe/Copenhagen:20240715T180000
DTSTAMP:20260423T094309
CREATED:20231030T123535Z
LAST-MODIFIED:20241205T141227Z
UID:10039827-1721059200-1721066400@vorescosmos.dk
SUMMARY:Bibliotekscaféen
DESCRIPTION:
URL:https://vorescosmos.dk/begivenhed/bibliotekscafeen-12/2024-07-15/
LOCATION:Tænketanken\, Søndergade 11\, Viby Sj.\, 4130\, Danmark
CATEGORIES:Lokale bookninger
END:VEVENT
BEGIN:VEVENT
DTSTART;TZID=Europe/Copenhagen:20240708T160000
DTEND;TZID=Europe/Copenhagen:20240708T180000
DTSTAMP:20260423T094309
CREATED:20231030T123535Z
LAST-MODIFIED:20241205T141227Z
UID:10039826-1720454400-1720461600@vorescosmos.dk
SUMMARY:Bibliotekscaféen
DESCRIPTION:
URL:https://vorescosmos.dk/begivenhed/bibliotekscafeen-12/2024-07-08/
LOCATION:Tænketanken\, Søndergade 11\, Viby Sj.\, 4130\, Danmark
CATEGORIES:Lokale bookninger
END:VEVENT
BEGIN:VEVENT
DTSTART;TZID=Europe/Copenhagen:20240701T160000
DTEND;TZID=Europe/Copenhagen:20240701T180000
DTSTAMP:20260423T094309
CREATED:20231030T123535Z
LAST-MODIFIED:20241205T141227Z
UID:10039825-1719849600-1719856800@vorescosmos.dk
SUMMARY:Bibliotekscaféen
DESCRIPTION:
URL:https://vorescosmos.dk/begivenhed/bibliotekscafeen-12/2024-07-01/
LOCATION:Tænketanken\, Søndergade 11\, Viby Sj.\, 4130\, Danmark
CATEGORIES:Lokale bookninger
END:VEVENT
BEGIN:VEVENT
DTSTART;TZID=Europe/Copenhagen:20240624T160000
DTEND;TZID=Europe/Copenhagen:20240624T180000
DTSTAMP:20260423T094309
CREATED:20231030T123535Z
LAST-MODIFIED:20241205T141227Z
UID:10039824-1719244800-1719252000@vorescosmos.dk
SUMMARY:Bibliotekscaféen
DESCRIPTION:
URL:https://vorescosmos.dk/begivenhed/bibliotekscafeen-12/2024-06-24/
LOCATION:Tænketanken\, Søndergade 11\, Viby Sj.\, 4130\, Danmark
CATEGORIES:Lokale bookninger
END:VEVENT
BEGIN:VEVENT
DTSTART;TZID=Europe/Copenhagen:20240619T123000
DTEND;TZID=Europe/Copenhagen:20240619T143000
DTSTAMP:20260423T094309
CREATED:20240307T142826Z
LAST-MODIFIED:20240307T142827Z
UID:10042165-1718800200-1718807400@vorescosmos.dk
SUMMARY:Biblioteket
DESCRIPTION:
URL:https://vorescosmos.dk/begivenhed/biblioteket-8/
LOCATION:Tænketanken\, Søndergade 11\, Viby Sj.\, 4130\, Danmark
CATEGORIES:Lokale bookninger
END:VEVENT
BEGIN:VEVENT
DTSTART;TZID=Europe/Copenhagen:20240619T083000
DTEND;TZID=Europe/Copenhagen:20240619T113000
DTSTAMP:20260423T094309
CREATED:20240521T062806Z
LAST-MODIFIED:20240521T062808Z
UID:10042490-1718785800-1718796600@vorescosmos.dk
SUMMARY:Biblioteket
DESCRIPTION:
URL:https://vorescosmos.dk/begivenhed/biblioteket-22/
LOCATION:Peder Syv salen\, Søndergade 11\, Viby Sj.\, 4130\, Danmark
CATEGORIES:Lokale bookninger
END:VEVENT
BEGIN:VEVENT
DTSTART;TZID=Europe/Copenhagen:20240617T160000
DTEND;TZID=Europe/Copenhagen:20240617T180000
DTSTAMP:20260423T094309
CREATED:20231030T123535Z
LAST-MODIFIED:20241205T141227Z
UID:10039823-1718640000-1718647200@vorescosmos.dk
SUMMARY:Bibliotekscaféen
DESCRIPTION:
URL:https://vorescosmos.dk/begivenhed/bibliotekscafeen-12/2024-06-17/
LOCATION:Tænketanken\, Søndergade 11\, Viby Sj.\, 4130\, Danmark
CATEGORIES:Lokale bookninger
END:VEVENT
BEGIN:VEVENT
DTSTART;TZID=Europe/Copenhagen:20240610T160000
DTEND;TZID=Europe/Copenhagen:20240610T180000
DTSTAMP:20260423T094309
CREATED:20231030T123535Z
LAST-MODIFIED:20241205T141227Z
UID:10039822-1718035200-1718042400@vorescosmos.dk
SUMMARY:Bibliotekscaféen
DESCRIPTION:
URL:https://vorescosmos.dk/begivenhed/bibliotekscafeen-12/2024-06-10/
LOCATION:Tænketanken\, Søndergade 11\, Viby Sj.\, 4130\, Danmark
CATEGORIES:Lokale bookninger
END:VEVENT
BEGIN:VEVENT
DTSTART;TZID=Europe/Copenhagen:20240603T160000
DTEND;TZID=Europe/Copenhagen:20240603T180000
DTSTAMP:20260423T094309
CREATED:20231030T123535Z
LAST-MODIFIED:20241205T141227Z
UID:10039821-1717430400-1717437600@vorescosmos.dk
SUMMARY:Bibliotekscaféen
DESCRIPTION:
URL:https://vorescosmos.dk/begivenhed/bibliotekscafeen-12/2024-06-03/
LOCATION:Tænketanken\, Søndergade 11\, Viby Sj.\, 4130\, Danmark
CATEGORIES:Lokale bookninger
END:VEVENT
BEGIN:VEVENT
DTSTART;TZID=Europe/Copenhagen:20240531T140000
DTEND;TZID=Europe/Copenhagen:20240531T150000
DTSTAMP:20260423T094309
CREATED:20240524T081702Z
LAST-MODIFIED:20240524T081704Z
UID:10042498-1717164000-1717167600@vorescosmos.dk
SUMMARY:Biblioteket
DESCRIPTION:
URL:https://vorescosmos.dk/begivenhed/biblioteket-23/
LOCATION:Tænketanken\, Søndergade 11\, Viby Sj.\, 4130\, Danmark
CATEGORIES:Lokale bookninger
END:VEVENT
BEGIN:VEVENT
DTSTART;TZID=Europe/Copenhagen:20240527T160000
DTEND;TZID=Europe/Copenhagen:20240527T180000
DTSTAMP:20260423T094309
CREATED:20231030T123535Z
LAST-MODIFIED:20241205T141227Z
UID:10039820-1716825600-1716832800@vorescosmos.dk
SUMMARY:Bibliotekscaféen
DESCRIPTION:
URL:https://vorescosmos.dk/begivenhed/bibliotekscafeen-12/2024-05-27/
LOCATION:Tænketanken\, Søndergade 11\, Viby Sj.\, 4130\, Danmark
CATEGORIES:Lokale bookninger
END:VEVENT
BEGIN:VEVENT
DTSTART;TZID=Europe/Copenhagen:20240520T160000
DTEND;TZID=Europe/Copenhagen:20240520T180000
DTSTAMP:20260423T094309
CREATED:20231030T123535Z
LAST-MODIFIED:20241205T141227Z
UID:10039819-1716220800-1716228000@vorescosmos.dk
SUMMARY:Bibliotekscaféen
DESCRIPTION:
URL:https://vorescosmos.dk/begivenhed/bibliotekscafeen-12/2024-05-20/
LOCATION:Tænketanken\, Søndergade 11\, Viby Sj.\, 4130\, Danmark
CATEGORIES:Lokale bookninger
END:VEVENT
BEGIN:VEVENT
DTSTART;TZID=Europe/Copenhagen:20240513T160000
DTEND;TZID=Europe/Copenhagen:20240513T180000
DTSTAMP:20260423T094309
CREATED:20231030T123535Z
LAST-MODIFIED:20241205T141227Z
UID:10039818-1715616000-1715623200@vorescosmos.dk
SUMMARY:Bibliotekscaféen
DESCRIPTION:
URL:https://vorescosmos.dk/begivenhed/bibliotekscafeen-12/2024-05-13/
LOCATION:Tænketanken\, Søndergade 11\, Viby Sj.\, 4130\, Danmark
CATEGORIES:Lokale bookninger
END:VEVENT
BEGIN:VEVENT
DTSTART;TZID=Europe/Copenhagen:20240508T130000
DTEND;TZID=Europe/Copenhagen:20240508T140000
DTSTAMP:20260423T094309
CREATED:20240417T081118Z
LAST-MODIFIED:20240417T081119Z
UID:10042271-1715173200-1715176800@vorescosmos.dk
SUMMARY:Biblioteket/strik i Cosmos
DESCRIPTION:
URL:https://vorescosmos.dk/begivenhed/biblioteket-strik-i-cosmos/
LOCATION:Tænketanken\, Søndergade 11\, Viby Sj.\, 4130\, Danmark
CATEGORIES:Lokale bookninger
END:VEVENT
BEGIN:VEVENT
DTSTART;TZID=Europe/Copenhagen:20240506T160000
DTEND;TZID=Europe/Copenhagen:20240506T180000
DTSTAMP:20260423T094309
CREATED:20231030T123535Z
LAST-MODIFIED:20241205T141227Z
UID:10039817-1715011200-1715018400@vorescosmos.dk
SUMMARY:Bibliotekscaféen
DESCRIPTION:
URL:https://vorescosmos.dk/begivenhed/bibliotekscafeen-12/2024-05-06/
LOCATION:Tænketanken\, Søndergade 11\, Viby Sj.\, 4130\, Danmark
CATEGORIES:Lokale bookninger
END:VEVENT
BEGIN:VEVENT
DTSTART;TZID=Europe/Copenhagen:20240429T160000
DTEND;TZID=Europe/Copenhagen:20240429T180000
DTSTAMP:20260423T094309
CREATED:20231030T123535Z
LAST-MODIFIED:20241205T141227Z
UID:10039816-1714406400-1714413600@vorescosmos.dk
SUMMARY:Bibliotekscaféen
DESCRIPTION:
URL:https://vorescosmos.dk/begivenhed/bibliotekscafeen-12/2024-04-29/
LOCATION:Tænketanken\, Søndergade 11\, Viby Sj.\, 4130\, Danmark
CATEGORIES:Lokale bookninger
END:VEVENT
BEGIN:VEVENT
DTSTART;TZID=Europe/Copenhagen:20240422T160000
DTEND;TZID=Europe/Copenhagen:20240422T180000
DTSTAMP:20260423T094309
CREATED:20231030T123535Z
LAST-MODIFIED:20241205T141227Z
UID:10039815-1713801600-1713808800@vorescosmos.dk
SUMMARY:Bibliotekscaféen
DESCRIPTION:
URL:https://vorescosmos.dk/begivenhed/bibliotekscafeen-12/2024-04-22/
LOCATION:Tænketanken\, Søndergade 11\, Viby Sj.\, 4130\, Danmark
CATEGORIES:Lokale bookninger
END:VEVENT
BEGIN:VEVENT
DTSTART;TZID=Europe/Copenhagen:20240422T080000
DTEND;TZID=Europe/Copenhagen:20240422T153000
DTSTAMP:20260423T094309
CREATED:20240422T082052Z
LAST-MODIFIED:20240422T082053Z
UID:10042277-1713772800-1713799800@vorescosmos.dk
SUMMARY:Reserveret til arkivet
DESCRIPTION:
URL:https://vorescosmos.dk/begivenhed/reserveret-til-arkivet-2/
LOCATION:Ramsørummet\, Søndergade 11\, Viby Sj.\, 4130\, Danmark
CATEGORIES:Lokale bookninger
END:VEVENT
BEGIN:VEVENT
DTSTART;TZID=Europe/Copenhagen:20240416T090000
DTEND;TZID=Europe/Copenhagen:20240416T113000
DTSTAMP:20260423T094309
CREATED:20231213T152952Z
LAST-MODIFIED:20231213T152952Z
UID:10041741-1713258000-1713267000@vorescosmos.dk
SUMMARY:Biblioteket
DESCRIPTION:
URL:https://vorescosmos.dk/begivenhed/biblioteket-4/
LOCATION:Peder Syv salen\, Søndergade 11\, Viby Sj.\, 4130\, Danmark
CATEGORIES:Lokale bookninger
END:VEVENT
END:VCALENDAR