BEGIN:VCALENDAR
VERSION:2.0
PRODID:-//Vores Cosmos - ECPv6.15.20//NONSGML v1.0//EN
CALSCALE:GREGORIAN
METHOD:PUBLISH
X-ORIGINAL-URL:https://vorescosmos.dk
X-WR-CALDESC:Begivenheder for Vores Cosmos
REFRESH-INTERVAL;VALUE=DURATION:PT1H
X-Robots-Tag:noindex
X-PUBLISHED-TTL:PT1H
BEGIN:VTIMEZONE
TZID:Europe/Copenhagen
BEGIN:DAYLIGHT
TZOFFSETFROM:+0100
TZOFFSETTO:+0200
TZNAME:CEST
DTSTART:20270328T010000
END:DAYLIGHT
BEGIN:STANDARD
TZOFFSETFROM:+0200
TZOFFSETTO:+0100
TZNAME:CET
DTSTART:20271031T010000
END:STANDARD
BEGIN:DAYLIGHT
TZOFFSETFROM:+0100
TZOFFSETTO:+0200
TZNAME:CEST
DTSTART:20280326T010000
END:DAYLIGHT
BEGIN:STANDARD
TZOFFSETFROM:+0200
TZOFFSETTO:+0100
TZNAME:CET
DTSTART:20281029T010000
END:STANDARD
BEGIN:DAYLIGHT
TZOFFSETFROM:+0100
TZOFFSETTO:+0200
TZNAME:CEST
DTSTART:20290325T010000
END:DAYLIGHT
BEGIN:STANDARD
TZOFFSETFROM:+0200
TZOFFSETTO:+0100
TZNAME:CET
DTSTART:20291028T010000
END:STANDARD
BEGIN:DAYLIGHT
TZOFFSETFROM:+0100
TZOFFSETTO:+0200
TZNAME:CEST
DTSTART:20300331T010000
END:DAYLIGHT
BEGIN:STANDARD
TZOFFSETFROM:+0200
TZOFFSETTO:+0100
TZNAME:CET
DTSTART:20301027T010000
END:STANDARD
END:VTIMEZONE
BEGIN:VEVENT
DTSTART;TZID=Europe/Copenhagen:20281016T160000
DTEND;TZID=Europe/Copenhagen:20281016T180000
DTSTAMP:20260423T112919
CREATED:20231030T123535Z
LAST-MODIFIED:20241205T141227Z
UID:10040049-1855324800-1855332000@vorescosmos.dk
SUMMARY:Bibliotekscaféen
DESCRIPTION:
URL:https://vorescosmos.dk/begivenhed/bibliotekscafeen-12/2028-10-16/
LOCATION:Tænketanken\, Søndergade 11\, Viby Sj.\, 4130\, Danmark
CATEGORIES:Lokale bookninger
END:VEVENT
BEGIN:VEVENT
DTSTART;TZID=Europe/Copenhagen:20281023T160000
DTEND;TZID=Europe/Copenhagen:20281023T180000
DTSTAMP:20260423T112919
CREATED:20231030T123535Z
LAST-MODIFIED:20241205T141227Z
UID:10040050-1855929600-1855936800@vorescosmos.dk
SUMMARY:Bibliotekscaféen
DESCRIPTION:
URL:https://vorescosmos.dk/begivenhed/bibliotekscafeen-12/2028-10-23/
LOCATION:Tænketanken\, Søndergade 11\, Viby Sj.\, 4130\, Danmark
CATEGORIES:Lokale bookninger
END:VEVENT
BEGIN:VEVENT
DTSTART;TZID=Europe/Copenhagen:20281030T160000
DTEND;TZID=Europe/Copenhagen:20281030T180000
DTSTAMP:20260423T112919
CREATED:20231030T123535Z
LAST-MODIFIED:20241205T141227Z
UID:10040051-1856534400-1856541600@vorescosmos.dk
SUMMARY:Bibliotekscaféen
DESCRIPTION:
URL:https://vorescosmos.dk/begivenhed/bibliotekscafeen-12/2028-10-30/
LOCATION:Tænketanken\, Søndergade 11\, Viby Sj.\, 4130\, Danmark
CATEGORIES:Lokale bookninger
END:VEVENT
BEGIN:VEVENT
DTSTART;TZID=Europe/Copenhagen:20281106T160000
DTEND;TZID=Europe/Copenhagen:20281106T180000
DTSTAMP:20260423T112919
CREATED:20231030T123535Z
LAST-MODIFIED:20241205T141227Z
UID:10042963-1857139200-1857146400@vorescosmos.dk
SUMMARY:Bibliotekscaféen
DESCRIPTION:
URL:https://vorescosmos.dk/begivenhed/bibliotekscafeen-12/2028-11-06/
LOCATION:Tænketanken\, Søndergade 11\, Viby Sj.\, 4130\, Danmark
CATEGORIES:Lokale bookninger
END:VEVENT
BEGIN:VEVENT
DTSTART;TZID=Europe/Copenhagen:20281113T160000
DTEND;TZID=Europe/Copenhagen:20281113T180000
DTSTAMP:20260423T112919
CREATED:20231030T123535Z
LAST-MODIFIED:20241205T141227Z
UID:10042964-1857744000-1857751200@vorescosmos.dk
SUMMARY:Bibliotekscaféen
DESCRIPTION:
URL:https://vorescosmos.dk/begivenhed/bibliotekscafeen-12/2028-11-13/
LOCATION:Tænketanken\, Søndergade 11\, Viby Sj.\, 4130\, Danmark
CATEGORIES:Lokale bookninger
END:VEVENT
BEGIN:VEVENT
DTSTART;TZID=Europe/Copenhagen:20281120T160000
DTEND;TZID=Europe/Copenhagen:20281120T180000
DTSTAMP:20260423T112919
CREATED:20231030T123535Z
LAST-MODIFIED:20241205T141227Z
UID:10042965-1858348800-1858356000@vorescosmos.dk
SUMMARY:Bibliotekscaféen
DESCRIPTION:
URL:https://vorescosmos.dk/begivenhed/bibliotekscafeen-12/2028-11-20/
LOCATION:Tænketanken\, Søndergade 11\, Viby Sj.\, 4130\, Danmark
CATEGORIES:Lokale bookninger
END:VEVENT
BEGIN:VEVENT
DTSTART;TZID=Europe/Copenhagen:20281127T160000
DTEND;TZID=Europe/Copenhagen:20281127T180000
DTSTAMP:20260423T112919
CREATED:20231030T123535Z
LAST-MODIFIED:20241205T141227Z
UID:10042966-1858953600-1858960800@vorescosmos.dk
SUMMARY:Bibliotekscaféen
DESCRIPTION:
URL:https://vorescosmos.dk/begivenhed/bibliotekscafeen-12/2028-11-27/
LOCATION:Tænketanken\, Søndergade 11\, Viby Sj.\, 4130\, Danmark
CATEGORIES:Lokale bookninger
END:VEVENT
BEGIN:VEVENT
DTSTART;TZID=Europe/Copenhagen:20281204T160000
DTEND;TZID=Europe/Copenhagen:20281204T180000
DTSTAMP:20260423T112919
CREATED:20231030T123535Z
LAST-MODIFIED:20241205T141227Z
UID:10042967-1859558400-1859565600@vorescosmos.dk
SUMMARY:Bibliotekscaféen
DESCRIPTION:
URL:https://vorescosmos.dk/begivenhed/bibliotekscafeen-12/2028-12-04/
LOCATION:Tænketanken\, Søndergade 11\, Viby Sj.\, 4130\, Danmark
CATEGORIES:Lokale bookninger
END:VEVENT
BEGIN:VEVENT
DTSTART;TZID=Europe/Copenhagen:20281211T160000
DTEND;TZID=Europe/Copenhagen:20281211T180000
DTSTAMP:20260423T112919
CREATED:20231030T123535Z
LAST-MODIFIED:20241205T141227Z
UID:10042968-1860163200-1860170400@vorescosmos.dk
SUMMARY:Bibliotekscaféen
DESCRIPTION:
URL:https://vorescosmos.dk/begivenhed/bibliotekscafeen-12/2028-12-11/
LOCATION:Tænketanken\, Søndergade 11\, Viby Sj.\, 4130\, Danmark
CATEGORIES:Lokale bookninger
END:VEVENT
BEGIN:VEVENT
DTSTART;TZID=Europe/Copenhagen:20281218T160000
DTEND;TZID=Europe/Copenhagen:20281218T180000
DTSTAMP:20260423T112919
CREATED:20231030T123535Z
LAST-MODIFIED:20241205T141227Z
UID:10042969-1860768000-1860775200@vorescosmos.dk
SUMMARY:Bibliotekscaféen
DESCRIPTION:
URL:https://vorescosmos.dk/begivenhed/bibliotekscafeen-12/2028-12-18/
LOCATION:Tænketanken\, Søndergade 11\, Viby Sj.\, 4130\, Danmark
CATEGORIES:Lokale bookninger
END:VEVENT
BEGIN:VEVENT
DTSTART;TZID=Europe/Copenhagen:20281225T160000
DTEND;TZID=Europe/Copenhagen:20281225T180000
DTSTAMP:20260423T112919
CREATED:20231030T123535Z
LAST-MODIFIED:20241205T141227Z
UID:10042970-1861372800-1861380000@vorescosmos.dk
SUMMARY:Bibliotekscaféen
DESCRIPTION:
URL:https://vorescosmos.dk/begivenhed/bibliotekscafeen-12/2028-12-25/
LOCATION:Tænketanken\, Søndergade 11\, Viby Sj.\, 4130\, Danmark
CATEGORIES:Lokale bookninger
END:VEVENT
BEGIN:VEVENT
DTSTART;TZID=Europe/Copenhagen:20290101T160000
DTEND;TZID=Europe/Copenhagen:20290101T180000
DTSTAMP:20260423T112919
CREATED:20231030T123535Z
LAST-MODIFIED:20241205T141227Z
UID:10042971-1861977600-1861984800@vorescosmos.dk
SUMMARY:Bibliotekscaféen
DESCRIPTION:
URL:https://vorescosmos.dk/begivenhed/bibliotekscafeen-12/2029-01-01/
LOCATION:Tænketanken\, Søndergade 11\, Viby Sj.\, 4130\, Danmark
CATEGORIES:Lokale bookninger
END:VEVENT
BEGIN:VEVENT
DTSTART;TZID=Europe/Copenhagen:20290108T160000
DTEND;TZID=Europe/Copenhagen:20290108T180000
DTSTAMP:20260423T112919
CREATED:20231030T123535Z
LAST-MODIFIED:20241205T141227Z
UID:10042972-1862582400-1862589600@vorescosmos.dk
SUMMARY:Bibliotekscaféen
DESCRIPTION:
URL:https://vorescosmos.dk/begivenhed/bibliotekscafeen-12/2029-01-08/
LOCATION:Tænketanken\, Søndergade 11\, Viby Sj.\, 4130\, Danmark
CATEGORIES:Lokale bookninger
END:VEVENT
BEGIN:VEVENT
DTSTART;TZID=Europe/Copenhagen:20290115T160000
DTEND;TZID=Europe/Copenhagen:20290115T180000
DTSTAMP:20260423T112919
CREATED:20231030T123535Z
LAST-MODIFIED:20241205T141227Z
UID:10042973-1863187200-1863194400@vorescosmos.dk
SUMMARY:Bibliotekscaféen
DESCRIPTION:
URL:https://vorescosmos.dk/begivenhed/bibliotekscafeen-12/2029-01-15/
LOCATION:Tænketanken\, Søndergade 11\, Viby Sj.\, 4130\, Danmark
CATEGORIES:Lokale bookninger
END:VEVENT
BEGIN:VEVENT
DTSTART;TZID=Europe/Copenhagen:20290122T160000
DTEND;TZID=Europe/Copenhagen:20290122T180000
DTSTAMP:20260423T112919
CREATED:20231030T123535Z
LAST-MODIFIED:20241205T141227Z
UID:10042974-1863792000-1863799200@vorescosmos.dk
SUMMARY:Bibliotekscaféen
DESCRIPTION:
URL:https://vorescosmos.dk/begivenhed/bibliotekscafeen-12/2029-01-22/
LOCATION:Tænketanken\, Søndergade 11\, Viby Sj.\, 4130\, Danmark
CATEGORIES:Lokale bookninger
END:VEVENT
BEGIN:VEVENT
DTSTART;TZID=Europe/Copenhagen:20290129T160000
DTEND;TZID=Europe/Copenhagen:20290129T180000
DTSTAMP:20260423T112919
CREATED:20231030T123535Z
LAST-MODIFIED:20241205T141227Z
UID:10042975-1864396800-1864404000@vorescosmos.dk
SUMMARY:Bibliotekscaféen
DESCRIPTION:
URL:https://vorescosmos.dk/begivenhed/bibliotekscafeen-12/2029-01-29/
LOCATION:Tænketanken\, Søndergade 11\, Viby Sj.\, 4130\, Danmark
CATEGORIES:Lokale bookninger
END:VEVENT
BEGIN:VEVENT
DTSTART;TZID=Europe/Copenhagen:20290205T160000
DTEND;TZID=Europe/Copenhagen:20290205T180000
DTSTAMP:20260423T112919
CREATED:20231030T123535Z
LAST-MODIFIED:20241205T141227Z
UID:10042976-1865001600-1865008800@vorescosmos.dk
SUMMARY:Bibliotekscaféen
DESCRIPTION:
URL:https://vorescosmos.dk/begivenhed/bibliotekscafeen-12/2029-02-05/
LOCATION:Tænketanken\, Søndergade 11\, Viby Sj.\, 4130\, Danmark
CATEGORIES:Lokale bookninger
END:VEVENT
BEGIN:VEVENT
DTSTART;TZID=Europe/Copenhagen:20290212T160000
DTEND;TZID=Europe/Copenhagen:20290212T180000
DTSTAMP:20260423T112919
CREATED:20231030T123535Z
LAST-MODIFIED:20241205T141227Z
UID:10042977-1865606400-1865613600@vorescosmos.dk
SUMMARY:Bibliotekscaféen
DESCRIPTION:
URL:https://vorescosmos.dk/begivenhed/bibliotekscafeen-12/2029-02-12/
LOCATION:Tænketanken\, Søndergade 11\, Viby Sj.\, 4130\, Danmark
CATEGORIES:Lokale bookninger
END:VEVENT
BEGIN:VEVENT
DTSTART;TZID=Europe/Copenhagen:20290219T160000
DTEND;TZID=Europe/Copenhagen:20290219T180000
DTSTAMP:20260423T112919
CREATED:20231030T123535Z
LAST-MODIFIED:20241205T141227Z
UID:10042978-1866211200-1866218400@vorescosmos.dk
SUMMARY:Bibliotekscaféen
DESCRIPTION:
URL:https://vorescosmos.dk/begivenhed/bibliotekscafeen-12/2029-02-19/
LOCATION:Tænketanken\, Søndergade 11\, Viby Sj.\, 4130\, Danmark
CATEGORIES:Lokale bookninger
END:VEVENT
BEGIN:VEVENT
DTSTART;TZID=Europe/Copenhagen:20290226T160000
DTEND;TZID=Europe/Copenhagen:20290226T180000
DTSTAMP:20260423T112919
CREATED:20231030T123535Z
LAST-MODIFIED:20241205T141227Z
UID:10042979-1866816000-1866823200@vorescosmos.dk
SUMMARY:Bibliotekscaféen
DESCRIPTION:
URL:https://vorescosmos.dk/begivenhed/bibliotekscafeen-12/2029-02-26/
LOCATION:Tænketanken\, Søndergade 11\, Viby Sj.\, 4130\, Danmark
CATEGORIES:Lokale bookninger
END:VEVENT
BEGIN:VEVENT
DTSTART;TZID=Europe/Copenhagen:20290305T160000
DTEND;TZID=Europe/Copenhagen:20290305T180000
DTSTAMP:20260423T112919
CREATED:20231030T123535Z
LAST-MODIFIED:20241205T141227Z
UID:10042980-1867420800-1867428000@vorescosmos.dk
SUMMARY:Bibliotekscaféen
DESCRIPTION:
URL:https://vorescosmos.dk/begivenhed/bibliotekscafeen-12/2029-03-05/
LOCATION:Tænketanken\, Søndergade 11\, Viby Sj.\, 4130\, Danmark
CATEGORIES:Lokale bookninger
END:VEVENT
BEGIN:VEVENT
DTSTART;TZID=Europe/Copenhagen:20290312T160000
DTEND;TZID=Europe/Copenhagen:20290312T180000
DTSTAMP:20260423T112919
CREATED:20231030T123535Z
LAST-MODIFIED:20241205T141227Z
UID:10042981-1868025600-1868032800@vorescosmos.dk
SUMMARY:Bibliotekscaféen
DESCRIPTION:
URL:https://vorescosmos.dk/begivenhed/bibliotekscafeen-12/2029-03-12/
LOCATION:Tænketanken\, Søndergade 11\, Viby Sj.\, 4130\, Danmark
CATEGORIES:Lokale bookninger
END:VEVENT
BEGIN:VEVENT
DTSTART;TZID=Europe/Copenhagen:20290319T160000
DTEND;TZID=Europe/Copenhagen:20290319T180000
DTSTAMP:20260423T112919
CREATED:20231030T123535Z
LAST-MODIFIED:20241205T141227Z
UID:10042982-1868630400-1868637600@vorescosmos.dk
SUMMARY:Bibliotekscaféen
DESCRIPTION:
URL:https://vorescosmos.dk/begivenhed/bibliotekscafeen-12/2029-03-19/
LOCATION:Tænketanken\, Søndergade 11\, Viby Sj.\, 4130\, Danmark
CATEGORIES:Lokale bookninger
END:VEVENT
BEGIN:VEVENT
DTSTART;TZID=Europe/Copenhagen:20290326T160000
DTEND;TZID=Europe/Copenhagen:20290326T180000
DTSTAMP:20260423T112919
CREATED:20231030T123535Z
LAST-MODIFIED:20241205T141227Z
UID:10042983-1869235200-1869242400@vorescosmos.dk
SUMMARY:Bibliotekscaféen
DESCRIPTION:
URL:https://vorescosmos.dk/begivenhed/bibliotekscafeen-12/2029-03-26/
LOCATION:Tænketanken\, Søndergade 11\, Viby Sj.\, 4130\, Danmark
CATEGORIES:Lokale bookninger
END:VEVENT
BEGIN:VEVENT
DTSTART;TZID=Europe/Copenhagen:20290402T160000
DTEND;TZID=Europe/Copenhagen:20290402T180000
DTSTAMP:20260423T112919
CREATED:20231030T123535Z
LAST-MODIFIED:20241205T141227Z
UID:10042984-1869840000-1869847200@vorescosmos.dk
SUMMARY:Bibliotekscaféen
DESCRIPTION:
URL:https://vorescosmos.dk/begivenhed/bibliotekscafeen-12/2029-04-02/
LOCATION:Tænketanken\, Søndergade 11\, Viby Sj.\, 4130\, Danmark
CATEGORIES:Lokale bookninger
END:VEVENT
BEGIN:VEVENT
DTSTART;TZID=Europe/Copenhagen:20290409T160000
DTEND;TZID=Europe/Copenhagen:20290409T180000
DTSTAMP:20260423T112919
CREATED:20231030T123535Z
LAST-MODIFIED:20241205T141227Z
UID:10042985-1870444800-1870452000@vorescosmos.dk
SUMMARY:Bibliotekscaféen
DESCRIPTION:
URL:https://vorescosmos.dk/begivenhed/bibliotekscafeen-12/2029-04-09/
LOCATION:Tænketanken\, Søndergade 11\, Viby Sj.\, 4130\, Danmark
CATEGORIES:Lokale bookninger
END:VEVENT
BEGIN:VEVENT
DTSTART;TZID=Europe/Copenhagen:20290416T160000
DTEND;TZID=Europe/Copenhagen:20290416T180000
DTSTAMP:20260423T112919
CREATED:20231030T123535Z
LAST-MODIFIED:20241205T141227Z
UID:10042986-1871049600-1871056800@vorescosmos.dk
SUMMARY:Bibliotekscaféen
DESCRIPTION:
URL:https://vorescosmos.dk/begivenhed/bibliotekscafeen-12/2029-04-16/
LOCATION:Tænketanken\, Søndergade 11\, Viby Sj.\, 4130\, Danmark
CATEGORIES:Lokale bookninger
END:VEVENT
BEGIN:VEVENT
DTSTART;TZID=Europe/Copenhagen:20290423T160000
DTEND;TZID=Europe/Copenhagen:20290423T180000
DTSTAMP:20260423T112919
CREATED:20231030T123535Z
LAST-MODIFIED:20241205T141227Z
UID:10042987-1871654400-1871661600@vorescosmos.dk
SUMMARY:Bibliotekscaféen
DESCRIPTION:
URL:https://vorescosmos.dk/begivenhed/bibliotekscafeen-12/2029-04-23/
LOCATION:Tænketanken\, Søndergade 11\, Viby Sj.\, 4130\, Danmark
CATEGORIES:Lokale bookninger
END:VEVENT
BEGIN:VEVENT
DTSTART;TZID=Europe/Copenhagen:20290430T160000
DTEND;TZID=Europe/Copenhagen:20290430T180000
DTSTAMP:20260423T112919
CREATED:20231030T123535Z
LAST-MODIFIED:20241205T141227Z
UID:10042988-1872259200-1872266400@vorescosmos.dk
SUMMARY:Bibliotekscaféen
DESCRIPTION:
URL:https://vorescosmos.dk/begivenhed/bibliotekscafeen-12/2029-04-30/
LOCATION:Tænketanken\, Søndergade 11\, Viby Sj.\, 4130\, Danmark
CATEGORIES:Lokale bookninger
END:VEVENT
BEGIN:VEVENT
DTSTART;TZID=Europe/Copenhagen:20290507T160000
DTEND;TZID=Europe/Copenhagen:20290507T180000
DTSTAMP:20260423T112919
CREATED:20231030T123535Z
LAST-MODIFIED:20241205T141227Z
UID:10042989-1872864000-1872871200@vorescosmos.dk
SUMMARY:Bibliotekscaféen
DESCRIPTION:
URL:https://vorescosmos.dk/begivenhed/bibliotekscafeen-12/2029-05-07/
LOCATION:Tænketanken\, Søndergade 11\, Viby Sj.\, 4130\, Danmark
CATEGORIES:Lokale bookninger
END:VEVENT
END:VCALENDAR