BEGIN:VCALENDAR
VERSION:2.0
PRODID:-//Vores Cosmos - ECPv6.15.20//NONSGML v1.0//EN
CALSCALE:GREGORIAN
METHOD:PUBLISH
X-WR-CALNAME:Vores Cosmos
X-ORIGINAL-URL:https://vorescosmos.dk
X-WR-CALDESC:Begivenheder for Vores Cosmos
REFRESH-INTERVAL;VALUE=DURATION:PT1H
X-Robots-Tag:noindex
X-PUBLISHED-TTL:PT1H
BEGIN:VTIMEZONE
TZID:Europe/Copenhagen
BEGIN:DAYLIGHT
TZOFFSETFROM:+0100
TZOFFSETTO:+0200
TZNAME:CEST
DTSTART:20220327T010000
END:DAYLIGHT
BEGIN:STANDARD
TZOFFSETFROM:+0200
TZOFFSETTO:+0100
TZNAME:CET
DTSTART:20221030T010000
END:STANDARD
BEGIN:DAYLIGHT
TZOFFSETFROM:+0100
TZOFFSETTO:+0200
TZNAME:CEST
DTSTART:20230326T010000
END:DAYLIGHT
BEGIN:STANDARD
TZOFFSETFROM:+0200
TZOFFSETTO:+0100
TZNAME:CET
DTSTART:20231029T010000
END:STANDARD
BEGIN:DAYLIGHT
TZOFFSETFROM:+0100
TZOFFSETTO:+0200
TZNAME:CEST
DTSTART:20240331T010000
END:DAYLIGHT
BEGIN:STANDARD
TZOFFSETFROM:+0200
TZOFFSETTO:+0100
TZNAME:CET
DTSTART:20241027T010000
END:STANDARD
BEGIN:DAYLIGHT
TZOFFSETFROM:+0100
TZOFFSETTO:+0200
TZNAME:CEST
DTSTART:20250330T010000
END:DAYLIGHT
BEGIN:STANDARD
TZOFFSETFROM:+0200
TZOFFSETTO:+0100
TZNAME:CET
DTSTART:20251026T010000
END:STANDARD
END:VTIMEZONE
BEGIN:VEVENT
DTSTART;TZID=Europe/Copenhagen:20240415T160000
DTEND;TZID=Europe/Copenhagen:20240415T180000
DTSTAMP:20260423T142907
CREATED:20231030T123535Z
LAST-MODIFIED:20241205T141227Z
UID:10039814-1713196800-1713204000@vorescosmos.dk
SUMMARY:Bibliotekscaféen
DESCRIPTION:
URL:https://vorescosmos.dk/begivenhed/bibliotekscafeen-12/2024-04-15/
LOCATION:Tænketanken\, Søndergade 11\, Viby Sj.\, 4130\, Danmark
CATEGORIES:Lokale bookninger
END:VEVENT
BEGIN:VEVENT
DTSTART;TZID=Europe/Copenhagen:20240410T090000
DTEND;TZID=Europe/Copenhagen:20240410T113000
DTSTAMP:20260423T142907
CREATED:20231213T152902Z
LAST-MODIFIED:20231213T152902Z
UID:10041740-1712739600-1712748600@vorescosmos.dk
SUMMARY:Biblioteket
DESCRIPTION:
URL:https://vorescosmos.dk/begivenhed/biblioteket-3/
LOCATION:Peder Syv salen\, Søndergade 11\, Viby Sj.\, 4130\, Danmark
CATEGORIES:Lokale bookninger
END:VEVENT
BEGIN:VEVENT
DTSTART;TZID=Europe/Copenhagen:20240408T160000
DTEND;TZID=Europe/Copenhagen:20240408T180000
DTSTAMP:20260423T142907
CREATED:20231030T123535Z
LAST-MODIFIED:20241205T141227Z
UID:10039813-1712592000-1712599200@vorescosmos.dk
SUMMARY:Bibliotekscaféen
DESCRIPTION:
URL:https://vorescosmos.dk/begivenhed/bibliotekscafeen-12/2024-04-08/
LOCATION:Tænketanken\, Søndergade 11\, Viby Sj.\, 4130\, Danmark
CATEGORIES:Lokale bookninger
END:VEVENT
BEGIN:VEVENT
DTSTART;TZID=Europe/Copenhagen:20240401T160000
DTEND;TZID=Europe/Copenhagen:20240401T180000
DTSTAMP:20260423T142907
CREATED:20231030T123535Z
LAST-MODIFIED:20241205T141227Z
UID:10039812-1711987200-1711994400@vorescosmos.dk
SUMMARY:Bibliotekscaféen
DESCRIPTION:
URL:https://vorescosmos.dk/begivenhed/bibliotekscafeen-12/2024-04-01/
LOCATION:Tænketanken\, Søndergade 11\, Viby Sj.\, 4130\, Danmark
CATEGORIES:Lokale bookninger
END:VEVENT
BEGIN:VEVENT
DTSTART;TZID=Europe/Copenhagen:20240325T160000
DTEND;TZID=Europe/Copenhagen:20240325T180000
DTSTAMP:20260423T142907
CREATED:20231030T123535Z
LAST-MODIFIED:20241205T141227Z
UID:10039811-1711382400-1711389600@vorescosmos.dk
SUMMARY:Bibliotekscaféen
DESCRIPTION:
URL:https://vorescosmos.dk/begivenhed/bibliotekscafeen-12/2024-03-25/
LOCATION:Tænketanken\, Søndergade 11\, Viby Sj.\, 4130\, Danmark
CATEGORIES:Lokale bookninger
END:VEVENT
BEGIN:VEVENT
DTSTART;TZID=Europe/Copenhagen:20240318T160000
DTEND;TZID=Europe/Copenhagen:20240318T180000
DTSTAMP:20260423T142907
CREATED:20231030T123535Z
LAST-MODIFIED:20241205T141227Z
UID:10039810-1710777600-1710784800@vorescosmos.dk
SUMMARY:Bibliotekscaféen
DESCRIPTION:
URL:https://vorescosmos.dk/begivenhed/bibliotekscafeen-12/2024-03-18/
LOCATION:Tænketanken\, Søndergade 11\, Viby Sj.\, 4130\, Danmark
CATEGORIES:Lokale bookninger
END:VEVENT
BEGIN:VEVENT
DTSTART;TZID=Europe/Copenhagen:20240316T120000
DTEND;TZID=Europe/Copenhagen:20240316T133000
DTSTAMP:20260423T142907
CREATED:20240205T141453Z
LAST-MODIFIED:20240206T070654Z
UID:10042102-1710590400-1710595800@vorescosmos.dk
SUMMARY:ROSKILDE:DOX viser "Efterklang: THE MAKEDONIUM BAND"
DESCRIPTION:Charmerende rundtur i den nordmakedonske folkemusik og et fascinerende indblik i den kreative proces hos det evigt udforskende danske band Efterklang. \n\n\n\n20 år inde i deres musikalske liv har det alternative danske band Efterklang fået en idé. \n\n\n\nDe vil til Nordmakedonien og samle et band af lokale musikere om at lave en performance foran det arkitektonisk vanvittige monument Makedonium\, der hylder landets frihed og uafhængighed. \n\n\n\nMere ved de tre danske musikere ikke\, da de lander i Skopje og begynde at uddele flyveblade for at skaffe bandmedlemmer. \n\n\n\nAnført af deres hyper-energiske ven og guide bliver de trukket ud ad hovedstaden\, ud på landet\, op i bjergene og hele vejen til den politiske top i deres jagt på allierede og på landets særegne folkemusikkultur. \n\n\n\nAndreas Johnsens film er en charmerende rundtur i både Balkanlandets musikalske kultur og et dyk ind i den alternative\, kreative proces hos et af Danmarks mest udforskende bands\, hvor der ikke bliver set skævt til en\, hvis man pludselig tager et vandglas i sin hånd og spiller på det med en lille ske. \n\n\n\nSpilletid: Ca. 90 min. \n\n\n\nInstruktør: Andreas Johnsen \n\n\n\nSprog: makedonsk\, dansk \n\n\n\nUndertekster: Engelsk \n\n\n\nCosmos drives i et samarbejde mellem Roskilde Bibliotekerne og KulturCosmos. Dette arrangement præsenteres af biblioteket. \n\n\n\n\n\n\nbestil billet
URL:https://vorescosmos.dk/begivenhed/roskildedox-viser-efterklang-the-makedonium-band/
LOCATION:Peder Syv salen\, Søndergade 11\, Viby Sj.\, 4130\, Danmark
ATTACH;FMTTYPE=image/jpeg:https://vorescosmos.dk/wp-content/uploads/2024/02/Makedonien-392-edited.jpg
END:VEVENT
BEGIN:VEVENT
DTSTART;TZID=Europe/Copenhagen:20240314T090000
DTEND;TZID=Europe/Copenhagen:20240314T113000
DTSTAMP:20260423T142907
CREATED:20231213T152812Z
LAST-MODIFIED:20231213T152814Z
UID:10041739-1710406800-1710415800@vorescosmos.dk
SUMMARY:Biblioteket
DESCRIPTION:
URL:https://vorescosmos.dk/begivenhed/biblioteket-2/
LOCATION:Peder Syv salen\, Søndergade 11\, Viby Sj.\, 4130\, Danmark
CATEGORIES:Lokale bookninger
END:VEVENT
BEGIN:VEVENT
DTSTART;TZID=Europe/Copenhagen:20240311T160000
DTEND;TZID=Europe/Copenhagen:20240311T180000
DTSTAMP:20260423T142907
CREATED:20231030T123535Z
LAST-MODIFIED:20241205T141227Z
UID:10039809-1710172800-1710180000@vorescosmos.dk
SUMMARY:Bibliotekscaféen
DESCRIPTION:
URL:https://vorescosmos.dk/begivenhed/bibliotekscafeen-12/2024-03-11/
LOCATION:Tænketanken\, Søndergade 11\, Viby Sj.\, 4130\, Danmark
CATEGORIES:Lokale bookninger
END:VEVENT
BEGIN:VEVENT
DTSTART;TZID=Europe/Copenhagen:20240304T160000
DTEND;TZID=Europe/Copenhagen:20240304T180000
DTSTAMP:20260423T142907
CREATED:20231030T123535Z
LAST-MODIFIED:20241205T141227Z
UID:10039808-1709568000-1709575200@vorescosmos.dk
SUMMARY:Bibliotekscaféen
DESCRIPTION:
URL:https://vorescosmos.dk/begivenhed/bibliotekscafeen-12/2024-03-04/
LOCATION:Tænketanken\, Søndergade 11\, Viby Sj.\, 4130\, Danmark
CATEGORIES:Lokale bookninger
END:VEVENT
BEGIN:VEVENT
DTSTART;TZID=Europe/Copenhagen:20240226T160000
DTEND;TZID=Europe/Copenhagen:20240226T180000
DTSTAMP:20260423T142907
CREATED:20231030T123535Z
LAST-MODIFIED:20241205T141227Z
UID:10039807-1708963200-1708970400@vorescosmos.dk
SUMMARY:Bibliotekscaféen
DESCRIPTION:
URL:https://vorescosmos.dk/begivenhed/bibliotekscafeen-12/2024-02-26/
LOCATION:Tænketanken\, Søndergade 11\, Viby Sj.\, 4130\, Danmark
CATEGORIES:Lokale bookninger
END:VEVENT
BEGIN:VEVENT
DTSTART;TZID=Europe/Copenhagen:20240221T100000
DTEND;TZID=Europe/Copenhagen:20240221T123000
DTSTAMP:20260423T142907
CREATED:20240130T133546Z
LAST-MODIFIED:20240130T135021Z
UID:10042080-1708509600-1708518600@vorescosmos.dk
SUMMARY:Eventyrlig tegnefilm og krea-værksted (0. til 6. klasse)
DESCRIPTION:Se den fantastiske film ‘Yuku og blomsten på bjerget’ og lav krea-instrumenter efter filmen. \n\n\n\nSe den eventyrlige tegnefilm ‘Yuku og blomsten på bjerget’ fyldt med herlig musik og uimodståelige sange\, der gør hjertet glad. Filmen fortæller på charmerende vis om familiekærlighed\, musikkens magi\, venskaber og vigtigheden af at tro på sig selv. Efter filmen laver vi vores egne små tromme-instrumenter. \n\n\n\nCosmos drives i et samarbejde mellem Roskilde Bibliotekerne og KulturCosmos. Dette arrangement præsenteres af biblioteket og Sjov ferie. \n\n\n\nGratis. Kræver tilmelding \n\n\n\n\nBestil billet
URL:https://vorescosmos.dk/begivenhed/eventyrlig-tegnefilm-og-krea-vaerksted-0-til-6-klasse/
CATEGORIES:Lokale bookninger
ATTACH;FMTTYPE=image/jpeg:https://vorescosmos.dk/wp-content/uploads/2024/01/yuku_-_image-edited.jpg
END:VEVENT
BEGIN:VEVENT
DTSTART;TZID=Europe/Copenhagen:20240219T160000
DTEND;TZID=Europe/Copenhagen:20240219T180000
DTSTAMP:20260423T142907
CREATED:20231030T123535Z
LAST-MODIFIED:20241205T141227Z
UID:10039806-1708358400-1708365600@vorescosmos.dk
SUMMARY:Bibliotekscaféen
DESCRIPTION:
URL:https://vorescosmos.dk/begivenhed/bibliotekscafeen-12/2024-02-19/
LOCATION:Tænketanken\, Søndergade 11\, Viby Sj.\, 4130\, Danmark
CATEGORIES:Lokale bookninger
END:VEVENT
BEGIN:VEVENT
DTSTART;TZID=Europe/Copenhagen:20240219T080000
DTEND;TZID=Europe/Copenhagen:20240219T230000
DTSTAMP:20260423T142907
CREATED:20240130T135516Z
LAST-MODIFIED:20240130T135517Z
UID:10042082-1708329600-1708383600@vorescosmos.dk
SUMMARY:Den store vinterskattejagt i Viby
DESCRIPTION:Mandag 19. til søndag. 25. februar 2024 \n\n\n\n\n\nTag på biblioteket i Viby og prøv den store vinter skattejagt. Dejlig vinterlig sjov for hele familien. \n\n\n\nKan du lide sne-matematik? Er der virkelig ikke to snekrystaller der er ens? Hvor mange pingviner er der på Sydpolen? Hvis man både skal nå at lave en sneengel\, en snemand\, kælke og slås i sne\, er der så en rigtig rækkefølge at gøre det i? Og er alle snegloberne nu også ens når det kommer til stykket? Kom ned på biblioteket og prøv den store vinter skattejagt. Indlever dit svarark på biblioteket og deltag i konkurrencen om fede præmier. \n\n\n\nCosmos drives i et samarbejde mellem Roskilde Bibliotekerne og KulturCosmos. Dette arrangement præsenteres af biblioteket og Sjov ferie.
URL:https://vorescosmos.dk/begivenhed/den-store-vinterskattejagt-i-viby/
ATTACH;FMTTYPE=image/jpeg:https://vorescosmos.dk/wp-content/uploads/2024/01/boern-i-sne-1-edited-scaled.jpg
END:VEVENT
BEGIN:VEVENT
DTSTART;TZID=Europe/Copenhagen:20240212T160000
DTEND;TZID=Europe/Copenhagen:20240212T180000
DTSTAMP:20260423T142907
CREATED:20231030T123535Z
LAST-MODIFIED:20241205T141227Z
UID:10039805-1707753600-1707760800@vorescosmos.dk
SUMMARY:Bibliotekscaféen
DESCRIPTION:
URL:https://vorescosmos.dk/begivenhed/bibliotekscafeen-12/2024-02-12/
LOCATION:Tænketanken\, Søndergade 11\, Viby Sj.\, 4130\, Danmark
CATEGORIES:Lokale bookninger
END:VEVENT
BEGIN:VEVENT
DTSTART;TZID=Europe/Copenhagen:20240205T160000
DTEND;TZID=Europe/Copenhagen:20240205T180000
DTSTAMP:20260423T142907
CREATED:20231030T123535Z
LAST-MODIFIED:20241205T141227Z
UID:10039804-1707148800-1707156000@vorescosmos.dk
SUMMARY:Bibliotekscaféen
DESCRIPTION:
URL:https://vorescosmos.dk/begivenhed/bibliotekscafeen-12/2024-02-05/
LOCATION:Tænketanken\, Søndergade 11\, Viby Sj.\, 4130\, Danmark
CATEGORIES:Lokale bookninger
END:VEVENT
BEGIN:VEVENT
DTSTART;TZID=Europe/Copenhagen:20240129T160000
DTEND;TZID=Europe/Copenhagen:20240129T180000
DTSTAMP:20260423T142907
CREATED:20231030T123535Z
LAST-MODIFIED:20241205T141227Z
UID:10039803-1706544000-1706551200@vorescosmos.dk
SUMMARY:Bibliotekscaféen
DESCRIPTION:
URL:https://vorescosmos.dk/begivenhed/bibliotekscafeen-12/2024-01-29/
LOCATION:Tænketanken\, Søndergade 11\, Viby Sj.\, 4130\, Danmark
CATEGORIES:Lokale bookninger
END:VEVENT
BEGIN:VEVENT
DTSTART;TZID=Europe/Copenhagen:20240122T160000
DTEND;TZID=Europe/Copenhagen:20240122T180000
DTSTAMP:20260423T142907
CREATED:20231030T123535Z
LAST-MODIFIED:20241205T141227Z
UID:10039802-1705939200-1705946400@vorescosmos.dk
SUMMARY:Bibliotekscaféen
DESCRIPTION:
URL:https://vorescosmos.dk/begivenhed/bibliotekscafeen-12/2024-01-22/
LOCATION:Tænketanken\, Søndergade 11\, Viby Sj.\, 4130\, Danmark
CATEGORIES:Lokale bookninger
END:VEVENT
BEGIN:VEVENT
DTSTART;TZID=Europe/Copenhagen:20240121T130000
DTEND;TZID=Europe/Copenhagen:20240121T170000
DTSTAMP:20260423T142907
CREATED:20240112T142900Z
LAST-MODIFIED:20240112T142901Z
UID:10042003-1705842000-1705856400@vorescosmos.dk
SUMMARY:Billedcosmos
DESCRIPTION:
URL:https://vorescosmos.dk/begivenhed/billedcosmos-3/
LOCATION:Værkstedet\, Søndergade 11\, Viby Sj.\, 4130\, Danmark
CATEGORIES:Lokale bookninger
END:VEVENT
BEGIN:VEVENT
DTSTART;TZID=Europe/Copenhagen:20240115T160000
DTEND;TZID=Europe/Copenhagen:20240115T180000
DTSTAMP:20260423T142907
CREATED:20231030T123535Z
LAST-MODIFIED:20241205T141227Z
UID:10039801-1705334400-1705341600@vorescosmos.dk
SUMMARY:Bibliotekscaféen
DESCRIPTION:
URL:https://vorescosmos.dk/begivenhed/bibliotekscafeen-12/2024-01-15/
LOCATION:Tænketanken\, Søndergade 11\, Viby Sj.\, 4130\, Danmark
CATEGORIES:Lokale bookninger
END:VEVENT
BEGIN:VEVENT
DTSTART;TZID=Europe/Copenhagen:20240108T160000
DTEND;TZID=Europe/Copenhagen:20240108T180000
DTSTAMP:20260423T142907
CREATED:20231030T123535Z
LAST-MODIFIED:20241205T141227Z
UID:10039800-1704729600-1704736800@vorescosmos.dk
SUMMARY:Bibliotekscaféen
DESCRIPTION:
URL:https://vorescosmos.dk/begivenhed/bibliotekscafeen-12/2024-01-08/
LOCATION:Tænketanken\, Søndergade 11\, Viby Sj.\, 4130\, Danmark
CATEGORIES:Lokale bookninger
END:VEVENT
BEGIN:VEVENT
DTSTART;TZID=Europe/Copenhagen:20240101T160000
DTEND;TZID=Europe/Copenhagen:20240101T180000
DTSTAMP:20260423T142907
CREATED:20231030T123535Z
LAST-MODIFIED:20241205T141227Z
UID:10039799-1704124800-1704132000@vorescosmos.dk
SUMMARY:Bibliotekscaféen
DESCRIPTION:
URL:https://vorescosmos.dk/begivenhed/bibliotekscafeen-12/2024-01-01/
LOCATION:Tænketanken\, Søndergade 11\, Viby Sj.\, 4130\, Danmark
CATEGORIES:Lokale bookninger
END:VEVENT
BEGIN:VEVENT
DTSTART;TZID=Europe/Copenhagen:20231225T160000
DTEND;TZID=Europe/Copenhagen:20231225T180000
DTSTAMP:20260423T142907
CREATED:20231030T123535Z
LAST-MODIFIED:20241205T141227Z
UID:10039798-1703520000-1703527200@vorescosmos.dk
SUMMARY:Bibliotekscaféen
DESCRIPTION:
URL:https://vorescosmos.dk/begivenhed/bibliotekscafeen-12/2023-12-25/
LOCATION:Tænketanken\, Søndergade 11\, Viby Sj.\, 4130\, Danmark
CATEGORIES:Lokale bookninger
END:VEVENT
BEGIN:VEVENT
DTSTART;TZID=Europe/Copenhagen:20231218T160000
DTEND;TZID=Europe/Copenhagen:20231218T180000
DTSTAMP:20260423T142907
CREATED:20231030T123535Z
LAST-MODIFIED:20241205T141227Z
UID:10039797-1702915200-1702922400@vorescosmos.dk
SUMMARY:Bibliotekscaféen
DESCRIPTION:
URL:https://vorescosmos.dk/begivenhed/bibliotekscafeen-12/2023-12-18/
LOCATION:Tænketanken\, Søndergade 11\, Viby Sj.\, 4130\, Danmark
CATEGORIES:Lokale bookninger
END:VEVENT
BEGIN:VEVENT
DTSTART;TZID=Europe/Copenhagen:20231211T160000
DTEND;TZID=Europe/Copenhagen:20231211T180000
DTSTAMP:20260423T142907
CREATED:20231030T123535Z
LAST-MODIFIED:20241205T141227Z
UID:10039796-1702310400-1702317600@vorescosmos.dk
SUMMARY:Bibliotekscaféen
DESCRIPTION:
URL:https://vorescosmos.dk/begivenhed/bibliotekscafeen-12/2023-12-11/
LOCATION:Tænketanken\, Søndergade 11\, Viby Sj.\, 4130\, Danmark
CATEGORIES:Lokale bookninger
END:VEVENT
BEGIN:VEVENT
DTSTART;TZID=Europe/Copenhagen:20231211T123000
DTEND;TZID=Europe/Copenhagen:20231211T160000
DTSTAMP:20260423T142907
CREATED:20231123T165126Z
LAST-MODIFIED:20231123T165126Z
UID:10038728-1702297800-1702310400@vorescosmos.dk
SUMMARY:Biblioteket/hemmelig film
DESCRIPTION:
URL:https://vorescosmos.dk/begivenhed/biblioteket-hemmelig-film-5/
LOCATION:Peder Syv salen\, Søndergade 11\, Viby Sj.\, 4130\, Danmark
CATEGORIES:Lokale bookninger
END:VEVENT
BEGIN:VEVENT
DTSTART;TZID=Europe/Copenhagen:20231207T093000
DTEND;TZID=Europe/Copenhagen:20231207T113000
DTSTAMP:20260423T142907
CREATED:20231123T165113Z
LAST-MODIFIED:20231123T165113Z
UID:10039640-1701941400-1701948600@vorescosmos.dk
SUMMARY:Onsdagsfortællinger
DESCRIPTION:
URL:https://vorescosmos.dk/begivenhed/onsdagsfortaellinger-2/
CATEGORIES:Lokale bookninger
END:VEVENT
BEGIN:VEVENT
DTSTART;TZID=Europe/Copenhagen:20231204T160000
DTEND;TZID=Europe/Copenhagen:20231204T180000
DTSTAMP:20260423T142907
CREATED:20231030T123535Z
LAST-MODIFIED:20241205T141227Z
UID:10039795-1701705600-1701712800@vorescosmos.dk
SUMMARY:Bibliotekscaféen
DESCRIPTION:
URL:https://vorescosmos.dk/begivenhed/bibliotekscafeen-12/2023-12-04/
LOCATION:Tænketanken\, Søndergade 11\, Viby Sj.\, 4130\, Danmark
CATEGORIES:Lokale bookninger
END:VEVENT
BEGIN:VEVENT
DTSTART;TZID=Europe/Copenhagen:20231120T160000
DTEND;TZID=Europe/Copenhagen:20231120T180000
DTSTAMP:20260423T142907
CREATED:20231030T123535Z
LAST-MODIFIED:20241205T141227Z
UID:10039793-1700496000-1700503200@vorescosmos.dk
SUMMARY:Bibliotekscaféen
DESCRIPTION:
URL:https://vorescosmos.dk/begivenhed/bibliotekscafeen-12/2023-11-20/
LOCATION:Tænketanken\, Søndergade 11\, Viby Sj.\, 4130\, Danmark
CATEGORIES:Lokale bookninger
END:VEVENT
BEGIN:VEVENT
DTSTART;TZID=Europe/Copenhagen:20231113T160000
DTEND;TZID=Europe/Copenhagen:20231113T180000
DTSTAMP:20260423T142907
CREATED:20231030T123535Z
LAST-MODIFIED:20241205T141227Z
UID:10039792-1699891200-1699898400@vorescosmos.dk
SUMMARY:Bibliotekscaféen
DESCRIPTION:
URL:https://vorescosmos.dk/begivenhed/bibliotekscafeen-12/2023-11-13/
LOCATION:Tænketanken\, Søndergade 11\, Viby Sj.\, 4130\, Danmark
CATEGORIES:Lokale bookninger
END:VEVENT
END:VCALENDAR