BEGIN:VCALENDAR
VERSION:2.0
PRODID:-//Vores Cosmos - ECPv6.15.20//NONSGML v1.0//EN
CALSCALE:GREGORIAN
METHOD:PUBLISH
X-ORIGINAL-URL:https://vorescosmos.dk
X-WR-CALDESC:Begivenheder for Vores Cosmos
REFRESH-INTERVAL;VALUE=DURATION:PT1H
X-Robots-Tag:noindex
X-PUBLISHED-TTL:PT1H
BEGIN:VTIMEZONE
TZID:Europe/Copenhagen
BEGIN:DAYLIGHT
TZOFFSETFROM:+0100
TZOFFSETTO:+0200
TZNAME:CEST
DTSTART:20220327T010000
END:DAYLIGHT
BEGIN:STANDARD
TZOFFSETFROM:+0200
TZOFFSETTO:+0100
TZNAME:CET
DTSTART:20221030T010000
END:STANDARD
BEGIN:DAYLIGHT
TZOFFSETFROM:+0100
TZOFFSETTO:+0200
TZNAME:CEST
DTSTART:20230326T010000
END:DAYLIGHT
BEGIN:STANDARD
TZOFFSETFROM:+0200
TZOFFSETTO:+0100
TZNAME:CET
DTSTART:20231029T010000
END:STANDARD
BEGIN:DAYLIGHT
TZOFFSETFROM:+0100
TZOFFSETTO:+0200
TZNAME:CEST
DTSTART:20240331T010000
END:DAYLIGHT
BEGIN:STANDARD
TZOFFSETFROM:+0200
TZOFFSETTO:+0100
TZNAME:CET
DTSTART:20241027T010000
END:STANDARD
END:VTIMEZONE
BEGIN:VEVENT
DTSTART;TZID=Europe/Copenhagen:20231106T160000
DTEND;TZID=Europe/Copenhagen:20231106T180000
DTSTAMP:20260423T191305
CREATED:20231030T123535Z
LAST-MODIFIED:20241205T141227Z
UID:10039791-1699286400-1699293600@vorescosmos.dk
SUMMARY:Bibliotekscaféen
DESCRIPTION:
URL:https://vorescosmos.dk/begivenhed/bibliotekscafeen-12/2023-11-06/
LOCATION:Tænketanken\, Søndergade 11\, Viby Sj.\, 4130\, Danmark
CATEGORIES:Lokale bookninger
END:VEVENT
BEGIN:VEVENT
DTSTART;TZID=Europe/Copenhagen:20231030T160000
DTEND;TZID=Europe/Copenhagen:20231030T180000
DTSTAMP:20260423T191305
CREATED:20231030T123208Z
LAST-MODIFIED:20240104T141708Z
UID:10039790-1698681600-1698688800@vorescosmos.dk
SUMMARY:Bibliotekscaféen
DESCRIPTION:
URL:https://vorescosmos.dk/begivenhed/bibliotekscafeen-11/
LOCATION:Medielab\, Søndergade 11\, Viby Sj.\, 4130\, Danmark
CATEGORIES:Lokale bookninger
END:VEVENT
BEGIN:VEVENT
DTSTART;TZID=Europe/Copenhagen:20231018T100000
DTEND;TZID=Europe/Copenhagen:20231018T123000
DTSTAMP:20260423T191305
CREATED:20231003T142733Z
LAST-MODIFIED:20240104T141343Z
UID:10039583-1697623200-1697632200@vorescosmos.dk
SUMMARY:Uhyggelig film\, popcorn og perleplader (fra 1. klasse)
DESCRIPTION:Sammen ser vi en uhyggelig film på vores store lærred og spiser popcorn. Bagefter laver vi uhyggelige perleplader\, der passer til filmen. \n\n\n\nFilmen handler om en ung musiker ved navn Miguel han tager ud på en fantastisk rejse til det magiske land\, hvor hans forfædre bor. I De Dødes Land sprudler der af fest og farver\, som aldrig før er set hos de levende. Men kan Miguel nå tilbage fra De Dødes Land inden solopgang? Hvis ikke er han fanget i De Dødes Land for evigt.Filmen er hemmelig indtil 14 dage før vi skal se filmen. Er du nysgerrig efter at se\, hvilken film vi skal se\, så må du en tur forbi Cosmos og se plakaten der afslører\, hvilken film vi skal se. \n\n\n\nDu skal kun bestille billetter til børn. Voksne behøver ikke billet. \n\n\n\n\n\n\n\n\n\n\n\n\n\n\n\n\nBestil billet
URL:https://vorescosmos.dk/begivenhed/uhyggelig-film-popcorn-og-perleplader-fra-1-klasse-2/
LOCATION:Peder Syv salen\, Søndergade 11\, Viby Sj.\, 4130\, Danmark
CATEGORIES:Lokale bookninger
ATTACH;FMTTYPE=image/jpeg:https://vorescosmos.dk/wp-content/uploads/2023/10/hemmelig_film_0-1-edited.jpg
END:VEVENT
END:VCALENDAR