BEGIN:VCALENDAR
VERSION:2.0
PRODID:-//Vores Cosmos - ECPv6.15.20//NONSGML v1.0//EN
CALSCALE:GREGORIAN
METHOD:PUBLISH
X-ORIGINAL-URL:https://vorescosmos.dk
X-WR-CALDESC:Begivenheder for Vores Cosmos
REFRESH-INTERVAL;VALUE=DURATION:PT1H
X-Robots-Tag:noindex
X-PUBLISHED-TTL:PT1H
BEGIN:VTIMEZONE
TZID:Europe/Copenhagen
BEGIN:DAYLIGHT
TZOFFSETFROM:+0100
TZOFFSETTO:+0200
TZNAME:CEST
DTSTART:20280326T010000
END:DAYLIGHT
BEGIN:STANDARD
TZOFFSETFROM:+0200
TZOFFSETTO:+0100
TZNAME:CET
DTSTART:20281029T010000
END:STANDARD
BEGIN:DAYLIGHT
TZOFFSETFROM:+0100
TZOFFSETTO:+0200
TZNAME:CEST
DTSTART:20290325T010000
END:DAYLIGHT
BEGIN:STANDARD
TZOFFSETFROM:+0200
TZOFFSETTO:+0100
TZNAME:CET
DTSTART:20291028T010000
END:STANDARD
BEGIN:DAYLIGHT
TZOFFSETFROM:+0100
TZOFFSETTO:+0200
TZNAME:CEST
DTSTART:20300331T010000
END:DAYLIGHT
BEGIN:STANDARD
TZOFFSETFROM:+0200
TZOFFSETTO:+0100
TZNAME:CET
DTSTART:20301027T010000
END:STANDARD
BEGIN:DAYLIGHT
TZOFFSETFROM:+0100
TZOFFSETTO:+0200
TZNAME:CEST
DTSTART:20310330T010000
END:DAYLIGHT
BEGIN:STANDARD
TZOFFSETFROM:+0200
TZOFFSETTO:+0100
TZNAME:CET
DTSTART:20311026T010000
END:STANDARD
END:VTIMEZONE
BEGIN:VEVENT
DTSTART;TZID=Europe/Copenhagen:20290723T160000
DTEND;TZID=Europe/Copenhagen:20290723T180000
DTSTAMP:20260423T173302
CREATED:20231030T123535Z
LAST-MODIFIED:20241205T141227Z
UID:10043000-1879516800-1879524000@vorescosmos.dk
SUMMARY:Bibliotekscaféen
DESCRIPTION:
URL:https://vorescosmos.dk/begivenhed/bibliotekscafeen-12/2029-07-23/
LOCATION:Tænketanken\, Søndergade 11\, Viby Sj.\, 4130\, Danmark
CATEGORIES:Lokale bookninger
END:VEVENT
BEGIN:VEVENT
DTSTART;TZID=Europe/Copenhagen:20290730T160000
DTEND;TZID=Europe/Copenhagen:20290730T180000
DTSTAMP:20260423T173302
CREATED:20231030T123535Z
LAST-MODIFIED:20241205T141227Z
UID:10043001-1880121600-1880128800@vorescosmos.dk
SUMMARY:Bibliotekscaféen
DESCRIPTION:
URL:https://vorescosmos.dk/begivenhed/bibliotekscafeen-12/2029-07-30/
LOCATION:Tænketanken\, Søndergade 11\, Viby Sj.\, 4130\, Danmark
CATEGORIES:Lokale bookninger
END:VEVENT
BEGIN:VEVENT
DTSTART;TZID=Europe/Copenhagen:20290806T160000
DTEND;TZID=Europe/Copenhagen:20290806T180000
DTSTAMP:20260423T173302
CREATED:20231030T123535Z
LAST-MODIFIED:20241205T141227Z
UID:10043002-1880726400-1880733600@vorescosmos.dk
SUMMARY:Bibliotekscaféen
DESCRIPTION:
URL:https://vorescosmos.dk/begivenhed/bibliotekscafeen-12/2029-08-06/
LOCATION:Tænketanken\, Søndergade 11\, Viby Sj.\, 4130\, Danmark
CATEGORIES:Lokale bookninger
END:VEVENT
BEGIN:VEVENT
DTSTART;TZID=Europe/Copenhagen:20290813T160000
DTEND;TZID=Europe/Copenhagen:20290813T180000
DTSTAMP:20260423T173302
CREATED:20231030T123535Z
LAST-MODIFIED:20241205T141227Z
UID:10043003-1881331200-1881338400@vorescosmos.dk
SUMMARY:Bibliotekscaféen
DESCRIPTION:
URL:https://vorescosmos.dk/begivenhed/bibliotekscafeen-12/2029-08-13/
LOCATION:Tænketanken\, Søndergade 11\, Viby Sj.\, 4130\, Danmark
CATEGORIES:Lokale bookninger
END:VEVENT
BEGIN:VEVENT
DTSTART;TZID=Europe/Copenhagen:20290820T160000
DTEND;TZID=Europe/Copenhagen:20290820T180000
DTSTAMP:20260423T173302
CREATED:20231030T123535Z
LAST-MODIFIED:20241205T141227Z
UID:10043004-1881936000-1881943200@vorescosmos.dk
SUMMARY:Bibliotekscaféen
DESCRIPTION:
URL:https://vorescosmos.dk/begivenhed/bibliotekscafeen-12/2029-08-20/
LOCATION:Tænketanken\, Søndergade 11\, Viby Sj.\, 4130\, Danmark
CATEGORIES:Lokale bookninger
END:VEVENT
BEGIN:VEVENT
DTSTART;TZID=Europe/Copenhagen:20290827T160000
DTEND;TZID=Europe/Copenhagen:20290827T180000
DTSTAMP:20260423T173302
CREATED:20231030T123535Z
LAST-MODIFIED:20241205T141227Z
UID:10043005-1882540800-1882548000@vorescosmos.dk
SUMMARY:Bibliotekscaféen
DESCRIPTION:
URL:https://vorescosmos.dk/begivenhed/bibliotekscafeen-12/2029-08-27/
LOCATION:Tænketanken\, Søndergade 11\, Viby Sj.\, 4130\, Danmark
CATEGORIES:Lokale bookninger
END:VEVENT
BEGIN:VEVENT
DTSTART;TZID=Europe/Copenhagen:20290903T160000
DTEND;TZID=Europe/Copenhagen:20290903T180000
DTSTAMP:20260423T173302
CREATED:20231030T123535Z
LAST-MODIFIED:20241205T141227Z
UID:10043006-1883145600-1883152800@vorescosmos.dk
SUMMARY:Bibliotekscaféen
DESCRIPTION:
URL:https://vorescosmos.dk/begivenhed/bibliotekscafeen-12/2029-09-03/
LOCATION:Tænketanken\, Søndergade 11\, Viby Sj.\, 4130\, Danmark
CATEGORIES:Lokale bookninger
END:VEVENT
BEGIN:VEVENT
DTSTART;TZID=Europe/Copenhagen:20290910T160000
DTEND;TZID=Europe/Copenhagen:20290910T180000
DTSTAMP:20260423T173302
CREATED:20231030T123535Z
LAST-MODIFIED:20241205T141227Z
UID:10043007-1883750400-1883757600@vorescosmos.dk
SUMMARY:Bibliotekscaféen
DESCRIPTION:
URL:https://vorescosmos.dk/begivenhed/bibliotekscafeen-12/2029-09-10/
LOCATION:Tænketanken\, Søndergade 11\, Viby Sj.\, 4130\, Danmark
CATEGORIES:Lokale bookninger
END:VEVENT
BEGIN:VEVENT
DTSTART;TZID=Europe/Copenhagen:20290917T160000
DTEND;TZID=Europe/Copenhagen:20290917T180000
DTSTAMP:20260423T173302
CREATED:20231030T123535Z
LAST-MODIFIED:20241205T141227Z
UID:10043008-1884355200-1884362400@vorescosmos.dk
SUMMARY:Bibliotekscaféen
DESCRIPTION:
URL:https://vorescosmos.dk/begivenhed/bibliotekscafeen-12/2029-09-17/
LOCATION:Tænketanken\, Søndergade 11\, Viby Sj.\, 4130\, Danmark
CATEGORIES:Lokale bookninger
END:VEVENT
BEGIN:VEVENT
DTSTART;TZID=Europe/Copenhagen:20290924T160000
DTEND;TZID=Europe/Copenhagen:20290924T180000
DTSTAMP:20260423T173302
CREATED:20231030T123535Z
LAST-MODIFIED:20241205T141227Z
UID:10043009-1884960000-1884967200@vorescosmos.dk
SUMMARY:Bibliotekscaféen
DESCRIPTION:
URL:https://vorescosmos.dk/begivenhed/bibliotekscafeen-12/2029-09-24/
LOCATION:Tænketanken\, Søndergade 11\, Viby Sj.\, 4130\, Danmark
CATEGORIES:Lokale bookninger
END:VEVENT
BEGIN:VEVENT
DTSTART;TZID=Europe/Copenhagen:20291001T160000
DTEND;TZID=Europe/Copenhagen:20291001T180000
DTSTAMP:20260423T173302
CREATED:20231030T123535Z
LAST-MODIFIED:20241205T141227Z
UID:10043010-1885564800-1885572000@vorescosmos.dk
SUMMARY:Bibliotekscaféen
DESCRIPTION:
URL:https://vorescosmos.dk/begivenhed/bibliotekscafeen-12/2029-10-01/
LOCATION:Tænketanken\, Søndergade 11\, Viby Sj.\, 4130\, Danmark
CATEGORIES:Lokale bookninger
END:VEVENT
BEGIN:VEVENT
DTSTART;TZID=Europe/Copenhagen:20291008T160000
DTEND;TZID=Europe/Copenhagen:20291008T180000
DTSTAMP:20260423T173302
CREATED:20231030T123535Z
LAST-MODIFIED:20241205T141227Z
UID:10043011-1886169600-1886176800@vorescosmos.dk
SUMMARY:Bibliotekscaféen
DESCRIPTION:
URL:https://vorescosmos.dk/begivenhed/bibliotekscafeen-12/2029-10-08/
LOCATION:Tænketanken\, Søndergade 11\, Viby Sj.\, 4130\, Danmark
CATEGORIES:Lokale bookninger
END:VEVENT
BEGIN:VEVENT
DTSTART;TZID=Europe/Copenhagen:20291015T160000
DTEND;TZID=Europe/Copenhagen:20291015T180000
DTSTAMP:20260423T173302
CREATED:20231030T123535Z
LAST-MODIFIED:20241205T141227Z
UID:10043012-1886774400-1886781600@vorescosmos.dk
SUMMARY:Bibliotekscaféen
DESCRIPTION:
URL:https://vorescosmos.dk/begivenhed/bibliotekscafeen-12/2029-10-15/
LOCATION:Tænketanken\, Søndergade 11\, Viby Sj.\, 4130\, Danmark
CATEGORIES:Lokale bookninger
END:VEVENT
BEGIN:VEVENT
DTSTART;TZID=Europe/Copenhagen:20291022T160000
DTEND;TZID=Europe/Copenhagen:20291022T180000
DTSTAMP:20260423T173302
CREATED:20231030T123535Z
LAST-MODIFIED:20241205T141227Z
UID:10043013-1887379200-1887386400@vorescosmos.dk
SUMMARY:Bibliotekscaféen
DESCRIPTION:
URL:https://vorescosmos.dk/begivenhed/bibliotekscafeen-12/2029-10-22/
LOCATION:Tænketanken\, Søndergade 11\, Viby Sj.\, 4130\, Danmark
CATEGORIES:Lokale bookninger
END:VEVENT
BEGIN:VEVENT
DTSTART;TZID=Europe/Copenhagen:20291029T160000
DTEND;TZID=Europe/Copenhagen:20291029T180000
DTSTAMP:20260423T173302
CREATED:20231030T123535Z
LAST-MODIFIED:20241205T141227Z
UID:10043014-1887984000-1887991200@vorescosmos.dk
SUMMARY:Bibliotekscaféen
DESCRIPTION:
URL:https://vorescosmos.dk/begivenhed/bibliotekscafeen-12/2029-10-29/
LOCATION:Tænketanken\, Søndergade 11\, Viby Sj.\, 4130\, Danmark
CATEGORIES:Lokale bookninger
END:VEVENT
BEGIN:VEVENT
DTSTART;TZID=Europe/Copenhagen:20291105T160000
DTEND;TZID=Europe/Copenhagen:20291105T180000
DTSTAMP:20260423T173302
CREATED:20231030T123535Z
LAST-MODIFIED:20241205T141227Z
UID:10043015-1888588800-1888596000@vorescosmos.dk
SUMMARY:Bibliotekscaféen
DESCRIPTION:
URL:https://vorescosmos.dk/begivenhed/bibliotekscafeen-12/2029-11-05/
LOCATION:Tænketanken\, Søndergade 11\, Viby Sj.\, 4130\, Danmark
CATEGORIES:Lokale bookninger
END:VEVENT
BEGIN:VEVENT
DTSTART;TZID=Europe/Copenhagen:20291112T160000
DTEND;TZID=Europe/Copenhagen:20291112T180000
DTSTAMP:20260423T173302
CREATED:20231030T123535Z
LAST-MODIFIED:20241205T141227Z
UID:10043016-1889193600-1889200800@vorescosmos.dk
SUMMARY:Bibliotekscaféen
DESCRIPTION:
URL:https://vorescosmos.dk/begivenhed/bibliotekscafeen-12/2029-11-12/
LOCATION:Tænketanken\, Søndergade 11\, Viby Sj.\, 4130\, Danmark
CATEGORIES:Lokale bookninger
END:VEVENT
BEGIN:VEVENT
DTSTART;TZID=Europe/Copenhagen:20291119T160000
DTEND;TZID=Europe/Copenhagen:20291119T180000
DTSTAMP:20260423T173302
CREATED:20231030T123535Z
LAST-MODIFIED:20241205T141227Z
UID:10043017-1889798400-1889805600@vorescosmos.dk
SUMMARY:Bibliotekscaféen
DESCRIPTION:
URL:https://vorescosmos.dk/begivenhed/bibliotekscafeen-12/2029-11-19/
LOCATION:Tænketanken\, Søndergade 11\, Viby Sj.\, 4130\, Danmark
CATEGORIES:Lokale bookninger
END:VEVENT
BEGIN:VEVENT
DTSTART;TZID=Europe/Copenhagen:20291126T160000
DTEND;TZID=Europe/Copenhagen:20291126T180000
DTSTAMP:20260423T173302
CREATED:20231030T123535Z
LAST-MODIFIED:20241205T141227Z
UID:10043018-1890403200-1890410400@vorescosmos.dk
SUMMARY:Bibliotekscaféen
DESCRIPTION:
URL:https://vorescosmos.dk/begivenhed/bibliotekscafeen-12/2029-11-26/
LOCATION:Tænketanken\, Søndergade 11\, Viby Sj.\, 4130\, Danmark
CATEGORIES:Lokale bookninger
END:VEVENT
BEGIN:VEVENT
DTSTART;TZID=Europe/Copenhagen:20291203T160000
DTEND;TZID=Europe/Copenhagen:20291203T180000
DTSTAMP:20260423T173302
CREATED:20231030T123535Z
LAST-MODIFIED:20241205T141227Z
UID:10043019-1891008000-1891015200@vorescosmos.dk
SUMMARY:Bibliotekscaféen
DESCRIPTION:
URL:https://vorescosmos.dk/begivenhed/bibliotekscafeen-12/2029-12-03/
LOCATION:Tænketanken\, Søndergade 11\, Viby Sj.\, 4130\, Danmark
CATEGORIES:Lokale bookninger
END:VEVENT
BEGIN:VEVENT
DTSTART;TZID=Europe/Copenhagen:20291210T160000
DTEND;TZID=Europe/Copenhagen:20291210T180000
DTSTAMP:20260423T173302
CREATED:20231030T123535Z
LAST-MODIFIED:20241205T141227Z
UID:10045778-1891612800-1891620000@vorescosmos.dk
SUMMARY:Bibliotekscaféen
DESCRIPTION:
URL:https://vorescosmos.dk/begivenhed/bibliotekscafeen-12/2029-12-10/
LOCATION:Tænketanken\, Søndergade 11\, Viby Sj.\, 4130\, Danmark
CATEGORIES:Lokale bookninger
END:VEVENT
BEGIN:VEVENT
DTSTART;TZID=Europe/Copenhagen:20291217T160000
DTEND;TZID=Europe/Copenhagen:20291217T180000
DTSTAMP:20260423T173302
CREATED:20231030T123535Z
LAST-MODIFIED:20241205T141227Z
UID:10045779-1892217600-1892224800@vorescosmos.dk
SUMMARY:Bibliotekscaféen
DESCRIPTION:
URL:https://vorescosmos.dk/begivenhed/bibliotekscafeen-12/2029-12-17/
LOCATION:Tænketanken\, Søndergade 11\, Viby Sj.\, 4130\, Danmark
CATEGORIES:Lokale bookninger
END:VEVENT
BEGIN:VEVENT
DTSTART;TZID=Europe/Copenhagen:20291224T160000
DTEND;TZID=Europe/Copenhagen:20291224T180000
DTSTAMP:20260423T173302
CREATED:20231030T123535Z
LAST-MODIFIED:20241205T141227Z
UID:10045780-1892822400-1892829600@vorescosmos.dk
SUMMARY:Bibliotekscaféen
DESCRIPTION:
URL:https://vorescosmos.dk/begivenhed/bibliotekscafeen-12/2029-12-24/
LOCATION:Tænketanken\, Søndergade 11\, Viby Sj.\, 4130\, Danmark
CATEGORIES:Lokale bookninger
END:VEVENT
BEGIN:VEVENT
DTSTART;TZID=Europe/Copenhagen:20291231T160000
DTEND;TZID=Europe/Copenhagen:20291231T180000
DTSTAMP:20260423T173302
CREATED:20231030T123535Z
LAST-MODIFIED:20241205T141227Z
UID:10045781-1893427200-1893434400@vorescosmos.dk
SUMMARY:Bibliotekscaféen
DESCRIPTION:
URL:https://vorescosmos.dk/begivenhed/bibliotekscafeen-12/2029-12-31/
LOCATION:Tænketanken\, Søndergade 11\, Viby Sj.\, 4130\, Danmark
CATEGORIES:Lokale bookninger
END:VEVENT
BEGIN:VEVENT
DTSTART;TZID=Europe/Copenhagen:20300107T160000
DTEND;TZID=Europe/Copenhagen:20300107T180000
DTSTAMP:20260423T173302
CREATED:20231030T123535Z
LAST-MODIFIED:20241205T141227Z
UID:10045782-1894032000-1894039200@vorescosmos.dk
SUMMARY:Bibliotekscaféen
DESCRIPTION:
URL:https://vorescosmos.dk/begivenhed/bibliotekscafeen-12/2030-01-07/
LOCATION:Tænketanken\, Søndergade 11\, Viby Sj.\, 4130\, Danmark
CATEGORIES:Lokale bookninger
END:VEVENT
BEGIN:VEVENT
DTSTART;TZID=Europe/Copenhagen:20300114T160000
DTEND;TZID=Europe/Copenhagen:20300114T180000
DTSTAMP:20260423T173302
CREATED:20231030T123535Z
LAST-MODIFIED:20241205T141227Z
UID:10045783-1894636800-1894644000@vorescosmos.dk
SUMMARY:Bibliotekscaféen
DESCRIPTION:
URL:https://vorescosmos.dk/begivenhed/bibliotekscafeen-12/2030-01-14/
LOCATION:Tænketanken\, Søndergade 11\, Viby Sj.\, 4130\, Danmark
CATEGORIES:Lokale bookninger
END:VEVENT
BEGIN:VEVENT
DTSTART;TZID=Europe/Copenhagen:20300121T160000
DTEND;TZID=Europe/Copenhagen:20300121T180000
DTSTAMP:20260423T173302
CREATED:20231030T123535Z
LAST-MODIFIED:20241205T141227Z
UID:10045784-1895241600-1895248800@vorescosmos.dk
SUMMARY:Bibliotekscaféen
DESCRIPTION:
URL:https://vorescosmos.dk/begivenhed/bibliotekscafeen-12/2030-01-21/
LOCATION:Tænketanken\, Søndergade 11\, Viby Sj.\, 4130\, Danmark
CATEGORIES:Lokale bookninger
END:VEVENT
BEGIN:VEVENT
DTSTART;TZID=Europe/Copenhagen:20300128T160000
DTEND;TZID=Europe/Copenhagen:20300128T180000
DTSTAMP:20260423T173302
CREATED:20231030T123535Z
LAST-MODIFIED:20241205T141227Z
UID:10045785-1895846400-1895853600@vorescosmos.dk
SUMMARY:Bibliotekscaféen
DESCRIPTION:
URL:https://vorescosmos.dk/begivenhed/bibliotekscafeen-12/2030-01-28/
LOCATION:Tænketanken\, Søndergade 11\, Viby Sj.\, 4130\, Danmark
CATEGORIES:Lokale bookninger
END:VEVENT
BEGIN:VEVENT
DTSTART;TZID=Europe/Copenhagen:20300204T160000
DTEND;TZID=Europe/Copenhagen:20300204T180000
DTSTAMP:20260423T173302
CREATED:20231030T123535Z
LAST-MODIFIED:20241205T141227Z
UID:10045786-1896451200-1896458400@vorescosmos.dk
SUMMARY:Bibliotekscaféen
DESCRIPTION:
URL:https://vorescosmos.dk/begivenhed/bibliotekscafeen-12/2030-02-04/
LOCATION:Tænketanken\, Søndergade 11\, Viby Sj.\, 4130\, Danmark
CATEGORIES:Lokale bookninger
END:VEVENT
BEGIN:VEVENT
DTSTART;TZID=Europe/Copenhagen:20300211T160000
DTEND;TZID=Europe/Copenhagen:20300211T180000
DTSTAMP:20260423T173302
CREATED:20231030T123535Z
LAST-MODIFIED:20241205T141227Z
UID:10045787-1897056000-1897063200@vorescosmos.dk
SUMMARY:Bibliotekscaféen
DESCRIPTION:
URL:https://vorescosmos.dk/begivenhed/bibliotekscafeen-12/2030-02-11/
LOCATION:Tænketanken\, Søndergade 11\, Viby Sj.\, 4130\, Danmark
CATEGORIES:Lokale bookninger
END:VEVENT
END:VCALENDAR