BEGIN:VCALENDAR
VERSION:2.0
PRODID:-//Vores Cosmos - ECPv6.15.20//NONSGML v1.0//EN
CALSCALE:GREGORIAN
METHOD:PUBLISH
X-WR-CALNAME:Vores Cosmos
X-ORIGINAL-URL:https://vorescosmos.dk
X-WR-CALDESC:Begivenheder for Vores Cosmos
REFRESH-INTERVAL;VALUE=DURATION:PT1H
X-Robots-Tag:noindex
X-PUBLISHED-TTL:PT1H
BEGIN:VTIMEZONE
TZID:Europe/Copenhagen
BEGIN:DAYLIGHT
TZOFFSETFROM:+0100
TZOFFSETTO:+0200
TZNAME:CEST
DTSTART:20240331T010000
END:DAYLIGHT
BEGIN:STANDARD
TZOFFSETFROM:+0200
TZOFFSETTO:+0100
TZNAME:CET
DTSTART:20241027T010000
END:STANDARD
BEGIN:DAYLIGHT
TZOFFSETFROM:+0100
TZOFFSETTO:+0200
TZNAME:CEST
DTSTART:20250330T010000
END:DAYLIGHT
BEGIN:STANDARD
TZOFFSETFROM:+0200
TZOFFSETTO:+0100
TZNAME:CET
DTSTART:20251026T010000
END:STANDARD
BEGIN:DAYLIGHT
TZOFFSETFROM:+0100
TZOFFSETTO:+0200
TZNAME:CEST
DTSTART:20260329T010000
END:DAYLIGHT
BEGIN:STANDARD
TZOFFSETFROM:+0200
TZOFFSETTO:+0100
TZNAME:CET
DTSTART:20261025T010000
END:STANDARD
END:VTIMEZONE
BEGIN:VEVENT
DTSTART;TZID=Europe/Copenhagen:20250922T160000
DTEND;TZID=Europe/Copenhagen:20250922T180000
DTSTAMP:20260422T224628
CREATED:20231030T123535Z
LAST-MODIFIED:20241205T141227Z
UID:10039889-1758556800-1758564000@vorescosmos.dk
SUMMARY:Bibliotekscaféen
DESCRIPTION:
URL:https://vorescosmos.dk/begivenhed/bibliotekscafeen-12/2025-09-22/
LOCATION:Tænketanken\, Søndergade 11\, Viby Sj.\, 4130\, Danmark
CATEGORIES:Lokale bookninger
END:VEVENT
BEGIN:VEVENT
DTSTART;TZID=Europe/Copenhagen:20250915T160000
DTEND;TZID=Europe/Copenhagen:20250915T180000
DTSTAMP:20260422T224628
CREATED:20231030T123535Z
LAST-MODIFIED:20241205T141227Z
UID:10039888-1757952000-1757959200@vorescosmos.dk
SUMMARY:Bibliotekscaféen
DESCRIPTION:
URL:https://vorescosmos.dk/begivenhed/bibliotekscafeen-12/2025-09-15/
LOCATION:Tænketanken\, Søndergade 11\, Viby Sj.\, 4130\, Danmark
CATEGORIES:Lokale bookninger
END:VEVENT
BEGIN:VEVENT
DTSTART;TZID=Europe/Copenhagen:20250910T093000
DTEND;TZID=Europe/Copenhagen:20250910T113000
DTSTAMP:20260422T224628
CREATED:20250314T112811Z
LAST-MODIFIED:20250314T112811Z
UID:10043485-1757496600-1757503800@vorescosmos.dk
SUMMARY:Biblioteket
DESCRIPTION:
URL:https://vorescosmos.dk/begivenhed/biblioteket-41/
LOCATION:Peder Syv salen\, Søndergade 11\, Viby Sj.\, 4130\, Danmark
CATEGORIES:Lokale bookninger
END:VEVENT
BEGIN:VEVENT
DTSTART;TZID=Europe/Copenhagen:20250909T090000
DTEND;TZID=Europe/Copenhagen:20250909T120000
DTSTAMP:20260422T224628
CREATED:20250527T121901Z
LAST-MODIFIED:20250527T121902Z
UID:10045662-1757408400-1757419200@vorescosmos.dk
SUMMARY:Biblioteket
DESCRIPTION:
URL:https://vorescosmos.dk/begivenhed/biblioteket-56/
LOCATION:Peder Syv salen\, Søndergade 11\, Viby Sj.\, 4130\, Danmark
CATEGORIES:Lokale bookninger
END:VEVENT
BEGIN:VEVENT
DTSTART;TZID=Europe/Copenhagen:20250908T160000
DTEND;TZID=Europe/Copenhagen:20250908T180000
DTSTAMP:20260422T224628
CREATED:20231030T123535Z
LAST-MODIFIED:20241205T141227Z
UID:10039887-1757347200-1757354400@vorescosmos.dk
SUMMARY:Bibliotekscaféen
DESCRIPTION:
URL:https://vorescosmos.dk/begivenhed/bibliotekscafeen-12/2025-09-08/
LOCATION:Tænketanken\, Søndergade 11\, Viby Sj.\, 4130\, Danmark
CATEGORIES:Lokale bookninger
END:VEVENT
BEGIN:VEVENT
DTSTART;TZID=Europe/Copenhagen:20250901T160000
DTEND;TZID=Europe/Copenhagen:20250901T180000
DTSTAMP:20260422T224628
CREATED:20231030T123535Z
LAST-MODIFIED:20241205T141227Z
UID:10039886-1756742400-1756749600@vorescosmos.dk
SUMMARY:Bibliotekscaféen
DESCRIPTION:
URL:https://vorescosmos.dk/begivenhed/bibliotekscafeen-12/2025-09-01/
LOCATION:Tænketanken\, Søndergade 11\, Viby Sj.\, 4130\, Danmark
CATEGORIES:Lokale bookninger
END:VEVENT
BEGIN:VEVENT
DTSTART;TZID=Europe/Copenhagen:20250825T160000
DTEND;TZID=Europe/Copenhagen:20250825T180000
DTSTAMP:20260422T224628
CREATED:20231030T123535Z
LAST-MODIFIED:20241205T141227Z
UID:10039885-1756137600-1756144800@vorescosmos.dk
SUMMARY:Bibliotekscaféen
DESCRIPTION:
URL:https://vorescosmos.dk/begivenhed/bibliotekscafeen-12/2025-08-25/
LOCATION:Tænketanken\, Søndergade 11\, Viby Sj.\, 4130\, Danmark
CATEGORIES:Lokale bookninger
END:VEVENT
BEGIN:VEVENT
DTSTART;TZID=Europe/Copenhagen:20250818T160000
DTEND;TZID=Europe/Copenhagen:20250818T180000
DTSTAMP:20260422T224628
CREATED:20231030T123535Z
LAST-MODIFIED:20241205T141227Z
UID:10039884-1755532800-1755540000@vorescosmos.dk
SUMMARY:Bibliotekscaféen
DESCRIPTION:
URL:https://vorescosmos.dk/begivenhed/bibliotekscafeen-12/2025-08-18/
LOCATION:Tænketanken\, Søndergade 11\, Viby Sj.\, 4130\, Danmark
CATEGORIES:Lokale bookninger
END:VEVENT
BEGIN:VEVENT
DTSTART;TZID=Europe/Copenhagen:20250811T160000
DTEND;TZID=Europe/Copenhagen:20250811T180000
DTSTAMP:20260422T224628
CREATED:20231030T123535Z
LAST-MODIFIED:20241205T141227Z
UID:10039883-1754928000-1754935200@vorescosmos.dk
SUMMARY:Bibliotekscaféen
DESCRIPTION:
URL:https://vorescosmos.dk/begivenhed/bibliotekscafeen-12/2025-08-11/
LOCATION:Tænketanken\, Søndergade 11\, Viby Sj.\, 4130\, Danmark
CATEGORIES:Lokale bookninger
END:VEVENT
BEGIN:VEVENT
DTSTART;TZID=Europe/Copenhagen:20250804T160000
DTEND;TZID=Europe/Copenhagen:20250804T180000
DTSTAMP:20260422T224628
CREATED:20231030T123535Z
LAST-MODIFIED:20241205T141227Z
UID:10039882-1754323200-1754330400@vorescosmos.dk
SUMMARY:Bibliotekscaféen
DESCRIPTION:
URL:https://vorescosmos.dk/begivenhed/bibliotekscafeen-12/2025-08-04/
LOCATION:Tænketanken\, Søndergade 11\, Viby Sj.\, 4130\, Danmark
CATEGORIES:Lokale bookninger
END:VEVENT
BEGIN:VEVENT
DTSTART;TZID=Europe/Copenhagen:20250728T160000
DTEND;TZID=Europe/Copenhagen:20250728T180000
DTSTAMP:20260422T224628
CREATED:20231030T123535Z
LAST-MODIFIED:20241205T141227Z
UID:10039881-1753718400-1753725600@vorescosmos.dk
SUMMARY:Bibliotekscaféen
DESCRIPTION:
URL:https://vorescosmos.dk/begivenhed/bibliotekscafeen-12/2025-07-28/
LOCATION:Tænketanken\, Søndergade 11\, Viby Sj.\, 4130\, Danmark
CATEGORIES:Lokale bookninger
END:VEVENT
BEGIN:VEVENT
DTSTART;TZID=Europe/Copenhagen:20250721T160000
DTEND;TZID=Europe/Copenhagen:20250721T180000
DTSTAMP:20260422T224628
CREATED:20231030T123535Z
LAST-MODIFIED:20241205T141227Z
UID:10039880-1753113600-1753120800@vorescosmos.dk
SUMMARY:Bibliotekscaféen
DESCRIPTION:
URL:https://vorescosmos.dk/begivenhed/bibliotekscafeen-12/2025-07-21/
LOCATION:Tænketanken\, Søndergade 11\, Viby Sj.\, 4130\, Danmark
CATEGORIES:Lokale bookninger
END:VEVENT
BEGIN:VEVENT
DTSTART;TZID=Europe/Copenhagen:20250714T160000
DTEND;TZID=Europe/Copenhagen:20250714T180000
DTSTAMP:20260422T224628
CREATED:20231030T123535Z
LAST-MODIFIED:20241205T141227Z
UID:10039879-1752508800-1752516000@vorescosmos.dk
SUMMARY:Bibliotekscaféen
DESCRIPTION:
URL:https://vorescosmos.dk/begivenhed/bibliotekscafeen-12/2025-07-14/
LOCATION:Tænketanken\, Søndergade 11\, Viby Sj.\, 4130\, Danmark
CATEGORIES:Lokale bookninger
END:VEVENT
BEGIN:VEVENT
DTSTART;TZID=Europe/Copenhagen:20250707T160000
DTEND;TZID=Europe/Copenhagen:20250707T180000
DTSTAMP:20260422T224628
CREATED:20231030T123535Z
LAST-MODIFIED:20241205T141227Z
UID:10039878-1751904000-1751911200@vorescosmos.dk
SUMMARY:Bibliotekscaféen
DESCRIPTION:
URL:https://vorescosmos.dk/begivenhed/bibliotekscafeen-12/2025-07-07/
LOCATION:Tænketanken\, Søndergade 11\, Viby Sj.\, 4130\, Danmark
CATEGORIES:Lokale bookninger
END:VEVENT
BEGIN:VEVENT
DTSTART;TZID=Europe/Copenhagen:20250630T160000
DTEND;TZID=Europe/Copenhagen:20250630T180000
DTSTAMP:20260422T224628
CREATED:20231030T123535Z
LAST-MODIFIED:20241205T141227Z
UID:10039877-1751299200-1751306400@vorescosmos.dk
SUMMARY:Bibliotekscaféen
DESCRIPTION:
URL:https://vorescosmos.dk/begivenhed/bibliotekscafeen-12/2025-06-30/
LOCATION:Tænketanken\, Søndergade 11\, Viby Sj.\, 4130\, Danmark
CATEGORIES:Lokale bookninger
END:VEVENT
BEGIN:VEVENT
DTSTART;TZID=Europe/Copenhagen:20250623T150000
DTEND;TZID=Europe/Copenhagen:20250623T170000
DTSTAMP:20260422T224628
CREATED:20250617T092125Z
LAST-MODIFIED:20250617T092236Z
UID:10039876-1750690800-1750698000@vorescosmos.dk
SUMMARY:Bibliotekscaféen
DESCRIPTION:
URL:https://vorescosmos.dk/begivenhed/bibliotekscafeen-3/
LOCATION:Tænketanken\, Søndergade 11\, Viby Sj.\, 4130\, Danmark
CATEGORIES:Lokale bookninger
END:VEVENT
BEGIN:VEVENT
DTSTART;TZID=Europe/Copenhagen:20250616T160000
DTEND;TZID=Europe/Copenhagen:20250616T180000
DTSTAMP:20260422T224628
CREATED:20231030T123535Z
LAST-MODIFIED:20241205T141227Z
UID:10039875-1750089600-1750096800@vorescosmos.dk
SUMMARY:Bibliotekscaféen
DESCRIPTION:
URL:https://vorescosmos.dk/begivenhed/bibliotekscafeen-12/2025-06-16/
LOCATION:Tænketanken\, Søndergade 11\, Viby Sj.\, 4130\, Danmark
CATEGORIES:Lokale bookninger
END:VEVENT
BEGIN:VEVENT
DTSTART;TZID=Europe/Copenhagen:20250609T160000
DTEND;TZID=Europe/Copenhagen:20250609T180000
DTSTAMP:20260422T224628
CREATED:20231030T123535Z
LAST-MODIFIED:20241205T141227Z
UID:10039874-1749484800-1749492000@vorescosmos.dk
SUMMARY:Bibliotekscaféen
DESCRIPTION:
URL:https://vorescosmos.dk/begivenhed/bibliotekscafeen-12/2025-06-09/
LOCATION:Tænketanken\, Søndergade 11\, Viby Sj.\, 4130\, Danmark
CATEGORIES:Lokale bookninger
END:VEVENT
BEGIN:VEVENT
DTSTART;TZID=Europe/Copenhagen:20250602T160000
DTEND;TZID=Europe/Copenhagen:20250602T180000
DTSTAMP:20260422T224628
CREATED:20231030T123535Z
LAST-MODIFIED:20241205T141227Z
UID:10039873-1748880000-1748887200@vorescosmos.dk
SUMMARY:Bibliotekscaféen
DESCRIPTION:
URL:https://vorescosmos.dk/begivenhed/bibliotekscafeen-12/2025-06-02/
LOCATION:Tænketanken\, Søndergade 11\, Viby Sj.\, 4130\, Danmark
CATEGORIES:Lokale bookninger
END:VEVENT
BEGIN:VEVENT
DTSTART;TZID=Europe/Copenhagen:20250526T160000
DTEND;TZID=Europe/Copenhagen:20250526T180000
DTSTAMP:20260422T224628
CREATED:20231030T123535Z
LAST-MODIFIED:20241205T141227Z
UID:10039872-1748275200-1748282400@vorescosmos.dk
SUMMARY:Bibliotekscaféen
DESCRIPTION:
URL:https://vorescosmos.dk/begivenhed/bibliotekscafeen-12/2025-05-26/
LOCATION:Tænketanken\, Søndergade 11\, Viby Sj.\, 4130\, Danmark
CATEGORIES:Lokale bookninger
END:VEVENT
BEGIN:VEVENT
DTSTART;TZID=Europe/Copenhagen:20250519T160000
DTEND;TZID=Europe/Copenhagen:20250519T180000
DTSTAMP:20260422T224628
CREATED:20231030T123535Z
LAST-MODIFIED:20241205T141227Z
UID:10039871-1747670400-1747677600@vorescosmos.dk
SUMMARY:Bibliotekscaféen
DESCRIPTION:
URL:https://vorescosmos.dk/begivenhed/bibliotekscafeen-12/2025-05-19/
LOCATION:Tænketanken\, Søndergade 11\, Viby Sj.\, 4130\, Danmark
CATEGORIES:Lokale bookninger
END:VEVENT
BEGIN:VEVENT
DTSTART;TZID=Europe/Copenhagen:20250512T160000
DTEND;TZID=Europe/Copenhagen:20250512T180000
DTSTAMP:20260422T224628
CREATED:20231030T123535Z
LAST-MODIFIED:20241205T141227Z
UID:10039870-1747065600-1747072800@vorescosmos.dk
SUMMARY:Bibliotekscaféen
DESCRIPTION:
URL:https://vorescosmos.dk/begivenhed/bibliotekscafeen-12/2025-05-12/
LOCATION:Tænketanken\, Søndergade 11\, Viby Sj.\, 4130\, Danmark
CATEGORIES:Lokale bookninger
END:VEVENT
BEGIN:VEVENT
DTSTART;TZID=Europe/Copenhagen:20250506T160000
DTEND;TZID=Europe/Copenhagen:20250506T220000
DTSTAMP:20260422T224628
CREATED:20250113T125856Z
LAST-MODIFIED:20250113T125857Z
UID:10043375-1746547200-1746568800@vorescosmos.dk
SUMMARY:Biblioteket
DESCRIPTION:
URL:https://vorescosmos.dk/begivenhed/biblioteket-39/
LOCATION:Peder Syv salen\, Søndergade 11\, Viby Sj.\, 4130\, Danmark
CATEGORIES:Lokale bookninger
END:VEVENT
BEGIN:VEVENT
DTSTART;TZID=Europe/Copenhagen:20250505T160000
DTEND;TZID=Europe/Copenhagen:20250505T180000
DTSTAMP:20260422T224628
CREATED:20231030T123535Z
LAST-MODIFIED:20241205T141227Z
UID:10039869-1746460800-1746468000@vorescosmos.dk
SUMMARY:Bibliotekscaféen
DESCRIPTION:
URL:https://vorescosmos.dk/begivenhed/bibliotekscafeen-12/2025-05-05/
LOCATION:Tænketanken\, Søndergade 11\, Viby Sj.\, 4130\, Danmark
CATEGORIES:Lokale bookninger
END:VEVENT
BEGIN:VEVENT
DTSTART;TZID=Europe/Copenhagen:20250505T123000
DTEND;TZID=Europe/Copenhagen:20250505T163000
DTSTAMP:20260422T224628
CREATED:20241218T132400Z
LAST-MODIFIED:20241218T132400Z
UID:10043068-1746448200-1746462600@vorescosmos.dk
SUMMARY:Hemmelig film
DESCRIPTION:
URL:https://vorescosmos.dk/begivenhed/hemmelig-film-19/
LOCATION:Peder Syv salen\, Søndergade 11\, Viby Sj.\, 4130\, Danmark
CATEGORIES:Lokale bookninger
END:VEVENT
BEGIN:VEVENT
DTSTART;TZID=Europe/Copenhagen:20250428T160000
DTEND;TZID=Europe/Copenhagen:20250428T180000
DTSTAMP:20260422T224628
CREATED:20231030T123535Z
LAST-MODIFIED:20241205T141227Z
UID:10039868-1745856000-1745863200@vorescosmos.dk
SUMMARY:Bibliotekscaféen
DESCRIPTION:
URL:https://vorescosmos.dk/begivenhed/bibliotekscafeen-12/2025-04-28/
LOCATION:Tænketanken\, Søndergade 11\, Viby Sj.\, 4130\, Danmark
CATEGORIES:Lokale bookninger
END:VEVENT
BEGIN:VEVENT
DTSTART;TZID=Europe/Copenhagen:20250423T143000
DTEND;TZID=Europe/Copenhagen:20250423T170000
DTSTAMP:20260422T224628
CREATED:20241119T072139Z
LAST-MODIFIED:20241119T072139Z
UID:10042921-1745418600-1745427600@vorescosmos.dk
SUMMARY:Biblioteket
DESCRIPTION:Guidet Fælleslæsning
URL:https://vorescosmos.dk/begivenhed/biblioteket-33/
LOCATION:Tænketanken\, Søndergade 11\, Viby Sj.\, 4130\, Danmark
CATEGORIES:Lokale bookninger
END:VEVENT
BEGIN:VEVENT
DTSTART;TZID=Europe/Copenhagen:20250421T160000
DTEND;TZID=Europe/Copenhagen:20250421T180000
DTSTAMP:20260422T224628
CREATED:20231030T123535Z
LAST-MODIFIED:20241205T141227Z
UID:10039867-1745251200-1745258400@vorescosmos.dk
SUMMARY:Bibliotekscaféen
DESCRIPTION:
URL:https://vorescosmos.dk/begivenhed/bibliotekscafeen-12/2025-04-21/
LOCATION:Tænketanken\, Søndergade 11\, Viby Sj.\, 4130\, Danmark
CATEGORIES:Lokale bookninger
END:VEVENT
BEGIN:VEVENT
DTSTART;TZID=Europe/Copenhagen:20250414T160000
DTEND;TZID=Europe/Copenhagen:20250414T180000
DTSTAMP:20260422T224628
CREATED:20231030T123535Z
LAST-MODIFIED:20241205T141227Z
UID:10039866-1744646400-1744653600@vorescosmos.dk
SUMMARY:Bibliotekscaféen
DESCRIPTION:
URL:https://vorescosmos.dk/begivenhed/bibliotekscafeen-12/2025-04-14/
LOCATION:Tænketanken\, Søndergade 11\, Viby Sj.\, 4130\, Danmark
CATEGORIES:Lokale bookninger
END:VEVENT
BEGIN:VEVENT
DTSTART;TZID=Europe/Copenhagen:20250409T143000
DTEND;TZID=Europe/Copenhagen:20250409T170000
DTSTAMP:20260422T224628
CREATED:20241119T072039Z
LAST-MODIFIED:20241119T072040Z
UID:10042920-1744209000-1744218000@vorescosmos.dk
SUMMARY:Biblioteket
DESCRIPTION:Guidet Fælleslæsning
URL:https://vorescosmos.dk/begivenhed/biblioteket-32/
LOCATION:Tænketanken\, Søndergade 11\, Viby Sj.\, 4130\, Danmark
CATEGORIES:Lokale bookninger
END:VEVENT
END:VCALENDAR