BEGIN:VCALENDAR
VERSION:2.0
PRODID:-//Vores Cosmos - ECPv6.15.20//NONSGML v1.0//EN
CALSCALE:GREGORIAN
METHOD:PUBLISH
X-ORIGINAL-URL:https://vorescosmos.dk
X-WR-CALDESC:Begivenheder for Vores Cosmos
REFRESH-INTERVAL;VALUE=DURATION:PT1H
X-Robots-Tag:noindex
X-PUBLISHED-TTL:PT1H
BEGIN:VTIMEZONE
TZID:Europe/Copenhagen
BEGIN:DAYLIGHT
TZOFFSETFROM:+0100
TZOFFSETTO:+0200
TZNAME:CEST
DTSTART:20260329T010000
END:DAYLIGHT
BEGIN:STANDARD
TZOFFSETFROM:+0200
TZOFFSETTO:+0100
TZNAME:CET
DTSTART:20261025T010000
END:STANDARD
BEGIN:DAYLIGHT
TZOFFSETFROM:+0100
TZOFFSETTO:+0200
TZNAME:CEST
DTSTART:20270328T010000
END:DAYLIGHT
BEGIN:STANDARD
TZOFFSETFROM:+0200
TZOFFSETTO:+0100
TZNAME:CET
DTSTART:20271031T010000
END:STANDARD
BEGIN:DAYLIGHT
TZOFFSETFROM:+0100
TZOFFSETTO:+0200
TZNAME:CEST
DTSTART:20280326T010000
END:DAYLIGHT
BEGIN:STANDARD
TZOFFSETFROM:+0200
TZOFFSETTO:+0100
TZNAME:CET
DTSTART:20281029T010000
END:STANDARD
BEGIN:DAYLIGHT
TZOFFSETFROM:+0100
TZOFFSETTO:+0200
TZNAME:CEST
DTSTART:20290325T010000
END:DAYLIGHT
BEGIN:STANDARD
TZOFFSETFROM:+0200
TZOFFSETTO:+0100
TZNAME:CET
DTSTART:20291028T010000
END:STANDARD
END:VTIMEZONE
BEGIN:VEVENT
DTSTART;TZID=Europe/Copenhagen:20270614T160000
DTEND;TZID=Europe/Copenhagen:20270614T180000
DTSTAMP:20260422T235651
CREATED:20231030T123535Z
LAST-MODIFIED:20241205T141227Z
UID:10039979-1812988800-1812996000@vorescosmos.dk
SUMMARY:Bibliotekscaféen
DESCRIPTION:
URL:https://vorescosmos.dk/begivenhed/bibliotekscafeen-12/2027-06-14/
LOCATION:Tænketanken\, Søndergade 11\, Viby Sj.\, 4130\, Danmark
CATEGORIES:Lokale bookninger
END:VEVENT
BEGIN:VEVENT
DTSTART;TZID=Europe/Copenhagen:20270621T160000
DTEND;TZID=Europe/Copenhagen:20270621T180000
DTSTAMP:20260422T235651
CREATED:20231030T123535Z
LAST-MODIFIED:20241205T141227Z
UID:10039980-1813593600-1813600800@vorescosmos.dk
SUMMARY:Bibliotekscaféen
DESCRIPTION:
URL:https://vorescosmos.dk/begivenhed/bibliotekscafeen-12/2027-06-21/
LOCATION:Tænketanken\, Søndergade 11\, Viby Sj.\, 4130\, Danmark
CATEGORIES:Lokale bookninger
END:VEVENT
BEGIN:VEVENT
DTSTART;TZID=Europe/Copenhagen:20270628T160000
DTEND;TZID=Europe/Copenhagen:20270628T180000
DTSTAMP:20260422T235651
CREATED:20231030T123535Z
LAST-MODIFIED:20241205T141227Z
UID:10039981-1814198400-1814205600@vorescosmos.dk
SUMMARY:Bibliotekscaféen
DESCRIPTION:
URL:https://vorescosmos.dk/begivenhed/bibliotekscafeen-12/2027-06-28/
LOCATION:Tænketanken\, Søndergade 11\, Viby Sj.\, 4130\, Danmark
CATEGORIES:Lokale bookninger
END:VEVENT
BEGIN:VEVENT
DTSTART;TZID=Europe/Copenhagen:20270705T160000
DTEND;TZID=Europe/Copenhagen:20270705T180000
DTSTAMP:20260422T235651
CREATED:20231030T123535Z
LAST-MODIFIED:20241205T141227Z
UID:10039982-1814803200-1814810400@vorescosmos.dk
SUMMARY:Bibliotekscaféen
DESCRIPTION:
URL:https://vorescosmos.dk/begivenhed/bibliotekscafeen-12/2027-07-05/
LOCATION:Tænketanken\, Søndergade 11\, Viby Sj.\, 4130\, Danmark
CATEGORIES:Lokale bookninger
END:VEVENT
BEGIN:VEVENT
DTSTART;TZID=Europe/Copenhagen:20270712T160000
DTEND;TZID=Europe/Copenhagen:20270712T180000
DTSTAMP:20260422T235651
CREATED:20231030T123535Z
LAST-MODIFIED:20241205T141227Z
UID:10039983-1815408000-1815415200@vorescosmos.dk
SUMMARY:Bibliotekscaféen
DESCRIPTION:
URL:https://vorescosmos.dk/begivenhed/bibliotekscafeen-12/2027-07-12/
LOCATION:Tænketanken\, Søndergade 11\, Viby Sj.\, 4130\, Danmark
CATEGORIES:Lokale bookninger
END:VEVENT
BEGIN:VEVENT
DTSTART;TZID=Europe/Copenhagen:20270719T160000
DTEND;TZID=Europe/Copenhagen:20270719T180000
DTSTAMP:20260422T235651
CREATED:20231030T123535Z
LAST-MODIFIED:20241205T141227Z
UID:10039984-1816012800-1816020000@vorescosmos.dk
SUMMARY:Bibliotekscaféen
DESCRIPTION:
URL:https://vorescosmos.dk/begivenhed/bibliotekscafeen-12/2027-07-19/
LOCATION:Tænketanken\, Søndergade 11\, Viby Sj.\, 4130\, Danmark
CATEGORIES:Lokale bookninger
END:VEVENT
BEGIN:VEVENT
DTSTART;TZID=Europe/Copenhagen:20270726T160000
DTEND;TZID=Europe/Copenhagen:20270726T180000
DTSTAMP:20260422T235651
CREATED:20231030T123535Z
LAST-MODIFIED:20241205T141227Z
UID:10039985-1816617600-1816624800@vorescosmos.dk
SUMMARY:Bibliotekscaféen
DESCRIPTION:
URL:https://vorescosmos.dk/begivenhed/bibliotekscafeen-12/2027-07-26/
LOCATION:Tænketanken\, Søndergade 11\, Viby Sj.\, 4130\, Danmark
CATEGORIES:Lokale bookninger
END:VEVENT
BEGIN:VEVENT
DTSTART;TZID=Europe/Copenhagen:20270802T160000
DTEND;TZID=Europe/Copenhagen:20270802T180000
DTSTAMP:20260422T235651
CREATED:20231030T123535Z
LAST-MODIFIED:20241205T141227Z
UID:10039986-1817222400-1817229600@vorescosmos.dk
SUMMARY:Bibliotekscaféen
DESCRIPTION:
URL:https://vorescosmos.dk/begivenhed/bibliotekscafeen-12/2027-08-02/
LOCATION:Tænketanken\, Søndergade 11\, Viby Sj.\, 4130\, Danmark
CATEGORIES:Lokale bookninger
END:VEVENT
BEGIN:VEVENT
DTSTART;TZID=Europe/Copenhagen:20270809T160000
DTEND;TZID=Europe/Copenhagen:20270809T180000
DTSTAMP:20260422T235651
CREATED:20231030T123535Z
LAST-MODIFIED:20241205T141227Z
UID:10039987-1817827200-1817834400@vorescosmos.dk
SUMMARY:Bibliotekscaféen
DESCRIPTION:
URL:https://vorescosmos.dk/begivenhed/bibliotekscafeen-12/2027-08-09/
LOCATION:Tænketanken\, Søndergade 11\, Viby Sj.\, 4130\, Danmark
CATEGORIES:Lokale bookninger
END:VEVENT
BEGIN:VEVENT
DTSTART;TZID=Europe/Copenhagen:20270816T160000
DTEND;TZID=Europe/Copenhagen:20270816T180000
DTSTAMP:20260422T235651
CREATED:20231030T123535Z
LAST-MODIFIED:20241205T141227Z
UID:10039988-1818432000-1818439200@vorescosmos.dk
SUMMARY:Bibliotekscaféen
DESCRIPTION:
URL:https://vorescosmos.dk/begivenhed/bibliotekscafeen-12/2027-08-16/
LOCATION:Tænketanken\, Søndergade 11\, Viby Sj.\, 4130\, Danmark
CATEGORIES:Lokale bookninger
END:VEVENT
BEGIN:VEVENT
DTSTART;TZID=Europe/Copenhagen:20270823T160000
DTEND;TZID=Europe/Copenhagen:20270823T180000
DTSTAMP:20260422T235651
CREATED:20231030T123535Z
LAST-MODIFIED:20241205T141227Z
UID:10039989-1819036800-1819044000@vorescosmos.dk
SUMMARY:Bibliotekscaféen
DESCRIPTION:
URL:https://vorescosmos.dk/begivenhed/bibliotekscafeen-12/2027-08-23/
LOCATION:Tænketanken\, Søndergade 11\, Viby Sj.\, 4130\, Danmark
CATEGORIES:Lokale bookninger
END:VEVENT
BEGIN:VEVENT
DTSTART;TZID=Europe/Copenhagen:20270830T160000
DTEND;TZID=Europe/Copenhagen:20270830T180000
DTSTAMP:20260422T235651
CREATED:20231030T123535Z
LAST-MODIFIED:20241205T141227Z
UID:10039990-1819641600-1819648800@vorescosmos.dk
SUMMARY:Bibliotekscaféen
DESCRIPTION:
URL:https://vorescosmos.dk/begivenhed/bibliotekscafeen-12/2027-08-30/
LOCATION:Tænketanken\, Søndergade 11\, Viby Sj.\, 4130\, Danmark
CATEGORIES:Lokale bookninger
END:VEVENT
BEGIN:VEVENT
DTSTART;TZID=Europe/Copenhagen:20270906T160000
DTEND;TZID=Europe/Copenhagen:20270906T180000
DTSTAMP:20260422T235651
CREATED:20231030T123535Z
LAST-MODIFIED:20241205T141227Z
UID:10039991-1820246400-1820253600@vorescosmos.dk
SUMMARY:Bibliotekscaféen
DESCRIPTION:
URL:https://vorescosmos.dk/begivenhed/bibliotekscafeen-12/2027-09-06/
LOCATION:Tænketanken\, Søndergade 11\, Viby Sj.\, 4130\, Danmark
CATEGORIES:Lokale bookninger
END:VEVENT
BEGIN:VEVENT
DTSTART;TZID=Europe/Copenhagen:20270913T160000
DTEND;TZID=Europe/Copenhagen:20270913T180000
DTSTAMP:20260422T235651
CREATED:20231030T123535Z
LAST-MODIFIED:20241205T141227Z
UID:10039992-1820851200-1820858400@vorescosmos.dk
SUMMARY:Bibliotekscaféen
DESCRIPTION:
URL:https://vorescosmos.dk/begivenhed/bibliotekscafeen-12/2027-09-13/
LOCATION:Tænketanken\, Søndergade 11\, Viby Sj.\, 4130\, Danmark
CATEGORIES:Lokale bookninger
END:VEVENT
BEGIN:VEVENT
DTSTART;TZID=Europe/Copenhagen:20270920T160000
DTEND;TZID=Europe/Copenhagen:20270920T180000
DTSTAMP:20260422T235651
CREATED:20231030T123535Z
LAST-MODIFIED:20241205T141227Z
UID:10039993-1821456000-1821463200@vorescosmos.dk
SUMMARY:Bibliotekscaféen
DESCRIPTION:
URL:https://vorescosmos.dk/begivenhed/bibliotekscafeen-12/2027-09-20/
LOCATION:Tænketanken\, Søndergade 11\, Viby Sj.\, 4130\, Danmark
CATEGORIES:Lokale bookninger
END:VEVENT
BEGIN:VEVENT
DTSTART;TZID=Europe/Copenhagen:20270927T160000
DTEND;TZID=Europe/Copenhagen:20270927T180000
DTSTAMP:20260422T235651
CREATED:20231030T123535Z
LAST-MODIFIED:20241205T141227Z
UID:10039994-1822060800-1822068000@vorescosmos.dk
SUMMARY:Bibliotekscaféen
DESCRIPTION:
URL:https://vorescosmos.dk/begivenhed/bibliotekscafeen-12/2027-09-27/
LOCATION:Tænketanken\, Søndergade 11\, Viby Sj.\, 4130\, Danmark
CATEGORIES:Lokale bookninger
END:VEVENT
BEGIN:VEVENT
DTSTART;TZID=Europe/Copenhagen:20271004T160000
DTEND;TZID=Europe/Copenhagen:20271004T180000
DTSTAMP:20260422T235651
CREATED:20231030T123535Z
LAST-MODIFIED:20241205T141227Z
UID:10039995-1822665600-1822672800@vorescosmos.dk
SUMMARY:Bibliotekscaféen
DESCRIPTION:
URL:https://vorescosmos.dk/begivenhed/bibliotekscafeen-12/2027-10-04/
LOCATION:Tænketanken\, Søndergade 11\, Viby Sj.\, 4130\, Danmark
CATEGORIES:Lokale bookninger
END:VEVENT
BEGIN:VEVENT
DTSTART;TZID=Europe/Copenhagen:20271011T160000
DTEND;TZID=Europe/Copenhagen:20271011T180000
DTSTAMP:20260422T235651
CREATED:20231030T123535Z
LAST-MODIFIED:20241205T141227Z
UID:10039996-1823270400-1823277600@vorescosmos.dk
SUMMARY:Bibliotekscaféen
DESCRIPTION:
URL:https://vorescosmos.dk/begivenhed/bibliotekscafeen-12/2027-10-11/
LOCATION:Tænketanken\, Søndergade 11\, Viby Sj.\, 4130\, Danmark
CATEGORIES:Lokale bookninger
END:VEVENT
BEGIN:VEVENT
DTSTART;TZID=Europe/Copenhagen:20271018T160000
DTEND;TZID=Europe/Copenhagen:20271018T180000
DTSTAMP:20260422T235651
CREATED:20231030T123535Z
LAST-MODIFIED:20241205T141227Z
UID:10039997-1823875200-1823882400@vorescosmos.dk
SUMMARY:Bibliotekscaféen
DESCRIPTION:
URL:https://vorescosmos.dk/begivenhed/bibliotekscafeen-12/2027-10-18/
LOCATION:Tænketanken\, Søndergade 11\, Viby Sj.\, 4130\, Danmark
CATEGORIES:Lokale bookninger
END:VEVENT
BEGIN:VEVENT
DTSTART;TZID=Europe/Copenhagen:20271025T160000
DTEND;TZID=Europe/Copenhagen:20271025T180000
DTSTAMP:20260422T235651
CREATED:20231030T123535Z
LAST-MODIFIED:20241205T141227Z
UID:10039998-1824480000-1824487200@vorescosmos.dk
SUMMARY:Bibliotekscaféen
DESCRIPTION:
URL:https://vorescosmos.dk/begivenhed/bibliotekscafeen-12/2027-10-25/
LOCATION:Tænketanken\, Søndergade 11\, Viby Sj.\, 4130\, Danmark
CATEGORIES:Lokale bookninger
END:VEVENT
BEGIN:VEVENT
DTSTART;TZID=Europe/Copenhagen:20271101T160000
DTEND;TZID=Europe/Copenhagen:20271101T180000
DTSTAMP:20260422T235651
CREATED:20231030T123535Z
LAST-MODIFIED:20241205T141227Z
UID:10039999-1825084800-1825092000@vorescosmos.dk
SUMMARY:Bibliotekscaféen
DESCRIPTION:
URL:https://vorescosmos.dk/begivenhed/bibliotekscafeen-12/2027-11-01/
LOCATION:Tænketanken\, Søndergade 11\, Viby Sj.\, 4130\, Danmark
CATEGORIES:Lokale bookninger
END:VEVENT
BEGIN:VEVENT
DTSTART;TZID=Europe/Copenhagen:20271108T160000
DTEND;TZID=Europe/Copenhagen:20271108T180000
DTSTAMP:20260422T235651
CREATED:20231030T123535Z
LAST-MODIFIED:20241205T141227Z
UID:10040000-1825689600-1825696800@vorescosmos.dk
SUMMARY:Bibliotekscaféen
DESCRIPTION:
URL:https://vorescosmos.dk/begivenhed/bibliotekscafeen-12/2027-11-08/
LOCATION:Tænketanken\, Søndergade 11\, Viby Sj.\, 4130\, Danmark
CATEGORIES:Lokale bookninger
END:VEVENT
BEGIN:VEVENT
DTSTART;TZID=Europe/Copenhagen:20271115T160000
DTEND;TZID=Europe/Copenhagen:20271115T180000
DTSTAMP:20260422T235651
CREATED:20231030T123535Z
LAST-MODIFIED:20241205T141227Z
UID:10040001-1826294400-1826301600@vorescosmos.dk
SUMMARY:Bibliotekscaféen
DESCRIPTION:
URL:https://vorescosmos.dk/begivenhed/bibliotekscafeen-12/2027-11-15/
LOCATION:Tænketanken\, Søndergade 11\, Viby Sj.\, 4130\, Danmark
CATEGORIES:Lokale bookninger
END:VEVENT
BEGIN:VEVENT
DTSTART;TZID=Europe/Copenhagen:20271122T160000
DTEND;TZID=Europe/Copenhagen:20271122T180000
DTSTAMP:20260422T235651
CREATED:20231030T123535Z
LAST-MODIFIED:20241205T141227Z
UID:10040002-1826899200-1826906400@vorescosmos.dk
SUMMARY:Bibliotekscaféen
DESCRIPTION:
URL:https://vorescosmos.dk/begivenhed/bibliotekscafeen-12/2027-11-22/
LOCATION:Tænketanken\, Søndergade 11\, Viby Sj.\, 4130\, Danmark
CATEGORIES:Lokale bookninger
END:VEVENT
BEGIN:VEVENT
DTSTART;TZID=Europe/Copenhagen:20271129T160000
DTEND;TZID=Europe/Copenhagen:20271129T180000
DTSTAMP:20260422T235651
CREATED:20231030T123535Z
LAST-MODIFIED:20241205T141227Z
UID:10040003-1827504000-1827511200@vorescosmos.dk
SUMMARY:Bibliotekscaféen
DESCRIPTION:
URL:https://vorescosmos.dk/begivenhed/bibliotekscafeen-12/2027-11-29/
LOCATION:Tænketanken\, Søndergade 11\, Viby Sj.\, 4130\, Danmark
CATEGORIES:Lokale bookninger
END:VEVENT
BEGIN:VEVENT
DTSTART;TZID=Europe/Copenhagen:20271206T160000
DTEND;TZID=Europe/Copenhagen:20271206T180000
DTSTAMP:20260422T235651
CREATED:20231030T123535Z
LAST-MODIFIED:20241205T141227Z
UID:10040004-1828108800-1828116000@vorescosmos.dk
SUMMARY:Bibliotekscaféen
DESCRIPTION:
URL:https://vorescosmos.dk/begivenhed/bibliotekscafeen-12/2027-12-06/
LOCATION:Tænketanken\, Søndergade 11\, Viby Sj.\, 4130\, Danmark
CATEGORIES:Lokale bookninger
END:VEVENT
BEGIN:VEVENT
DTSTART;TZID=Europe/Copenhagen:20271213T160000
DTEND;TZID=Europe/Copenhagen:20271213T180000
DTSTAMP:20260422T235651
CREATED:20231030T123535Z
LAST-MODIFIED:20241205T141227Z
UID:10040005-1828713600-1828720800@vorescosmos.dk
SUMMARY:Bibliotekscaféen
DESCRIPTION:
URL:https://vorescosmos.dk/begivenhed/bibliotekscafeen-12/2027-12-13/
LOCATION:Tænketanken\, Søndergade 11\, Viby Sj.\, 4130\, Danmark
CATEGORIES:Lokale bookninger
END:VEVENT
BEGIN:VEVENT
DTSTART;TZID=Europe/Copenhagen:20271220T160000
DTEND;TZID=Europe/Copenhagen:20271220T180000
DTSTAMP:20260422T235651
CREATED:20231030T123535Z
LAST-MODIFIED:20241205T141227Z
UID:10040006-1829318400-1829325600@vorescosmos.dk
SUMMARY:Bibliotekscaféen
DESCRIPTION:
URL:https://vorescosmos.dk/begivenhed/bibliotekscafeen-12/2027-12-20/
LOCATION:Tænketanken\, Søndergade 11\, Viby Sj.\, 4130\, Danmark
CATEGORIES:Lokale bookninger
END:VEVENT
BEGIN:VEVENT
DTSTART;TZID=Europe/Copenhagen:20271227T160000
DTEND;TZID=Europe/Copenhagen:20271227T180000
DTSTAMP:20260422T235651
CREATED:20231030T123535Z
LAST-MODIFIED:20241205T141227Z
UID:10040007-1829923200-1829930400@vorescosmos.dk
SUMMARY:Bibliotekscaféen
DESCRIPTION:
URL:https://vorescosmos.dk/begivenhed/bibliotekscafeen-12/2027-12-27/
LOCATION:Tænketanken\, Søndergade 11\, Viby Sj.\, 4130\, Danmark
CATEGORIES:Lokale bookninger
END:VEVENT
BEGIN:VEVENT
DTSTART;TZID=Europe/Copenhagen:20280103T160000
DTEND;TZID=Europe/Copenhagen:20280103T180000
DTSTAMP:20260422T235651
CREATED:20231030T123535Z
LAST-MODIFIED:20241205T141227Z
UID:10040008-1830528000-1830535200@vorescosmos.dk
SUMMARY:Bibliotekscaféen
DESCRIPTION:
URL:https://vorescosmos.dk/begivenhed/bibliotekscafeen-12/2028-01-03/
LOCATION:Tænketanken\, Søndergade 11\, Viby Sj.\, 4130\, Danmark
CATEGORIES:Lokale bookninger
END:VEVENT
END:VCALENDAR