BEGIN:VCALENDAR
VERSION:2.0
PRODID:-//Vores Cosmos - ECPv6.15.20//NONSGML v1.0//EN
CALSCALE:GREGORIAN
METHOD:PUBLISH
X-ORIGINAL-URL:https://vorescosmos.dk
X-WR-CALDESC:Begivenheder for Vores Cosmos
REFRESH-INTERVAL;VALUE=DURATION:PT1H
X-Robots-Tag:noindex
X-PUBLISHED-TTL:PT1H
BEGIN:VTIMEZONE
TZID:Europe/Copenhagen
BEGIN:DAYLIGHT
TZOFFSETFROM:+0100
TZOFFSETTO:+0200
TZNAME:CEST
DTSTART:20250330T010000
END:DAYLIGHT
BEGIN:STANDARD
TZOFFSETFROM:+0200
TZOFFSETTO:+0100
TZNAME:CET
DTSTART:20251026T010000
END:STANDARD
BEGIN:DAYLIGHT
TZOFFSETFROM:+0100
TZOFFSETTO:+0200
TZNAME:CEST
DTSTART:20260329T010000
END:DAYLIGHT
BEGIN:STANDARD
TZOFFSETFROM:+0200
TZOFFSETTO:+0100
TZNAME:CET
DTSTART:20261025T010000
END:STANDARD
BEGIN:DAYLIGHT
TZOFFSETFROM:+0100
TZOFFSETTO:+0200
TZNAME:CEST
DTSTART:20270328T010000
END:DAYLIGHT
BEGIN:STANDARD
TZOFFSETFROM:+0200
TZOFFSETTO:+0100
TZNAME:CET
DTSTART:20271031T010000
END:STANDARD
END:VTIMEZONE
BEGIN:VEVENT
DTSTART;TZID=Europe/Copenhagen:20260601T160000
DTEND;TZID=Europe/Copenhagen:20260601T180000
DTSTAMP:20260422T091517
CREATED:20231030T123535Z
LAST-MODIFIED:20241205T141227Z
UID:10039925-1780329600-1780336800@vorescosmos.dk
SUMMARY:Bibliotekscaféen
DESCRIPTION:
URL:https://vorescosmos.dk/begivenhed/bibliotekscafeen-12/2026-06-01/
LOCATION:Tænketanken\, Søndergade 11\, Viby Sj.\, 4130\, Danmark
CATEGORIES:Lokale bookninger
END:VEVENT
BEGIN:VEVENT
DTSTART;TZID=Europe/Copenhagen:20260602T120000
DTEND;TZID=Europe/Copenhagen:20260602T173000
DTSTAMP:20260422T091517
CREATED:20250505T095126Z
LAST-MODIFIED:20250905T085924Z
UID:10044755-1780401600-1780421400@vorescosmos.dk
SUMMARY:Café Cosmos
DESCRIPTION:
URL:https://vorescosmos.dk/begivenhed/cafe-cosmos/2026-06-02/
LOCATION:Fælleskøkkenet\, Søndergade 11\, Viby Sj.\, 4130\, Danmark
CATEGORIES:Lokale bookninger
END:VEVENT
BEGIN:VEVENT
DTSTART;TZID=Europe/Copenhagen:20260602T130000
DTEND;TZID=Europe/Copenhagen:20260602T170000
DTSTAMP:20260422T091517
CREATED:20260126T130911Z
LAST-MODIFIED:20260126T130912Z
UID:10046717-1780405200-1780419600@vorescosmos.dk
SUMMARY:Billedcosmos
DESCRIPTION:
URL:https://vorescosmos.dk/begivenhed/billedcosmos-55/
LOCATION:Værkstedet\, Søndergade 11\, Viby Sj.\, 4130\, Danmark
CATEGORIES:Lokale bookninger
END:VEVENT
BEGIN:VEVENT
DTSTART;TZID=Europe/Copenhagen:20260602T183000
DTEND;TZID=Europe/Copenhagen:20260602T210000
DTSTAMP:20260422T091517
CREATED:20260126T130953Z
LAST-MODIFIED:20260126T130954Z
UID:10046718-1780425000-1780434000@vorescosmos.dk
SUMMARY:Billedcosmos
DESCRIPTION:
URL:https://vorescosmos.dk/begivenhed/billedcosmos-56/
LOCATION:Værkstedet\, Søndergade 11\, Viby Sj.\, 4130\, Danmark
CATEGORIES:Lokale bookninger
END:VEVENT
BEGIN:VEVENT
DTSTART;TZID=Europe/Copenhagen:20260603T120000
DTEND;TZID=Europe/Copenhagen:20260603T173000
DTSTAMP:20260422T091517
CREATED:20250505T095126Z
LAST-MODIFIED:20250905T085924Z
UID:10044756-1780488000-1780507800@vorescosmos.dk
SUMMARY:Café Cosmos
DESCRIPTION:
URL:https://vorescosmos.dk/begivenhed/cafe-cosmos/2026-06-03/
LOCATION:Fælleskøkkenet\, Søndergade 11\, Viby Sj.\, 4130\, Danmark
CATEGORIES:Lokale bookninger
END:VEVENT
BEGIN:VEVENT
DTSTART;TZID=Europe/Copenhagen:20260603T150000
DTEND;TZID=Europe/Copenhagen:20260603T210000
DTSTAMP:20260422T091517
CREATED:20251125T143020Z
LAST-MODIFIED:20251125T143037Z
UID:10046573-1780498800-1780520400@vorescosmos.dk
SUMMARY:Viby Sewing bees
DESCRIPTION:
URL:https://vorescosmos.dk/begivenhed/viby-sewing-bees-14/
LOCATION:Værkstedet\, Søndergade 11\, Viby Sj.\, 4130\, Danmark
CATEGORIES:Lokale bookninger
END:VEVENT
BEGIN:VEVENT
DTSTART;TZID=Europe/Copenhagen:20260604T080000
DTEND;TZID=Europe/Copenhagen:20260604T170000
DTSTAMP:20260422T091517
CREATED:20231123T134526Z
LAST-MODIFIED:20240627T092948Z
UID:10038498-1780560000-1780592400@vorescosmos.dk
SUMMARY:Reserveret arkivet
DESCRIPTION:
URL:https://vorescosmos.dk/begivenhed/reserveret-arkivet/2026-06-04/
LOCATION:Ramsørummet\, Søndergade 11\, Viby Sj.\, 4130\, Danmark
CATEGORIES:Lokale bookninger
END:VEVENT
BEGIN:VEVENT
DTSTART;TZID=Europe/Copenhagen:20260604T100000
DTEND;TZID=Europe/Copenhagen:20260604T150000
DTSTAMP:20260422T091517
CREATED:20251103T120405Z
LAST-MODIFIED:20251103T120405Z
UID:10046485-1780567200-1780585200@vorescosmos.dk
SUMMARY:Akvarellerne
DESCRIPTION:
URL:https://vorescosmos.dk/begivenhed/akvarellerne-6/2026-06-04/
LOCATION:Værkstedet\, Søndergade 11\, Viby Sj.\, 4130\, Danmark
CATEGORIES:Lokale bookninger
END:VEVENT
BEGIN:VEVENT
DTSTART;TZID=Europe/Copenhagen:20260604T120000
DTEND;TZID=Europe/Copenhagen:20260604T173000
DTSTAMP:20260422T091517
CREATED:20250505T095126Z
LAST-MODIFIED:20250905T085924Z
UID:10046039-1780574400-1780594200@vorescosmos.dk
SUMMARY:Café Cosmos
DESCRIPTION:
URL:https://vorescosmos.dk/begivenhed/cafe-cosmos/2026-06-04/
LOCATION:Fælleskøkkenet\, Søndergade 11\, Viby Sj.\, 4130\, Danmark
CATEGORIES:Lokale bookninger
END:VEVENT
BEGIN:VEVENT
DTSTART;TZID=Europe/Copenhagen:20260604T180000
DTEND;TZID=Europe/Copenhagen:20260604T213000
DTSTAMP:20260422T091517
CREATED:20260413T114712Z
LAST-MODIFIED:20260413T114713Z
UID:10047011-1780596000-1780608600@vorescosmos.dk
SUMMARY:Bosj\, Kastanielunden (afdelingsmøde)
DESCRIPTION:
URL:https://vorescosmos.dk/begivenhed/bosj-kastanielunden-afdelingsmoede/
LOCATION:Peder Syv salen\, Søndergade 11\, Viby Sj.\, 4130\, Danmark
CATEGORIES:Lokale bookninger
END:VEVENT
BEGIN:VEVENT
DTSTART;TZID=Europe/Copenhagen:20260606T090000
DTEND;TZID=Europe/Copenhagen:20260606T120000
DTSTAMP:20260422T091517
CREATED:20251125T131152Z
LAST-MODIFIED:20251125T131326Z
UID:10046561-1780736400-1780747200@vorescosmos.dk
SUMMARY:Biblioteket
DESCRIPTION:
URL:https://vorescosmos.dk/begivenhed/biblioteket-62/
LOCATION:Peder Syv salen\, Søndergade 11\, Viby Sj.\, 4130\, Danmark
CATEGORIES:Lokale bookninger
END:VEVENT
BEGIN:VEVENT
DTSTART;TZID=Europe/Copenhagen:20260606T100000
DTEND;TZID=Europe/Copenhagen:20260606T150000
DTSTAMP:20260422T091517
CREATED:20250109T113659Z
LAST-MODIFIED:20250109T113958Z
UID:10043185-1780740000-1780758000@vorescosmos.dk
SUMMARY:BilledCosmos
DESCRIPTION:
URL:https://vorescosmos.dk/begivenhed/billedcosmos-26/2026-06-06/
LOCATION:Værkstedet\, Søndergade 11\, Viby Sj.\, 4130\, Danmark
CATEGORIES:Lokale bookninger
END:VEVENT
BEGIN:VEVENT
DTSTART;TZID=Europe/Copenhagen:20260606T103000
DTEND;TZID=Europe/Copenhagen:20260606T143000
DTSTAMP:20260422T091517
CREATED:20260216T112035Z
LAST-MODIFIED:20260216T112036Z
UID:10046773-1780741800-1780756200@vorescosmos.dk
SUMMARY:Café Cosmos
DESCRIPTION:
URL:https://vorescosmos.dk/begivenhed/cafe-cosmos-18/
LOCATION:Fælleskøkkenet\, Søndergade 11\, Viby Sj.\, 4130\, Danmark
CATEGORIES:Lokale bookninger
END:VEVENT
BEGIN:VEVENT
DTSTART;TZID=Europe/Copenhagen:20260608T120000
DTEND;TZID=Europe/Copenhagen:20260608T173000
DTSTAMP:20260422T091517
CREATED:20250505T095126Z
LAST-MODIFIED:20250905T085924Z
UID:10044758-1780920000-1780939800@vorescosmos.dk
SUMMARY:Café Cosmos
DESCRIPTION:
URL:https://vorescosmos.dk/begivenhed/cafe-cosmos/2026-06-08/
LOCATION:Fælleskøkkenet\, Søndergade 11\, Viby Sj.\, 4130\, Danmark
CATEGORIES:Lokale bookninger
END:VEVENT
BEGIN:VEVENT
DTSTART;TZID=Europe/Copenhagen:20260608T160000
DTEND;TZID=Europe/Copenhagen:20260608T180000
DTSTAMP:20260422T091517
CREATED:20231030T123535Z
LAST-MODIFIED:20241205T141227Z
UID:10039926-1780934400-1780941600@vorescosmos.dk
SUMMARY:Bibliotekscaféen
DESCRIPTION:
URL:https://vorescosmos.dk/begivenhed/bibliotekscafeen-12/2026-06-08/
LOCATION:Tænketanken\, Søndergade 11\, Viby Sj.\, 4130\, Danmark
CATEGORIES:Lokale bookninger
END:VEVENT
BEGIN:VEVENT
DTSTART;TZID=Europe/Copenhagen:20260608T183000
DTEND;TZID=Europe/Copenhagen:20260608T203000
DTSTAMP:20260422T091517
CREATED:20260106T153701Z
LAST-MODIFIED:20260106T153702Z
UID:10046674-1780943400-1780950600@vorescosmos.dk
SUMMARY:Læsegruppe 4
DESCRIPTION:
URL:https://vorescosmos.dk/begivenhed/laesegruppe-4-26/
LOCATION:Værkstedet\, Søndergade 11\, Viby Sj.\, 4130\, Danmark
CATEGORIES:Lokale bookninger
END:VEVENT
BEGIN:VEVENT
DTSTART;TZID=Europe/Copenhagen:20260608T183000
DTEND;TZID=Europe/Copenhagen:20260608T220000
DTSTAMP:20260422T091517
CREATED:20260414T124914Z
LAST-MODIFIED:20260414T124915Z
UID:10047015-1780943400-1780956000@vorescosmos.dk
SUMMARY:Ejerforeningen Skovly
DESCRIPTION:
URL:https://vorescosmos.dk/begivenhed/ejerforeningen-skovly/
LOCATION:Tænketanken\, Søndergade 11\, Viby Sj.\, 4130\, Danmark
CATEGORIES:Lokale bookninger
END:VEVENT
BEGIN:VEVENT
DTSTART;TZID=Europe/Copenhagen:20260609T100000
DTEND;TZID=Europe/Copenhagen:20260609T120000
DTSTAMP:20260422T091517
CREATED:20260106T102208Z
LAST-MODIFIED:20260106T102208Z
UID:10046654-1780999200-1781006400@vorescosmos.dk
SUMMARY:Læsegruppe 6
DESCRIPTION:
URL:https://vorescosmos.dk/begivenhed/laesegruppe-6-4/2026-06-09/
LOCATION:Værkstedet\, Søndergade 11\, Viby Sj.\, 4130\, Danmark
CATEGORIES:Lokale bookninger
END:VEVENT
BEGIN:VEVENT
DTSTART;TZID=Europe/Copenhagen:20260609T120000
DTEND;TZID=Europe/Copenhagen:20260609T173000
DTSTAMP:20260422T091517
CREATED:20250505T095126Z
LAST-MODIFIED:20250905T085924Z
UID:10044759-1781006400-1781026200@vorescosmos.dk
SUMMARY:Café Cosmos
DESCRIPTION:
URL:https://vorescosmos.dk/begivenhed/cafe-cosmos/2026-06-09/
LOCATION:Fælleskøkkenet\, Søndergade 11\, Viby Sj.\, 4130\, Danmark
CATEGORIES:Lokale bookninger
END:VEVENT
BEGIN:VEVENT
DTSTART;TZID=Europe/Copenhagen:20260609T130000
DTEND;TZID=Europe/Copenhagen:20260609T170000
DTSTAMP:20260422T091517
CREATED:20260126T131035Z
LAST-MODIFIED:20260126T131036Z
UID:10046719-1781010000-1781024400@vorescosmos.dk
SUMMARY:Billedcosmos
DESCRIPTION:
URL:https://vorescosmos.dk/begivenhed/billedcosmos-57/
LOCATION:Værkstedet\, Søndergade 11\, Viby Sj.\, 4130\, Danmark
CATEGORIES:Lokale bookninger
END:VEVENT
BEGIN:VEVENT
DTSTART;TZID=Europe/Copenhagen:20260610T120000
DTEND;TZID=Europe/Copenhagen:20260610T173000
DTSTAMP:20260422T091517
CREATED:20250505T095126Z
LAST-MODIFIED:20250905T085924Z
UID:10044760-1781092800-1781112600@vorescosmos.dk
SUMMARY:Café Cosmos
DESCRIPTION:
URL:https://vorescosmos.dk/begivenhed/cafe-cosmos/2026-06-10/
LOCATION:Fælleskøkkenet\, Søndergade 11\, Viby Sj.\, 4130\, Danmark
CATEGORIES:Lokale bookninger
END:VEVENT
BEGIN:VEVENT
DTSTART;TZID=Europe/Copenhagen:20260610T170000
DTEND;TZID=Europe/Copenhagen:20260610T210000
DTSTAMP:20260422T091517
CREATED:20251103T124235Z
LAST-MODIFIED:20251103T124311Z
UID:10046499-1781110800-1781125200@vorescosmos.dk
SUMMARY:Sycafé
DESCRIPTION:
URL:https://vorescosmos.dk/begivenhed/sycafe/2026-06-10/
LOCATION:Værkstedet\, Søndergade 11\, Viby Sj.\, 4130
CATEGORIES:Lokale bookninger
END:VEVENT
BEGIN:VEVENT
DTSTART;TZID=Europe/Copenhagen:20260610T180000
DTEND;TZID=Europe/Copenhagen:20260610T213000
DTSTAMP:20260422T091517
CREATED:20260413T114815Z
LAST-MODIFIED:20260413T114816Z
UID:10047012-1781114400-1781127000@vorescosmos.dk
SUMMARY:Bosj\, Granparken (afdelingsmøde)
DESCRIPTION:
URL:https://vorescosmos.dk/begivenhed/bosj-granparken-afdelingsmoede/
LOCATION:Peder Syv salen\, Søndergade 11\, Viby Sj.\, 4130\, Danmark
CATEGORIES:Lokale bookninger
END:VEVENT
BEGIN:VEVENT
DTSTART;TZID=Europe/Copenhagen:20260611T080000
DTEND;TZID=Europe/Copenhagen:20260611T170000
DTSTAMP:20260422T091517
CREATED:20231123T134526Z
LAST-MODIFIED:20240627T092948Z
UID:10038499-1781164800-1781197200@vorescosmos.dk
SUMMARY:Reserveret arkivet
DESCRIPTION:
URL:https://vorescosmos.dk/begivenhed/reserveret-arkivet/2026-06-11/
LOCATION:Ramsørummet\, Søndergade 11\, Viby Sj.\, 4130\, Danmark
CATEGORIES:Lokale bookninger
END:VEVENT
BEGIN:VEVENT
DTSTART;TZID=Europe/Copenhagen:20260611T100000
DTEND;TZID=Europe/Copenhagen:20260611T150000
DTSTAMP:20260422T091517
CREATED:20251103T120405Z
LAST-MODIFIED:20251103T120405Z
UID:10046486-1781172000-1781190000@vorescosmos.dk
SUMMARY:Akvarellerne
DESCRIPTION:
URL:https://vorescosmos.dk/begivenhed/akvarellerne-6/2026-06-11/
LOCATION:Værkstedet\, Søndergade 11\, Viby Sj.\, 4130\, Danmark
CATEGORIES:Lokale bookninger
END:VEVENT
BEGIN:VEVENT
DTSTART;TZID=Europe/Copenhagen:20260611T120000
DTEND;TZID=Europe/Copenhagen:20260611T173000
DTSTAMP:20260422T091517
CREATED:20250505T095126Z
LAST-MODIFIED:20250905T085924Z
UID:10046040-1781179200-1781199000@vorescosmos.dk
SUMMARY:Café Cosmos
DESCRIPTION:
URL:https://vorescosmos.dk/begivenhed/cafe-cosmos/2026-06-11/
LOCATION:Fælleskøkkenet\, Søndergade 11\, Viby Sj.\, 4130\, Danmark
CATEGORIES:Lokale bookninger
END:VEVENT
BEGIN:VEVENT
DTSTART;TZID=Europe/Copenhagen:20260611T170000
DTEND;TZID=Europe/Copenhagen:20260611T220000
DTSTAMP:20260422T091517
CREATED:20260316T123039Z
LAST-MODIFIED:20260316T123040Z
UID:10046978-1781197200-1781215200@vorescosmos.dk
SUMMARY:Viby Gymnastik Forening 
DESCRIPTION:
URL:https://vorescosmos.dk/begivenhed/viby-gymnastik-forening-2/
LOCATION:Tænketanken\, Søndergade 11\, Viby Sj.\, 4130\, Danmark
CATEGORIES:Lokale bookninger
END:VEVENT
BEGIN:VEVENT
DTSTART;TZID=Europe/Copenhagen:20260612T110000
DTEND;TZID=Europe/Copenhagen:20260612T150000
DTSTAMP:20260422T091517
CREATED:20260102T115745Z
LAST-MODIFIED:20260102T115745Z
UID:10046633-1781262000-1781276400@vorescosmos.dk
SUMMARY:CosmosGryden
DESCRIPTION:
URL:https://vorescosmos.dk/begivenhed/cosmosgryden-11/2026-06-12/
LOCATION:Peder Syv salen\, Søndergade 11\, Viby Sj.\, 4130\, Danmark
CATEGORIES:Lokale bookninger
END:VEVENT
BEGIN:VEVENT
DTSTART;TZID=Europe/Copenhagen:20260612T110000
DTEND;TZID=Europe/Copenhagen:20260612T150000
DTSTAMP:20260422T091517
CREATED:20260102T120140Z
LAST-MODIFIED:20260102T120140Z
UID:10046639-1781262000-1781276400@vorescosmos.dk
SUMMARY:CosmosGryden
DESCRIPTION:
URL:https://vorescosmos.dk/begivenhed/cosmosgryden-12/2026-06-12/
LOCATION:Fælleskøkkenet\, Søndergade 11\, Viby Sj.\, 4130\, Danmark
CATEGORIES:Lokale bookninger
END:VEVENT
BEGIN:VEVENT
DTSTART;TZID=Europe/Copenhagen:20260613T100000
DTEND;TZID=Europe/Copenhagen:20260613T150000
DTSTAMP:20260422T091517
CREATED:20250109T113659Z
LAST-MODIFIED:20250109T113958Z
UID:10043186-1781344800-1781362800@vorescosmos.dk
SUMMARY:BilledCosmos
DESCRIPTION:
URL:https://vorescosmos.dk/begivenhed/billedcosmos-26/2026-06-13/
LOCATION:Værkstedet\, Søndergade 11\, Viby Sj.\, 4130\, Danmark
CATEGORIES:Lokale bookninger
END:VEVENT
END:VCALENDAR