BEGIN:VCALENDAR
VERSION:2.0
PRODID:-//Vores Cosmos - ECPv6.15.20//NONSGML v1.0//EN
CALSCALE:GREGORIAN
METHOD:PUBLISH
X-WR-CALNAME:Vores Cosmos
X-ORIGINAL-URL:https://vorescosmos.dk
X-WR-CALDESC:Begivenheder for Vores Cosmos
REFRESH-INTERVAL;VALUE=DURATION:PT1H
X-Robots-Tag:noindex
X-PUBLISHED-TTL:PT1H
BEGIN:VTIMEZONE
TZID:Europe/Copenhagen
BEGIN:DAYLIGHT
TZOFFSETFROM:+0100
TZOFFSETTO:+0200
TZNAME:CEST
DTSTART:20250330T010000
END:DAYLIGHT
BEGIN:STANDARD
TZOFFSETFROM:+0200
TZOFFSETTO:+0100
TZNAME:CET
DTSTART:20251026T010000
END:STANDARD
BEGIN:DAYLIGHT
TZOFFSETFROM:+0100
TZOFFSETTO:+0200
TZNAME:CEST
DTSTART:20260329T010000
END:DAYLIGHT
BEGIN:STANDARD
TZOFFSETFROM:+0200
TZOFFSETTO:+0100
TZNAME:CET
DTSTART:20261025T010000
END:STANDARD
BEGIN:DAYLIGHT
TZOFFSETFROM:+0100
TZOFFSETTO:+0200
TZNAME:CEST
DTSTART:20270328T010000
END:DAYLIGHT
BEGIN:STANDARD
TZOFFSETFROM:+0200
TZOFFSETTO:+0100
TZNAME:CET
DTSTART:20271031T010000
END:STANDARD
END:VTIMEZONE
BEGIN:VEVENT
DTSTART;TZID=Europe/Copenhagen:20260810T160000
DTEND;TZID=Europe/Copenhagen:20260810T180000
DTSTAMP:20260423T013714
CREATED:20231030T123535Z
LAST-MODIFIED:20241205T141227Z
UID:10039935-1786377600-1786384800@vorescosmos.dk
SUMMARY:Bibliotekscaféen
DESCRIPTION:
URL:https://vorescosmos.dk/begivenhed/bibliotekscafeen-12/2026-08-10/
LOCATION:Tænketanken\, Søndergade 11\, Viby Sj.\, 4130\, Danmark
CATEGORIES:Lokale bookninger
END:VEVENT
BEGIN:VEVENT
DTSTART;TZID=Europe/Copenhagen:20260811T120000
DTEND;TZID=Europe/Copenhagen:20260811T173000
DTSTAMP:20260423T013714
CREATED:20250505T095126Z
LAST-MODIFIED:20250905T085924Z
UID:10044795-1786449600-1786469400@vorescosmos.dk
SUMMARY:Café Cosmos
DESCRIPTION:
URL:https://vorescosmos.dk/begivenhed/cafe-cosmos/2026-08-11/
LOCATION:Fælleskøkkenet\, Søndergade 11\, Viby Sj.\, 4130\, Danmark
CATEGORIES:Lokale bookninger
END:VEVENT
BEGIN:VEVENT
DTSTART;TZID=Europe/Copenhagen:20260812T120000
DTEND;TZID=Europe/Copenhagen:20260812T173000
DTSTAMP:20260423T013714
CREATED:20250505T095126Z
LAST-MODIFIED:20250905T085924Z
UID:10044796-1786536000-1786555800@vorescosmos.dk
SUMMARY:Café Cosmos
DESCRIPTION:
URL:https://vorescosmos.dk/begivenhed/cafe-cosmos/2026-08-12/
LOCATION:Fælleskøkkenet\, Søndergade 11\, Viby Sj.\, 4130\, Danmark
CATEGORIES:Lokale bookninger
END:VEVENT
BEGIN:VEVENT
DTSTART;TZID=Europe/Copenhagen:20260813T080000
DTEND;TZID=Europe/Copenhagen:20260813T170000
DTSTAMP:20260423T013714
CREATED:20231123T134526Z
LAST-MODIFIED:20240627T092948Z
UID:10038508-1786608000-1786640400@vorescosmos.dk
SUMMARY:Reserveret arkivet
DESCRIPTION:
URL:https://vorescosmos.dk/begivenhed/reserveret-arkivet/2026-08-13/
LOCATION:Ramsørummet\, Søndergade 11\, Viby Sj.\, 4130\, Danmark
CATEGORIES:Lokale bookninger
END:VEVENT
BEGIN:VEVENT
DTSTART;TZID=Europe/Copenhagen:20260813T120000
DTEND;TZID=Europe/Copenhagen:20260813T173000
DTSTAMP:20260423T013714
CREATED:20250505T095126Z
LAST-MODIFIED:20250905T085924Z
UID:10046049-1786622400-1786642200@vorescosmos.dk
SUMMARY:Café Cosmos
DESCRIPTION:
URL:https://vorescosmos.dk/begivenhed/cafe-cosmos/2026-08-13/
LOCATION:Fælleskøkkenet\, Søndergade 11\, Viby Sj.\, 4130\, Danmark
CATEGORIES:Lokale bookninger
END:VEVENT
BEGIN:VEVENT
DTSTART;TZID=Europe/Copenhagen:20260815T100000
DTEND;TZID=Europe/Copenhagen:20260815T150000
DTSTAMP:20260423T013714
CREATED:20250109T113659Z
LAST-MODIFIED:20250109T113958Z
UID:10043195-1786788000-1786806000@vorescosmos.dk
SUMMARY:BilledCosmos
DESCRIPTION:
URL:https://vorescosmos.dk/begivenhed/billedcosmos-26/2026-08-15/
LOCATION:Værkstedet\, Søndergade 11\, Viby Sj.\, 4130\, Danmark
CATEGORIES:Lokale bookninger
END:VEVENT
BEGIN:VEVENT
DTSTART;TZID=Europe/Copenhagen:20260815T103000
DTEND;TZID=Europe/Copenhagen:20260815T143000
DTSTAMP:20260423T013714
CREATED:20260216T112938Z
LAST-MODIFIED:20260216T112938Z
UID:10046782-1786789800-1786804200@vorescosmos.dk
SUMMARY:Café Cosmos
DESCRIPTION:
URL:https://vorescosmos.dk/begivenhed/cafe-cosmos-27/
LOCATION:Fælleskøkkenet\, Søndergade 11\, Viby Sj.\, 4130\, Danmark
CATEGORIES:Lokale bookninger
END:VEVENT
BEGIN:VEVENT
DTSTART;TZID=Europe/Copenhagen:20260817T120000
DTEND;TZID=Europe/Copenhagen:20260817T173000
DTSTAMP:20260423T013714
CREATED:20250505T095126Z
LAST-MODIFIED:20250905T085924Z
UID:10044798-1786968000-1786987800@vorescosmos.dk
SUMMARY:Café Cosmos
DESCRIPTION:
URL:https://vorescosmos.dk/begivenhed/cafe-cosmos/2026-08-17/
LOCATION:Fælleskøkkenet\, Søndergade 11\, Viby Sj.\, 4130\, Danmark
CATEGORIES:Lokale bookninger
END:VEVENT
BEGIN:VEVENT
DTSTART;TZID=Europe/Copenhagen:20260817T160000
DTEND;TZID=Europe/Copenhagen:20260817T180000
DTSTAMP:20260423T013714
CREATED:20231030T123535Z
LAST-MODIFIED:20241205T141227Z
UID:10039936-1786982400-1786989600@vorescosmos.dk
SUMMARY:Bibliotekscaféen
DESCRIPTION:
URL:https://vorescosmos.dk/begivenhed/bibliotekscafeen-12/2026-08-17/
LOCATION:Tænketanken\, Søndergade 11\, Viby Sj.\, 4130\, Danmark
CATEGORIES:Lokale bookninger
END:VEVENT
BEGIN:VEVENT
DTSTART;TZID=Europe/Copenhagen:20260818T120000
DTEND;TZID=Europe/Copenhagen:20260818T173000
DTSTAMP:20260423T013714
CREATED:20250505T095126Z
LAST-MODIFIED:20250905T085924Z
UID:10044799-1787054400-1787074200@vorescosmos.dk
SUMMARY:Café Cosmos
DESCRIPTION:
URL:https://vorescosmos.dk/begivenhed/cafe-cosmos/2026-08-18/
LOCATION:Fælleskøkkenet\, Søndergade 11\, Viby Sj.\, 4130\, Danmark
CATEGORIES:Lokale bookninger
END:VEVENT
BEGIN:VEVENT
DTSTART;TZID=Europe/Copenhagen:20260819T120000
DTEND;TZID=Europe/Copenhagen:20260819T173000
DTSTAMP:20260423T013714
CREATED:20250505T095126Z
LAST-MODIFIED:20250905T085924Z
UID:10044800-1787140800-1787160600@vorescosmos.dk
SUMMARY:Café Cosmos
DESCRIPTION:
URL:https://vorescosmos.dk/begivenhed/cafe-cosmos/2026-08-19/
LOCATION:Fælleskøkkenet\, Søndergade 11\, Viby Sj.\, 4130\, Danmark
CATEGORIES:Lokale bookninger
END:VEVENT
BEGIN:VEVENT
DTSTART;TZID=Europe/Copenhagen:20260820T080000
DTEND;TZID=Europe/Copenhagen:20260820T170000
DTSTAMP:20260423T013714
CREATED:20231123T134526Z
LAST-MODIFIED:20240627T092948Z
UID:10038509-1787212800-1787245200@vorescosmos.dk
SUMMARY:Reserveret arkivet
DESCRIPTION:
URL:https://vorescosmos.dk/begivenhed/reserveret-arkivet/2026-08-20/
LOCATION:Ramsørummet\, Søndergade 11\, Viby Sj.\, 4130\, Danmark
CATEGORIES:Lokale bookninger
END:VEVENT
BEGIN:VEVENT
DTSTART;TZID=Europe/Copenhagen:20260820T120000
DTEND;TZID=Europe/Copenhagen:20260820T173000
DTSTAMP:20260423T013714
CREATED:20250505T095126Z
LAST-MODIFIED:20250905T085924Z
UID:10046050-1787227200-1787247000@vorescosmos.dk
SUMMARY:Café Cosmos
DESCRIPTION:
URL:https://vorescosmos.dk/begivenhed/cafe-cosmos/2026-08-20/
LOCATION:Fælleskøkkenet\, Søndergade 11\, Viby Sj.\, 4130\, Danmark
CATEGORIES:Lokale bookninger
END:VEVENT
BEGIN:VEVENT
DTSTART;TZID=Europe/Copenhagen:20260820T130000
DTEND;TZID=Europe/Copenhagen:20260820T190000
DTSTAMP:20260423T013714
CREATED:20260416T132649Z
LAST-MODIFIED:20260421T122043Z
UID:10047020-1787230800-1787252400@vorescosmos.dk
SUMMARY:Spindeforeningen
DESCRIPTION:
URL:https://vorescosmos.dk/begivenhed/spindeforeningen/
LOCATION:Tænketanken\, Søndergade 11\, Viby Sj.\, 4130\, Danmark
CATEGORIES:Lokale bookninger
END:VEVENT
BEGIN:VEVENT
DTSTART;TZID=Europe/Copenhagen:20260822T090000
DTEND;TZID=Europe/Copenhagen:20260822T140000
DTSTAMP:20260423T013714
CREATED:20260113T143234Z
LAST-MODIFIED:20260113T143234Z
UID:10046661-1787389200-1787407200@vorescosmos.dk
SUMMARY:KulturCosmos: Viby JazzDays
DESCRIPTION:
URL:https://vorescosmos.dk/begivenhed/kulturcosmos-viby-jazzdays-5/
LOCATION:Backstage\, Søndergade 11\, Viby Sj.\, 4130
CATEGORIES:Lokale bookninger
END:VEVENT
BEGIN:VEVENT
DTSTART;TZID=Europe/Copenhagen:20260822T090000
DTEND;TZID=Europe/Copenhagen:20260822T140000
DTSTAMP:20260423T013714
CREATED:20260113T143311Z
LAST-MODIFIED:20260113T143311Z
UID:10046657-1787389200-1787407200@vorescosmos.dk
SUMMARY:KulturCosmos: Viby JazzDays
DESCRIPTION:
URL:https://vorescosmos.dk/begivenhed/kulturcosmos-viby-jazzdays-6/
LOCATION:Peder Syv salen\, Søndergade 11\, Viby Sj.\, 4130\, Danmark
CATEGORIES:Lokale bookninger
END:VEVENT
BEGIN:VEVENT
DTSTART;TZID=Europe/Copenhagen:20260822T100000
DTEND;TZID=Europe/Copenhagen:20260822T150000
DTSTAMP:20260423T013714
CREATED:20250109T113659Z
LAST-MODIFIED:20250109T113958Z
UID:10043196-1787392800-1787410800@vorescosmos.dk
SUMMARY:BilledCosmos
DESCRIPTION:
URL:https://vorescosmos.dk/begivenhed/billedcosmos-26/2026-08-22/
LOCATION:Værkstedet\, Søndergade 11\, Viby Sj.\, 4130\, Danmark
CATEGORIES:Lokale bookninger
END:VEVENT
BEGIN:VEVENT
DTSTART;TZID=Europe/Copenhagen:20260822T103000
DTEND;TZID=Europe/Copenhagen:20260822T143000
DTSTAMP:20260423T013714
CREATED:20260216T113032Z
LAST-MODIFIED:20260216T113032Z
UID:10046783-1787394600-1787409000@vorescosmos.dk
SUMMARY:Café Cosmos
DESCRIPTION:
URL:https://vorescosmos.dk/begivenhed/cafe-cosmos-28/
LOCATION:Fælleskøkkenet\, Søndergade 11\, Viby Sj.\, 4130\, Danmark
CATEGORIES:Lokale bookninger
END:VEVENT
BEGIN:VEVENT
DTSTART;TZID=Europe/Copenhagen:20260824T120000
DTEND;TZID=Europe/Copenhagen:20260824T173000
DTSTAMP:20260423T013714
CREATED:20250505T095126Z
LAST-MODIFIED:20250905T085924Z
UID:10044802-1787572800-1787592600@vorescosmos.dk
SUMMARY:Café Cosmos
DESCRIPTION:
URL:https://vorescosmos.dk/begivenhed/cafe-cosmos/2026-08-24/
LOCATION:Fælleskøkkenet\, Søndergade 11\, Viby Sj.\, 4130\, Danmark
CATEGORIES:Lokale bookninger
END:VEVENT
BEGIN:VEVENT
DTSTART;TZID=Europe/Copenhagen:20260824T160000
DTEND;TZID=Europe/Copenhagen:20260824T180000
DTSTAMP:20260423T013714
CREATED:20231030T123535Z
LAST-MODIFIED:20241205T141227Z
UID:10039937-1787587200-1787594400@vorescosmos.dk
SUMMARY:Bibliotekscaféen
DESCRIPTION:
URL:https://vorescosmos.dk/begivenhed/bibliotekscafeen-12/2026-08-24/
LOCATION:Tænketanken\, Søndergade 11\, Viby Sj.\, 4130\, Danmark
CATEGORIES:Lokale bookninger
END:VEVENT
BEGIN:VEVENT
DTSTART;TZID=Europe/Copenhagen:20260825T120000
DTEND;TZID=Europe/Copenhagen:20260825T173000
DTSTAMP:20260423T013714
CREATED:20250505T095126Z
LAST-MODIFIED:20250905T085924Z
UID:10044803-1787659200-1787679000@vorescosmos.dk
SUMMARY:Café Cosmos
DESCRIPTION:
URL:https://vorescosmos.dk/begivenhed/cafe-cosmos/2026-08-25/
LOCATION:Fælleskøkkenet\, Søndergade 11\, Viby Sj.\, 4130\, Danmark
CATEGORIES:Lokale bookninger
END:VEVENT
BEGIN:VEVENT
DTSTART;TZID=Europe/Copenhagen:20260826T120000
DTEND;TZID=Europe/Copenhagen:20260826T173000
DTSTAMP:20260423T013714
CREATED:20250505T095126Z
LAST-MODIFIED:20250905T085924Z
UID:10044804-1787745600-1787765400@vorescosmos.dk
SUMMARY:Café Cosmos
DESCRIPTION:
URL:https://vorescosmos.dk/begivenhed/cafe-cosmos/2026-08-26/
LOCATION:Fælleskøkkenet\, Søndergade 11\, Viby Sj.\, 4130\, Danmark
CATEGORIES:Lokale bookninger
END:VEVENT
BEGIN:VEVENT
DTSTART;TZID=Europe/Copenhagen:20260827T080000
DTEND;TZID=Europe/Copenhagen:20260827T170000
DTSTAMP:20260423T013714
CREATED:20231123T134526Z
LAST-MODIFIED:20240627T092948Z
UID:10038510-1787817600-1787850000@vorescosmos.dk
SUMMARY:Reserveret arkivet
DESCRIPTION:
URL:https://vorescosmos.dk/begivenhed/reserveret-arkivet/2026-08-27/
LOCATION:Ramsørummet\, Søndergade 11\, Viby Sj.\, 4130\, Danmark
CATEGORIES:Lokale bookninger
END:VEVENT
BEGIN:VEVENT
DTSTART;TZID=Europe/Copenhagen:20260827T120000
DTEND;TZID=Europe/Copenhagen:20260827T173000
DTSTAMP:20260423T013714
CREATED:20250505T095126Z
LAST-MODIFIED:20250905T085924Z
UID:10046051-1787832000-1787851800@vorescosmos.dk
SUMMARY:Café Cosmos
DESCRIPTION:
URL:https://vorescosmos.dk/begivenhed/cafe-cosmos/2026-08-27/
LOCATION:Fælleskøkkenet\, Søndergade 11\, Viby Sj.\, 4130\, Danmark
CATEGORIES:Lokale bookninger
END:VEVENT
BEGIN:VEVENT
DTSTART;TZID=Europe/Copenhagen:20260829T100000
DTEND;TZID=Europe/Copenhagen:20260829T150000
DTSTAMP:20260423T013714
CREATED:20250109T113659Z
LAST-MODIFIED:20250109T113958Z
UID:10043197-1787997600-1788015600@vorescosmos.dk
SUMMARY:BilledCosmos
DESCRIPTION:
URL:https://vorescosmos.dk/begivenhed/billedcosmos-26/2026-08-29/
LOCATION:Værkstedet\, Søndergade 11\, Viby Sj.\, 4130\, Danmark
CATEGORIES:Lokale bookninger
END:VEVENT
BEGIN:VEVENT
DTSTART;TZID=Europe/Copenhagen:20260829T103000
DTEND;TZID=Europe/Copenhagen:20260829T143000
DTSTAMP:20260423T013714
CREATED:20260216T113117Z
LAST-MODIFIED:20260216T113117Z
UID:10046784-1787999400-1788013800@vorescosmos.dk
SUMMARY:Café Cosmos
DESCRIPTION:
URL:https://vorescosmos.dk/begivenhed/cafe-cosmos-29/
LOCATION:Fælleskøkkenet\, Søndergade 11\, Viby Sj.\, 4130\, Danmark
CATEGORIES:Lokale bookninger
END:VEVENT
BEGIN:VEVENT
DTSTART;TZID=Europe/Copenhagen:20260831T120000
DTEND;TZID=Europe/Copenhagen:20260831T173000
DTSTAMP:20260423T013714
CREATED:20250505T095126Z
LAST-MODIFIED:20250905T085924Z
UID:10044806-1788177600-1788197400@vorescosmos.dk
SUMMARY:Café Cosmos
DESCRIPTION:
URL:https://vorescosmos.dk/begivenhed/cafe-cosmos/2026-08-31/
LOCATION:Fælleskøkkenet\, Søndergade 11\, Viby Sj.\, 4130\, Danmark
CATEGORIES:Lokale bookninger
END:VEVENT
BEGIN:VEVENT
DTSTART;TZID=Europe/Copenhagen:20260831T160000
DTEND;TZID=Europe/Copenhagen:20260831T180000
DTSTAMP:20260423T013714
CREATED:20231030T123535Z
LAST-MODIFIED:20241205T141227Z
UID:10039938-1788192000-1788199200@vorescosmos.dk
SUMMARY:Bibliotekscaféen
DESCRIPTION:
URL:https://vorescosmos.dk/begivenhed/bibliotekscafeen-12/2026-08-31/
LOCATION:Tænketanken\, Søndergade 11\, Viby Sj.\, 4130\, Danmark
CATEGORIES:Lokale bookninger
END:VEVENT
BEGIN:VEVENT
DTSTART;TZID=Europe/Copenhagen:20260901T120000
DTEND;TZID=Europe/Copenhagen:20260901T173000
DTSTAMP:20260423T013714
CREATED:20250505T095126Z
LAST-MODIFIED:20250905T085924Z
UID:10044807-1788264000-1788283800@vorescosmos.dk
SUMMARY:Café Cosmos
DESCRIPTION:
URL:https://vorescosmos.dk/begivenhed/cafe-cosmos/2026-09-01/
LOCATION:Fælleskøkkenet\, Søndergade 11\, Viby Sj.\, 4130\, Danmark
CATEGORIES:Lokale bookninger
END:VEVENT
BEGIN:VEVENT
DTSTART;TZID=Europe/Copenhagen:20260901T173000
DTEND;TZID=Europe/Copenhagen:20260901T223000
DTSTAMP:20260423T013714
CREATED:20260312T121054Z
LAST-MODIFIED:20260312T121055Z
UID:10046967-1788283800-1788301800@vorescosmos.dk
SUMMARY:Kulturcosmos
DESCRIPTION:
URL:https://vorescosmos.dk/begivenhed/kulturcosmos-58/
LOCATION:Peder Syv salen\, Søndergade 11\, Viby Sj.\, 4130\, Danmark
CATEGORIES:Lokale bookninger
END:VEVENT
END:VCALENDAR