BEGIN:VCALENDAR
VERSION:2.0
PRODID:-//Vores Cosmos - ECPv6.15.20//NONSGML v1.0//EN
CALSCALE:GREGORIAN
METHOD:PUBLISH
X-WR-CALNAME:Vores Cosmos
X-ORIGINAL-URL:https://vorescosmos.dk
X-WR-CALDESC:Begivenheder for Vores Cosmos
REFRESH-INTERVAL;VALUE=DURATION:PT1H
X-Robots-Tag:noindex
X-PUBLISHED-TTL:PT1H
BEGIN:VTIMEZONE
TZID:Europe/Copenhagen
BEGIN:DAYLIGHT
TZOFFSETFROM:+0100
TZOFFSETTO:+0200
TZNAME:CEST
DTSTART:20250330T010000
END:DAYLIGHT
BEGIN:STANDARD
TZOFFSETFROM:+0200
TZOFFSETTO:+0100
TZNAME:CET
DTSTART:20251026T010000
END:STANDARD
BEGIN:DAYLIGHT
TZOFFSETFROM:+0100
TZOFFSETTO:+0200
TZNAME:CEST
DTSTART:20260329T010000
END:DAYLIGHT
BEGIN:STANDARD
TZOFFSETFROM:+0200
TZOFFSETTO:+0100
TZNAME:CET
DTSTART:20261025T010000
END:STANDARD
BEGIN:DAYLIGHT
TZOFFSETFROM:+0100
TZOFFSETTO:+0200
TZNAME:CEST
DTSTART:20270328T010000
END:DAYLIGHT
BEGIN:STANDARD
TZOFFSETFROM:+0200
TZOFFSETTO:+0100
TZNAME:CET
DTSTART:20271031T010000
END:STANDARD
END:VTIMEZONE
BEGIN:VEVENT
DTSTART;TZID=Europe/Copenhagen:20260825T120000
DTEND;TZID=Europe/Copenhagen:20260825T173000
DTSTAMP:20260423T043912
CREATED:20250505T095126Z
LAST-MODIFIED:20250905T085924Z
UID:10044803-1787659200-1787679000@vorescosmos.dk
SUMMARY:Café Cosmos
DESCRIPTION:
URL:https://vorescosmos.dk/begivenhed/cafe-cosmos/2026-08-25/
LOCATION:Fælleskøkkenet\, Søndergade 11\, Viby Sj.\, 4130\, Danmark
CATEGORIES:Lokale bookninger
END:VEVENT
BEGIN:VEVENT
DTSTART;TZID=Europe/Copenhagen:20260826T120000
DTEND;TZID=Europe/Copenhagen:20260826T173000
DTSTAMP:20260423T043912
CREATED:20250505T095126Z
LAST-MODIFIED:20250905T085924Z
UID:10044804-1787745600-1787765400@vorescosmos.dk
SUMMARY:Café Cosmos
DESCRIPTION:
URL:https://vorescosmos.dk/begivenhed/cafe-cosmos/2026-08-26/
LOCATION:Fælleskøkkenet\, Søndergade 11\, Viby Sj.\, 4130\, Danmark
CATEGORIES:Lokale bookninger
END:VEVENT
BEGIN:VEVENT
DTSTART;TZID=Europe/Copenhagen:20260827T080000
DTEND;TZID=Europe/Copenhagen:20260827T170000
DTSTAMP:20260423T043912
CREATED:20231123T134526Z
LAST-MODIFIED:20240627T092948Z
UID:10038510-1787817600-1787850000@vorescosmos.dk
SUMMARY:Reserveret arkivet
DESCRIPTION:
URL:https://vorescosmos.dk/begivenhed/reserveret-arkivet/2026-08-27/
LOCATION:Ramsørummet\, Søndergade 11\, Viby Sj.\, 4130\, Danmark
CATEGORIES:Lokale bookninger
END:VEVENT
BEGIN:VEVENT
DTSTART;TZID=Europe/Copenhagen:20260827T120000
DTEND;TZID=Europe/Copenhagen:20260827T173000
DTSTAMP:20260423T043912
CREATED:20250505T095126Z
LAST-MODIFIED:20250905T085924Z
UID:10046051-1787832000-1787851800@vorescosmos.dk
SUMMARY:Café Cosmos
DESCRIPTION:
URL:https://vorescosmos.dk/begivenhed/cafe-cosmos/2026-08-27/
LOCATION:Fælleskøkkenet\, Søndergade 11\, Viby Sj.\, 4130\, Danmark
CATEGORIES:Lokale bookninger
END:VEVENT
BEGIN:VEVENT
DTSTART;TZID=Europe/Copenhagen:20260829T100000
DTEND;TZID=Europe/Copenhagen:20260829T150000
DTSTAMP:20260423T043912
CREATED:20250109T113659Z
LAST-MODIFIED:20250109T113958Z
UID:10043197-1787997600-1788015600@vorescosmos.dk
SUMMARY:BilledCosmos
DESCRIPTION:
URL:https://vorescosmos.dk/begivenhed/billedcosmos-26/2026-08-29/
LOCATION:Værkstedet\, Søndergade 11\, Viby Sj.\, 4130\, Danmark
CATEGORIES:Lokale bookninger
END:VEVENT
BEGIN:VEVENT
DTSTART;TZID=Europe/Copenhagen:20260829T103000
DTEND;TZID=Europe/Copenhagen:20260829T143000
DTSTAMP:20260423T043912
CREATED:20260216T113117Z
LAST-MODIFIED:20260216T113117Z
UID:10046784-1787999400-1788013800@vorescosmos.dk
SUMMARY:Café Cosmos
DESCRIPTION:
URL:https://vorescosmos.dk/begivenhed/cafe-cosmos-29/
LOCATION:Fælleskøkkenet\, Søndergade 11\, Viby Sj.\, 4130\, Danmark
CATEGORIES:Lokale bookninger
END:VEVENT
BEGIN:VEVENT
DTSTART;TZID=Europe/Copenhagen:20260831T120000
DTEND;TZID=Europe/Copenhagen:20260831T173000
DTSTAMP:20260423T043912
CREATED:20250505T095126Z
LAST-MODIFIED:20250905T085924Z
UID:10044806-1788177600-1788197400@vorescosmos.dk
SUMMARY:Café Cosmos
DESCRIPTION:
URL:https://vorescosmos.dk/begivenhed/cafe-cosmos/2026-08-31/
LOCATION:Fælleskøkkenet\, Søndergade 11\, Viby Sj.\, 4130\, Danmark
CATEGORIES:Lokale bookninger
END:VEVENT
BEGIN:VEVENT
DTSTART;TZID=Europe/Copenhagen:20260831T160000
DTEND;TZID=Europe/Copenhagen:20260831T180000
DTSTAMP:20260423T043912
CREATED:20231030T123535Z
LAST-MODIFIED:20241205T141227Z
UID:10039938-1788192000-1788199200@vorescosmos.dk
SUMMARY:Bibliotekscaféen
DESCRIPTION:
URL:https://vorescosmos.dk/begivenhed/bibliotekscafeen-12/2026-08-31/
LOCATION:Tænketanken\, Søndergade 11\, Viby Sj.\, 4130\, Danmark
CATEGORIES:Lokale bookninger
END:VEVENT
BEGIN:VEVENT
DTSTART;TZID=Europe/Copenhagen:20260901T120000
DTEND;TZID=Europe/Copenhagen:20260901T173000
DTSTAMP:20260423T043912
CREATED:20250505T095126Z
LAST-MODIFIED:20250905T085924Z
UID:10044807-1788264000-1788283800@vorescosmos.dk
SUMMARY:Café Cosmos
DESCRIPTION:
URL:https://vorescosmos.dk/begivenhed/cafe-cosmos/2026-09-01/
LOCATION:Fælleskøkkenet\, Søndergade 11\, Viby Sj.\, 4130\, Danmark
CATEGORIES:Lokale bookninger
END:VEVENT
BEGIN:VEVENT
DTSTART;TZID=Europe/Copenhagen:20260901T173000
DTEND;TZID=Europe/Copenhagen:20260901T223000
DTSTAMP:20260423T043912
CREATED:20260312T121054Z
LAST-MODIFIED:20260312T121055Z
UID:10046967-1788283800-1788301800@vorescosmos.dk
SUMMARY:Kulturcosmos
DESCRIPTION:
URL:https://vorescosmos.dk/begivenhed/kulturcosmos-58/
LOCATION:Peder Syv salen\, Søndergade 11\, Viby Sj.\, 4130\, Danmark
CATEGORIES:Lokale bookninger
END:VEVENT
BEGIN:VEVENT
DTSTART;TZID=Europe/Copenhagen:20260901T173000
DTEND;TZID=Europe/Copenhagen:20260901T223000
DTSTAMP:20260423T043912
CREATED:20260312T121212Z
LAST-MODIFIED:20260312T121213Z
UID:10046968-1788283800-1788301800@vorescosmos.dk
SUMMARY:Kulturcosmos
DESCRIPTION:
URL:https://vorescosmos.dk/begivenhed/kulturcosmos-59/
LOCATION:Backstage\, Søndergade 11\, Viby Sj.\, 4130
CATEGORIES:Lokale bookninger
END:VEVENT
BEGIN:VEVENT
DTSTART;TZID=Europe/Copenhagen:20260901T173000
DTEND;TZID=Europe/Copenhagen:20260901T223000
DTSTAMP:20260423T043912
CREATED:20260312T121318Z
LAST-MODIFIED:20260312T121319Z
UID:10046969-1788283800-1788301800@vorescosmos.dk
SUMMARY:Kulturcosmos
DESCRIPTION:
URL:https://vorescosmos.dk/begivenhed/kulturcosmos-60/
LOCATION:Fælleskøkkenet\, Søndergade 11\, Viby Sj.\, 4130\, Danmark
CATEGORIES:Lokale bookninger
END:VEVENT
BEGIN:VEVENT
DTSTART;TZID=Europe/Copenhagen:20260902T120000
DTEND;TZID=Europe/Copenhagen:20260902T173000
DTSTAMP:20260423T043912
CREATED:20250505T095126Z
LAST-MODIFIED:20250905T085924Z
UID:10044808-1788350400-1788370200@vorescosmos.dk
SUMMARY:Café Cosmos
DESCRIPTION:
URL:https://vorescosmos.dk/begivenhed/cafe-cosmos/2026-09-02/
LOCATION:Fælleskøkkenet\, Søndergade 11\, Viby Sj.\, 4130\, Danmark
CATEGORIES:Lokale bookninger
END:VEVENT
BEGIN:VEVENT
DTSTART;TZID=Europe/Copenhagen:20260903T080000
DTEND;TZID=Europe/Copenhagen:20260903T170000
DTSTAMP:20260423T043912
CREATED:20231123T134526Z
LAST-MODIFIED:20240627T092948Z
UID:10038511-1788422400-1788454800@vorescosmos.dk
SUMMARY:Reserveret arkivet
DESCRIPTION:
URL:https://vorescosmos.dk/begivenhed/reserveret-arkivet/2026-09-03/
LOCATION:Ramsørummet\, Søndergade 11\, Viby Sj.\, 4130\, Danmark
CATEGORIES:Lokale bookninger
END:VEVENT
BEGIN:VEVENT
DTSTART;TZID=Europe/Copenhagen:20260903T120000
DTEND;TZID=Europe/Copenhagen:20260903T173000
DTSTAMP:20260423T043912
CREATED:20250505T095126Z
LAST-MODIFIED:20250905T085924Z
UID:10046052-1788436800-1788456600@vorescosmos.dk
SUMMARY:Café Cosmos
DESCRIPTION:
URL:https://vorescosmos.dk/begivenhed/cafe-cosmos/2026-09-03/
LOCATION:Fælleskøkkenet\, Søndergade 11\, Viby Sj.\, 4130\, Danmark
CATEGORIES:Lokale bookninger
END:VEVENT
BEGIN:VEVENT
DTSTART;TZID=Europe/Copenhagen:20260905T100000
DTEND;TZID=Europe/Copenhagen:20260905T150000
DTSTAMP:20260423T043912
CREATED:20250109T113659Z
LAST-MODIFIED:20250109T113958Z
UID:10043198-1788602400-1788620400@vorescosmos.dk
SUMMARY:BilledCosmos
DESCRIPTION:
URL:https://vorescosmos.dk/begivenhed/billedcosmos-26/2026-09-05/
LOCATION:Værkstedet\, Søndergade 11\, Viby Sj.\, 4130\, Danmark
CATEGORIES:Lokale bookninger
END:VEVENT
BEGIN:VEVENT
DTSTART;TZID=Europe/Copenhagen:20260905T103000
DTEND;TZID=Europe/Copenhagen:20260905T143000
DTSTAMP:20260423T043912
CREATED:20260216T113207Z
LAST-MODIFIED:20260216T113207Z
UID:10046785-1788604200-1788618600@vorescosmos.dk
SUMMARY:Café Cosmos
DESCRIPTION:
URL:https://vorescosmos.dk/begivenhed/cafe-cosmos-30/
LOCATION:Fælleskøkkenet\, Søndergade 11\, Viby Sj.\, 4130\, Danmark
CATEGORIES:Lokale bookninger
END:VEVENT
BEGIN:VEVENT
DTSTART;TZID=Europe/Copenhagen:20260907T120000
DTEND;TZID=Europe/Copenhagen:20260907T173000
DTSTAMP:20260423T043912
CREATED:20250505T095126Z
LAST-MODIFIED:20250905T085924Z
UID:10044810-1788782400-1788802200@vorescosmos.dk
SUMMARY:Café Cosmos
DESCRIPTION:
URL:https://vorescosmos.dk/begivenhed/cafe-cosmos/2026-09-07/
LOCATION:Fælleskøkkenet\, Søndergade 11\, Viby Sj.\, 4130\, Danmark
CATEGORIES:Lokale bookninger
END:VEVENT
BEGIN:VEVENT
DTSTART;TZID=Europe/Copenhagen:20260907T160000
DTEND;TZID=Europe/Copenhagen:20260907T180000
DTSTAMP:20260423T043912
CREATED:20231030T123535Z
LAST-MODIFIED:20241205T141227Z
UID:10039939-1788796800-1788804000@vorescosmos.dk
SUMMARY:Bibliotekscaféen
DESCRIPTION:
URL:https://vorescosmos.dk/begivenhed/bibliotekscafeen-12/2026-09-07/
LOCATION:Tænketanken\, Søndergade 11\, Viby Sj.\, 4130\, Danmark
CATEGORIES:Lokale bookninger
END:VEVENT
BEGIN:VEVENT
DTSTART;TZID=Europe/Copenhagen:20260908T120000
DTEND;TZID=Europe/Copenhagen:20260908T173000
DTSTAMP:20260423T043912
CREATED:20250505T095126Z
LAST-MODIFIED:20250905T085924Z
UID:10044811-1788868800-1788888600@vorescosmos.dk
SUMMARY:Café Cosmos
DESCRIPTION:
URL:https://vorescosmos.dk/begivenhed/cafe-cosmos/2026-09-08/
LOCATION:Fælleskøkkenet\, Søndergade 11\, Viby Sj.\, 4130\, Danmark
CATEGORIES:Lokale bookninger
END:VEVENT
BEGIN:VEVENT
DTSTART;TZID=Europe/Copenhagen:20260909T120000
DTEND;TZID=Europe/Copenhagen:20260909T173000
DTSTAMP:20260423T043912
CREATED:20250505T095126Z
LAST-MODIFIED:20250905T085924Z
UID:10044812-1788955200-1788975000@vorescosmos.dk
SUMMARY:Café Cosmos
DESCRIPTION:
URL:https://vorescosmos.dk/begivenhed/cafe-cosmos/2026-09-09/
LOCATION:Fælleskøkkenet\, Søndergade 11\, Viby Sj.\, 4130\, Danmark
CATEGORIES:Lokale bookninger
END:VEVENT
BEGIN:VEVENT
DTSTART;TZID=Europe/Copenhagen:20260910T080000
DTEND;TZID=Europe/Copenhagen:20260910T170000
DTSTAMP:20260423T043912
CREATED:20231123T134526Z
LAST-MODIFIED:20240627T092948Z
UID:10038512-1789027200-1789059600@vorescosmos.dk
SUMMARY:Reserveret arkivet
DESCRIPTION:
URL:https://vorescosmos.dk/begivenhed/reserveret-arkivet/2026-09-10/
LOCATION:Ramsørummet\, Søndergade 11\, Viby Sj.\, 4130\, Danmark
CATEGORIES:Lokale bookninger
END:VEVENT
BEGIN:VEVENT
DTSTART;TZID=Europe/Copenhagen:20260910T120000
DTEND;TZID=Europe/Copenhagen:20260910T173000
DTSTAMP:20260423T043912
CREATED:20250505T095126Z
LAST-MODIFIED:20250905T085924Z
UID:10046053-1789041600-1789061400@vorescosmos.dk
SUMMARY:Café Cosmos
DESCRIPTION:
URL:https://vorescosmos.dk/begivenhed/cafe-cosmos/2026-09-10/
LOCATION:Fælleskøkkenet\, Søndergade 11\, Viby Sj.\, 4130\, Danmark
CATEGORIES:Lokale bookninger
END:VEVENT
BEGIN:VEVENT
DTSTART;TZID=Europe/Copenhagen:20260912T090000
DTEND;TZID=Europe/Copenhagen:20260912T150000
DTSTAMP:20260423T043912
CREATED:20260106T102832Z
LAST-MODIFIED:20260106T102833Z
UID:10046658-1789203600-1789225200@vorescosmos.dk
SUMMARY:KulturCosmos: Viby JazzDays
DESCRIPTION:
URL:https://vorescosmos.dk/begivenhed/kulturcosmos-viby-jazzdays-3/
LOCATION:Peder Syv salen\, Søndergade 11\, Viby Sj.\, 4130\, Danmark
CATEGORIES:Lokale bookninger
END:VEVENT
BEGIN:VEVENT
DTSTART;TZID=Europe/Copenhagen:20260912T090000
DTEND;TZID=Europe/Copenhagen:20260912T150000
DTSTAMP:20260423T043912
CREATED:20260106T102857Z
LAST-MODIFIED:20260106T102857Z
UID:10046662-1789203600-1789225200@vorescosmos.dk
SUMMARY:KulturCosmos: Viby JazzDays
DESCRIPTION:
URL:https://vorescosmos.dk/begivenhed/kulturcosmos-viby-jazzdays-4/
LOCATION:Backstage\, Søndergade 11\, Viby Sj.\, 4130
CATEGORIES:Lokale bookninger
END:VEVENT
BEGIN:VEVENT
DTSTART;TZID=Europe/Copenhagen:20260912T100000
DTEND;TZID=Europe/Copenhagen:20260912T150000
DTSTAMP:20260423T043912
CREATED:20250109T113659Z
LAST-MODIFIED:20250109T113958Z
UID:10043199-1789207200-1789225200@vorescosmos.dk
SUMMARY:BilledCosmos
DESCRIPTION:
URL:https://vorescosmos.dk/begivenhed/billedcosmos-26/2026-09-12/
LOCATION:Værkstedet\, Søndergade 11\, Viby Sj.\, 4130\, Danmark
CATEGORIES:Lokale bookninger
END:VEVENT
BEGIN:VEVENT
DTSTART;TZID=Europe/Copenhagen:20260912T103000
DTEND;TZID=Europe/Copenhagen:20260912T143000
DTSTAMP:20260423T043912
CREATED:20260216T113342Z
LAST-MODIFIED:20260216T113343Z
UID:10046786-1789209000-1789223400@vorescosmos.dk
SUMMARY:Café Cosmos
DESCRIPTION:
URL:https://vorescosmos.dk/begivenhed/cafe-cosmos-31/
LOCATION:Fælleskøkkenet\, Søndergade 11\, Viby Sj.\, 4130\, Danmark
CATEGORIES:Lokale bookninger
END:VEVENT
BEGIN:VEVENT
DTSTART;TZID=Europe/Copenhagen:20260914T120000
DTEND;TZID=Europe/Copenhagen:20260914T173000
DTSTAMP:20260423T043912
CREATED:20250505T095126Z
LAST-MODIFIED:20250905T085924Z
UID:10044814-1789387200-1789407000@vorescosmos.dk
SUMMARY:Café Cosmos
DESCRIPTION:
URL:https://vorescosmos.dk/begivenhed/cafe-cosmos/2026-09-14/
LOCATION:Fælleskøkkenet\, Søndergade 11\, Viby Sj.\, 4130\, Danmark
CATEGORIES:Lokale bookninger
END:VEVENT
BEGIN:VEVENT
DTSTART;TZID=Europe/Copenhagen:20260914T160000
DTEND;TZID=Europe/Copenhagen:20260914T180000
DTSTAMP:20260423T043912
CREATED:20231030T123535Z
LAST-MODIFIED:20241205T141227Z
UID:10039940-1789401600-1789408800@vorescosmos.dk
SUMMARY:Bibliotekscaféen
DESCRIPTION:
URL:https://vorescosmos.dk/begivenhed/bibliotekscafeen-12/2026-09-14/
LOCATION:Tænketanken\, Søndergade 11\, Viby Sj.\, 4130\, Danmark
CATEGORIES:Lokale bookninger
END:VEVENT
BEGIN:VEVENT
DTSTART;TZID=Europe/Copenhagen:20260915T120000
DTEND;TZID=Europe/Copenhagen:20260915T173000
DTSTAMP:20260423T043912
CREATED:20250505T095126Z
LAST-MODIFIED:20250905T085924Z
UID:10044815-1789473600-1789493400@vorescosmos.dk
SUMMARY:Café Cosmos
DESCRIPTION:
URL:https://vorescosmos.dk/begivenhed/cafe-cosmos/2026-09-15/
LOCATION:Fælleskøkkenet\, Søndergade 11\, Viby Sj.\, 4130\, Danmark
CATEGORIES:Lokale bookninger
END:VEVENT
END:VCALENDAR