BEGIN:VCALENDAR
VERSION:2.0
PRODID:-//Vores Cosmos - ECPv6.15.20//NONSGML v1.0//EN
CALSCALE:GREGORIAN
METHOD:PUBLISH
X-ORIGINAL-URL:https://vorescosmos.dk
X-WR-CALDESC:Begivenheder for Vores Cosmos
REFRESH-INTERVAL;VALUE=DURATION:PT1H
X-Robots-Tag:noindex
X-PUBLISHED-TTL:PT1H
BEGIN:VTIMEZONE
TZID:Europe/Copenhagen
BEGIN:DAYLIGHT
TZOFFSETFROM:+0100
TZOFFSETTO:+0200
TZNAME:CEST
DTSTART:20250330T010000
END:DAYLIGHT
BEGIN:STANDARD
TZOFFSETFROM:+0200
TZOFFSETTO:+0100
TZNAME:CET
DTSTART:20251026T010000
END:STANDARD
BEGIN:DAYLIGHT
TZOFFSETFROM:+0100
TZOFFSETTO:+0200
TZNAME:CEST
DTSTART:20260329T010000
END:DAYLIGHT
BEGIN:STANDARD
TZOFFSETFROM:+0200
TZOFFSETTO:+0100
TZNAME:CET
DTSTART:20261025T010000
END:STANDARD
BEGIN:DAYLIGHT
TZOFFSETFROM:+0100
TZOFFSETTO:+0200
TZNAME:CEST
DTSTART:20270328T010000
END:DAYLIGHT
BEGIN:STANDARD
TZOFFSETFROM:+0200
TZOFFSETTO:+0100
TZNAME:CET
DTSTART:20271031T010000
END:STANDARD
END:VTIMEZONE
BEGIN:VEVENT
DTSTART;TZID=Europe/Copenhagen:20260919T103000
DTEND;TZID=Europe/Copenhagen:20260919T143000
DTSTAMP:20260423T111406
CREATED:20260216T113428Z
LAST-MODIFIED:20260216T113429Z
UID:10046787-1789813800-1789828200@vorescosmos.dk
SUMMARY:Café Cosmos
DESCRIPTION:
URL:https://vorescosmos.dk/begivenhed/cafe-cosmos-32/
LOCATION:Fælleskøkkenet\, Søndergade 11\, Viby Sj.\, 4130\, Danmark
CATEGORIES:Lokale bookninger
END:VEVENT
BEGIN:VEVENT
DTSTART;TZID=Europe/Copenhagen:20260921T120000
DTEND;TZID=Europe/Copenhagen:20260921T173000
DTSTAMP:20260423T111406
CREATED:20250505T095126Z
LAST-MODIFIED:20250905T085924Z
UID:10044818-1789992000-1790011800@vorescosmos.dk
SUMMARY:Café Cosmos
DESCRIPTION:
URL:https://vorescosmos.dk/begivenhed/cafe-cosmos/2026-09-21/
LOCATION:Fælleskøkkenet\, Søndergade 11\, Viby Sj.\, 4130\, Danmark
CATEGORIES:Lokale bookninger
END:VEVENT
BEGIN:VEVENT
DTSTART;TZID=Europe/Copenhagen:20260921T160000
DTEND;TZID=Europe/Copenhagen:20260921T180000
DTSTAMP:20260423T111406
CREATED:20231030T123535Z
LAST-MODIFIED:20241205T141227Z
UID:10039941-1790006400-1790013600@vorescosmos.dk
SUMMARY:Bibliotekscaféen
DESCRIPTION:
URL:https://vorescosmos.dk/begivenhed/bibliotekscafeen-12/2026-09-21/
LOCATION:Tænketanken\, Søndergade 11\, Viby Sj.\, 4130\, Danmark
CATEGORIES:Lokale bookninger
END:VEVENT
BEGIN:VEVENT
DTSTART;TZID=Europe/Copenhagen:20260922T120000
DTEND;TZID=Europe/Copenhagen:20260922T173000
DTSTAMP:20260423T111406
CREATED:20250505T095126Z
LAST-MODIFIED:20250905T085924Z
UID:10044819-1790078400-1790098200@vorescosmos.dk
SUMMARY:Café Cosmos
DESCRIPTION:
URL:https://vorescosmos.dk/begivenhed/cafe-cosmos/2026-09-22/
LOCATION:Fælleskøkkenet\, Søndergade 11\, Viby Sj.\, 4130\, Danmark
CATEGORIES:Lokale bookninger
END:VEVENT
BEGIN:VEVENT
DTSTART;TZID=Europe/Copenhagen:20260923T120000
DTEND;TZID=Europe/Copenhagen:20260923T173000
DTSTAMP:20260423T111406
CREATED:20250505T095126Z
LAST-MODIFIED:20250905T085924Z
UID:10044820-1790164800-1790184600@vorescosmos.dk
SUMMARY:Café Cosmos
DESCRIPTION:
URL:https://vorescosmos.dk/begivenhed/cafe-cosmos/2026-09-23/
LOCATION:Fælleskøkkenet\, Søndergade 11\, Viby Sj.\, 4130\, Danmark
CATEGORIES:Lokale bookninger
END:VEVENT
BEGIN:VEVENT
DTSTART;TZID=Europe/Copenhagen:20260924T080000
DTEND;TZID=Europe/Copenhagen:20260924T170000
DTSTAMP:20260423T111406
CREATED:20231123T134526Z
LAST-MODIFIED:20240627T092948Z
UID:10038514-1790236800-1790269200@vorescosmos.dk
SUMMARY:Reserveret arkivet
DESCRIPTION:
URL:https://vorescosmos.dk/begivenhed/reserveret-arkivet/2026-09-24/
LOCATION:Ramsørummet\, Søndergade 11\, Viby Sj.\, 4130\, Danmark
CATEGORIES:Lokale bookninger
END:VEVENT
BEGIN:VEVENT
DTSTART;TZID=Europe/Copenhagen:20260924T120000
DTEND;TZID=Europe/Copenhagen:20260924T173000
DTSTAMP:20260423T111406
CREATED:20250505T095126Z
LAST-MODIFIED:20250905T085924Z
UID:10046055-1790251200-1790271000@vorescosmos.dk
SUMMARY:Café Cosmos
DESCRIPTION:
URL:https://vorescosmos.dk/begivenhed/cafe-cosmos/2026-09-24/
LOCATION:Fælleskøkkenet\, Søndergade 11\, Viby Sj.\, 4130\, Danmark
CATEGORIES:Lokale bookninger
END:VEVENT
BEGIN:VEVENT
DTSTART;TZID=Europe/Copenhagen:20260926T100000
DTEND;TZID=Europe/Copenhagen:20260926T150000
DTSTAMP:20260423T111406
CREATED:20250109T113659Z
LAST-MODIFIED:20250109T113958Z
UID:10043201-1790416800-1790434800@vorescosmos.dk
SUMMARY:BilledCosmos
DESCRIPTION:
URL:https://vorescosmos.dk/begivenhed/billedcosmos-26/2026-09-26/
LOCATION:Værkstedet\, Søndergade 11\, Viby Sj.\, 4130\, Danmark
CATEGORIES:Lokale bookninger
END:VEVENT
BEGIN:VEVENT
DTSTART;TZID=Europe/Copenhagen:20260926T103000
DTEND;TZID=Europe/Copenhagen:20260926T143000
DTSTAMP:20260423T111406
CREATED:20260216T113525Z
LAST-MODIFIED:20260216T113526Z
UID:10046788-1790418600-1790433000@vorescosmos.dk
SUMMARY:Café Cosmos
DESCRIPTION:
URL:https://vorescosmos.dk/begivenhed/cafe-cosmos-33/
LOCATION:Fælleskøkkenet\, Søndergade 11\, Viby Sj.\, 4130\, Danmark
CATEGORIES:Lokale bookninger
END:VEVENT
BEGIN:VEVENT
DTSTART;TZID=Europe/Copenhagen:20260928T120000
DTEND;TZID=Europe/Copenhagen:20260928T173000
DTSTAMP:20260423T111406
CREATED:20250505T095126Z
LAST-MODIFIED:20250905T085924Z
UID:10044822-1790596800-1790616600@vorescosmos.dk
SUMMARY:Café Cosmos
DESCRIPTION:
URL:https://vorescosmos.dk/begivenhed/cafe-cosmos/2026-09-28/
LOCATION:Fælleskøkkenet\, Søndergade 11\, Viby Sj.\, 4130\, Danmark
CATEGORIES:Lokale bookninger
END:VEVENT
BEGIN:VEVENT
DTSTART;TZID=Europe/Copenhagen:20260928T160000
DTEND;TZID=Europe/Copenhagen:20260928T180000
DTSTAMP:20260423T111406
CREATED:20231030T123535Z
LAST-MODIFIED:20241205T141227Z
UID:10039942-1790611200-1790618400@vorescosmos.dk
SUMMARY:Bibliotekscaféen
DESCRIPTION:
URL:https://vorescosmos.dk/begivenhed/bibliotekscafeen-12/2026-09-28/
LOCATION:Tænketanken\, Søndergade 11\, Viby Sj.\, 4130\, Danmark
CATEGORIES:Lokale bookninger
END:VEVENT
BEGIN:VEVENT
DTSTART;TZID=Europe/Copenhagen:20260929T120000
DTEND;TZID=Europe/Copenhagen:20260929T173000
DTSTAMP:20260423T111406
CREATED:20250505T095126Z
LAST-MODIFIED:20250905T085924Z
UID:10044823-1790683200-1790703000@vorescosmos.dk
SUMMARY:Café Cosmos
DESCRIPTION:
URL:https://vorescosmos.dk/begivenhed/cafe-cosmos/2026-09-29/
LOCATION:Fælleskøkkenet\, Søndergade 11\, Viby Sj.\, 4130\, Danmark
CATEGORIES:Lokale bookninger
END:VEVENT
BEGIN:VEVENT
DTSTART;TZID=Europe/Copenhagen:20260930T120000
DTEND;TZID=Europe/Copenhagen:20260930T173000
DTSTAMP:20260423T111406
CREATED:20250505T095126Z
LAST-MODIFIED:20250905T085924Z
UID:10044824-1790769600-1790789400@vorescosmos.dk
SUMMARY:Café Cosmos
DESCRIPTION:
URL:https://vorescosmos.dk/begivenhed/cafe-cosmos/2026-09-30/
LOCATION:Fælleskøkkenet\, Søndergade 11\, Viby Sj.\, 4130\, Danmark
CATEGORIES:Lokale bookninger
END:VEVENT
BEGIN:VEVENT
DTSTART;TZID=Europe/Copenhagen:20261001T080000
DTEND;TZID=Europe/Copenhagen:20261001T170000
DTSTAMP:20260423T111406
CREATED:20231123T134526Z
LAST-MODIFIED:20240627T092948Z
UID:10038515-1790841600-1790874000@vorescosmos.dk
SUMMARY:Reserveret arkivet
DESCRIPTION:
URL:https://vorescosmos.dk/begivenhed/reserveret-arkivet/2026-10-01/
LOCATION:Ramsørummet\, Søndergade 11\, Viby Sj.\, 4130\, Danmark
CATEGORIES:Lokale bookninger
END:VEVENT
BEGIN:VEVENT
DTSTART;TZID=Europe/Copenhagen:20261001T120000
DTEND;TZID=Europe/Copenhagen:20261001T173000
DTSTAMP:20260423T111406
CREATED:20250505T095126Z
LAST-MODIFIED:20250905T085924Z
UID:10046056-1790856000-1790875800@vorescosmos.dk
SUMMARY:Café Cosmos
DESCRIPTION:
URL:https://vorescosmos.dk/begivenhed/cafe-cosmos/2026-10-01/
LOCATION:Fælleskøkkenet\, Søndergade 11\, Viby Sj.\, 4130\, Danmark
CATEGORIES:Lokale bookninger
END:VEVENT
BEGIN:VEVENT
DTSTART;TZID=Europe/Copenhagen:20261003T100000
DTEND;TZID=Europe/Copenhagen:20261003T150000
DTSTAMP:20260423T111406
CREATED:20250109T113659Z
LAST-MODIFIED:20250109T113958Z
UID:10043202-1791021600-1791039600@vorescosmos.dk
SUMMARY:BilledCosmos
DESCRIPTION:
URL:https://vorescosmos.dk/begivenhed/billedcosmos-26/2026-10-03/
LOCATION:Værkstedet\, Søndergade 11\, Viby Sj.\, 4130\, Danmark
CATEGORIES:Lokale bookninger
END:VEVENT
BEGIN:VEVENT
DTSTART;TZID=Europe/Copenhagen:20261003T113000
DTEND;TZID=Europe/Copenhagen:20261003T143000
DTSTAMP:20260423T111406
CREATED:20260216T140401Z
LAST-MODIFIED:20260216T140401Z
UID:10046798-1791027000-1791037800@vorescosmos.dk
SUMMARY:Café Cosmos
DESCRIPTION:
URL:https://vorescosmos.dk/begivenhed/cafe-cosmos-34/
LOCATION:Fælleskøkkenet\, Søndergade 11\, Viby Sj.\, 4130\, Danmark
CATEGORIES:Lokale bookninger
END:VEVENT
BEGIN:VEVENT
DTSTART;TZID=Europe/Copenhagen:20261005T120000
DTEND;TZID=Europe/Copenhagen:20261005T173000
DTSTAMP:20260423T111406
CREATED:20250505T095126Z
LAST-MODIFIED:20250905T085924Z
UID:10044826-1791201600-1791221400@vorescosmos.dk
SUMMARY:Café Cosmos
DESCRIPTION:
URL:https://vorescosmos.dk/begivenhed/cafe-cosmos/2026-10-05/
LOCATION:Fælleskøkkenet\, Søndergade 11\, Viby Sj.\, 4130\, Danmark
CATEGORIES:Lokale bookninger
END:VEVENT
BEGIN:VEVENT
DTSTART;TZID=Europe/Copenhagen:20261005T160000
DTEND;TZID=Europe/Copenhagen:20261005T180000
DTSTAMP:20260423T111406
CREATED:20231030T123535Z
LAST-MODIFIED:20241205T141227Z
UID:10039943-1791216000-1791223200@vorescosmos.dk
SUMMARY:Bibliotekscaféen
DESCRIPTION:
URL:https://vorescosmos.dk/begivenhed/bibliotekscafeen-12/2026-10-05/
LOCATION:Tænketanken\, Søndergade 11\, Viby Sj.\, 4130\, Danmark
CATEGORIES:Lokale bookninger
END:VEVENT
BEGIN:VEVENT
DTSTART;TZID=Europe/Copenhagen:20261006T120000
DTEND;TZID=Europe/Copenhagen:20261006T173000
DTSTAMP:20260423T111406
CREATED:20250505T095126Z
LAST-MODIFIED:20250905T085924Z
UID:10044827-1791288000-1791307800@vorescosmos.dk
SUMMARY:Café Cosmos
DESCRIPTION:
URL:https://vorescosmos.dk/begivenhed/cafe-cosmos/2026-10-06/
LOCATION:Fælleskøkkenet\, Søndergade 11\, Viby Sj.\, 4130\, Danmark
CATEGORIES:Lokale bookninger
END:VEVENT
BEGIN:VEVENT
DTSTART;TZID=Europe/Copenhagen:20261007T120000
DTEND;TZID=Europe/Copenhagen:20261007T173000
DTSTAMP:20260423T111406
CREATED:20250505T095126Z
LAST-MODIFIED:20250905T085924Z
UID:10044828-1791374400-1791394200@vorescosmos.dk
SUMMARY:Café Cosmos
DESCRIPTION:
URL:https://vorescosmos.dk/begivenhed/cafe-cosmos/2026-10-07/
LOCATION:Fælleskøkkenet\, Søndergade 11\, Viby Sj.\, 4130\, Danmark
CATEGORIES:Lokale bookninger
END:VEVENT
BEGIN:VEVENT
DTSTART;TZID=Europe/Copenhagen:20261008T080000
DTEND;TZID=Europe/Copenhagen:20261008T170000
DTSTAMP:20260423T111406
CREATED:20231123T134526Z
LAST-MODIFIED:20240627T092948Z
UID:10038516-1791446400-1791478800@vorescosmos.dk
SUMMARY:Reserveret arkivet
DESCRIPTION:
URL:https://vorescosmos.dk/begivenhed/reserveret-arkivet/2026-10-08/
LOCATION:Ramsørummet\, Søndergade 11\, Viby Sj.\, 4130\, Danmark
CATEGORIES:Lokale bookninger
END:VEVENT
BEGIN:VEVENT
DTSTART;TZID=Europe/Copenhagen:20261008T120000
DTEND;TZID=Europe/Copenhagen:20261008T173000
DTSTAMP:20260423T111406
CREATED:20250505T095126Z
LAST-MODIFIED:20250905T085924Z
UID:10046057-1791460800-1791480600@vorescosmos.dk
SUMMARY:Café Cosmos
DESCRIPTION:
URL:https://vorescosmos.dk/begivenhed/cafe-cosmos/2026-10-08/
LOCATION:Fælleskøkkenet\, Søndergade 11\, Viby Sj.\, 4130\, Danmark
CATEGORIES:Lokale bookninger
END:VEVENT
BEGIN:VEVENT
DTSTART;TZID=Europe/Copenhagen:20261009T160000
DTEND;TZID=Europe/Copenhagen:20261009T233000
DTSTAMP:20260423T111406
CREATED:20260410T110442Z
LAST-MODIFIED:20260410T110442Z
UID:10047003-1791561600-1791588600@vorescosmos.dk
SUMMARY:3. musikformat
DESCRIPTION:
URL:https://vorescosmos.dk/begivenhed/3-musikformat-15/
LOCATION:Peder Syv salen\, Søndergade 11\, Viby Sj.\, 4130\, Danmark
CATEGORIES:Lokale bookninger
END:VEVENT
BEGIN:VEVENT
DTSTART;TZID=Europe/Copenhagen:20261009T160000
DTEND;TZID=Europe/Copenhagen:20261009T233000
DTSTAMP:20260423T111406
CREATED:20260410T110600Z
LAST-MODIFIED:20260410T110600Z
UID:10047004-1791561600-1791588600@vorescosmos.dk
SUMMARY:3. musik format
DESCRIPTION:
URL:https://vorescosmos.dk/begivenhed/3-musik-format/
LOCATION:Fælleskøkkenet\, Søndergade 11\, Viby Sj.\, 4130\, Danmark
CATEGORIES:Lokale bookninger
END:VEVENT
BEGIN:VEVENT
DTSTART;TZID=Europe/Copenhagen:20261009T160000
DTEND;TZID=Europe/Copenhagen:20261009T233000
DTSTAMP:20260423T111406
CREATED:20260410T110702Z
LAST-MODIFIED:20260410T110703Z
UID:10047005-1791561600-1791588600@vorescosmos.dk
SUMMARY:3. musikformat
DESCRIPTION:
URL:https://vorescosmos.dk/begivenhed/3-musikformat-16/
LOCATION:Backstage\, Søndergade 11\, Viby Sj.\, 4130
CATEGORIES:Lokale bookninger
END:VEVENT
BEGIN:VEVENT
DTSTART;TZID=Europe/Copenhagen:20261010T100000
DTEND;TZID=Europe/Copenhagen:20261010T150000
DTSTAMP:20260423T111406
CREATED:20250109T113659Z
LAST-MODIFIED:20250109T113958Z
UID:10043203-1791626400-1791644400@vorescosmos.dk
SUMMARY:BilledCosmos
DESCRIPTION:
URL:https://vorescosmos.dk/begivenhed/billedcosmos-26/2026-10-10/
LOCATION:Værkstedet\, Søndergade 11\, Viby Sj.\, 4130\, Danmark
CATEGORIES:Lokale bookninger
END:VEVENT
BEGIN:VEVENT
DTSTART;TZID=Europe/Copenhagen:20261010T103000
DTEND;TZID=Europe/Copenhagen:20261010T143000
DTSTAMP:20260423T111406
CREATED:20260216T140454Z
LAST-MODIFIED:20260216T140455Z
UID:10046799-1791628200-1791642600@vorescosmos.dk
SUMMARY:Café Cosmos
DESCRIPTION:
URL:https://vorescosmos.dk/begivenhed/cafe-cosmos-35/
LOCATION:Fælleskøkkenet\, Søndergade 11\, Viby Sj.\, 4130\, Danmark
CATEGORIES:Lokale bookninger
END:VEVENT
BEGIN:VEVENT
DTSTART;TZID=Europe/Copenhagen:20261012T120000
DTEND;TZID=Europe/Copenhagen:20261012T173000
DTSTAMP:20260423T111406
CREATED:20250505T095126Z
LAST-MODIFIED:20250905T085924Z
UID:10044830-1791806400-1791826200@vorescosmos.dk
SUMMARY:Café Cosmos
DESCRIPTION:
URL:https://vorescosmos.dk/begivenhed/cafe-cosmos/2026-10-12/
LOCATION:Fælleskøkkenet\, Søndergade 11\, Viby Sj.\, 4130\, Danmark
CATEGORIES:Lokale bookninger
END:VEVENT
BEGIN:VEVENT
DTSTART;TZID=Europe/Copenhagen:20261012T160000
DTEND;TZID=Europe/Copenhagen:20261012T180000
DTSTAMP:20260423T111406
CREATED:20231030T123535Z
LAST-MODIFIED:20241205T141227Z
UID:10039944-1791820800-1791828000@vorescosmos.dk
SUMMARY:Bibliotekscaféen
DESCRIPTION:
URL:https://vorescosmos.dk/begivenhed/bibliotekscafeen-12/2026-10-12/
LOCATION:Tænketanken\, Søndergade 11\, Viby Sj.\, 4130\, Danmark
CATEGORIES:Lokale bookninger
END:VEVENT
END:VCALENDAR