BEGIN:VCALENDAR
VERSION:2.0
PRODID:-//Vores Cosmos - ECPv6.15.20//NONSGML v1.0//EN
CALSCALE:GREGORIAN
METHOD:PUBLISH
X-ORIGINAL-URL:https://vorescosmos.dk
X-WR-CALDESC:Begivenheder for Vores Cosmos
REFRESH-INTERVAL;VALUE=DURATION:PT1H
X-Robots-Tag:noindex
X-PUBLISHED-TTL:PT1H
BEGIN:VTIMEZONE
TZID:Europe/Copenhagen
BEGIN:DAYLIGHT
TZOFFSETFROM:+0100
TZOFFSETTO:+0200
TZNAME:CEST
DTSTART:20250330T010000
END:DAYLIGHT
BEGIN:STANDARD
TZOFFSETFROM:+0200
TZOFFSETTO:+0100
TZNAME:CET
DTSTART:20251026T010000
END:STANDARD
BEGIN:DAYLIGHT
TZOFFSETFROM:+0100
TZOFFSETTO:+0200
TZNAME:CEST
DTSTART:20260329T010000
END:DAYLIGHT
BEGIN:STANDARD
TZOFFSETFROM:+0200
TZOFFSETTO:+0100
TZNAME:CET
DTSTART:20261025T010000
END:STANDARD
BEGIN:DAYLIGHT
TZOFFSETFROM:+0100
TZOFFSETTO:+0200
TZNAME:CEST
DTSTART:20270328T010000
END:DAYLIGHT
BEGIN:STANDARD
TZOFFSETFROM:+0200
TZOFFSETTO:+0100
TZNAME:CET
DTSTART:20271031T010000
END:STANDARD
END:VTIMEZONE
BEGIN:VEVENT
DTSTART;TZID=Europe/Copenhagen:20261015T080000
DTEND;TZID=Europe/Copenhagen:20261015T170000
DTSTAMP:20260423T160040
CREATED:20231123T134526Z
LAST-MODIFIED:20240627T092948Z
UID:10038517-1792051200-1792083600@vorescosmos.dk
SUMMARY:Reserveret arkivet
DESCRIPTION:
URL:https://vorescosmos.dk/begivenhed/reserveret-arkivet/2026-10-15/
LOCATION:Ramsørummet\, Søndergade 11\, Viby Sj.\, 4130\, Danmark
CATEGORIES:Lokale bookninger
END:VEVENT
BEGIN:VEVENT
DTSTART;TZID=Europe/Copenhagen:20261015T120000
DTEND;TZID=Europe/Copenhagen:20261015T173000
DTSTAMP:20260423T160040
CREATED:20250505T095126Z
LAST-MODIFIED:20250905T085924Z
UID:10046058-1792065600-1792085400@vorescosmos.dk
SUMMARY:Café Cosmos
DESCRIPTION:
URL:https://vorescosmos.dk/begivenhed/cafe-cosmos/2026-10-15/
LOCATION:Fælleskøkkenet\, Søndergade 11\, Viby Sj.\, 4130\, Danmark
CATEGORIES:Lokale bookninger
END:VEVENT
BEGIN:VEVENT
DTSTART;TZID=Europe/Copenhagen:20261015T130000
DTEND;TZID=Europe/Copenhagen:20261015T190000
DTSTAMP:20260423T160040
CREATED:20260416T132836Z
LAST-MODIFIED:20260421T125118Z
UID:10047022-1792069200-1792090800@vorescosmos.dk
SUMMARY:Spindeforeningen
DESCRIPTION:
URL:https://vorescosmos.dk/begivenhed/spindeforeningen-3/
LOCATION:Tænketanken\, Søndergade 11\, Viby Sj.\, 4130\, Danmark
CATEGORIES:Lokale bookninger
END:VEVENT
BEGIN:VEVENT
DTSTART;TZID=Europe/Copenhagen:20261017T100000
DTEND;TZID=Europe/Copenhagen:20261017T150000
DTSTAMP:20260423T160040
CREATED:20250109T113659Z
LAST-MODIFIED:20250109T113958Z
UID:10043204-1792231200-1792249200@vorescosmos.dk
SUMMARY:BilledCosmos
DESCRIPTION:
URL:https://vorescosmos.dk/begivenhed/billedcosmos-26/2026-10-17/
LOCATION:Værkstedet\, Søndergade 11\, Viby Sj.\, 4130\, Danmark
CATEGORIES:Lokale bookninger
END:VEVENT
BEGIN:VEVENT
DTSTART;TZID=Europe/Copenhagen:20261017T103000
DTEND;TZID=Europe/Copenhagen:20261017T143000
DTSTAMP:20260423T160040
CREATED:20260216T140550Z
LAST-MODIFIED:20260216T140550Z
UID:10046800-1792233000-1792247400@vorescosmos.dk
SUMMARY:Café Cosmos
DESCRIPTION:
URL:https://vorescosmos.dk/begivenhed/cafe-cosmos-36/
LOCATION:Fælleskøkkenet\, Søndergade 11\, Viby Sj.\, 4130\, Danmark
CATEGORIES:Lokale bookninger
END:VEVENT
BEGIN:VEVENT
DTSTART;TZID=Europe/Copenhagen:20261019T120000
DTEND;TZID=Europe/Copenhagen:20261019T173000
DTSTAMP:20260423T160040
CREATED:20250505T095126Z
LAST-MODIFIED:20250905T085924Z
UID:10044834-1792411200-1792431000@vorescosmos.dk
SUMMARY:Café Cosmos
DESCRIPTION:
URL:https://vorescosmos.dk/begivenhed/cafe-cosmos/2026-10-19/
LOCATION:Fælleskøkkenet\, Søndergade 11\, Viby Sj.\, 4130\, Danmark
CATEGORIES:Lokale bookninger
END:VEVENT
BEGIN:VEVENT
DTSTART;TZID=Europe/Copenhagen:20261019T160000
DTEND;TZID=Europe/Copenhagen:20261019T180000
DTSTAMP:20260423T160040
CREATED:20231030T123535Z
LAST-MODIFIED:20241205T141227Z
UID:10039945-1792425600-1792432800@vorescosmos.dk
SUMMARY:Bibliotekscaféen
DESCRIPTION:
URL:https://vorescosmos.dk/begivenhed/bibliotekscafeen-12/2026-10-19/
LOCATION:Tænketanken\, Søndergade 11\, Viby Sj.\, 4130\, Danmark
CATEGORIES:Lokale bookninger
END:VEVENT
BEGIN:VEVENT
DTSTART;TZID=Europe/Copenhagen:20261020T120000
DTEND;TZID=Europe/Copenhagen:20261020T173000
DTSTAMP:20260423T160040
CREATED:20250505T095126Z
LAST-MODIFIED:20250905T085924Z
UID:10044835-1792497600-1792517400@vorescosmos.dk
SUMMARY:Café Cosmos
DESCRIPTION:
URL:https://vorescosmos.dk/begivenhed/cafe-cosmos/2026-10-20/
LOCATION:Fælleskøkkenet\, Søndergade 11\, Viby Sj.\, 4130\, Danmark
CATEGORIES:Lokale bookninger
END:VEVENT
BEGIN:VEVENT
DTSTART;TZID=Europe/Copenhagen:20261021T120000
DTEND;TZID=Europe/Copenhagen:20261021T173000
DTSTAMP:20260423T160040
CREATED:20250505T095126Z
LAST-MODIFIED:20250905T085924Z
UID:10044836-1792584000-1792603800@vorescosmos.dk
SUMMARY:Café Cosmos
DESCRIPTION:
URL:https://vorescosmos.dk/begivenhed/cafe-cosmos/2026-10-21/
LOCATION:Fælleskøkkenet\, Søndergade 11\, Viby Sj.\, 4130\, Danmark
CATEGORIES:Lokale bookninger
END:VEVENT
BEGIN:VEVENT
DTSTART;TZID=Europe/Copenhagen:20261022T080000
DTEND;TZID=Europe/Copenhagen:20261022T170000
DTSTAMP:20260423T160040
CREATED:20231123T134526Z
LAST-MODIFIED:20240627T092948Z
UID:10038518-1792656000-1792688400@vorescosmos.dk
SUMMARY:Reserveret arkivet
DESCRIPTION:
URL:https://vorescosmos.dk/begivenhed/reserveret-arkivet/2026-10-22/
LOCATION:Ramsørummet\, Søndergade 11\, Viby Sj.\, 4130\, Danmark
CATEGORIES:Lokale bookninger
END:VEVENT
BEGIN:VEVENT
DTSTART;TZID=Europe/Copenhagen:20261022T120000
DTEND;TZID=Europe/Copenhagen:20261022T173000
DTSTAMP:20260423T160040
CREATED:20250505T095126Z
LAST-MODIFIED:20250905T085924Z
UID:10046059-1792670400-1792690200@vorescosmos.dk
SUMMARY:Café Cosmos
DESCRIPTION:
URL:https://vorescosmos.dk/begivenhed/cafe-cosmos/2026-10-22/
LOCATION:Fælleskøkkenet\, Søndergade 11\, Viby Sj.\, 4130\, Danmark
CATEGORIES:Lokale bookninger
END:VEVENT
BEGIN:VEVENT
DTSTART;TZID=Europe/Copenhagen:20261024T100000
DTEND;TZID=Europe/Copenhagen:20261024T150000
DTSTAMP:20260423T160040
CREATED:20250109T113659Z
LAST-MODIFIED:20250109T113958Z
UID:10043205-1792836000-1792854000@vorescosmos.dk
SUMMARY:BilledCosmos
DESCRIPTION:
URL:https://vorescosmos.dk/begivenhed/billedcosmos-26/2026-10-24/
LOCATION:Værkstedet\, Søndergade 11\, Viby Sj.\, 4130\, Danmark
CATEGORIES:Lokale bookninger
END:VEVENT
BEGIN:VEVENT
DTSTART;TZID=Europe/Copenhagen:20261024T103000
DTEND;TZID=Europe/Copenhagen:20261024T153000
DTSTAMP:20260423T160040
CREATED:20260216T140827Z
LAST-MODIFIED:20260216T140827Z
UID:10046801-1792837800-1792855800@vorescosmos.dk
SUMMARY:Café Cosmos
DESCRIPTION:
URL:https://vorescosmos.dk/begivenhed/cafe-cosmos-37/
LOCATION:Fælleskøkkenet\, Søndergade 11\, Viby Sj.\, 4130\, Danmark
CATEGORIES:Lokale bookninger
END:VEVENT
BEGIN:VEVENT
DTSTART;TZID=Europe/Copenhagen:20261026T120000
DTEND;TZID=Europe/Copenhagen:20261026T173000
DTSTAMP:20260423T160040
CREATED:20250505T095126Z
LAST-MODIFIED:20250905T085924Z
UID:10044838-1793016000-1793035800@vorescosmos.dk
SUMMARY:Café Cosmos
DESCRIPTION:
URL:https://vorescosmos.dk/begivenhed/cafe-cosmos/2026-10-26/
LOCATION:Fælleskøkkenet\, Søndergade 11\, Viby Sj.\, 4130\, Danmark
CATEGORIES:Lokale bookninger
END:VEVENT
BEGIN:VEVENT
DTSTART;TZID=Europe/Copenhagen:20261026T160000
DTEND;TZID=Europe/Copenhagen:20261026T180000
DTSTAMP:20260423T160040
CREATED:20231030T123535Z
LAST-MODIFIED:20241205T141227Z
UID:10039946-1793030400-1793037600@vorescosmos.dk
SUMMARY:Bibliotekscaféen
DESCRIPTION:
URL:https://vorescosmos.dk/begivenhed/bibliotekscafeen-12/2026-10-26/
LOCATION:Tænketanken\, Søndergade 11\, Viby Sj.\, 4130\, Danmark
CATEGORIES:Lokale bookninger
END:VEVENT
BEGIN:VEVENT
DTSTART;TZID=Europe/Copenhagen:20261027T120000
DTEND;TZID=Europe/Copenhagen:20261027T173000
DTSTAMP:20260423T160040
CREATED:20250505T095126Z
LAST-MODIFIED:20250905T085924Z
UID:10044839-1793102400-1793122200@vorescosmos.dk
SUMMARY:Café Cosmos
DESCRIPTION:
URL:https://vorescosmos.dk/begivenhed/cafe-cosmos/2026-10-27/
LOCATION:Fælleskøkkenet\, Søndergade 11\, Viby Sj.\, 4130\, Danmark
CATEGORIES:Lokale bookninger
END:VEVENT
BEGIN:VEVENT
DTSTART;TZID=Europe/Copenhagen:20261028T120000
DTEND;TZID=Europe/Copenhagen:20261028T173000
DTSTAMP:20260423T160040
CREATED:20250505T095126Z
LAST-MODIFIED:20250905T085924Z
UID:10044840-1793188800-1793208600@vorescosmos.dk
SUMMARY:Café Cosmos
DESCRIPTION:
URL:https://vorescosmos.dk/begivenhed/cafe-cosmos/2026-10-28/
LOCATION:Fælleskøkkenet\, Søndergade 11\, Viby Sj.\, 4130\, Danmark
CATEGORIES:Lokale bookninger
END:VEVENT
BEGIN:VEVENT
DTSTART;TZID=Europe/Copenhagen:20261029T080000
DTEND;TZID=Europe/Copenhagen:20261029T170000
DTSTAMP:20260423T160040
CREATED:20231123T134526Z
LAST-MODIFIED:20240627T092948Z
UID:10038519-1793260800-1793293200@vorescosmos.dk
SUMMARY:Reserveret arkivet
DESCRIPTION:
URL:https://vorescosmos.dk/begivenhed/reserveret-arkivet/2026-10-29/
LOCATION:Ramsørummet\, Søndergade 11\, Viby Sj.\, 4130\, Danmark
CATEGORIES:Lokale bookninger
END:VEVENT
BEGIN:VEVENT
DTSTART;TZID=Europe/Copenhagen:20261029T120000
DTEND;TZID=Europe/Copenhagen:20261029T173000
DTSTAMP:20260423T160040
CREATED:20250505T095126Z
LAST-MODIFIED:20250905T085924Z
UID:10046060-1793275200-1793295000@vorescosmos.dk
SUMMARY:Café Cosmos
DESCRIPTION:
URL:https://vorescosmos.dk/begivenhed/cafe-cosmos/2026-10-29/
LOCATION:Fælleskøkkenet\, Søndergade 11\, Viby Sj.\, 4130\, Danmark
CATEGORIES:Lokale bookninger
END:VEVENT
BEGIN:VEVENT
DTSTART;TZID=Europe/Copenhagen:20261031T100000
DTEND;TZID=Europe/Copenhagen:20261031T150000
DTSTAMP:20260423T160040
CREATED:20250109T113659Z
LAST-MODIFIED:20250109T113958Z
UID:10043206-1793440800-1793458800@vorescosmos.dk
SUMMARY:BilledCosmos
DESCRIPTION:
URL:https://vorescosmos.dk/begivenhed/billedcosmos-26/2026-10-31/
LOCATION:Værkstedet\, Søndergade 11\, Viby Sj.\, 4130\, Danmark
CATEGORIES:Lokale bookninger
END:VEVENT
BEGIN:VEVENT
DTSTART;TZID=Europe/Copenhagen:20261031T103000
DTEND;TZID=Europe/Copenhagen:20261031T143000
DTSTAMP:20260423T160040
CREATED:20260216T141422Z
LAST-MODIFIED:20260216T141422Z
UID:10046802-1793442600-1793457000@vorescosmos.dk
SUMMARY:Café Cosmos
DESCRIPTION:
URL:https://vorescosmos.dk/begivenhed/cafe-cosmos-38/
LOCATION:Fælleskøkkenet\, Søndergade 11\, Viby Sj.\, 4130\, Danmark
CATEGORIES:Lokale bookninger
END:VEVENT
BEGIN:VEVENT
DTSTART;TZID=Europe/Copenhagen:20261102T120000
DTEND;TZID=Europe/Copenhagen:20261102T173000
DTSTAMP:20260423T160040
CREATED:20250505T095126Z
LAST-MODIFIED:20250905T085924Z
UID:10044842-1793620800-1793640600@vorescosmos.dk
SUMMARY:Café Cosmos
DESCRIPTION:
URL:https://vorescosmos.dk/begivenhed/cafe-cosmos/2026-11-02/
LOCATION:Fælleskøkkenet\, Søndergade 11\, Viby Sj.\, 4130\, Danmark
CATEGORIES:Lokale bookninger
END:VEVENT
BEGIN:VEVENT
DTSTART;TZID=Europe/Copenhagen:20261102T160000
DTEND;TZID=Europe/Copenhagen:20261102T180000
DTSTAMP:20260423T160040
CREATED:20231030T123535Z
LAST-MODIFIED:20241205T141227Z
UID:10039947-1793635200-1793642400@vorescosmos.dk
SUMMARY:Bibliotekscaféen
DESCRIPTION:
URL:https://vorescosmos.dk/begivenhed/bibliotekscafeen-12/2026-11-02/
LOCATION:Tænketanken\, Søndergade 11\, Viby Sj.\, 4130\, Danmark
CATEGORIES:Lokale bookninger
END:VEVENT
BEGIN:VEVENT
DTSTART;TZID=Europe/Copenhagen:20261103T120000
DTEND;TZID=Europe/Copenhagen:20261103T173000
DTSTAMP:20260423T160040
CREATED:20250505T095126Z
LAST-MODIFIED:20250905T085924Z
UID:10044843-1793707200-1793727000@vorescosmos.dk
SUMMARY:Café Cosmos
DESCRIPTION:
URL:https://vorescosmos.dk/begivenhed/cafe-cosmos/2026-11-03/
LOCATION:Fælleskøkkenet\, Søndergade 11\, Viby Sj.\, 4130\, Danmark
CATEGORIES:Lokale bookninger
END:VEVENT
BEGIN:VEVENT
DTSTART;TZID=Europe/Copenhagen:20261103T173000
DTEND;TZID=Europe/Copenhagen:20261103T223000
DTSTAMP:20260423T160040
CREATED:20260312T121541Z
LAST-MODIFIED:20260312T121542Z
UID:10046970-1793727000-1793745000@vorescosmos.dk
SUMMARY:Kulturcosmos
DESCRIPTION:
URL:https://vorescosmos.dk/begivenhed/kulturcosmos-61/
LOCATION:Peder Syv salen\, Søndergade 11\, Viby Sj.\, 4130\, Danmark
CATEGORIES:Lokale bookninger
END:VEVENT
BEGIN:VEVENT
DTSTART;TZID=Europe/Copenhagen:20261103T173000
DTEND;TZID=Europe/Copenhagen:20261103T223000
DTSTAMP:20260423T160040
CREATED:20260312T121639Z
LAST-MODIFIED:20260312T121640Z
UID:10046971-1793727000-1793745000@vorescosmos.dk
SUMMARY:Kulturcosmos
DESCRIPTION:
URL:https://vorescosmos.dk/begivenhed/kulturcosmos-62/
LOCATION:Backstage\, Søndergade 11\, Viby Sj.\, 4130
CATEGORIES:Lokale bookninger
END:VEVENT
BEGIN:VEVENT
DTSTART;TZID=Europe/Copenhagen:20261103T173000
DTEND;TZID=Europe/Copenhagen:20261103T223000
DTSTAMP:20260423T160040
CREATED:20260312T121725Z
LAST-MODIFIED:20260312T121726Z
UID:10046972-1793727000-1793745000@vorescosmos.dk
SUMMARY:Kulturcosmos
DESCRIPTION:
URL:https://vorescosmos.dk/begivenhed/kulturcosmos-63/
LOCATION:Fælleskøkkenet\, Søndergade 11\, Viby Sj.\, 4130\, Danmark
CATEGORIES:Lokale bookninger
END:VEVENT
BEGIN:VEVENT
DTSTART;TZID=Europe/Copenhagen:20261104T120000
DTEND;TZID=Europe/Copenhagen:20261104T173000
DTSTAMP:20260423T160040
CREATED:20250505T095126Z
LAST-MODIFIED:20250905T085924Z
UID:10044844-1793793600-1793813400@vorescosmos.dk
SUMMARY:Café Cosmos
DESCRIPTION:
URL:https://vorescosmos.dk/begivenhed/cafe-cosmos/2026-11-04/
LOCATION:Fælleskøkkenet\, Søndergade 11\, Viby Sj.\, 4130\, Danmark
CATEGORIES:Lokale bookninger
END:VEVENT
BEGIN:VEVENT
DTSTART;TZID=Europe/Copenhagen:20261105T080000
DTEND;TZID=Europe/Copenhagen:20261105T170000
DTSTAMP:20260423T160040
CREATED:20231123T134526Z
LAST-MODIFIED:20240627T092948Z
UID:10038520-1793865600-1793898000@vorescosmos.dk
SUMMARY:Reserveret arkivet
DESCRIPTION:
URL:https://vorescosmos.dk/begivenhed/reserveret-arkivet/2026-11-05/
LOCATION:Ramsørummet\, Søndergade 11\, Viby Sj.\, 4130\, Danmark
CATEGORIES:Lokale bookninger
END:VEVENT
BEGIN:VEVENT
DTSTART;TZID=Europe/Copenhagen:20261105T120000
DTEND;TZID=Europe/Copenhagen:20261105T173000
DTSTAMP:20260423T160040
CREATED:20250505T095126Z
LAST-MODIFIED:20250905T085924Z
UID:10046061-1793880000-1793899800@vorescosmos.dk
SUMMARY:Café Cosmos
DESCRIPTION:
URL:https://vorescosmos.dk/begivenhed/cafe-cosmos/2026-11-05/
LOCATION:Fælleskøkkenet\, Søndergade 11\, Viby Sj.\, 4130\, Danmark
CATEGORIES:Lokale bookninger
END:VEVENT
END:VCALENDAR