BEGIN:VCALENDAR
VERSION:2.0
PRODID:-//Vores Cosmos - ECPv6.15.20//NONSGML v1.0//EN
CALSCALE:GREGORIAN
METHOD:PUBLISH
X-WR-CALNAME:Vores Cosmos
X-ORIGINAL-URL:https://vorescosmos.dk
X-WR-CALDESC:Begivenheder for Vores Cosmos
REFRESH-INTERVAL;VALUE=DURATION:PT1H
X-Robots-Tag:noindex
X-PUBLISHED-TTL:PT1H
BEGIN:VTIMEZONE
TZID:Europe/Copenhagen
BEGIN:DAYLIGHT
TZOFFSETFROM:+0100
TZOFFSETTO:+0200
TZNAME:CEST
DTSTART:20250330T010000
END:DAYLIGHT
BEGIN:STANDARD
TZOFFSETFROM:+0200
TZOFFSETTO:+0100
TZNAME:CET
DTSTART:20251026T010000
END:STANDARD
BEGIN:DAYLIGHT
TZOFFSETFROM:+0100
TZOFFSETTO:+0200
TZNAME:CEST
DTSTART:20260329T010000
END:DAYLIGHT
BEGIN:STANDARD
TZOFFSETFROM:+0200
TZOFFSETTO:+0100
TZNAME:CET
DTSTART:20261025T010000
END:STANDARD
BEGIN:DAYLIGHT
TZOFFSETFROM:+0100
TZOFFSETTO:+0200
TZNAME:CEST
DTSTART:20270328T010000
END:DAYLIGHT
BEGIN:STANDARD
TZOFFSETFROM:+0200
TZOFFSETTO:+0100
TZNAME:CET
DTSTART:20271031T010000
END:STANDARD
BEGIN:DAYLIGHT
TZOFFSETFROM:+0100
TZOFFSETTO:+0200
TZNAME:CEST
DTSTART:20280326T010000
END:DAYLIGHT
BEGIN:STANDARD
TZOFFSETFROM:+0200
TZOFFSETTO:+0100
TZNAME:CET
DTSTART:20281029T010000
END:STANDARD
END:VTIMEZONE
BEGIN:VEVENT
DTSTART;TZID=Europe/Copenhagen:20261214T160000
DTEND;TZID=Europe/Copenhagen:20261214T180000
DTSTAMP:20260424T035209
CREATED:20231030T123535Z
LAST-MODIFIED:20241205T141227Z
UID:10039953-1797264000-1797271200@vorescosmos.dk
SUMMARY:Bibliotekscaféen
DESCRIPTION:
URL:https://vorescosmos.dk/begivenhed/bibliotekscafeen-12/2026-12-14/
LOCATION:Tænketanken\, Søndergade 11\, Viby Sj.\, 4130\, Danmark
CATEGORIES:Lokale bookninger
END:VEVENT
BEGIN:VEVENT
DTSTART;TZID=Europe/Copenhagen:20261215T120000
DTEND;TZID=Europe/Copenhagen:20261215T173000
DTSTAMP:20260424T035209
CREATED:20250505T095126Z
LAST-MODIFIED:20250905T085924Z
UID:10044867-1797336000-1797355800@vorescosmos.dk
SUMMARY:Café Cosmos
DESCRIPTION:
URL:https://vorescosmos.dk/begivenhed/cafe-cosmos/2026-12-15/
LOCATION:Fælleskøkkenet\, Søndergade 11\, Viby Sj.\, 4130\, Danmark
CATEGORIES:Lokale bookninger
END:VEVENT
BEGIN:VEVENT
DTSTART;TZID=Europe/Copenhagen:20261216T120000
DTEND;TZID=Europe/Copenhagen:20261216T173000
DTSTAMP:20260424T035209
CREATED:20250505T095126Z
LAST-MODIFIED:20250905T085924Z
UID:10044868-1797422400-1797442200@vorescosmos.dk
SUMMARY:Café Cosmos
DESCRIPTION:
URL:https://vorescosmos.dk/begivenhed/cafe-cosmos/2026-12-16/
LOCATION:Fælleskøkkenet\, Søndergade 11\, Viby Sj.\, 4130\, Danmark
CATEGORIES:Lokale bookninger
END:VEVENT
BEGIN:VEVENT
DTSTART;TZID=Europe/Copenhagen:20261216T130000
DTEND;TZID=Europe/Copenhagen:20261216T190000
DTSTAMP:20260424T035209
CREATED:20260416T133037Z
LAST-MODIFIED:20260421T125428Z
UID:10047024-1797426000-1797447600@vorescosmos.dk
SUMMARY:Spindeforeningen
DESCRIPTION:
URL:https://vorescosmos.dk/begivenhed/spindeforeningen-5/
LOCATION:Tænketanken\, Søndergade 11\, Viby Sj.\, 4130\, Danmark
CATEGORIES:Lokale bookninger
END:VEVENT
BEGIN:VEVENT
DTSTART;TZID=Europe/Copenhagen:20261217T080000
DTEND;TZID=Europe/Copenhagen:20261217T170000
DTSTAMP:20260424T035210
CREATED:20231123T134526Z
LAST-MODIFIED:20240627T092948Z
UID:10038526-1797494400-1797526800@vorescosmos.dk
SUMMARY:Reserveret arkivet
DESCRIPTION:
URL:https://vorescosmos.dk/begivenhed/reserveret-arkivet/2026-12-17/
LOCATION:Ramsørummet\, Søndergade 11\, Viby Sj.\, 4130\, Danmark
CATEGORIES:Lokale bookninger
END:VEVENT
BEGIN:VEVENT
DTSTART;TZID=Europe/Copenhagen:20261217T120000
DTEND;TZID=Europe/Copenhagen:20261217T173000
DTSTAMP:20260424T035210
CREATED:20250505T095126Z
LAST-MODIFIED:20250905T085924Z
UID:10046067-1797508800-1797528600@vorescosmos.dk
SUMMARY:Café Cosmos
DESCRIPTION:
URL:https://vorescosmos.dk/begivenhed/cafe-cosmos/2026-12-17/
LOCATION:Fælleskøkkenet\, Søndergade 11\, Viby Sj.\, 4130\, Danmark
CATEGORIES:Lokale bookninger
END:VEVENT
BEGIN:VEVENT
DTSTART;TZID=Europe/Copenhagen:20261219T100000
DTEND;TZID=Europe/Copenhagen:20261219T150000
DTSTAMP:20260424T035210
CREATED:20250109T113659Z
LAST-MODIFIED:20250109T113958Z
UID:10043213-1797674400-1797692400@vorescosmos.dk
SUMMARY:BilledCosmos
DESCRIPTION:
URL:https://vorescosmos.dk/begivenhed/billedcosmos-26/2026-12-19/
LOCATION:Værkstedet\, Søndergade 11\, Viby Sj.\, 4130\, Danmark
CATEGORIES:Lokale bookninger
END:VEVENT
BEGIN:VEVENT
DTSTART;TZID=Europe/Copenhagen:20261219T103000
DTEND;TZID=Europe/Copenhagen:20261219T143000
DTSTAMP:20260424T035210
CREATED:20260216T142132Z
LAST-MODIFIED:20260216T142133Z
UID:10046809-1797676200-1797690600@vorescosmos.dk
SUMMARY:Café Cosmos
DESCRIPTION:
URL:https://vorescosmos.dk/begivenhed/cafe-cosmos-45/
LOCATION:Fælleskøkkenet\, Søndergade 11\, Viby Sj.\, 4130\, Danmark
CATEGORIES:Lokale bookninger
END:VEVENT
BEGIN:VEVENT
DTSTART;TZID=Europe/Copenhagen:20261221T120000
DTEND;TZID=Europe/Copenhagen:20261221T173000
DTSTAMP:20260424T035210
CREATED:20250505T095126Z
LAST-MODIFIED:20250905T085924Z
UID:10044870-1797854400-1797874200@vorescosmos.dk
SUMMARY:Café Cosmos
DESCRIPTION:
URL:https://vorescosmos.dk/begivenhed/cafe-cosmos/2026-12-21/
LOCATION:Fælleskøkkenet\, Søndergade 11\, Viby Sj.\, 4130\, Danmark
CATEGORIES:Lokale bookninger
END:VEVENT
BEGIN:VEVENT
DTSTART;TZID=Europe/Copenhagen:20261221T160000
DTEND;TZID=Europe/Copenhagen:20261221T180000
DTSTAMP:20260424T035210
CREATED:20231030T123535Z
LAST-MODIFIED:20241205T141227Z
UID:10039954-1797868800-1797876000@vorescosmos.dk
SUMMARY:Bibliotekscaféen
DESCRIPTION:
URL:https://vorescosmos.dk/begivenhed/bibliotekscafeen-12/2026-12-21/
LOCATION:Tænketanken\, Søndergade 11\, Viby Sj.\, 4130\, Danmark
CATEGORIES:Lokale bookninger
END:VEVENT
BEGIN:VEVENT
DTSTART;TZID=Europe/Copenhagen:20261222T120000
DTEND;TZID=Europe/Copenhagen:20261222T173000
DTSTAMP:20260424T035210
CREATED:20250505T095126Z
LAST-MODIFIED:20250905T085924Z
UID:10044871-1797940800-1797960600@vorescosmos.dk
SUMMARY:Café Cosmos
DESCRIPTION:
URL:https://vorescosmos.dk/begivenhed/cafe-cosmos/2026-12-22/
LOCATION:Fælleskøkkenet\, Søndergade 11\, Viby Sj.\, 4130\, Danmark
CATEGORIES:Lokale bookninger
END:VEVENT
BEGIN:VEVENT
DTSTART;TZID=Europe/Copenhagen:20261223T120000
DTEND;TZID=Europe/Copenhagen:20261223T173000
DTSTAMP:20260424T035210
CREATED:20250505T095126Z
LAST-MODIFIED:20250905T085924Z
UID:10044872-1798027200-1798047000@vorescosmos.dk
SUMMARY:Café Cosmos
DESCRIPTION:
URL:https://vorescosmos.dk/begivenhed/cafe-cosmos/2026-12-23/
LOCATION:Fælleskøkkenet\, Søndergade 11\, Viby Sj.\, 4130\, Danmark
CATEGORIES:Lokale bookninger
END:VEVENT
BEGIN:VEVENT
DTSTART;TZID=Europe/Copenhagen:20261224T080000
DTEND;TZID=Europe/Copenhagen:20261224T170000
DTSTAMP:20260424T035210
CREATED:20231123T134526Z
LAST-MODIFIED:20240627T092948Z
UID:10038527-1798099200-1798131600@vorescosmos.dk
SUMMARY:Reserveret arkivet
DESCRIPTION:
URL:https://vorescosmos.dk/begivenhed/reserveret-arkivet/2026-12-24/
LOCATION:Ramsørummet\, Søndergade 11\, Viby Sj.\, 4130\, Danmark
CATEGORIES:Lokale bookninger
END:VEVENT
BEGIN:VEVENT
DTSTART;TZID=Europe/Copenhagen:20261224T120000
DTEND;TZID=Europe/Copenhagen:20261224T173000
DTSTAMP:20260424T035210
CREATED:20250505T095126Z
LAST-MODIFIED:20250905T085924Z
UID:10046068-1798113600-1798133400@vorescosmos.dk
SUMMARY:Café Cosmos
DESCRIPTION:
URL:https://vorescosmos.dk/begivenhed/cafe-cosmos/2026-12-24/
LOCATION:Fælleskøkkenet\, Søndergade 11\, Viby Sj.\, 4130\, Danmark
CATEGORIES:Lokale bookninger
END:VEVENT
BEGIN:VEVENT
DTSTART;TZID=Europe/Copenhagen:20261226T100000
DTEND;TZID=Europe/Copenhagen:20261226T150000
DTSTAMP:20260424T035210
CREATED:20250109T113659Z
LAST-MODIFIED:20250109T113958Z
UID:10043214-1798279200-1798297200@vorescosmos.dk
SUMMARY:BilledCosmos
DESCRIPTION:
URL:https://vorescosmos.dk/begivenhed/billedcosmos-26/2026-12-26/
LOCATION:Værkstedet\, Søndergade 11\, Viby Sj.\, 4130\, Danmark
CATEGORIES:Lokale bookninger
END:VEVENT
BEGIN:VEVENT
DTSTART;TZID=Europe/Copenhagen:20261228T120000
DTEND;TZID=Europe/Copenhagen:20261228T173000
DTSTAMP:20260424T035210
CREATED:20250505T095126Z
LAST-MODIFIED:20250905T085924Z
UID:10044874-1798459200-1798479000@vorescosmos.dk
SUMMARY:Café Cosmos
DESCRIPTION:
URL:https://vorescosmos.dk/begivenhed/cafe-cosmos/2026-12-28/
LOCATION:Fælleskøkkenet\, Søndergade 11\, Viby Sj.\, 4130\, Danmark
CATEGORIES:Lokale bookninger
END:VEVENT
BEGIN:VEVENT
DTSTART;TZID=Europe/Copenhagen:20261228T160000
DTEND;TZID=Europe/Copenhagen:20261228T180000
DTSTAMP:20260424T035210
CREATED:20231030T123535Z
LAST-MODIFIED:20241205T141227Z
UID:10039955-1798473600-1798480800@vorescosmos.dk
SUMMARY:Bibliotekscaféen
DESCRIPTION:
URL:https://vorescosmos.dk/begivenhed/bibliotekscafeen-12/2026-12-28/
LOCATION:Tænketanken\, Søndergade 11\, Viby Sj.\, 4130\, Danmark
CATEGORIES:Lokale bookninger
END:VEVENT
BEGIN:VEVENT
DTSTART;TZID=Europe/Copenhagen:20261229T120000
DTEND;TZID=Europe/Copenhagen:20261229T173000
DTSTAMP:20260424T035210
CREATED:20250505T095126Z
LAST-MODIFIED:20250905T085924Z
UID:10044875-1798545600-1798565400@vorescosmos.dk
SUMMARY:Café Cosmos
DESCRIPTION:
URL:https://vorescosmos.dk/begivenhed/cafe-cosmos/2026-12-29/
LOCATION:Fælleskøkkenet\, Søndergade 11\, Viby Sj.\, 4130\, Danmark
CATEGORIES:Lokale bookninger
END:VEVENT
BEGIN:VEVENT
DTSTART;TZID=Europe/Copenhagen:20261230T120000
DTEND;TZID=Europe/Copenhagen:20261230T173000
DTSTAMP:20260424T035210
CREATED:20250505T095126Z
LAST-MODIFIED:20250905T085924Z
UID:10044876-1798632000-1798651800@vorescosmos.dk
SUMMARY:Café Cosmos
DESCRIPTION:
URL:https://vorescosmos.dk/begivenhed/cafe-cosmos/2026-12-30/
LOCATION:Fælleskøkkenet\, Søndergade 11\, Viby Sj.\, 4130\, Danmark
CATEGORIES:Lokale bookninger
END:VEVENT
BEGIN:VEVENT
DTSTART;TZID=Europe/Copenhagen:20261231T080000
DTEND;TZID=Europe/Copenhagen:20261231T170000
DTSTAMP:20260424T035210
CREATED:20231123T134526Z
LAST-MODIFIED:20240627T092948Z
UID:10038528-1798704000-1798736400@vorescosmos.dk
SUMMARY:Reserveret arkivet
DESCRIPTION:
URL:https://vorescosmos.dk/begivenhed/reserveret-arkivet/2026-12-31/
LOCATION:Ramsørummet\, Søndergade 11\, Viby Sj.\, 4130\, Danmark
CATEGORIES:Lokale bookninger
END:VEVENT
BEGIN:VEVENT
DTSTART;TZID=Europe/Copenhagen:20261231T120000
DTEND;TZID=Europe/Copenhagen:20261231T173000
DTSTAMP:20260424T035210
CREATED:20250505T095126Z
LAST-MODIFIED:20250905T085924Z
UID:10046069-1798718400-1798738200@vorescosmos.dk
SUMMARY:Café Cosmos
DESCRIPTION:
URL:https://vorescosmos.dk/begivenhed/cafe-cosmos/2026-12-31/
LOCATION:Fælleskøkkenet\, Søndergade 11\, Viby Sj.\, 4130\, Danmark
CATEGORIES:Lokale bookninger
END:VEVENT
BEGIN:VEVENT
DTSTART;TZID=Europe/Copenhagen:20270102T100000
DTEND;TZID=Europe/Copenhagen:20270102T150000
DTSTAMP:20260424T035210
CREATED:20250109T113659Z
LAST-MODIFIED:20250109T113958Z
UID:10043215-1798884000-1798902000@vorescosmos.dk
SUMMARY:BilledCosmos
DESCRIPTION:
URL:https://vorescosmos.dk/begivenhed/billedcosmos-26/2027-01-02/
LOCATION:Værkstedet\, Søndergade 11\, Viby Sj.\, 4130\, Danmark
CATEGORIES:Lokale bookninger
END:VEVENT
BEGIN:VEVENT
DTSTART;TZID=Europe/Copenhagen:20270104T120000
DTEND;TZID=Europe/Copenhagen:20270104T173000
DTSTAMP:20260424T035210
CREATED:20250505T095126Z
LAST-MODIFIED:20250905T085924Z
UID:10044878-1799064000-1799083800@vorescosmos.dk
SUMMARY:Café Cosmos
DESCRIPTION:
URL:https://vorescosmos.dk/begivenhed/cafe-cosmos/2027-01-04/
LOCATION:Fælleskøkkenet\, Søndergade 11\, Viby Sj.\, 4130\, Danmark
CATEGORIES:Lokale bookninger
END:VEVENT
BEGIN:VEVENT
DTSTART;TZID=Europe/Copenhagen:20270104T160000
DTEND;TZID=Europe/Copenhagen:20270104T180000
DTSTAMP:20260424T035210
CREATED:20231030T123535Z
LAST-MODIFIED:20241205T141227Z
UID:10039956-1799078400-1799085600@vorescosmos.dk
SUMMARY:Bibliotekscaféen
DESCRIPTION:
URL:https://vorescosmos.dk/begivenhed/bibliotekscafeen-12/2027-01-04/
LOCATION:Tænketanken\, Søndergade 11\, Viby Sj.\, 4130\, Danmark
CATEGORIES:Lokale bookninger
END:VEVENT
BEGIN:VEVENT
DTSTART;TZID=Europe/Copenhagen:20270105T120000
DTEND;TZID=Europe/Copenhagen:20270105T173000
DTSTAMP:20260424T035210
CREATED:20250505T095126Z
LAST-MODIFIED:20250905T085924Z
UID:10044879-1799150400-1799170200@vorescosmos.dk
SUMMARY:Café Cosmos
DESCRIPTION:
URL:https://vorescosmos.dk/begivenhed/cafe-cosmos/2027-01-05/
LOCATION:Fælleskøkkenet\, Søndergade 11\, Viby Sj.\, 4130\, Danmark
CATEGORIES:Lokale bookninger
END:VEVENT
BEGIN:VEVENT
DTSTART;TZID=Europe/Copenhagen:20270106T120000
DTEND;TZID=Europe/Copenhagen:20270106T173000
DTSTAMP:20260424T035210
CREATED:20250505T095126Z
LAST-MODIFIED:20250905T085924Z
UID:10044880-1799236800-1799256600@vorescosmos.dk
SUMMARY:Café Cosmos
DESCRIPTION:
URL:https://vorescosmos.dk/begivenhed/cafe-cosmos/2027-01-06/
LOCATION:Fælleskøkkenet\, Søndergade 11\, Viby Sj.\, 4130\, Danmark
CATEGORIES:Lokale bookninger
END:VEVENT
BEGIN:VEVENT
DTSTART;TZID=Europe/Copenhagen:20270107T080000
DTEND;TZID=Europe/Copenhagen:20270107T170000
DTSTAMP:20260424T035210
CREATED:20231123T134526Z
LAST-MODIFIED:20240627T092948Z
UID:10038529-1799308800-1799341200@vorescosmos.dk
SUMMARY:Reserveret arkivet
DESCRIPTION:
URL:https://vorescosmos.dk/begivenhed/reserveret-arkivet/2027-01-07/
LOCATION:Ramsørummet\, Søndergade 11\, Viby Sj.\, 4130\, Danmark
CATEGORIES:Lokale bookninger
END:VEVENT
BEGIN:VEVENT
DTSTART;TZID=Europe/Copenhagen:20270107T120000
DTEND;TZID=Europe/Copenhagen:20270107T173000
DTSTAMP:20260424T035210
CREATED:20250505T095126Z
LAST-MODIFIED:20250905T085924Z
UID:10046070-1799323200-1799343000@vorescosmos.dk
SUMMARY:Café Cosmos
DESCRIPTION:
URL:https://vorescosmos.dk/begivenhed/cafe-cosmos/2027-01-07/
LOCATION:Fælleskøkkenet\, Søndergade 11\, Viby Sj.\, 4130\, Danmark
CATEGORIES:Lokale bookninger
END:VEVENT
BEGIN:VEVENT
DTSTART;TZID=Europe/Copenhagen:20270109T100000
DTEND;TZID=Europe/Copenhagen:20270109T150000
DTSTAMP:20260424T035210
CREATED:20250109T113659Z
LAST-MODIFIED:20250109T113958Z
UID:10043216-1799488800-1799506800@vorescosmos.dk
SUMMARY:BilledCosmos
DESCRIPTION:
URL:https://vorescosmos.dk/begivenhed/billedcosmos-26/2027-01-09/
LOCATION:Værkstedet\, Søndergade 11\, Viby Sj.\, 4130\, Danmark
CATEGORIES:Lokale bookninger
END:VEVENT
BEGIN:VEVENT
DTSTART;TZID=Europe/Copenhagen:20270111T120000
DTEND;TZID=Europe/Copenhagen:20270111T173000
DTSTAMP:20260424T035210
CREATED:20250505T095126Z
LAST-MODIFIED:20250905T085924Z
UID:10044882-1799668800-1799688600@vorescosmos.dk
SUMMARY:Café Cosmos
DESCRIPTION:
URL:https://vorescosmos.dk/begivenhed/cafe-cosmos/2027-01-11/
LOCATION:Fælleskøkkenet\, Søndergade 11\, Viby Sj.\, 4130\, Danmark
CATEGORIES:Lokale bookninger
END:VEVENT
END:VCALENDAR