BEGIN:VCALENDAR
VERSION:2.0
PRODID:-//Vores Cosmos - ECPv6.15.20//NONSGML v1.0//EN
CALSCALE:GREGORIAN
METHOD:PUBLISH
X-ORIGINAL-URL:https://vorescosmos.dk
X-WR-CALDESC:Begivenheder for Vores Cosmos
REFRESH-INTERVAL;VALUE=DURATION:PT1H
X-Robots-Tag:noindex
X-PUBLISHED-TTL:PT1H
BEGIN:VTIMEZONE
TZID:Europe/Copenhagen
BEGIN:DAYLIGHT
TZOFFSETFROM:+0100
TZOFFSETTO:+0200
TZNAME:CEST
DTSTART:20250330T010000
END:DAYLIGHT
BEGIN:STANDARD
TZOFFSETFROM:+0200
TZOFFSETTO:+0100
TZNAME:CET
DTSTART:20251026T010000
END:STANDARD
BEGIN:DAYLIGHT
TZOFFSETFROM:+0100
TZOFFSETTO:+0200
TZNAME:CEST
DTSTART:20260329T010000
END:DAYLIGHT
BEGIN:STANDARD
TZOFFSETFROM:+0200
TZOFFSETTO:+0100
TZNAME:CET
DTSTART:20261025T010000
END:STANDARD
BEGIN:DAYLIGHT
TZOFFSETFROM:+0100
TZOFFSETTO:+0200
TZNAME:CEST
DTSTART:20270328T010000
END:DAYLIGHT
BEGIN:STANDARD
TZOFFSETFROM:+0200
TZOFFSETTO:+0100
TZNAME:CET
DTSTART:20271031T010000
END:STANDARD
END:VTIMEZONE
BEGIN:VEVENT
DTSTART;TZID=Europe/Copenhagen:20260429T093000
DTEND;TZID=Europe/Copenhagen:20260429T110000
DTSTAMP:20260421T193248
CREATED:20251111T141247Z
LAST-MODIFIED:20251111T141248Z
UID:10046531-1777455000-1777460400@vorescosmos.dk
SUMMARY:Roskilde Bibliotekerne
DESCRIPTION:
URL:https://vorescosmos.dk/begivenhed/roskilde-bibliotekerne-5/
LOCATION:Peder Syv salen\, Søndergade 11\, Viby Sj.\, 4130\, Danmark
CATEGORIES:Lokale bookninger
END:VEVENT
BEGIN:VEVENT
DTSTART;TZID=Europe/Copenhagen:20260429T120000
DTEND;TZID=Europe/Copenhagen:20260429T173000
DTSTAMP:20260421T193248
CREATED:20250505T095126Z
LAST-MODIFIED:20250905T085924Z
UID:10044736-1777464000-1777483800@vorescosmos.dk
SUMMARY:Café Cosmos
DESCRIPTION:
URL:https://vorescosmos.dk/begivenhed/cafe-cosmos/2026-04-29/
LOCATION:Fælleskøkkenet\, Søndergade 11\, Viby Sj.\, 4130\, Danmark
CATEGORIES:Lokale bookninger
END:VEVENT
BEGIN:VEVENT
DTSTART;TZID=Europe/Copenhagen:20260429T170000
DTEND;TZID=Europe/Copenhagen:20260429T210000
DTSTAMP:20260421T193248
CREATED:20251103T124235Z
LAST-MODIFIED:20251103T124311Z
UID:10046496-1777482000-1777496400@vorescosmos.dk
SUMMARY:Sycafé
DESCRIPTION:
URL:https://vorescosmos.dk/begivenhed/sycafe/2026-04-29/
LOCATION:Værkstedet\, Søndergade 11\, Viby Sj.\, 4130
CATEGORIES:Lokale bookninger
END:VEVENT
BEGIN:VEVENT
DTSTART;TZID=Europe/Copenhagen:20260429T190000
DTEND;TZID=Europe/Copenhagen:20260429T210000
DTSTAMP:20260421T193248
CREATED:20260211T115841Z
LAST-MODIFIED:20260211T115842Z
UID:10046755-1777489200-1777496400@vorescosmos.dk
SUMMARY:Vejlauget Kildevej syd/Rønne Alle
DESCRIPTION:
URL:https://vorescosmos.dk/begivenhed/vejlauget-kildevej-syd-roenne-alle-2/
LOCATION:Tænketanken\, Søndergade 11\, Viby Sj.\, 4130\, Danmark
CATEGORIES:Lokale bookninger
END:VEVENT
BEGIN:VEVENT
DTSTART;TZID=Europe/Copenhagen:20260430T080000
DTEND;TZID=Europe/Copenhagen:20260430T170000
DTSTAMP:20260421T193248
CREATED:20231123T134526Z
LAST-MODIFIED:20240627T092948Z
UID:10038493-1777536000-1777568400@vorescosmos.dk
SUMMARY:Reserveret arkivet
DESCRIPTION:
URL:https://vorescosmos.dk/begivenhed/reserveret-arkivet/2026-04-30/
LOCATION:Ramsørummet\, Søndergade 11\, Viby Sj.\, 4130\, Danmark
CATEGORIES:Lokale bookninger
END:VEVENT
BEGIN:VEVENT
DTSTART;TZID=Europe/Copenhagen:20260430T100000
DTEND;TZID=Europe/Copenhagen:20260430T150000
DTSTAMP:20260421T193248
CREATED:20251103T120405Z
LAST-MODIFIED:20251103T120405Z
UID:10046480-1777543200-1777561200@vorescosmos.dk
SUMMARY:Akvarellerne
DESCRIPTION:
URL:https://vorescosmos.dk/begivenhed/akvarellerne-6/2026-04-30/
LOCATION:Værkstedet\, Søndergade 11\, Viby Sj.\, 4130\, Danmark
CATEGORIES:Lokale bookninger
END:VEVENT
BEGIN:VEVENT
DTSTART;TZID=Europe/Copenhagen:20260430T120000
DTEND;TZID=Europe/Copenhagen:20260430T173000
DTSTAMP:20260421T193248
CREATED:20250505T095126Z
LAST-MODIFIED:20250905T085924Z
UID:10046034-1777550400-1777570200@vorescosmos.dk
SUMMARY:Café Cosmos
DESCRIPTION:
URL:https://vorescosmos.dk/begivenhed/cafe-cosmos/2026-04-30/
LOCATION:Fælleskøkkenet\, Søndergade 11\, Viby Sj.\, 4130\, Danmark
CATEGORIES:Lokale bookninger
END:VEVENT
BEGIN:VEVENT
DTSTART;TZID=Europe/Copenhagen:20260430T170000
DTEND;TZID=Europe/Copenhagen:20260430T220000
DTSTAMP:20260421T193248
CREATED:20260202T094543Z
LAST-MODIFIED:20260302T115445Z
UID:10046744-1777568400-1777586400@vorescosmos.dk
SUMMARY:Købmagergårdens Grundejerforening
DESCRIPTION:
URL:https://vorescosmos.dk/begivenhed/koebmagergaardens-grundejerforening/
LOCATION:Peder Syv salen\, Søndergade 11\, Viby Sj.\, 4130\, Danmark
CATEGORIES:Lokale bookninger
END:VEVENT
BEGIN:VEVENT
DTSTART;TZID=Europe/Copenhagen:20260430T180000
DTEND;TZID=Europe/Copenhagen:20260430T200000
DTSTAMP:20260421T193248
CREATED:20260326T101655Z
LAST-MODIFIED:20260326T101656Z
UID:10046990-1777572000-1777579200@vorescosmos.dk
SUMMARY:Ejerforeningen Toftehøjvej
DESCRIPTION:
URL:https://vorescosmos.dk/begivenhed/ejerforeningen-toftehoejvej-2/
LOCATION:Tænketanken\, Søndergade 11\, Viby Sj.\, 4130\, Danmark
CATEGORIES:Lokale bookninger
END:VEVENT
BEGIN:VEVENT
DTSTART;TZID=Europe/Copenhagen:20260502T100000
DTEND;TZID=Europe/Copenhagen:20260502T150000
DTSTAMP:20260421T193248
CREATED:20250109T113659Z
LAST-MODIFIED:20250109T113958Z
UID:10043180-1777716000-1777734000@vorescosmos.dk
SUMMARY:BilledCosmos
DESCRIPTION:
URL:https://vorescosmos.dk/begivenhed/billedcosmos-26/2026-05-02/
LOCATION:Værkstedet\, Søndergade 11\, Viby Sj.\, 4130\, Danmark
CATEGORIES:Lokale bookninger
END:VEVENT
BEGIN:VEVENT
DTSTART;TZID=Europe/Copenhagen:20260502T100000
DTEND;TZID=Europe/Copenhagen:20260502T150000
DTSTAMP:20260421T193248
CREATED:20260112T102344Z
LAST-MODIFIED:20260112T102344Z
UID:10046680-1777716000-1777734000@vorescosmos.dk
SUMMARY:KulturCosmos: tøjbyttedag
DESCRIPTION:
URL:https://vorescosmos.dk/begivenhed/kulturcosmos-toejbyttedag/
LOCATION:Peder Syv salen\, Søndergade 11\, Viby Sj.\, 4130\, Danmark
CATEGORIES:Lokale bookninger
END:VEVENT
BEGIN:VEVENT
DTSTART;TZID=Europe/Copenhagen:20260502T103000
DTEND;TZID=Europe/Copenhagen:20260502T143000
DTSTAMP:20260421T193248
CREATED:20260216T111552Z
LAST-MODIFIED:20260216T111552Z
UID:10046768-1777717800-1777732200@vorescosmos.dk
SUMMARY:Café Cosmos
DESCRIPTION:
URL:https://vorescosmos.dk/begivenhed/cafe-cosmos-13/
LOCATION:Fælleskøkkenet\, Søndergade 11\, Viby Sj.\, 4130\, Danmark
CATEGORIES:Lokale bookninger
END:VEVENT
BEGIN:VEVENT
DTSTART;TZID=Europe/Copenhagen:20260504T100000
DTEND;TZID=Europe/Copenhagen:20260504T120000
DTSTAMP:20260421T193248
CREATED:20251103T105322Z
LAST-MODIFIED:20251103T105655Z
UID:10046447-1777888800-1777896000@vorescosmos.dk
SUMMARY:Ældresagen
DESCRIPTION:
URL:https://vorescosmos.dk/begivenhed/aeldresagen-19/2026-05-04/
LOCATION:Tænketanken\, Søndergade 11\, Viby Sj.\, 4130\, Danmark
CATEGORIES:Lokale bookninger
END:VEVENT
BEGIN:VEVENT
DTSTART;TZID=Europe/Copenhagen:20260504T120000
DTEND;TZID=Europe/Copenhagen:20260504T173000
DTSTAMP:20260421T193248
CREATED:20250505T095126Z
LAST-MODIFIED:20250905T085924Z
UID:10044738-1777896000-1777915800@vorescosmos.dk
SUMMARY:Café Cosmos
DESCRIPTION:
URL:https://vorescosmos.dk/begivenhed/cafe-cosmos/2026-05-04/
LOCATION:Fælleskøkkenet\, Søndergade 11\, Viby Sj.\, 4130\, Danmark
CATEGORIES:Lokale bookninger
END:VEVENT
BEGIN:VEVENT
DTSTART;TZID=Europe/Copenhagen:20260504T160000
DTEND;TZID=Europe/Copenhagen:20260504T180000
DTSTAMP:20260421T193248
CREATED:20231030T123535Z
LAST-MODIFIED:20241205T141227Z
UID:10039921-1777910400-1777917600@vorescosmos.dk
SUMMARY:Bibliotekscaféen
DESCRIPTION:
URL:https://vorescosmos.dk/begivenhed/bibliotekscafeen-12/2026-05-04/
LOCATION:Tænketanken\, Søndergade 11\, Viby Sj.\, 4130\, Danmark
CATEGORIES:Lokale bookninger
END:VEVENT
BEGIN:VEVENT
DTSTART;TZID=Europe/Copenhagen:20260504T183000
DTEND;TZID=Europe/Copenhagen:20260504T211500
DTSTAMP:20260421T193248
CREATED:20251114T093741Z
LAST-MODIFIED:20251114T093741Z
UID:10046553-1777919400-1777929300@vorescosmos.dk
SUMMARY:Rosa
DESCRIPTION:
URL:https://vorescosmos.dk/begivenhed/rosa/2026-05-04/
LOCATION:Peder Syv salen\, Søndergade 11\, Viby Sj.\, 4130\, Danmark
CATEGORIES:Lokale bookninger
END:VEVENT
BEGIN:VEVENT
DTSTART;TZID=Europe/Copenhagen:20260505T120000
DTEND;TZID=Europe/Copenhagen:20260505T173000
DTSTAMP:20260421T193248
CREATED:20250505T095126Z
LAST-MODIFIED:20250905T085924Z
UID:10044739-1777982400-1778002200@vorescosmos.dk
SUMMARY:Café Cosmos
DESCRIPTION:
URL:https://vorescosmos.dk/begivenhed/cafe-cosmos/2026-05-05/
LOCATION:Fælleskøkkenet\, Søndergade 11\, Viby Sj.\, 4130\, Danmark
CATEGORIES:Lokale bookninger
END:VEVENT
BEGIN:VEVENT
DTSTART;TZID=Europe/Copenhagen:20260505T130000
DTEND;TZID=Europe/Copenhagen:20260505T170000
DTSTAMP:20260421T193248
CREATED:20260126T130349Z
LAST-MODIFIED:20260126T130350Z
UID:10046712-1777986000-1778000400@vorescosmos.dk
SUMMARY:Billedcosmos
DESCRIPTION:
URL:https://vorescosmos.dk/begivenhed/billedcosmos-50/
LOCATION:Værkstedet\, Søndergade 11\, Viby Sj.\, 4130\, Danmark
CATEGORIES:Lokale bookninger
END:VEVENT
BEGIN:VEVENT
DTSTART;TZID=Europe/Copenhagen:20260505T183000
DTEND;TZID=Europe/Copenhagen:20260505T210000
DTSTAMP:20260421T193248
CREATED:20260126T130447Z
LAST-MODIFIED:20260126T130448Z
UID:10046713-1778005800-1778014800@vorescosmos.dk
SUMMARY:Billedcosmos
DESCRIPTION:
URL:https://vorescosmos.dk/begivenhed/billedcosmos-51/
LOCATION:Værkstedet\, Søndergade 11\, Viby Sj.\, 4130\, Danmark
CATEGORIES:Lokale bookninger
END:VEVENT
BEGIN:VEVENT
DTSTART;TZID=Europe/Copenhagen:20260506T120000
DTEND;TZID=Europe/Copenhagen:20260506T173000
DTSTAMP:20260421T193248
CREATED:20250505T095126Z
LAST-MODIFIED:20250905T085924Z
UID:10044740-1778068800-1778088600@vorescosmos.dk
SUMMARY:Café Cosmos
DESCRIPTION:
URL:https://vorescosmos.dk/begivenhed/cafe-cosmos/2026-05-06/
LOCATION:Fælleskøkkenet\, Søndergade 11\, Viby Sj.\, 4130\, Danmark
CATEGORIES:Lokale bookninger
END:VEVENT
BEGIN:VEVENT
DTSTART;TZID=Europe/Copenhagen:20260506T150000
DTEND;TZID=Europe/Copenhagen:20260506T210000
DTSTAMP:20260421T193248
CREATED:20251125T142801Z
LAST-MODIFIED:20251125T142802Z
UID:10046571-1778079600-1778101200@vorescosmos.dk
SUMMARY:Viby Sewing bees
DESCRIPTION:
URL:https://vorescosmos.dk/begivenhed/viby-sewing-bees-12/
LOCATION:Værkstedet\, Søndergade 11\, Viby Sj.\, 4130\, Danmark
CATEGORIES:Lokale bookninger
END:VEVENT
BEGIN:VEVENT
DTSTART;TZID=Europe/Copenhagen:20260507T080000
DTEND;TZID=Europe/Copenhagen:20260507T170000
DTSTAMP:20260421T193248
CREATED:20231123T134526Z
LAST-MODIFIED:20240627T092948Z
UID:10038494-1778140800-1778173200@vorescosmos.dk
SUMMARY:Reserveret arkivet
DESCRIPTION:
URL:https://vorescosmos.dk/begivenhed/reserveret-arkivet/2026-05-07/
LOCATION:Ramsørummet\, Søndergade 11\, Viby Sj.\, 4130\, Danmark
CATEGORIES:Lokale bookninger
END:VEVENT
BEGIN:VEVENT
DTSTART;TZID=Europe/Copenhagen:20260507T100000
DTEND;TZID=Europe/Copenhagen:20260507T150000
DTSTAMP:20260421T193248
CREATED:20251103T120405Z
LAST-MODIFIED:20251103T120405Z
UID:10046481-1778148000-1778166000@vorescosmos.dk
SUMMARY:Akvarellerne
DESCRIPTION:
URL:https://vorescosmos.dk/begivenhed/akvarellerne-6/2026-05-07/
LOCATION:Værkstedet\, Søndergade 11\, Viby Sj.\, 4130\, Danmark
CATEGORIES:Lokale bookninger
END:VEVENT
BEGIN:VEVENT
DTSTART;TZID=Europe/Copenhagen:20260507T120000
DTEND;TZID=Europe/Copenhagen:20260507T173000
DTSTAMP:20260421T193248
CREATED:20250505T095126Z
LAST-MODIFIED:20250905T085924Z
UID:10046035-1778155200-1778175000@vorescosmos.dk
SUMMARY:Café Cosmos
DESCRIPTION:
URL:https://vorescosmos.dk/begivenhed/cafe-cosmos/2026-05-07/
LOCATION:Fælleskøkkenet\, Søndergade 11\, Viby Sj.\, 4130\, Danmark
CATEGORIES:Lokale bookninger
END:VEVENT
BEGIN:VEVENT
DTSTART;TZID=Europe/Copenhagen:20260507T160000
DTEND;TZID=Europe/Copenhagen:20260507T173000
DTSTAMP:20260421T193248
CREATED:20251201T123017Z
LAST-MODIFIED:20251201T123017Z
UID:10046583-1778169600-1778175000@vorescosmos.dk
SUMMARY:Læsegruppe 2
DESCRIPTION:
URL:https://vorescosmos.dk/begivenhed/laesegruppe-2-7/2026-05-07/
LOCATION:Tænketanken\, Søndergade 11\, Viby Sj.\, 4130\, Danmark
CATEGORIES:Lokale bookninger
END:VEVENT
BEGIN:VEVENT
DTSTART;TZID=Europe/Copenhagen:20260507T180000
DTEND;TZID=Europe/Copenhagen:20260507T220000
DTSTAMP:20260421T193248
CREATED:20260410T105452Z
LAST-MODIFIED:20260410T105453Z
UID:10047002-1778176800-1778191200@vorescosmos.dk
SUMMARY:Ramsø Lokalhistoriske Forening
DESCRIPTION:
URL:https://vorescosmos.dk/begivenhed/ramsoe-lokalhistoriske-forening-43/
LOCATION:Peder Syv salen\, Søndergade 11\, Viby Sj.\, 4130\, Danmark
CATEGORIES:Lokale bookninger
END:VEVENT
BEGIN:VEVENT
DTSTART;TZID=Europe/Copenhagen:20260507T193000
DTEND;TZID=Europe/Copenhagen:20260507T210000
DTSTAMP:20260421T193248
CREATED:20260325T135811Z
LAST-MODIFIED:20260325T135812Z
UID:10046988-1778182200-1778187600@vorescosmos.dk
SUMMARY:Forældrerådsmøde
DESCRIPTION:
URL:https://vorescosmos.dk/begivenhed/foraeldreraadsmoede-5/
LOCATION:Tænketanken\, Søndergade 11\, Viby Sj.\, 4130\, Danmark
CATEGORIES:Lokale bookninger
END:VEVENT
BEGIN:VEVENT
DTSTART;TZID=Europe/Copenhagen:20260508T110000
DTEND;TZID=Europe/Copenhagen:20260508T150000
DTSTAMP:20260421T193248
CREATED:20260102T115745Z
LAST-MODIFIED:20260102T115745Z
UID:10046632-1778238000-1778252400@vorescosmos.dk
SUMMARY:CosmosGryden
DESCRIPTION:
URL:https://vorescosmos.dk/begivenhed/cosmosgryden-11/2026-05-08/
LOCATION:Peder Syv salen\, Søndergade 11\, Viby Sj.\, 4130\, Danmark
CATEGORIES:Lokale bookninger
END:VEVENT
BEGIN:VEVENT
DTSTART;TZID=Europe/Copenhagen:20260508T110000
DTEND;TZID=Europe/Copenhagen:20260508T150000
DTSTAMP:20260421T193248
CREATED:20260102T120140Z
LAST-MODIFIED:20260102T120140Z
UID:10046638-1778238000-1778252400@vorescosmos.dk
SUMMARY:CosmosGryden
DESCRIPTION:
URL:https://vorescosmos.dk/begivenhed/cosmosgryden-12/2026-05-08/
LOCATION:Fælleskøkkenet\, Søndergade 11\, Viby Sj.\, 4130\, Danmark
CATEGORIES:Lokale bookninger
END:VEVENT
BEGIN:VEVENT
DTSTART;TZID=Europe/Copenhagen:20260509T100000
DTEND;TZID=Europe/Copenhagen:20260509T150000
DTSTAMP:20260421T193248
CREATED:20250109T113659Z
LAST-MODIFIED:20250109T113958Z
UID:10043181-1778320800-1778338800@vorescosmos.dk
SUMMARY:BilledCosmos
DESCRIPTION:
URL:https://vorescosmos.dk/begivenhed/billedcosmos-26/2026-05-09/
LOCATION:Værkstedet\, Søndergade 11\, Viby Sj.\, 4130\, Danmark
CATEGORIES:Lokale bookninger
END:VEVENT
END:VCALENDAR