BEGIN:VCALENDAR
VERSION:2.0
PRODID:-//Vores Cosmos - ECPv6.15.20//NONSGML v1.0//EN
CALSCALE:GREGORIAN
METHOD:PUBLISH
X-ORIGINAL-URL:https://vorescosmos.dk
X-WR-CALDESC:Begivenheder for Vores Cosmos
REFRESH-INTERVAL;VALUE=DURATION:PT1H
X-Robots-Tag:noindex
X-PUBLISHED-TTL:PT1H
BEGIN:VTIMEZONE
TZID:Europe/Copenhagen
BEGIN:DAYLIGHT
TZOFFSETFROM:+0100
TZOFFSETTO:+0200
TZNAME:CEST
DTSTART:20260329T010000
END:DAYLIGHT
BEGIN:STANDARD
TZOFFSETFROM:+0200
TZOFFSETTO:+0100
TZNAME:CET
DTSTART:20261025T010000
END:STANDARD
BEGIN:DAYLIGHT
TZOFFSETFROM:+0100
TZOFFSETTO:+0200
TZNAME:CEST
DTSTART:20270328T010000
END:DAYLIGHT
BEGIN:STANDARD
TZOFFSETFROM:+0200
TZOFFSETTO:+0100
TZNAME:CET
DTSTART:20271031T010000
END:STANDARD
BEGIN:DAYLIGHT
TZOFFSETFROM:+0100
TZOFFSETTO:+0200
TZNAME:CEST
DTSTART:20280326T010000
END:DAYLIGHT
BEGIN:STANDARD
TZOFFSETFROM:+0200
TZOFFSETTO:+0100
TZNAME:CET
DTSTART:20281029T010000
END:STANDARD
END:VTIMEZONE
BEGIN:VEVENT
DTSTART;TZID=Europe/Copenhagen:20270121T080000
DTEND;TZID=Europe/Copenhagen:20270121T170000
DTSTAMP:20260424T100040
CREATED:20231123T134526Z
LAST-MODIFIED:20240627T092948Z
UID:10038531-1800518400-1800550800@vorescosmos.dk
SUMMARY:Reserveret arkivet
DESCRIPTION:
URL:https://vorescosmos.dk/begivenhed/reserveret-arkivet/2027-01-21/
LOCATION:Ramsørummet\, Søndergade 11\, Viby Sj.\, 4130\, Danmark
CATEGORIES:Lokale bookninger
END:VEVENT
BEGIN:VEVENT
DTSTART;TZID=Europe/Copenhagen:20270121T120000
DTEND;TZID=Europe/Copenhagen:20270121T173000
DTSTAMP:20260424T100040
CREATED:20250505T095126Z
LAST-MODIFIED:20250905T085924Z
UID:10046072-1800532800-1800552600@vorescosmos.dk
SUMMARY:Café Cosmos
DESCRIPTION:
URL:https://vorescosmos.dk/begivenhed/cafe-cosmos/2027-01-21/
LOCATION:Fælleskøkkenet\, Søndergade 11\, Viby Sj.\, 4130\, Danmark
CATEGORIES:Lokale bookninger
END:VEVENT
BEGIN:VEVENT
DTSTART;TZID=Europe/Copenhagen:20270123T100000
DTEND;TZID=Europe/Copenhagen:20270123T150000
DTSTAMP:20260424T100040
CREATED:20250109T113659Z
LAST-MODIFIED:20250109T113958Z
UID:10043218-1800698400-1800716400@vorescosmos.dk
SUMMARY:BilledCosmos
DESCRIPTION:
URL:https://vorescosmos.dk/begivenhed/billedcosmos-26/2027-01-23/
LOCATION:Værkstedet\, Søndergade 11\, Viby Sj.\, 4130\, Danmark
CATEGORIES:Lokale bookninger
END:VEVENT
BEGIN:VEVENT
DTSTART;TZID=Europe/Copenhagen:20270125T120000
DTEND;TZID=Europe/Copenhagen:20270125T173000
DTSTAMP:20260424T100040
CREATED:20250505T095126Z
LAST-MODIFIED:20250905T085924Z
UID:10044890-1800878400-1800898200@vorescosmos.dk
SUMMARY:Café Cosmos
DESCRIPTION:
URL:https://vorescosmos.dk/begivenhed/cafe-cosmos/2027-01-25/
LOCATION:Fælleskøkkenet\, Søndergade 11\, Viby Sj.\, 4130\, Danmark
CATEGORIES:Lokale bookninger
END:VEVENT
BEGIN:VEVENT
DTSTART;TZID=Europe/Copenhagen:20270125T160000
DTEND;TZID=Europe/Copenhagen:20270125T180000
DTSTAMP:20260424T100040
CREATED:20231030T123535Z
LAST-MODIFIED:20241205T141227Z
UID:10039959-1800892800-1800900000@vorescosmos.dk
SUMMARY:Bibliotekscaféen
DESCRIPTION:
URL:https://vorescosmos.dk/begivenhed/bibliotekscafeen-12/2027-01-25/
LOCATION:Tænketanken\, Søndergade 11\, Viby Sj.\, 4130\, Danmark
CATEGORIES:Lokale bookninger
END:VEVENT
BEGIN:VEVENT
DTSTART;TZID=Europe/Copenhagen:20270126T120000
DTEND;TZID=Europe/Copenhagen:20270126T173000
DTSTAMP:20260424T100040
CREATED:20250505T095126Z
LAST-MODIFIED:20250905T085924Z
UID:10044891-1800964800-1800984600@vorescosmos.dk
SUMMARY:Café Cosmos
DESCRIPTION:
URL:https://vorescosmos.dk/begivenhed/cafe-cosmos/2027-01-26/
LOCATION:Fælleskøkkenet\, Søndergade 11\, Viby Sj.\, 4130\, Danmark
CATEGORIES:Lokale bookninger
END:VEVENT
BEGIN:VEVENT
DTSTART;TZID=Europe/Copenhagen:20270127T120000
DTEND;TZID=Europe/Copenhagen:20270127T173000
DTSTAMP:20260424T100040
CREATED:20250505T095126Z
LAST-MODIFIED:20250905T085924Z
UID:10044892-1801051200-1801071000@vorescosmos.dk
SUMMARY:Café Cosmos
DESCRIPTION:
URL:https://vorescosmos.dk/begivenhed/cafe-cosmos/2027-01-27/
LOCATION:Fælleskøkkenet\, Søndergade 11\, Viby Sj.\, 4130\, Danmark
CATEGORIES:Lokale bookninger
END:VEVENT
BEGIN:VEVENT
DTSTART;TZID=Europe/Copenhagen:20270128T080000
DTEND;TZID=Europe/Copenhagen:20270128T170000
DTSTAMP:20260424T100040
CREATED:20231123T134526Z
LAST-MODIFIED:20240627T092948Z
UID:10038532-1801123200-1801155600@vorescosmos.dk
SUMMARY:Reserveret arkivet
DESCRIPTION:
URL:https://vorescosmos.dk/begivenhed/reserveret-arkivet/2027-01-28/
LOCATION:Ramsørummet\, Søndergade 11\, Viby Sj.\, 4130\, Danmark
CATEGORIES:Lokale bookninger
END:VEVENT
BEGIN:VEVENT
DTSTART;TZID=Europe/Copenhagen:20270128T120000
DTEND;TZID=Europe/Copenhagen:20270128T173000
DTSTAMP:20260424T100040
CREATED:20250505T095126Z
LAST-MODIFIED:20250905T085924Z
UID:10046073-1801137600-1801157400@vorescosmos.dk
SUMMARY:Café Cosmos
DESCRIPTION:
URL:https://vorescosmos.dk/begivenhed/cafe-cosmos/2027-01-28/
LOCATION:Fælleskøkkenet\, Søndergade 11\, Viby Sj.\, 4130\, Danmark
CATEGORIES:Lokale bookninger
END:VEVENT
BEGIN:VEVENT
DTSTART;TZID=Europe/Copenhagen:20270129T080000
DTEND;TZID=Europe/Copenhagen:20270130T180000
DTSTAMP:20260424T100040
CREATED:20260408T110831Z
LAST-MODIFIED:20260408T110831Z
UID:10047001-1801209600-1801332000@vorescosmos.dk
SUMMARY:Strik i Cosmos (alle lokaler)
DESCRIPTION:
URL:https://vorescosmos.dk/begivenhed/strik-i-cosmos-alle-lokaler-2/
LOCATION:Peder Syv salen\, Søndergade 11\, Viby Sj.\, 4130\, Danmark
CATEGORIES:Lokale bookninger
END:VEVENT
BEGIN:VEVENT
DTSTART;TZID=Europe/Copenhagen:20270130T100000
DTEND;TZID=Europe/Copenhagen:20270130T150000
DTSTAMP:20260424T100040
CREATED:20250109T113659Z
LAST-MODIFIED:20250109T113958Z
UID:10043219-1801303200-1801321200@vorescosmos.dk
SUMMARY:BilledCosmos
DESCRIPTION:
URL:https://vorescosmos.dk/begivenhed/billedcosmos-26/2027-01-30/
LOCATION:Værkstedet\, Søndergade 11\, Viby Sj.\, 4130\, Danmark
CATEGORIES:Lokale bookninger
END:VEVENT
BEGIN:VEVENT
DTSTART;TZID=Europe/Copenhagen:20270201T120000
DTEND;TZID=Europe/Copenhagen:20270201T173000
DTSTAMP:20260424T100040
CREATED:20250505T095126Z
LAST-MODIFIED:20250905T085924Z
UID:10044894-1801483200-1801503000@vorescosmos.dk
SUMMARY:Café Cosmos
DESCRIPTION:
URL:https://vorescosmos.dk/begivenhed/cafe-cosmos/2027-02-01/
LOCATION:Fælleskøkkenet\, Søndergade 11\, Viby Sj.\, 4130\, Danmark
CATEGORIES:Lokale bookninger
END:VEVENT
BEGIN:VEVENT
DTSTART;TZID=Europe/Copenhagen:20270201T160000
DTEND;TZID=Europe/Copenhagen:20270201T180000
DTSTAMP:20260424T100040
CREATED:20231030T123535Z
LAST-MODIFIED:20241205T141227Z
UID:10039960-1801497600-1801504800@vorescosmos.dk
SUMMARY:Bibliotekscaféen
DESCRIPTION:
URL:https://vorescosmos.dk/begivenhed/bibliotekscafeen-12/2027-02-01/
LOCATION:Tænketanken\, Søndergade 11\, Viby Sj.\, 4130\, Danmark
CATEGORIES:Lokale bookninger
END:VEVENT
BEGIN:VEVENT
DTSTART;TZID=Europe/Copenhagen:20270202T120000
DTEND;TZID=Europe/Copenhagen:20270202T173000
DTSTAMP:20260424T100040
CREATED:20250505T095126Z
LAST-MODIFIED:20250905T085924Z
UID:10044895-1801569600-1801589400@vorescosmos.dk
SUMMARY:Café Cosmos
DESCRIPTION:
URL:https://vorescosmos.dk/begivenhed/cafe-cosmos/2027-02-02/
LOCATION:Fælleskøkkenet\, Søndergade 11\, Viby Sj.\, 4130\, Danmark
CATEGORIES:Lokale bookninger
END:VEVENT
BEGIN:VEVENT
DTSTART;TZID=Europe/Copenhagen:20270203T120000
DTEND;TZID=Europe/Copenhagen:20270203T173000
DTSTAMP:20260424T100040
CREATED:20250505T095126Z
LAST-MODIFIED:20250905T085924Z
UID:10044896-1801656000-1801675800@vorescosmos.dk
SUMMARY:Café Cosmos
DESCRIPTION:
URL:https://vorescosmos.dk/begivenhed/cafe-cosmos/2027-02-03/
LOCATION:Fælleskøkkenet\, Søndergade 11\, Viby Sj.\, 4130\, Danmark
CATEGORIES:Lokale bookninger
END:VEVENT
BEGIN:VEVENT
DTSTART;TZID=Europe/Copenhagen:20270204T080000
DTEND;TZID=Europe/Copenhagen:20270204T170000
DTSTAMP:20260424T100040
CREATED:20231123T134526Z
LAST-MODIFIED:20240627T092948Z
UID:10038533-1801728000-1801760400@vorescosmos.dk
SUMMARY:Reserveret arkivet
DESCRIPTION:
URL:https://vorescosmos.dk/begivenhed/reserveret-arkivet/2027-02-04/
LOCATION:Ramsørummet\, Søndergade 11\, Viby Sj.\, 4130\, Danmark
CATEGORIES:Lokale bookninger
END:VEVENT
BEGIN:VEVENT
DTSTART;TZID=Europe/Copenhagen:20270204T120000
DTEND;TZID=Europe/Copenhagen:20270204T173000
DTSTAMP:20260424T100040
CREATED:20250505T095126Z
LAST-MODIFIED:20250905T085924Z
UID:10046074-1801742400-1801762200@vorescosmos.dk
SUMMARY:Café Cosmos
DESCRIPTION:
URL:https://vorescosmos.dk/begivenhed/cafe-cosmos/2027-02-04/
LOCATION:Fælleskøkkenet\, Søndergade 11\, Viby Sj.\, 4130\, Danmark
CATEGORIES:Lokale bookninger
END:VEVENT
BEGIN:VEVENT
DTSTART;TZID=Europe/Copenhagen:20270206T100000
DTEND;TZID=Europe/Copenhagen:20270206T150000
DTSTAMP:20260424T100040
CREATED:20250109T113659Z
LAST-MODIFIED:20250109T113958Z
UID:10043220-1801908000-1801926000@vorescosmos.dk
SUMMARY:BilledCosmos
DESCRIPTION:
URL:https://vorescosmos.dk/begivenhed/billedcosmos-26/2027-02-06/
LOCATION:Værkstedet\, Søndergade 11\, Viby Sj.\, 4130\, Danmark
CATEGORIES:Lokale bookninger
END:VEVENT
BEGIN:VEVENT
DTSTART;TZID=Europe/Copenhagen:20270208T120000
DTEND;TZID=Europe/Copenhagen:20270208T173000
DTSTAMP:20260424T100040
CREATED:20250505T095126Z
LAST-MODIFIED:20250905T085924Z
UID:10044898-1802088000-1802107800@vorescosmos.dk
SUMMARY:Café Cosmos
DESCRIPTION:
URL:https://vorescosmos.dk/begivenhed/cafe-cosmos/2027-02-08/
LOCATION:Fælleskøkkenet\, Søndergade 11\, Viby Sj.\, 4130\, Danmark
CATEGORIES:Lokale bookninger
END:VEVENT
BEGIN:VEVENT
DTSTART;TZID=Europe/Copenhagen:20270208T160000
DTEND;TZID=Europe/Copenhagen:20270208T180000
DTSTAMP:20260424T100040
CREATED:20231030T123535Z
LAST-MODIFIED:20241205T141227Z
UID:10039961-1802102400-1802109600@vorescosmos.dk
SUMMARY:Bibliotekscaféen
DESCRIPTION:
URL:https://vorescosmos.dk/begivenhed/bibliotekscafeen-12/2027-02-08/
LOCATION:Tænketanken\, Søndergade 11\, Viby Sj.\, 4130\, Danmark
CATEGORIES:Lokale bookninger
END:VEVENT
BEGIN:VEVENT
DTSTART;TZID=Europe/Copenhagen:20270209T120000
DTEND;TZID=Europe/Copenhagen:20270209T173000
DTSTAMP:20260424T100040
CREATED:20250505T095126Z
LAST-MODIFIED:20250905T085924Z
UID:10044899-1802174400-1802194200@vorescosmos.dk
SUMMARY:Café Cosmos
DESCRIPTION:
URL:https://vorescosmos.dk/begivenhed/cafe-cosmos/2027-02-09/
LOCATION:Fælleskøkkenet\, Søndergade 11\, Viby Sj.\, 4130\, Danmark
CATEGORIES:Lokale bookninger
END:VEVENT
BEGIN:VEVENT
DTSTART;TZID=Europe/Copenhagen:20270210T120000
DTEND;TZID=Europe/Copenhagen:20270210T173000
DTSTAMP:20260424T100040
CREATED:20250505T095126Z
LAST-MODIFIED:20250905T085924Z
UID:10044900-1802260800-1802280600@vorescosmos.dk
SUMMARY:Café Cosmos
DESCRIPTION:
URL:https://vorescosmos.dk/begivenhed/cafe-cosmos/2027-02-10/
LOCATION:Fælleskøkkenet\, Søndergade 11\, Viby Sj.\, 4130\, Danmark
CATEGORIES:Lokale bookninger
END:VEVENT
BEGIN:VEVENT
DTSTART;TZID=Europe/Copenhagen:20270211T080000
DTEND;TZID=Europe/Copenhagen:20270211T170000
DTSTAMP:20260424T100040
CREATED:20231123T134526Z
LAST-MODIFIED:20240627T092948Z
UID:10038534-1802332800-1802365200@vorescosmos.dk
SUMMARY:Reserveret arkivet
DESCRIPTION:
URL:https://vorescosmos.dk/begivenhed/reserveret-arkivet/2027-02-11/
LOCATION:Ramsørummet\, Søndergade 11\, Viby Sj.\, 4130\, Danmark
CATEGORIES:Lokale bookninger
END:VEVENT
BEGIN:VEVENT
DTSTART;TZID=Europe/Copenhagen:20270211T120000
DTEND;TZID=Europe/Copenhagen:20270211T173000
DTSTAMP:20260424T100040
CREATED:20250505T095126Z
LAST-MODIFIED:20250905T085924Z
UID:10046075-1802347200-1802367000@vorescosmos.dk
SUMMARY:Café Cosmos
DESCRIPTION:
URL:https://vorescosmos.dk/begivenhed/cafe-cosmos/2027-02-11/
LOCATION:Fælleskøkkenet\, Søndergade 11\, Viby Sj.\, 4130\, Danmark
CATEGORIES:Lokale bookninger
END:VEVENT
BEGIN:VEVENT
DTSTART;TZID=Europe/Copenhagen:20270213T100000
DTEND;TZID=Europe/Copenhagen:20270213T150000
DTSTAMP:20260424T100040
CREATED:20250109T113659Z
LAST-MODIFIED:20250109T113958Z
UID:10043221-1802512800-1802530800@vorescosmos.dk
SUMMARY:BilledCosmos
DESCRIPTION:
URL:https://vorescosmos.dk/begivenhed/billedcosmos-26/2027-02-13/
LOCATION:Værkstedet\, Søndergade 11\, Viby Sj.\, 4130\, Danmark
CATEGORIES:Lokale bookninger
END:VEVENT
BEGIN:VEVENT
DTSTART;TZID=Europe/Copenhagen:20270215T120000
DTEND;TZID=Europe/Copenhagen:20270215T173000
DTSTAMP:20260424T100040
CREATED:20250505T095126Z
LAST-MODIFIED:20250905T085924Z
UID:10044902-1802692800-1802712600@vorescosmos.dk
SUMMARY:Café Cosmos
DESCRIPTION:
URL:https://vorescosmos.dk/begivenhed/cafe-cosmos/2027-02-15/
LOCATION:Fælleskøkkenet\, Søndergade 11\, Viby Sj.\, 4130\, Danmark
CATEGORIES:Lokale bookninger
END:VEVENT
BEGIN:VEVENT
DTSTART;TZID=Europe/Copenhagen:20270215T160000
DTEND;TZID=Europe/Copenhagen:20270215T180000
DTSTAMP:20260424T100040
CREATED:20231030T123535Z
LAST-MODIFIED:20241205T141227Z
UID:10039962-1802707200-1802714400@vorescosmos.dk
SUMMARY:Bibliotekscaféen
DESCRIPTION:
URL:https://vorescosmos.dk/begivenhed/bibliotekscafeen-12/2027-02-15/
LOCATION:Tænketanken\, Søndergade 11\, Viby Sj.\, 4130\, Danmark
CATEGORIES:Lokale bookninger
END:VEVENT
BEGIN:VEVENT
DTSTART;TZID=Europe/Copenhagen:20270216T120000
DTEND;TZID=Europe/Copenhagen:20270216T173000
DTSTAMP:20260424T100040
CREATED:20250505T095126Z
LAST-MODIFIED:20250905T085924Z
UID:10044903-1802779200-1802799000@vorescosmos.dk
SUMMARY:Café Cosmos
DESCRIPTION:
URL:https://vorescosmos.dk/begivenhed/cafe-cosmos/2027-02-16/
LOCATION:Fælleskøkkenet\, Søndergade 11\, Viby Sj.\, 4130\, Danmark
CATEGORIES:Lokale bookninger
END:VEVENT
BEGIN:VEVENT
DTSTART;TZID=Europe/Copenhagen:20270217T120000
DTEND;TZID=Europe/Copenhagen:20270217T173000
DTSTAMP:20260424T100040
CREATED:20250505T095126Z
LAST-MODIFIED:20250905T085924Z
UID:10044904-1802865600-1802885400@vorescosmos.dk
SUMMARY:Café Cosmos
DESCRIPTION:
URL:https://vorescosmos.dk/begivenhed/cafe-cosmos/2027-02-17/
LOCATION:Fælleskøkkenet\, Søndergade 11\, Viby Sj.\, 4130\, Danmark
CATEGORIES:Lokale bookninger
END:VEVENT
BEGIN:VEVENT
DTSTART;TZID=Europe/Copenhagen:20270218T080000
DTEND;TZID=Europe/Copenhagen:20270218T170000
DTSTAMP:20260424T100040
CREATED:20231123T134526Z
LAST-MODIFIED:20240627T092948Z
UID:10038535-1802937600-1802970000@vorescosmos.dk
SUMMARY:Reserveret arkivet
DESCRIPTION:
URL:https://vorescosmos.dk/begivenhed/reserveret-arkivet/2027-02-18/
LOCATION:Ramsørummet\, Søndergade 11\, Viby Sj.\, 4130\, Danmark
CATEGORIES:Lokale bookninger
END:VEVENT
END:VCALENDAR