BEGIN:VCALENDAR
VERSION:2.0
PRODID:-//Vores Cosmos - ECPv6.15.20//NONSGML v1.0//EN
CALSCALE:GREGORIAN
METHOD:PUBLISH
X-ORIGINAL-URL:https://vorescosmos.dk
X-WR-CALDESC:Begivenheder for Vores Cosmos
REFRESH-INTERVAL;VALUE=DURATION:PT1H
X-Robots-Tag:noindex
X-PUBLISHED-TTL:PT1H
BEGIN:VTIMEZONE
TZID:Europe/Copenhagen
BEGIN:DAYLIGHT
TZOFFSETFROM:+0100
TZOFFSETTO:+0200
TZNAME:CEST
DTSTART:20260329T010000
END:DAYLIGHT
BEGIN:STANDARD
TZOFFSETFROM:+0200
TZOFFSETTO:+0100
TZNAME:CET
DTSTART:20261025T010000
END:STANDARD
BEGIN:DAYLIGHT
TZOFFSETFROM:+0100
TZOFFSETTO:+0200
TZNAME:CEST
DTSTART:20270328T010000
END:DAYLIGHT
BEGIN:STANDARD
TZOFFSETFROM:+0200
TZOFFSETTO:+0100
TZNAME:CET
DTSTART:20271031T010000
END:STANDARD
BEGIN:DAYLIGHT
TZOFFSETFROM:+0100
TZOFFSETTO:+0200
TZNAME:CEST
DTSTART:20280326T010000
END:DAYLIGHT
BEGIN:STANDARD
TZOFFSETFROM:+0200
TZOFFSETTO:+0100
TZNAME:CET
DTSTART:20281029T010000
END:STANDARD
END:VTIMEZONE
BEGIN:VEVENT
DTSTART;TZID=Europe/Copenhagen:20270311T080000
DTEND;TZID=Europe/Copenhagen:20270311T170000
DTSTAMP:20260424T175703
CREATED:20231123T134526Z
LAST-MODIFIED:20240627T092948Z
UID:10038538-1804752000-1804784400@vorescosmos.dk
SUMMARY:Reserveret arkivet
DESCRIPTION:
URL:https://vorescosmos.dk/begivenhed/reserveret-arkivet/2027-03-11/
LOCATION:Ramsørummet\, Søndergade 11\, Viby Sj.\, 4130\, Danmark
CATEGORIES:Lokale bookninger
END:VEVENT
BEGIN:VEVENT
DTSTART;TZID=Europe/Copenhagen:20270311T120000
DTEND;TZID=Europe/Copenhagen:20270311T173000
DTSTAMP:20260424T175703
CREATED:20250505T095126Z
LAST-MODIFIED:20250905T085924Z
UID:10046079-1804766400-1804786200@vorescosmos.dk
SUMMARY:Café Cosmos
DESCRIPTION:
URL:https://vorescosmos.dk/begivenhed/cafe-cosmos/2027-03-11/
LOCATION:Fælleskøkkenet\, Søndergade 11\, Viby Sj.\, 4130\, Danmark
CATEGORIES:Lokale bookninger
END:VEVENT
BEGIN:VEVENT
DTSTART;TZID=Europe/Copenhagen:20270313T100000
DTEND;TZID=Europe/Copenhagen:20270313T150000
DTSTAMP:20260424T175703
CREATED:20250109T113659Z
LAST-MODIFIED:20250109T113958Z
UID:10043225-1804932000-1804950000@vorescosmos.dk
SUMMARY:BilledCosmos
DESCRIPTION:
URL:https://vorescosmos.dk/begivenhed/billedcosmos-26/2027-03-13/
LOCATION:Værkstedet\, Søndergade 11\, Viby Sj.\, 4130\, Danmark
CATEGORIES:Lokale bookninger
END:VEVENT
BEGIN:VEVENT
DTSTART;TZID=Europe/Copenhagen:20270315T120000
DTEND;TZID=Europe/Copenhagen:20270315T173000
DTSTAMP:20260424T175703
CREATED:20250505T095126Z
LAST-MODIFIED:20250905T085924Z
UID:10044918-1805112000-1805131800@vorescosmos.dk
SUMMARY:Café Cosmos
DESCRIPTION:
URL:https://vorescosmos.dk/begivenhed/cafe-cosmos/2027-03-15/
LOCATION:Fælleskøkkenet\, Søndergade 11\, Viby Sj.\, 4130\, Danmark
CATEGORIES:Lokale bookninger
END:VEVENT
BEGIN:VEVENT
DTSTART;TZID=Europe/Copenhagen:20270315T160000
DTEND;TZID=Europe/Copenhagen:20270315T180000
DTSTAMP:20260424T175703
CREATED:20231030T123535Z
LAST-MODIFIED:20241205T141227Z
UID:10039966-1805126400-1805133600@vorescosmos.dk
SUMMARY:Bibliotekscaféen
DESCRIPTION:
URL:https://vorescosmos.dk/begivenhed/bibliotekscafeen-12/2027-03-15/
LOCATION:Tænketanken\, Søndergade 11\, Viby Sj.\, 4130\, Danmark
CATEGORIES:Lokale bookninger
END:VEVENT
BEGIN:VEVENT
DTSTART;TZID=Europe/Copenhagen:20270316T120000
DTEND;TZID=Europe/Copenhagen:20270316T173000
DTSTAMP:20260424T175703
CREATED:20250505T095126Z
LAST-MODIFIED:20250905T085924Z
UID:10044919-1805198400-1805218200@vorescosmos.dk
SUMMARY:Café Cosmos
DESCRIPTION:
URL:https://vorescosmos.dk/begivenhed/cafe-cosmos/2027-03-16/
LOCATION:Fælleskøkkenet\, Søndergade 11\, Viby Sj.\, 4130\, Danmark
CATEGORIES:Lokale bookninger
END:VEVENT
BEGIN:VEVENT
DTSTART;TZID=Europe/Copenhagen:20270317T120000
DTEND;TZID=Europe/Copenhagen:20270317T173000
DTSTAMP:20260424T175703
CREATED:20250505T095126Z
LAST-MODIFIED:20250905T085924Z
UID:10044920-1805284800-1805304600@vorescosmos.dk
SUMMARY:Café Cosmos
DESCRIPTION:
URL:https://vorescosmos.dk/begivenhed/cafe-cosmos/2027-03-17/
LOCATION:Fælleskøkkenet\, Søndergade 11\, Viby Sj.\, 4130\, Danmark
CATEGORIES:Lokale bookninger
END:VEVENT
BEGIN:VEVENT
DTSTART;TZID=Europe/Copenhagen:20270318T080000
DTEND;TZID=Europe/Copenhagen:20270318T170000
DTSTAMP:20260424T175703
CREATED:20231123T134526Z
LAST-MODIFIED:20240627T092948Z
UID:10038539-1805356800-1805389200@vorescosmos.dk
SUMMARY:Reserveret arkivet
DESCRIPTION:
URL:https://vorescosmos.dk/begivenhed/reserveret-arkivet/2027-03-18/
LOCATION:Ramsørummet\, Søndergade 11\, Viby Sj.\, 4130\, Danmark
CATEGORIES:Lokale bookninger
END:VEVENT
BEGIN:VEVENT
DTSTART;TZID=Europe/Copenhagen:20270318T120000
DTEND;TZID=Europe/Copenhagen:20270318T173000
DTSTAMP:20260424T175703
CREATED:20250505T095126Z
LAST-MODIFIED:20250905T085924Z
UID:10046080-1805371200-1805391000@vorescosmos.dk
SUMMARY:Café Cosmos
DESCRIPTION:
URL:https://vorescosmos.dk/begivenhed/cafe-cosmos/2027-03-18/
LOCATION:Fælleskøkkenet\, Søndergade 11\, Viby Sj.\, 4130\, Danmark
CATEGORIES:Lokale bookninger
END:VEVENT
BEGIN:VEVENT
DTSTART;TZID=Europe/Copenhagen:20270320T100000
DTEND;TZID=Europe/Copenhagen:20270320T150000
DTSTAMP:20260424T175703
CREATED:20250109T113659Z
LAST-MODIFIED:20250109T113958Z
UID:10043226-1805536800-1805554800@vorescosmos.dk
SUMMARY:BilledCosmos
DESCRIPTION:
URL:https://vorescosmos.dk/begivenhed/billedcosmos-26/2027-03-20/
LOCATION:Værkstedet\, Søndergade 11\, Viby Sj.\, 4130\, Danmark
CATEGORIES:Lokale bookninger
END:VEVENT
BEGIN:VEVENT
DTSTART;TZID=Europe/Copenhagen:20270322T120000
DTEND;TZID=Europe/Copenhagen:20270322T173000
DTSTAMP:20260424T175703
CREATED:20250505T095126Z
LAST-MODIFIED:20250905T085924Z
UID:10044922-1805716800-1805736600@vorescosmos.dk
SUMMARY:Café Cosmos
DESCRIPTION:
URL:https://vorescosmos.dk/begivenhed/cafe-cosmos/2027-03-22/
LOCATION:Fælleskøkkenet\, Søndergade 11\, Viby Sj.\, 4130\, Danmark
CATEGORIES:Lokale bookninger
END:VEVENT
BEGIN:VEVENT
DTSTART;TZID=Europe/Copenhagen:20270322T160000
DTEND;TZID=Europe/Copenhagen:20270322T180000
DTSTAMP:20260424T175703
CREATED:20231030T123535Z
LAST-MODIFIED:20241205T141227Z
UID:10039967-1805731200-1805738400@vorescosmos.dk
SUMMARY:Bibliotekscaféen
DESCRIPTION:
URL:https://vorescosmos.dk/begivenhed/bibliotekscafeen-12/2027-03-22/
LOCATION:Tænketanken\, Søndergade 11\, Viby Sj.\, 4130\, Danmark
CATEGORIES:Lokale bookninger
END:VEVENT
BEGIN:VEVENT
DTSTART;TZID=Europe/Copenhagen:20270323T120000
DTEND;TZID=Europe/Copenhagen:20270323T173000
DTSTAMP:20260424T175703
CREATED:20250505T095126Z
LAST-MODIFIED:20250905T085924Z
UID:10044923-1805803200-1805823000@vorescosmos.dk
SUMMARY:Café Cosmos
DESCRIPTION:
URL:https://vorescosmos.dk/begivenhed/cafe-cosmos/2027-03-23/
LOCATION:Fælleskøkkenet\, Søndergade 11\, Viby Sj.\, 4130\, Danmark
CATEGORIES:Lokale bookninger
END:VEVENT
BEGIN:VEVENT
DTSTART;TZID=Europe/Copenhagen:20270324T120000
DTEND;TZID=Europe/Copenhagen:20270324T173000
DTSTAMP:20260424T175703
CREATED:20250505T095126Z
LAST-MODIFIED:20250905T085924Z
UID:10044924-1805889600-1805909400@vorescosmos.dk
SUMMARY:Café Cosmos
DESCRIPTION:
URL:https://vorescosmos.dk/begivenhed/cafe-cosmos/2027-03-24/
LOCATION:Fælleskøkkenet\, Søndergade 11\, Viby Sj.\, 4130\, Danmark
CATEGORIES:Lokale bookninger
END:VEVENT
BEGIN:VEVENT
DTSTART;TZID=Europe/Copenhagen:20270325T080000
DTEND;TZID=Europe/Copenhagen:20270325T170000
DTSTAMP:20260424T175703
CREATED:20231123T134526Z
LAST-MODIFIED:20240627T092948Z
UID:10038540-1805961600-1805994000@vorescosmos.dk
SUMMARY:Reserveret arkivet
DESCRIPTION:
URL:https://vorescosmos.dk/begivenhed/reserveret-arkivet/2027-03-25/
LOCATION:Ramsørummet\, Søndergade 11\, Viby Sj.\, 4130\, Danmark
CATEGORIES:Lokale bookninger
END:VEVENT
BEGIN:VEVENT
DTSTART;TZID=Europe/Copenhagen:20270325T120000
DTEND;TZID=Europe/Copenhagen:20270325T173000
DTSTAMP:20260424T175703
CREATED:20250505T095126Z
LAST-MODIFIED:20250905T085924Z
UID:10046081-1805976000-1805995800@vorescosmos.dk
SUMMARY:Café Cosmos
DESCRIPTION:
URL:https://vorescosmos.dk/begivenhed/cafe-cosmos/2027-03-25/
LOCATION:Fælleskøkkenet\, Søndergade 11\, Viby Sj.\, 4130\, Danmark
CATEGORIES:Lokale bookninger
END:VEVENT
BEGIN:VEVENT
DTSTART;TZID=Europe/Copenhagen:20270327T100000
DTEND;TZID=Europe/Copenhagen:20270327T150000
DTSTAMP:20260424T175703
CREATED:20250109T113659Z
LAST-MODIFIED:20250109T113958Z
UID:10043227-1806141600-1806159600@vorescosmos.dk
SUMMARY:BilledCosmos
DESCRIPTION:
URL:https://vorescosmos.dk/begivenhed/billedcosmos-26/2027-03-27/
LOCATION:Værkstedet\, Søndergade 11\, Viby Sj.\, 4130\, Danmark
CATEGORIES:Lokale bookninger
END:VEVENT
BEGIN:VEVENT
DTSTART;TZID=Europe/Copenhagen:20270329T120000
DTEND;TZID=Europe/Copenhagen:20270329T173000
DTSTAMP:20260424T175703
CREATED:20250505T095126Z
LAST-MODIFIED:20250905T085924Z
UID:10044926-1806321600-1806341400@vorescosmos.dk
SUMMARY:Café Cosmos
DESCRIPTION:
URL:https://vorescosmos.dk/begivenhed/cafe-cosmos/2027-03-29/
LOCATION:Fælleskøkkenet\, Søndergade 11\, Viby Sj.\, 4130\, Danmark
CATEGORIES:Lokale bookninger
END:VEVENT
BEGIN:VEVENT
DTSTART;TZID=Europe/Copenhagen:20270329T160000
DTEND;TZID=Europe/Copenhagen:20270329T180000
DTSTAMP:20260424T175703
CREATED:20231030T123535Z
LAST-MODIFIED:20241205T141227Z
UID:10039968-1806336000-1806343200@vorescosmos.dk
SUMMARY:Bibliotekscaféen
DESCRIPTION:
URL:https://vorescosmos.dk/begivenhed/bibliotekscafeen-12/2027-03-29/
LOCATION:Tænketanken\, Søndergade 11\, Viby Sj.\, 4130\, Danmark
CATEGORIES:Lokale bookninger
END:VEVENT
BEGIN:VEVENT
DTSTART;TZID=Europe/Copenhagen:20270330T120000
DTEND;TZID=Europe/Copenhagen:20270330T173000
DTSTAMP:20260424T175703
CREATED:20250505T095126Z
LAST-MODIFIED:20250905T085924Z
UID:10044927-1806408000-1806427800@vorescosmos.dk
SUMMARY:Café Cosmos
DESCRIPTION:
URL:https://vorescosmos.dk/begivenhed/cafe-cosmos/2027-03-30/
LOCATION:Fælleskøkkenet\, Søndergade 11\, Viby Sj.\, 4130\, Danmark
CATEGORIES:Lokale bookninger
END:VEVENT
BEGIN:VEVENT
DTSTART;TZID=Europe/Copenhagen:20270331T120000
DTEND;TZID=Europe/Copenhagen:20270331T173000
DTSTAMP:20260424T175703
CREATED:20250505T095126Z
LAST-MODIFIED:20250905T085924Z
UID:10044928-1806494400-1806514200@vorescosmos.dk
SUMMARY:Café Cosmos
DESCRIPTION:
URL:https://vorescosmos.dk/begivenhed/cafe-cosmos/2027-03-31/
LOCATION:Fælleskøkkenet\, Søndergade 11\, Viby Sj.\, 4130\, Danmark
CATEGORIES:Lokale bookninger
END:VEVENT
BEGIN:VEVENT
DTSTART;TZID=Europe/Copenhagen:20270401T080000
DTEND;TZID=Europe/Copenhagen:20270401T170000
DTSTAMP:20260424T175703
CREATED:20231123T134526Z
LAST-MODIFIED:20240627T092948Z
UID:10038541-1806566400-1806598800@vorescosmos.dk
SUMMARY:Reserveret arkivet
DESCRIPTION:
URL:https://vorescosmos.dk/begivenhed/reserveret-arkivet/2027-04-01/
LOCATION:Ramsørummet\, Søndergade 11\, Viby Sj.\, 4130\, Danmark
CATEGORIES:Lokale bookninger
END:VEVENT
BEGIN:VEVENT
DTSTART;TZID=Europe/Copenhagen:20270401T120000
DTEND;TZID=Europe/Copenhagen:20270401T173000
DTSTAMP:20260424T175703
CREATED:20250505T095126Z
LAST-MODIFIED:20250905T085924Z
UID:10046082-1806580800-1806600600@vorescosmos.dk
SUMMARY:Café Cosmos
DESCRIPTION:
URL:https://vorescosmos.dk/begivenhed/cafe-cosmos/2027-04-01/
LOCATION:Fælleskøkkenet\, Søndergade 11\, Viby Sj.\, 4130\, Danmark
CATEGORIES:Lokale bookninger
END:VEVENT
BEGIN:VEVENT
DTSTART;TZID=Europe/Copenhagen:20270403T100000
DTEND;TZID=Europe/Copenhagen:20270403T150000
DTSTAMP:20260424T175703
CREATED:20250109T113659Z
LAST-MODIFIED:20250109T113958Z
UID:10043228-1806746400-1806764400@vorescosmos.dk
SUMMARY:BilledCosmos
DESCRIPTION:
URL:https://vorescosmos.dk/begivenhed/billedcosmos-26/2027-04-03/
LOCATION:Værkstedet\, Søndergade 11\, Viby Sj.\, 4130\, Danmark
CATEGORIES:Lokale bookninger
END:VEVENT
BEGIN:VEVENT
DTSTART;TZID=Europe/Copenhagen:20270405T120000
DTEND;TZID=Europe/Copenhagen:20270405T173000
DTSTAMP:20260424T175703
CREATED:20250505T095126Z
LAST-MODIFIED:20250905T085924Z
UID:10044930-1806926400-1806946200@vorescosmos.dk
SUMMARY:Café Cosmos
DESCRIPTION:
URL:https://vorescosmos.dk/begivenhed/cafe-cosmos/2027-04-05/
LOCATION:Fælleskøkkenet\, Søndergade 11\, Viby Sj.\, 4130\, Danmark
CATEGORIES:Lokale bookninger
END:VEVENT
BEGIN:VEVENT
DTSTART;TZID=Europe/Copenhagen:20270405T160000
DTEND;TZID=Europe/Copenhagen:20270405T180000
DTSTAMP:20260424T175703
CREATED:20231030T123535Z
LAST-MODIFIED:20241205T141227Z
UID:10039969-1806940800-1806948000@vorescosmos.dk
SUMMARY:Bibliotekscaféen
DESCRIPTION:
URL:https://vorescosmos.dk/begivenhed/bibliotekscafeen-12/2027-04-05/
LOCATION:Tænketanken\, Søndergade 11\, Viby Sj.\, 4130\, Danmark
CATEGORIES:Lokale bookninger
END:VEVENT
BEGIN:VEVENT
DTSTART;TZID=Europe/Copenhagen:20270406T120000
DTEND;TZID=Europe/Copenhagen:20270406T173000
DTSTAMP:20260424T175703
CREATED:20250505T095126Z
LAST-MODIFIED:20250905T085924Z
UID:10044931-1807012800-1807032600@vorescosmos.dk
SUMMARY:Café Cosmos
DESCRIPTION:
URL:https://vorescosmos.dk/begivenhed/cafe-cosmos/2027-04-06/
LOCATION:Fælleskøkkenet\, Søndergade 11\, Viby Sj.\, 4130\, Danmark
CATEGORIES:Lokale bookninger
END:VEVENT
BEGIN:VEVENT
DTSTART;TZID=Europe/Copenhagen:20270407T120000
DTEND;TZID=Europe/Copenhagen:20270407T173000
DTSTAMP:20260424T175703
CREATED:20250505T095126Z
LAST-MODIFIED:20250905T085924Z
UID:10044932-1807099200-1807119000@vorescosmos.dk
SUMMARY:Café Cosmos
DESCRIPTION:
URL:https://vorescosmos.dk/begivenhed/cafe-cosmos/2027-04-07/
LOCATION:Fælleskøkkenet\, Søndergade 11\, Viby Sj.\, 4130\, Danmark
CATEGORIES:Lokale bookninger
END:VEVENT
BEGIN:VEVENT
DTSTART;TZID=Europe/Copenhagen:20270408T080000
DTEND;TZID=Europe/Copenhagen:20270408T170000
DTSTAMP:20260424T175703
CREATED:20231123T134526Z
LAST-MODIFIED:20240627T092948Z
UID:10038542-1807171200-1807203600@vorescosmos.dk
SUMMARY:Reserveret arkivet
DESCRIPTION:
URL:https://vorescosmos.dk/begivenhed/reserveret-arkivet/2027-04-08/
LOCATION:Ramsørummet\, Søndergade 11\, Viby Sj.\, 4130\, Danmark
CATEGORIES:Lokale bookninger
END:VEVENT
BEGIN:VEVENT
DTSTART;TZID=Europe/Copenhagen:20270408T120000
DTEND;TZID=Europe/Copenhagen:20270408T173000
DTSTAMP:20260424T175703
CREATED:20250505T095126Z
LAST-MODIFIED:20250905T085924Z
UID:10046083-1807185600-1807205400@vorescosmos.dk
SUMMARY:Café Cosmos
DESCRIPTION:
URL:https://vorescosmos.dk/begivenhed/cafe-cosmos/2027-04-08/
LOCATION:Fælleskøkkenet\, Søndergade 11\, Viby Sj.\, 4130\, Danmark
CATEGORIES:Lokale bookninger
END:VEVENT
END:VCALENDAR