BEGIN:VCALENDAR
VERSION:2.0
PRODID:-//Vores Cosmos - ECPv6.15.20//NONSGML v1.0//EN
CALSCALE:GREGORIAN
METHOD:PUBLISH
X-WR-CALNAME:Vores Cosmos
X-ORIGINAL-URL:https://vorescosmos.dk
X-WR-CALDESC:Begivenheder for Vores Cosmos
REFRESH-INTERVAL;VALUE=DURATION:PT1H
X-Robots-Tag:noindex
X-PUBLISHED-TTL:PT1H
BEGIN:VTIMEZONE
TZID:Europe/Copenhagen
BEGIN:DAYLIGHT
TZOFFSETFROM:+0100
TZOFFSETTO:+0200
TZNAME:CEST
DTSTART:20260329T010000
END:DAYLIGHT
BEGIN:STANDARD
TZOFFSETFROM:+0200
TZOFFSETTO:+0100
TZNAME:CET
DTSTART:20261025T010000
END:STANDARD
BEGIN:DAYLIGHT
TZOFFSETFROM:+0100
TZOFFSETTO:+0200
TZNAME:CEST
DTSTART:20270328T010000
END:DAYLIGHT
BEGIN:STANDARD
TZOFFSETFROM:+0200
TZOFFSETTO:+0100
TZNAME:CET
DTSTART:20271031T010000
END:STANDARD
BEGIN:DAYLIGHT
TZOFFSETFROM:+0100
TZOFFSETTO:+0200
TZNAME:CEST
DTSTART:20280326T010000
END:DAYLIGHT
BEGIN:STANDARD
TZOFFSETFROM:+0200
TZOFFSETTO:+0100
TZNAME:CET
DTSTART:20281029T010000
END:STANDARD
END:VTIMEZONE
BEGIN:VEVENT
DTSTART;TZID=Europe/Copenhagen:20270331T120000
DTEND;TZID=Europe/Copenhagen:20270331T173000
DTSTAMP:20260424T212013
CREATED:20250505T095126Z
LAST-MODIFIED:20250905T085924Z
UID:10044928-1806494400-1806514200@vorescosmos.dk
SUMMARY:Café Cosmos
DESCRIPTION:
URL:https://vorescosmos.dk/begivenhed/cafe-cosmos/2027-03-31/
LOCATION:Fælleskøkkenet\, Søndergade 11\, Viby Sj.\, 4130\, Danmark
CATEGORIES:Lokale bookninger
END:VEVENT
BEGIN:VEVENT
DTSTART;TZID=Europe/Copenhagen:20270401T080000
DTEND;TZID=Europe/Copenhagen:20270401T170000
DTSTAMP:20260424T212013
CREATED:20231123T134526Z
LAST-MODIFIED:20240627T092948Z
UID:10038541-1806566400-1806598800@vorescosmos.dk
SUMMARY:Reserveret arkivet
DESCRIPTION:
URL:https://vorescosmos.dk/begivenhed/reserveret-arkivet/2027-04-01/
LOCATION:Ramsørummet\, Søndergade 11\, Viby Sj.\, 4130\, Danmark
CATEGORIES:Lokale bookninger
END:VEVENT
BEGIN:VEVENT
DTSTART;TZID=Europe/Copenhagen:20270401T120000
DTEND;TZID=Europe/Copenhagen:20270401T173000
DTSTAMP:20260424T212013
CREATED:20250505T095126Z
LAST-MODIFIED:20250905T085924Z
UID:10046082-1806580800-1806600600@vorescosmos.dk
SUMMARY:Café Cosmos
DESCRIPTION:
URL:https://vorescosmos.dk/begivenhed/cafe-cosmos/2027-04-01/
LOCATION:Fælleskøkkenet\, Søndergade 11\, Viby Sj.\, 4130\, Danmark
CATEGORIES:Lokale bookninger
END:VEVENT
BEGIN:VEVENT
DTSTART;TZID=Europe/Copenhagen:20270403T100000
DTEND;TZID=Europe/Copenhagen:20270403T150000
DTSTAMP:20260424T212013
CREATED:20250109T113659Z
LAST-MODIFIED:20250109T113958Z
UID:10043228-1806746400-1806764400@vorescosmos.dk
SUMMARY:BilledCosmos
DESCRIPTION:
URL:https://vorescosmos.dk/begivenhed/billedcosmos-26/2027-04-03/
LOCATION:Værkstedet\, Søndergade 11\, Viby Sj.\, 4130\, Danmark
CATEGORIES:Lokale bookninger
END:VEVENT
BEGIN:VEVENT
DTSTART;TZID=Europe/Copenhagen:20270405T120000
DTEND;TZID=Europe/Copenhagen:20270405T173000
DTSTAMP:20260424T212013
CREATED:20250505T095126Z
LAST-MODIFIED:20250905T085924Z
UID:10044930-1806926400-1806946200@vorescosmos.dk
SUMMARY:Café Cosmos
DESCRIPTION:
URL:https://vorescosmos.dk/begivenhed/cafe-cosmos/2027-04-05/
LOCATION:Fælleskøkkenet\, Søndergade 11\, Viby Sj.\, 4130\, Danmark
CATEGORIES:Lokale bookninger
END:VEVENT
BEGIN:VEVENT
DTSTART;TZID=Europe/Copenhagen:20270405T160000
DTEND;TZID=Europe/Copenhagen:20270405T180000
DTSTAMP:20260424T212013
CREATED:20231030T123535Z
LAST-MODIFIED:20241205T141227Z
UID:10039969-1806940800-1806948000@vorescosmos.dk
SUMMARY:Bibliotekscaféen
DESCRIPTION:
URL:https://vorescosmos.dk/begivenhed/bibliotekscafeen-12/2027-04-05/
LOCATION:Tænketanken\, Søndergade 11\, Viby Sj.\, 4130\, Danmark
CATEGORIES:Lokale bookninger
END:VEVENT
BEGIN:VEVENT
DTSTART;TZID=Europe/Copenhagen:20270406T120000
DTEND;TZID=Europe/Copenhagen:20270406T173000
DTSTAMP:20260424T212013
CREATED:20250505T095126Z
LAST-MODIFIED:20250905T085924Z
UID:10044931-1807012800-1807032600@vorescosmos.dk
SUMMARY:Café Cosmos
DESCRIPTION:
URL:https://vorescosmos.dk/begivenhed/cafe-cosmos/2027-04-06/
LOCATION:Fælleskøkkenet\, Søndergade 11\, Viby Sj.\, 4130\, Danmark
CATEGORIES:Lokale bookninger
END:VEVENT
BEGIN:VEVENT
DTSTART;TZID=Europe/Copenhagen:20270407T120000
DTEND;TZID=Europe/Copenhagen:20270407T173000
DTSTAMP:20260424T212013
CREATED:20250505T095126Z
LAST-MODIFIED:20250905T085924Z
UID:10044932-1807099200-1807119000@vorescosmos.dk
SUMMARY:Café Cosmos
DESCRIPTION:
URL:https://vorescosmos.dk/begivenhed/cafe-cosmos/2027-04-07/
LOCATION:Fælleskøkkenet\, Søndergade 11\, Viby Sj.\, 4130\, Danmark
CATEGORIES:Lokale bookninger
END:VEVENT
BEGIN:VEVENT
DTSTART;TZID=Europe/Copenhagen:20270408T080000
DTEND;TZID=Europe/Copenhagen:20270408T170000
DTSTAMP:20260424T212013
CREATED:20231123T134526Z
LAST-MODIFIED:20240627T092948Z
UID:10038542-1807171200-1807203600@vorescosmos.dk
SUMMARY:Reserveret arkivet
DESCRIPTION:
URL:https://vorescosmos.dk/begivenhed/reserveret-arkivet/2027-04-08/
LOCATION:Ramsørummet\, Søndergade 11\, Viby Sj.\, 4130\, Danmark
CATEGORIES:Lokale bookninger
END:VEVENT
BEGIN:VEVENT
DTSTART;TZID=Europe/Copenhagen:20270408T120000
DTEND;TZID=Europe/Copenhagen:20270408T173000
DTSTAMP:20260424T212013
CREATED:20250505T095126Z
LAST-MODIFIED:20250905T085924Z
UID:10046083-1807185600-1807205400@vorescosmos.dk
SUMMARY:Café Cosmos
DESCRIPTION:
URL:https://vorescosmos.dk/begivenhed/cafe-cosmos/2027-04-08/
LOCATION:Fælleskøkkenet\, Søndergade 11\, Viby Sj.\, 4130\, Danmark
CATEGORIES:Lokale bookninger
END:VEVENT
BEGIN:VEVENT
DTSTART;TZID=Europe/Copenhagen:20270410T100000
DTEND;TZID=Europe/Copenhagen:20270410T150000
DTSTAMP:20260424T212013
CREATED:20250109T113659Z
LAST-MODIFIED:20250109T113958Z
UID:10043229-1807351200-1807369200@vorescosmos.dk
SUMMARY:BilledCosmos
DESCRIPTION:
URL:https://vorescosmos.dk/begivenhed/billedcosmos-26/2027-04-10/
LOCATION:Værkstedet\, Søndergade 11\, Viby Sj.\, 4130\, Danmark
CATEGORIES:Lokale bookninger
END:VEVENT
BEGIN:VEVENT
DTSTART;TZID=Europe/Copenhagen:20270412T120000
DTEND;TZID=Europe/Copenhagen:20270412T173000
DTSTAMP:20260424T212013
CREATED:20250505T095126Z
LAST-MODIFIED:20250905T085924Z
UID:10044934-1807531200-1807551000@vorescosmos.dk
SUMMARY:Café Cosmos
DESCRIPTION:
URL:https://vorescosmos.dk/begivenhed/cafe-cosmos/2027-04-12/
LOCATION:Fælleskøkkenet\, Søndergade 11\, Viby Sj.\, 4130\, Danmark
CATEGORIES:Lokale bookninger
END:VEVENT
BEGIN:VEVENT
DTSTART;TZID=Europe/Copenhagen:20270412T160000
DTEND;TZID=Europe/Copenhagen:20270412T180000
DTSTAMP:20260424T212013
CREATED:20231030T123535Z
LAST-MODIFIED:20241205T141227Z
UID:10039970-1807545600-1807552800@vorescosmos.dk
SUMMARY:Bibliotekscaféen
DESCRIPTION:
URL:https://vorescosmos.dk/begivenhed/bibliotekscafeen-12/2027-04-12/
LOCATION:Tænketanken\, Søndergade 11\, Viby Sj.\, 4130\, Danmark
CATEGORIES:Lokale bookninger
END:VEVENT
BEGIN:VEVENT
DTSTART;TZID=Europe/Copenhagen:20270413T120000
DTEND;TZID=Europe/Copenhagen:20270413T173000
DTSTAMP:20260424T212013
CREATED:20250505T095126Z
LAST-MODIFIED:20250905T085924Z
UID:10044935-1807617600-1807637400@vorescosmos.dk
SUMMARY:Café Cosmos
DESCRIPTION:
URL:https://vorescosmos.dk/begivenhed/cafe-cosmos/2027-04-13/
LOCATION:Fælleskøkkenet\, Søndergade 11\, Viby Sj.\, 4130\, Danmark
CATEGORIES:Lokale bookninger
END:VEVENT
BEGIN:VEVENT
DTSTART;TZID=Europe/Copenhagen:20270414T120000
DTEND;TZID=Europe/Copenhagen:20270414T173000
DTSTAMP:20260424T212013
CREATED:20250505T095126Z
LAST-MODIFIED:20250905T085924Z
UID:10044936-1807704000-1807723800@vorescosmos.dk
SUMMARY:Café Cosmos
DESCRIPTION:
URL:https://vorescosmos.dk/begivenhed/cafe-cosmos/2027-04-14/
LOCATION:Fælleskøkkenet\, Søndergade 11\, Viby Sj.\, 4130\, Danmark
CATEGORIES:Lokale bookninger
END:VEVENT
BEGIN:VEVENT
DTSTART;TZID=Europe/Copenhagen:20270415T080000
DTEND;TZID=Europe/Copenhagen:20270415T170000
DTSTAMP:20260424T212013
CREATED:20231123T134526Z
LAST-MODIFIED:20240627T092948Z
UID:10038543-1807776000-1807808400@vorescosmos.dk
SUMMARY:Reserveret arkivet
DESCRIPTION:
URL:https://vorescosmos.dk/begivenhed/reserveret-arkivet/2027-04-15/
LOCATION:Ramsørummet\, Søndergade 11\, Viby Sj.\, 4130\, Danmark
CATEGORIES:Lokale bookninger
END:VEVENT
BEGIN:VEVENT
DTSTART;TZID=Europe/Copenhagen:20270415T120000
DTEND;TZID=Europe/Copenhagen:20270415T173000
DTSTAMP:20260424T212013
CREATED:20250505T095126Z
LAST-MODIFIED:20250905T085924Z
UID:10046084-1807790400-1807810200@vorescosmos.dk
SUMMARY:Café Cosmos
DESCRIPTION:
URL:https://vorescosmos.dk/begivenhed/cafe-cosmos/2027-04-15/
LOCATION:Fælleskøkkenet\, Søndergade 11\, Viby Sj.\, 4130\, Danmark
CATEGORIES:Lokale bookninger
END:VEVENT
BEGIN:VEVENT
DTSTART;TZID=Europe/Copenhagen:20270417T100000
DTEND;TZID=Europe/Copenhagen:20270417T150000
DTSTAMP:20260424T212013
CREATED:20250109T113659Z
LAST-MODIFIED:20250109T113958Z
UID:10043230-1807956000-1807974000@vorescosmos.dk
SUMMARY:BilledCosmos
DESCRIPTION:
URL:https://vorescosmos.dk/begivenhed/billedcosmos-26/2027-04-17/
LOCATION:Værkstedet\, Søndergade 11\, Viby Sj.\, 4130\, Danmark
CATEGORIES:Lokale bookninger
END:VEVENT
BEGIN:VEVENT
DTSTART;TZID=Europe/Copenhagen:20270419T120000
DTEND;TZID=Europe/Copenhagen:20270419T173000
DTSTAMP:20260424T212013
CREATED:20250505T095126Z
LAST-MODIFIED:20250905T085924Z
UID:10044938-1808136000-1808155800@vorescosmos.dk
SUMMARY:Café Cosmos
DESCRIPTION:
URL:https://vorescosmos.dk/begivenhed/cafe-cosmos/2027-04-19/
LOCATION:Fælleskøkkenet\, Søndergade 11\, Viby Sj.\, 4130\, Danmark
CATEGORIES:Lokale bookninger
END:VEVENT
BEGIN:VEVENT
DTSTART;TZID=Europe/Copenhagen:20270419T160000
DTEND;TZID=Europe/Copenhagen:20270419T180000
DTSTAMP:20260424T212013
CREATED:20231030T123535Z
LAST-MODIFIED:20241205T141227Z
UID:10039971-1808150400-1808157600@vorescosmos.dk
SUMMARY:Bibliotekscaféen
DESCRIPTION:
URL:https://vorescosmos.dk/begivenhed/bibliotekscafeen-12/2027-04-19/
LOCATION:Tænketanken\, Søndergade 11\, Viby Sj.\, 4130\, Danmark
CATEGORIES:Lokale bookninger
END:VEVENT
BEGIN:VEVENT
DTSTART;TZID=Europe/Copenhagen:20270420T120000
DTEND;TZID=Europe/Copenhagen:20270420T173000
DTSTAMP:20260424T212013
CREATED:20250505T095126Z
LAST-MODIFIED:20250905T085924Z
UID:10044939-1808222400-1808242200@vorescosmos.dk
SUMMARY:Café Cosmos
DESCRIPTION:
URL:https://vorescosmos.dk/begivenhed/cafe-cosmos/2027-04-20/
LOCATION:Fælleskøkkenet\, Søndergade 11\, Viby Sj.\, 4130\, Danmark
CATEGORIES:Lokale bookninger
END:VEVENT
BEGIN:VEVENT
DTSTART;TZID=Europe/Copenhagen:20270421T120000
DTEND;TZID=Europe/Copenhagen:20270421T173000
DTSTAMP:20260424T212013
CREATED:20250505T095126Z
LAST-MODIFIED:20250905T085924Z
UID:10044940-1808308800-1808328600@vorescosmos.dk
SUMMARY:Café Cosmos
DESCRIPTION:
URL:https://vorescosmos.dk/begivenhed/cafe-cosmos/2027-04-21/
LOCATION:Fælleskøkkenet\, Søndergade 11\, Viby Sj.\, 4130\, Danmark
CATEGORIES:Lokale bookninger
END:VEVENT
BEGIN:VEVENT
DTSTART;TZID=Europe/Copenhagen:20270422T080000
DTEND;TZID=Europe/Copenhagen:20270422T170000
DTSTAMP:20260424T212013
CREATED:20231123T134526Z
LAST-MODIFIED:20240627T092948Z
UID:10038544-1808380800-1808413200@vorescosmos.dk
SUMMARY:Reserveret arkivet
DESCRIPTION:
URL:https://vorescosmos.dk/begivenhed/reserveret-arkivet/2027-04-22/
LOCATION:Ramsørummet\, Søndergade 11\, Viby Sj.\, 4130\, Danmark
CATEGORIES:Lokale bookninger
END:VEVENT
BEGIN:VEVENT
DTSTART;TZID=Europe/Copenhagen:20270422T120000
DTEND;TZID=Europe/Copenhagen:20270422T173000
DTSTAMP:20260424T212013
CREATED:20250505T095126Z
LAST-MODIFIED:20250905T085924Z
UID:10046085-1808395200-1808415000@vorescosmos.dk
SUMMARY:Café Cosmos
DESCRIPTION:
URL:https://vorescosmos.dk/begivenhed/cafe-cosmos/2027-04-22/
LOCATION:Fælleskøkkenet\, Søndergade 11\, Viby Sj.\, 4130\, Danmark
CATEGORIES:Lokale bookninger
END:VEVENT
BEGIN:VEVENT
DTSTART;TZID=Europe/Copenhagen:20270424T100000
DTEND;TZID=Europe/Copenhagen:20270424T150000
DTSTAMP:20260424T212013
CREATED:20250109T113659Z
LAST-MODIFIED:20250109T113958Z
UID:10043231-1808560800-1808578800@vorescosmos.dk
SUMMARY:BilledCosmos
DESCRIPTION:
URL:https://vorescosmos.dk/begivenhed/billedcosmos-26/2027-04-24/
LOCATION:Værkstedet\, Søndergade 11\, Viby Sj.\, 4130\, Danmark
CATEGORIES:Lokale bookninger
END:VEVENT
BEGIN:VEVENT
DTSTART;TZID=Europe/Copenhagen:20270426T120000
DTEND;TZID=Europe/Copenhagen:20270426T173000
DTSTAMP:20260424T212013
CREATED:20250505T095126Z
LAST-MODIFIED:20250905T085924Z
UID:10044942-1808740800-1808760600@vorescosmos.dk
SUMMARY:Café Cosmos
DESCRIPTION:
URL:https://vorescosmos.dk/begivenhed/cafe-cosmos/2027-04-26/
LOCATION:Fælleskøkkenet\, Søndergade 11\, Viby Sj.\, 4130\, Danmark
CATEGORIES:Lokale bookninger
END:VEVENT
BEGIN:VEVENT
DTSTART;TZID=Europe/Copenhagen:20270426T160000
DTEND;TZID=Europe/Copenhagen:20270426T180000
DTSTAMP:20260424T212013
CREATED:20231030T123535Z
LAST-MODIFIED:20241205T141227Z
UID:10039972-1808755200-1808762400@vorescosmos.dk
SUMMARY:Bibliotekscaféen
DESCRIPTION:
URL:https://vorescosmos.dk/begivenhed/bibliotekscafeen-12/2027-04-26/
LOCATION:Tænketanken\, Søndergade 11\, Viby Sj.\, 4130\, Danmark
CATEGORIES:Lokale bookninger
END:VEVENT
BEGIN:VEVENT
DTSTART;TZID=Europe/Copenhagen:20270427T120000
DTEND;TZID=Europe/Copenhagen:20270427T173000
DTSTAMP:20260424T212013
CREATED:20250505T095126Z
LAST-MODIFIED:20250905T085924Z
UID:10044943-1808827200-1808847000@vorescosmos.dk
SUMMARY:Café Cosmos
DESCRIPTION:
URL:https://vorescosmos.dk/begivenhed/cafe-cosmos/2027-04-27/
LOCATION:Fælleskøkkenet\, Søndergade 11\, Viby Sj.\, 4130\, Danmark
CATEGORIES:Lokale bookninger
END:VEVENT
BEGIN:VEVENT
DTSTART;TZID=Europe/Copenhagen:20270428T120000
DTEND;TZID=Europe/Copenhagen:20270428T173000
DTSTAMP:20260424T212013
CREATED:20250505T095126Z
LAST-MODIFIED:20250905T085924Z
UID:10044944-1808913600-1808933400@vorescosmos.dk
SUMMARY:Café Cosmos
DESCRIPTION:
URL:https://vorescosmos.dk/begivenhed/cafe-cosmos/2027-04-28/
LOCATION:Fælleskøkkenet\, Søndergade 11\, Viby Sj.\, 4130\, Danmark
CATEGORIES:Lokale bookninger
END:VEVENT
BEGIN:VEVENT
DTSTART;TZID=Europe/Copenhagen:20270429T080000
DTEND;TZID=Europe/Copenhagen:20270429T170000
DTSTAMP:20260424T212013
CREATED:20231123T134526Z
LAST-MODIFIED:20240627T092948Z
UID:10038545-1808985600-1809018000@vorescosmos.dk
SUMMARY:Reserveret arkivet
DESCRIPTION:
URL:https://vorescosmos.dk/begivenhed/reserveret-arkivet/2027-04-29/
LOCATION:Ramsørummet\, Søndergade 11\, Viby Sj.\, 4130\, Danmark
CATEGORIES:Lokale bookninger
END:VEVENT
END:VCALENDAR