BEGIN:VCALENDAR
VERSION:2.0
PRODID:-//Vores Cosmos - ECPv6.15.20//NONSGML v1.0//EN
CALSCALE:GREGORIAN
METHOD:PUBLISH
X-WR-CALNAME:Vores Cosmos
X-ORIGINAL-URL:https://vorescosmos.dk
X-WR-CALDESC:Begivenheder for Vores Cosmos
REFRESH-INTERVAL;VALUE=DURATION:PT1H
X-Robots-Tag:noindex
X-PUBLISHED-TTL:PT1H
BEGIN:VTIMEZONE
TZID:Europe/Copenhagen
BEGIN:DAYLIGHT
TZOFFSETFROM:+0100
TZOFFSETTO:+0200
TZNAME:CEST
DTSTART:20260329T010000
END:DAYLIGHT
BEGIN:STANDARD
TZOFFSETFROM:+0200
TZOFFSETTO:+0100
TZNAME:CET
DTSTART:20261025T010000
END:STANDARD
BEGIN:DAYLIGHT
TZOFFSETFROM:+0100
TZOFFSETTO:+0200
TZNAME:CEST
DTSTART:20270328T010000
END:DAYLIGHT
BEGIN:STANDARD
TZOFFSETFROM:+0200
TZOFFSETTO:+0100
TZNAME:CET
DTSTART:20271031T010000
END:STANDARD
BEGIN:DAYLIGHT
TZOFFSETFROM:+0100
TZOFFSETTO:+0200
TZNAME:CEST
DTSTART:20280326T010000
END:DAYLIGHT
BEGIN:STANDARD
TZOFFSETFROM:+0200
TZOFFSETTO:+0100
TZNAME:CET
DTSTART:20281029T010000
END:STANDARD
END:VTIMEZONE
BEGIN:VEVENT
DTSTART;TZID=Europe/Copenhagen:20270503T160000
DTEND;TZID=Europe/Copenhagen:20270503T180000
DTSTAMP:20260425T020006
CREATED:20231030T123535Z
LAST-MODIFIED:20241205T141227Z
UID:10039973-1809360000-1809367200@vorescosmos.dk
SUMMARY:Bibliotekscaféen
DESCRIPTION:
URL:https://vorescosmos.dk/begivenhed/bibliotekscafeen-12/2027-05-03/
LOCATION:Tænketanken\, Søndergade 11\, Viby Sj.\, 4130\, Danmark
CATEGORIES:Lokale bookninger
END:VEVENT
BEGIN:VEVENT
DTSTART;TZID=Europe/Copenhagen:20270504T120000
DTEND;TZID=Europe/Copenhagen:20270504T173000
DTSTAMP:20260425T020006
CREATED:20250505T095126Z
LAST-MODIFIED:20250905T085924Z
UID:10044947-1809432000-1809451800@vorescosmos.dk
SUMMARY:Café Cosmos
DESCRIPTION:
URL:https://vorescosmos.dk/begivenhed/cafe-cosmos/2027-05-04/
LOCATION:Fælleskøkkenet\, Søndergade 11\, Viby Sj.\, 4130\, Danmark
CATEGORIES:Lokale bookninger
END:VEVENT
BEGIN:VEVENT
DTSTART;TZID=Europe/Copenhagen:20270505T120000
DTEND;TZID=Europe/Copenhagen:20270505T173000
DTSTAMP:20260425T020006
CREATED:20250505T095126Z
LAST-MODIFIED:20250905T085924Z
UID:10044948-1809518400-1809538200@vorescosmos.dk
SUMMARY:Café Cosmos
DESCRIPTION:
URL:https://vorescosmos.dk/begivenhed/cafe-cosmos/2027-05-05/
LOCATION:Fælleskøkkenet\, Søndergade 11\, Viby Sj.\, 4130\, Danmark
CATEGORIES:Lokale bookninger
END:VEVENT
BEGIN:VEVENT
DTSTART;TZID=Europe/Copenhagen:20270506T080000
DTEND;TZID=Europe/Copenhagen:20270506T170000
DTSTAMP:20260425T020006
CREATED:20231123T134526Z
LAST-MODIFIED:20240627T092948Z
UID:10038546-1809590400-1809622800@vorescosmos.dk
SUMMARY:Reserveret arkivet
DESCRIPTION:
URL:https://vorescosmos.dk/begivenhed/reserveret-arkivet/2027-05-06/
LOCATION:Ramsørummet\, Søndergade 11\, Viby Sj.\, 4130\, Danmark
CATEGORIES:Lokale bookninger
END:VEVENT
BEGIN:VEVENT
DTSTART;TZID=Europe/Copenhagen:20270506T120000
DTEND;TZID=Europe/Copenhagen:20270506T173000
DTSTAMP:20260425T020006
CREATED:20250505T095126Z
LAST-MODIFIED:20250905T085924Z
UID:10046087-1809604800-1809624600@vorescosmos.dk
SUMMARY:Café Cosmos
DESCRIPTION:
URL:https://vorescosmos.dk/begivenhed/cafe-cosmos/2027-05-06/
LOCATION:Fælleskøkkenet\, Søndergade 11\, Viby Sj.\, 4130\, Danmark
CATEGORIES:Lokale bookninger
END:VEVENT
BEGIN:VEVENT
DTSTART;TZID=Europe/Copenhagen:20270508T100000
DTEND;TZID=Europe/Copenhagen:20270508T150000
DTSTAMP:20260425T020006
CREATED:20250109T113659Z
LAST-MODIFIED:20250109T113958Z
UID:10043233-1809770400-1809788400@vorescosmos.dk
SUMMARY:BilledCosmos
DESCRIPTION:
URL:https://vorescosmos.dk/begivenhed/billedcosmos-26/2027-05-08/
LOCATION:Værkstedet\, Søndergade 11\, Viby Sj.\, 4130\, Danmark
CATEGORIES:Lokale bookninger
END:VEVENT
BEGIN:VEVENT
DTSTART;TZID=Europe/Copenhagen:20270510T120000
DTEND;TZID=Europe/Copenhagen:20270510T173000
DTSTAMP:20260425T020006
CREATED:20250505T095126Z
LAST-MODIFIED:20250905T085924Z
UID:10044950-1809950400-1809970200@vorescosmos.dk
SUMMARY:Café Cosmos
DESCRIPTION:
URL:https://vorescosmos.dk/begivenhed/cafe-cosmos/2027-05-10/
LOCATION:Fælleskøkkenet\, Søndergade 11\, Viby Sj.\, 4130\, Danmark
CATEGORIES:Lokale bookninger
END:VEVENT
BEGIN:VEVENT
DTSTART;TZID=Europe/Copenhagen:20270510T160000
DTEND;TZID=Europe/Copenhagen:20270510T180000
DTSTAMP:20260425T020006
CREATED:20231030T123535Z
LAST-MODIFIED:20241205T141227Z
UID:10039974-1809964800-1809972000@vorescosmos.dk
SUMMARY:Bibliotekscaféen
DESCRIPTION:
URL:https://vorescosmos.dk/begivenhed/bibliotekscafeen-12/2027-05-10/
LOCATION:Tænketanken\, Søndergade 11\, Viby Sj.\, 4130\, Danmark
CATEGORIES:Lokale bookninger
END:VEVENT
BEGIN:VEVENT
DTSTART;TZID=Europe/Copenhagen:20270511T120000
DTEND;TZID=Europe/Copenhagen:20270511T173000
DTSTAMP:20260425T020006
CREATED:20250505T095126Z
LAST-MODIFIED:20250905T085924Z
UID:10044951-1810036800-1810056600@vorescosmos.dk
SUMMARY:Café Cosmos
DESCRIPTION:
URL:https://vorescosmos.dk/begivenhed/cafe-cosmos/2027-05-11/
LOCATION:Fælleskøkkenet\, Søndergade 11\, Viby Sj.\, 4130\, Danmark
CATEGORIES:Lokale bookninger
END:VEVENT
BEGIN:VEVENT
DTSTART;TZID=Europe/Copenhagen:20270512T120000
DTEND;TZID=Europe/Copenhagen:20270512T173000
DTSTAMP:20260425T020006
CREATED:20250505T095126Z
LAST-MODIFIED:20250905T085924Z
UID:10044952-1810123200-1810143000@vorescosmos.dk
SUMMARY:Café Cosmos
DESCRIPTION:
URL:https://vorescosmos.dk/begivenhed/cafe-cosmos/2027-05-12/
LOCATION:Fælleskøkkenet\, Søndergade 11\, Viby Sj.\, 4130\, Danmark
CATEGORIES:Lokale bookninger
END:VEVENT
BEGIN:VEVENT
DTSTART;TZID=Europe/Copenhagen:20270513T080000
DTEND;TZID=Europe/Copenhagen:20270513T170000
DTSTAMP:20260425T020006
CREATED:20231123T134526Z
LAST-MODIFIED:20240627T092948Z
UID:10038547-1810195200-1810227600@vorescosmos.dk
SUMMARY:Reserveret arkivet
DESCRIPTION:
URL:https://vorescosmos.dk/begivenhed/reserveret-arkivet/2027-05-13/
LOCATION:Ramsørummet\, Søndergade 11\, Viby Sj.\, 4130\, Danmark
CATEGORIES:Lokale bookninger
END:VEVENT
BEGIN:VEVENT
DTSTART;TZID=Europe/Copenhagen:20270513T120000
DTEND;TZID=Europe/Copenhagen:20270513T173000
DTSTAMP:20260425T020006
CREATED:20250505T095126Z
LAST-MODIFIED:20250905T085924Z
UID:10046088-1810209600-1810229400@vorescosmos.dk
SUMMARY:Café Cosmos
DESCRIPTION:
URL:https://vorescosmos.dk/begivenhed/cafe-cosmos/2027-05-13/
LOCATION:Fælleskøkkenet\, Søndergade 11\, Viby Sj.\, 4130\, Danmark
CATEGORIES:Lokale bookninger
END:VEVENT
BEGIN:VEVENT
DTSTART;TZID=Europe/Copenhagen:20270515T100000
DTEND;TZID=Europe/Copenhagen:20270515T150000
DTSTAMP:20260425T020006
CREATED:20250109T113659Z
LAST-MODIFIED:20250109T113958Z
UID:10043234-1810375200-1810393200@vorescosmos.dk
SUMMARY:BilledCosmos
DESCRIPTION:
URL:https://vorescosmos.dk/begivenhed/billedcosmos-26/2027-05-15/
LOCATION:Værkstedet\, Søndergade 11\, Viby Sj.\, 4130\, Danmark
CATEGORIES:Lokale bookninger
END:VEVENT
BEGIN:VEVENT
DTSTART;TZID=Europe/Copenhagen:20270517T120000
DTEND;TZID=Europe/Copenhagen:20270517T173000
DTSTAMP:20260425T020006
CREATED:20250505T095126Z
LAST-MODIFIED:20250905T085924Z
UID:10044954-1810555200-1810575000@vorescosmos.dk
SUMMARY:Café Cosmos
DESCRIPTION:
URL:https://vorescosmos.dk/begivenhed/cafe-cosmos/2027-05-17/
LOCATION:Fælleskøkkenet\, Søndergade 11\, Viby Sj.\, 4130\, Danmark
CATEGORIES:Lokale bookninger
END:VEVENT
BEGIN:VEVENT
DTSTART;TZID=Europe/Copenhagen:20270517T160000
DTEND;TZID=Europe/Copenhagen:20270517T180000
DTSTAMP:20260425T020006
CREATED:20231030T123535Z
LAST-MODIFIED:20241205T141227Z
UID:10039975-1810569600-1810576800@vorescosmos.dk
SUMMARY:Bibliotekscaféen
DESCRIPTION:
URL:https://vorescosmos.dk/begivenhed/bibliotekscafeen-12/2027-05-17/
LOCATION:Tænketanken\, Søndergade 11\, Viby Sj.\, 4130\, Danmark
CATEGORIES:Lokale bookninger
END:VEVENT
BEGIN:VEVENT
DTSTART;TZID=Europe/Copenhagen:20270518T120000
DTEND;TZID=Europe/Copenhagen:20270518T173000
DTSTAMP:20260425T020006
CREATED:20250505T095126Z
LAST-MODIFIED:20250905T085924Z
UID:10044955-1810641600-1810661400@vorescosmos.dk
SUMMARY:Café Cosmos
DESCRIPTION:
URL:https://vorescosmos.dk/begivenhed/cafe-cosmos/2027-05-18/
LOCATION:Fælleskøkkenet\, Søndergade 11\, Viby Sj.\, 4130\, Danmark
CATEGORIES:Lokale bookninger
END:VEVENT
BEGIN:VEVENT
DTSTART;TZID=Europe/Copenhagen:20270519T120000
DTEND;TZID=Europe/Copenhagen:20270519T173000
DTSTAMP:20260425T020006
CREATED:20250505T095126Z
LAST-MODIFIED:20250905T085924Z
UID:10044956-1810728000-1810747800@vorescosmos.dk
SUMMARY:Café Cosmos
DESCRIPTION:
URL:https://vorescosmos.dk/begivenhed/cafe-cosmos/2027-05-19/
LOCATION:Fælleskøkkenet\, Søndergade 11\, Viby Sj.\, 4130\, Danmark
CATEGORIES:Lokale bookninger
END:VEVENT
BEGIN:VEVENT
DTSTART;TZID=Europe/Copenhagen:20270520T080000
DTEND;TZID=Europe/Copenhagen:20270520T170000
DTSTAMP:20260425T020006
CREATED:20231123T134526Z
LAST-MODIFIED:20240627T092948Z
UID:10038548-1810800000-1810832400@vorescosmos.dk
SUMMARY:Reserveret arkivet
DESCRIPTION:
URL:https://vorescosmos.dk/begivenhed/reserveret-arkivet/2027-05-20/
LOCATION:Ramsørummet\, Søndergade 11\, Viby Sj.\, 4130\, Danmark
CATEGORIES:Lokale bookninger
END:VEVENT
BEGIN:VEVENT
DTSTART;TZID=Europe/Copenhagen:20270520T120000
DTEND;TZID=Europe/Copenhagen:20270520T173000
DTSTAMP:20260425T020006
CREATED:20250505T095126Z
LAST-MODIFIED:20250905T085924Z
UID:10046089-1810814400-1810834200@vorescosmos.dk
SUMMARY:Café Cosmos
DESCRIPTION:
URL:https://vorescosmos.dk/begivenhed/cafe-cosmos/2027-05-20/
LOCATION:Fælleskøkkenet\, Søndergade 11\, Viby Sj.\, 4130\, Danmark
CATEGORIES:Lokale bookninger
END:VEVENT
BEGIN:VEVENT
DTSTART;TZID=Europe/Copenhagen:20270522T100000
DTEND;TZID=Europe/Copenhagen:20270522T150000
DTSTAMP:20260425T020006
CREATED:20250109T113659Z
LAST-MODIFIED:20250109T113958Z
UID:10043235-1810980000-1810998000@vorescosmos.dk
SUMMARY:BilledCosmos
DESCRIPTION:
URL:https://vorescosmos.dk/begivenhed/billedcosmos-26/2027-05-22/
LOCATION:Værkstedet\, Søndergade 11\, Viby Sj.\, 4130\, Danmark
CATEGORIES:Lokale bookninger
END:VEVENT
BEGIN:VEVENT
DTSTART;TZID=Europe/Copenhagen:20270524T120000
DTEND;TZID=Europe/Copenhagen:20270524T173000
DTSTAMP:20260425T020006
CREATED:20250505T095126Z
LAST-MODIFIED:20250905T085924Z
UID:10044958-1811160000-1811179800@vorescosmos.dk
SUMMARY:Café Cosmos
DESCRIPTION:
URL:https://vorescosmos.dk/begivenhed/cafe-cosmos/2027-05-24/
LOCATION:Fælleskøkkenet\, Søndergade 11\, Viby Sj.\, 4130\, Danmark
CATEGORIES:Lokale bookninger
END:VEVENT
BEGIN:VEVENT
DTSTART;TZID=Europe/Copenhagen:20270524T160000
DTEND;TZID=Europe/Copenhagen:20270524T180000
DTSTAMP:20260425T020006
CREATED:20231030T123535Z
LAST-MODIFIED:20241205T141227Z
UID:10039976-1811174400-1811181600@vorescosmos.dk
SUMMARY:Bibliotekscaféen
DESCRIPTION:
URL:https://vorescosmos.dk/begivenhed/bibliotekscafeen-12/2027-05-24/
LOCATION:Tænketanken\, Søndergade 11\, Viby Sj.\, 4130\, Danmark
CATEGORIES:Lokale bookninger
END:VEVENT
BEGIN:VEVENT
DTSTART;TZID=Europe/Copenhagen:20270525T120000
DTEND;TZID=Europe/Copenhagen:20270525T173000
DTSTAMP:20260425T020006
CREATED:20250505T095126Z
LAST-MODIFIED:20250905T085924Z
UID:10044959-1811246400-1811266200@vorescosmos.dk
SUMMARY:Café Cosmos
DESCRIPTION:
URL:https://vorescosmos.dk/begivenhed/cafe-cosmos/2027-05-25/
LOCATION:Fælleskøkkenet\, Søndergade 11\, Viby Sj.\, 4130\, Danmark
CATEGORIES:Lokale bookninger
END:VEVENT
BEGIN:VEVENT
DTSTART;TZID=Europe/Copenhagen:20270526T120000
DTEND;TZID=Europe/Copenhagen:20270526T173000
DTSTAMP:20260425T020006
CREATED:20250505T095126Z
LAST-MODIFIED:20250905T085924Z
UID:10044960-1811332800-1811352600@vorescosmos.dk
SUMMARY:Café Cosmos
DESCRIPTION:
URL:https://vorescosmos.dk/begivenhed/cafe-cosmos/2027-05-26/
LOCATION:Fælleskøkkenet\, Søndergade 11\, Viby Sj.\, 4130\, Danmark
CATEGORIES:Lokale bookninger
END:VEVENT
BEGIN:VEVENT
DTSTART;TZID=Europe/Copenhagen:20270527T080000
DTEND;TZID=Europe/Copenhagen:20270527T170000
DTSTAMP:20260425T020006
CREATED:20231123T134526Z
LAST-MODIFIED:20240627T092948Z
UID:10038549-1811404800-1811437200@vorescosmos.dk
SUMMARY:Reserveret arkivet
DESCRIPTION:
URL:https://vorescosmos.dk/begivenhed/reserveret-arkivet/2027-05-27/
LOCATION:Ramsørummet\, Søndergade 11\, Viby Sj.\, 4130\, Danmark
CATEGORIES:Lokale bookninger
END:VEVENT
BEGIN:VEVENT
DTSTART;TZID=Europe/Copenhagen:20270527T120000
DTEND;TZID=Europe/Copenhagen:20270527T173000
DTSTAMP:20260425T020006
CREATED:20250505T095126Z
LAST-MODIFIED:20250905T085924Z
UID:10046090-1811419200-1811439000@vorescosmos.dk
SUMMARY:Café Cosmos
DESCRIPTION:
URL:https://vorescosmos.dk/begivenhed/cafe-cosmos/2027-05-27/
LOCATION:Fælleskøkkenet\, Søndergade 11\, Viby Sj.\, 4130\, Danmark
CATEGORIES:Lokale bookninger
END:VEVENT
BEGIN:VEVENT
DTSTART;TZID=Europe/Copenhagen:20270529T100000
DTEND;TZID=Europe/Copenhagen:20270529T150000
DTSTAMP:20260425T020006
CREATED:20250109T113659Z
LAST-MODIFIED:20250109T113958Z
UID:10043236-1811584800-1811602800@vorescosmos.dk
SUMMARY:BilledCosmos
DESCRIPTION:
URL:https://vorescosmos.dk/begivenhed/billedcosmos-26/2027-05-29/
LOCATION:Værkstedet\, Søndergade 11\, Viby Sj.\, 4130\, Danmark
CATEGORIES:Lokale bookninger
END:VEVENT
BEGIN:VEVENT
DTSTART;TZID=Europe/Copenhagen:20270531T120000
DTEND;TZID=Europe/Copenhagen:20270531T173000
DTSTAMP:20260425T020006
CREATED:20250505T095126Z
LAST-MODIFIED:20250905T085924Z
UID:10044962-1811764800-1811784600@vorescosmos.dk
SUMMARY:Café Cosmos
DESCRIPTION:
URL:https://vorescosmos.dk/begivenhed/cafe-cosmos/2027-05-31/
LOCATION:Fælleskøkkenet\, Søndergade 11\, Viby Sj.\, 4130\, Danmark
CATEGORIES:Lokale bookninger
END:VEVENT
BEGIN:VEVENT
DTSTART;TZID=Europe/Copenhagen:20270531T160000
DTEND;TZID=Europe/Copenhagen:20270531T180000
DTSTAMP:20260425T020006
CREATED:20231030T123535Z
LAST-MODIFIED:20241205T141227Z
UID:10039977-1811779200-1811786400@vorescosmos.dk
SUMMARY:Bibliotekscaféen
DESCRIPTION:
URL:https://vorescosmos.dk/begivenhed/bibliotekscafeen-12/2027-05-31/
LOCATION:Tænketanken\, Søndergade 11\, Viby Sj.\, 4130\, Danmark
CATEGORIES:Lokale bookninger
END:VEVENT
BEGIN:VEVENT
DTSTART;TZID=Europe/Copenhagen:20270601T120000
DTEND;TZID=Europe/Copenhagen:20270601T173000
DTSTAMP:20260425T020006
CREATED:20250505T095126Z
LAST-MODIFIED:20250905T085924Z
UID:10044963-1811851200-1811871000@vorescosmos.dk
SUMMARY:Café Cosmos
DESCRIPTION:
URL:https://vorescosmos.dk/begivenhed/cafe-cosmos/2027-06-01/
LOCATION:Fælleskøkkenet\, Søndergade 11\, Viby Sj.\, 4130\, Danmark
CATEGORIES:Lokale bookninger
END:VEVENT
END:VCALENDAR