BEGIN:VCALENDAR
VERSION:2.0
PRODID:-//Vores Cosmos - ECPv6.15.20//NONSGML v1.0//EN
CALSCALE:GREGORIAN
METHOD:PUBLISH
X-WR-CALNAME:Vores Cosmos
X-ORIGINAL-URL:https://vorescosmos.dk
X-WR-CALDESC:Begivenheder for Vores Cosmos
REFRESH-INTERVAL;VALUE=DURATION:PT1H
X-Robots-Tag:noindex
X-PUBLISHED-TTL:PT1H
BEGIN:VTIMEZONE
TZID:Europe/Copenhagen
BEGIN:DAYLIGHT
TZOFFSETFROM:+0100
TZOFFSETTO:+0200
TZNAME:CEST
DTSTART:20260329T010000
END:DAYLIGHT
BEGIN:STANDARD
TZOFFSETFROM:+0200
TZOFFSETTO:+0100
TZNAME:CET
DTSTART:20261025T010000
END:STANDARD
BEGIN:DAYLIGHT
TZOFFSETFROM:+0100
TZOFFSETTO:+0200
TZNAME:CEST
DTSTART:20270328T010000
END:DAYLIGHT
BEGIN:STANDARD
TZOFFSETFROM:+0200
TZOFFSETTO:+0100
TZNAME:CET
DTSTART:20271031T010000
END:STANDARD
BEGIN:DAYLIGHT
TZOFFSETFROM:+0100
TZOFFSETTO:+0200
TZNAME:CEST
DTSTART:20280326T010000
END:DAYLIGHT
BEGIN:STANDARD
TZOFFSETFROM:+0200
TZOFFSETTO:+0100
TZNAME:CET
DTSTART:20281029T010000
END:STANDARD
END:VTIMEZONE
BEGIN:VEVENT
DTSTART;TZID=Europe/Copenhagen:20270724T100000
DTEND;TZID=Europe/Copenhagen:20270724T150000
DTSTAMP:20260425T154859
CREATED:20250109T113659Z
LAST-MODIFIED:20250109T113958Z
UID:10043244-1816423200-1816441200@vorescosmos.dk
SUMMARY:BilledCosmos
DESCRIPTION:
URL:https://vorescosmos.dk/begivenhed/billedcosmos-26/2027-07-24/
LOCATION:Værkstedet\, Søndergade 11\, Viby Sj.\, 4130\, Danmark
CATEGORIES:Lokale bookninger
END:VEVENT
BEGIN:VEVENT
DTSTART;TZID=Europe/Copenhagen:20270726T120000
DTEND;TZID=Europe/Copenhagen:20270726T173000
DTSTAMP:20260425T154859
CREATED:20250505T095126Z
LAST-MODIFIED:20250905T085924Z
UID:10044994-1816603200-1816623000@vorescosmos.dk
SUMMARY:Café Cosmos
DESCRIPTION:
URL:https://vorescosmos.dk/begivenhed/cafe-cosmos/2027-07-26/
LOCATION:Fælleskøkkenet\, Søndergade 11\, Viby Sj.\, 4130\, Danmark
CATEGORIES:Lokale bookninger
END:VEVENT
BEGIN:VEVENT
DTSTART;TZID=Europe/Copenhagen:20270726T160000
DTEND;TZID=Europe/Copenhagen:20270726T180000
DTSTAMP:20260425T154859
CREATED:20231030T123535Z
LAST-MODIFIED:20241205T141227Z
UID:10039985-1816617600-1816624800@vorescosmos.dk
SUMMARY:Bibliotekscaféen
DESCRIPTION:
URL:https://vorescosmos.dk/begivenhed/bibliotekscafeen-12/2027-07-26/
LOCATION:Tænketanken\, Søndergade 11\, Viby Sj.\, 4130\, Danmark
CATEGORIES:Lokale bookninger
END:VEVENT
BEGIN:VEVENT
DTSTART;TZID=Europe/Copenhagen:20270727T120000
DTEND;TZID=Europe/Copenhagen:20270727T173000
DTSTAMP:20260425T154859
CREATED:20250505T095126Z
LAST-MODIFIED:20250905T085924Z
UID:10044995-1816689600-1816709400@vorescosmos.dk
SUMMARY:Café Cosmos
DESCRIPTION:
URL:https://vorescosmos.dk/begivenhed/cafe-cosmos/2027-07-27/
LOCATION:Fælleskøkkenet\, Søndergade 11\, Viby Sj.\, 4130\, Danmark
CATEGORIES:Lokale bookninger
END:VEVENT
BEGIN:VEVENT
DTSTART;TZID=Europe/Copenhagen:20270728T120000
DTEND;TZID=Europe/Copenhagen:20270728T173000
DTSTAMP:20260425T154859
CREATED:20250505T095126Z
LAST-MODIFIED:20250905T085924Z
UID:10044996-1816776000-1816795800@vorescosmos.dk
SUMMARY:Café Cosmos
DESCRIPTION:
URL:https://vorescosmos.dk/begivenhed/cafe-cosmos/2027-07-28/
LOCATION:Fælleskøkkenet\, Søndergade 11\, Viby Sj.\, 4130\, Danmark
CATEGORIES:Lokale bookninger
END:VEVENT
BEGIN:VEVENT
DTSTART;TZID=Europe/Copenhagen:20270729T080000
DTEND;TZID=Europe/Copenhagen:20270729T170000
DTSTAMP:20260425T154859
CREATED:20231123T134526Z
LAST-MODIFIED:20240627T092948Z
UID:10038558-1816848000-1816880400@vorescosmos.dk
SUMMARY:Reserveret arkivet
DESCRIPTION:
URL:https://vorescosmos.dk/begivenhed/reserveret-arkivet/2027-07-29/
LOCATION:Ramsørummet\, Søndergade 11\, Viby Sj.\, 4130\, Danmark
CATEGORIES:Lokale bookninger
END:VEVENT
BEGIN:VEVENT
DTSTART;TZID=Europe/Copenhagen:20270729T120000
DTEND;TZID=Europe/Copenhagen:20270729T173000
DTSTAMP:20260425T154859
CREATED:20250505T095126Z
LAST-MODIFIED:20250905T085924Z
UID:10046099-1816862400-1816882200@vorescosmos.dk
SUMMARY:Café Cosmos
DESCRIPTION:
URL:https://vorescosmos.dk/begivenhed/cafe-cosmos/2027-07-29/
LOCATION:Fælleskøkkenet\, Søndergade 11\, Viby Sj.\, 4130\, Danmark
CATEGORIES:Lokale bookninger
END:VEVENT
BEGIN:VEVENT
DTSTART;TZID=Europe/Copenhagen:20270731T100000
DTEND;TZID=Europe/Copenhagen:20270731T150000
DTSTAMP:20260425T154859
CREATED:20250109T113659Z
LAST-MODIFIED:20250109T113958Z
UID:10043245-1817028000-1817046000@vorescosmos.dk
SUMMARY:BilledCosmos
DESCRIPTION:
URL:https://vorescosmos.dk/begivenhed/billedcosmos-26/2027-07-31/
LOCATION:Værkstedet\, Søndergade 11\, Viby Sj.\, 4130\, Danmark
CATEGORIES:Lokale bookninger
END:VEVENT
BEGIN:VEVENT
DTSTART;TZID=Europe/Copenhagen:20270802T120000
DTEND;TZID=Europe/Copenhagen:20270802T173000
DTSTAMP:20260425T154859
CREATED:20250505T095126Z
LAST-MODIFIED:20250905T085924Z
UID:10044998-1817208000-1817227800@vorescosmos.dk
SUMMARY:Café Cosmos
DESCRIPTION:
URL:https://vorescosmos.dk/begivenhed/cafe-cosmos/2027-08-02/
LOCATION:Fælleskøkkenet\, Søndergade 11\, Viby Sj.\, 4130\, Danmark
CATEGORIES:Lokale bookninger
END:VEVENT
BEGIN:VEVENT
DTSTART;TZID=Europe/Copenhagen:20270802T160000
DTEND;TZID=Europe/Copenhagen:20270802T180000
DTSTAMP:20260425T154859
CREATED:20231030T123535Z
LAST-MODIFIED:20241205T141227Z
UID:10039986-1817222400-1817229600@vorescosmos.dk
SUMMARY:Bibliotekscaféen
DESCRIPTION:
URL:https://vorescosmos.dk/begivenhed/bibliotekscafeen-12/2027-08-02/
LOCATION:Tænketanken\, Søndergade 11\, Viby Sj.\, 4130\, Danmark
CATEGORIES:Lokale bookninger
END:VEVENT
BEGIN:VEVENT
DTSTART;TZID=Europe/Copenhagen:20270803T120000
DTEND;TZID=Europe/Copenhagen:20270803T173000
DTSTAMP:20260425T154859
CREATED:20250505T095126Z
LAST-MODIFIED:20250905T085924Z
UID:10044999-1817294400-1817314200@vorescosmos.dk
SUMMARY:Café Cosmos
DESCRIPTION:
URL:https://vorescosmos.dk/begivenhed/cafe-cosmos/2027-08-03/
LOCATION:Fælleskøkkenet\, Søndergade 11\, Viby Sj.\, 4130\, Danmark
CATEGORIES:Lokale bookninger
END:VEVENT
BEGIN:VEVENT
DTSTART;TZID=Europe/Copenhagen:20270804T120000
DTEND;TZID=Europe/Copenhagen:20270804T173000
DTSTAMP:20260425T154859
CREATED:20250505T095126Z
LAST-MODIFIED:20250905T085924Z
UID:10045000-1817380800-1817400600@vorescosmos.dk
SUMMARY:Café Cosmos
DESCRIPTION:
URL:https://vorescosmos.dk/begivenhed/cafe-cosmos/2027-08-04/
LOCATION:Fælleskøkkenet\, Søndergade 11\, Viby Sj.\, 4130\, Danmark
CATEGORIES:Lokale bookninger
END:VEVENT
BEGIN:VEVENT
DTSTART;TZID=Europe/Copenhagen:20270805T080000
DTEND;TZID=Europe/Copenhagen:20270805T170000
DTSTAMP:20260425T154859
CREATED:20231123T134526Z
LAST-MODIFIED:20240627T092948Z
UID:10038559-1817452800-1817485200@vorescosmos.dk
SUMMARY:Reserveret arkivet
DESCRIPTION:
URL:https://vorescosmos.dk/begivenhed/reserveret-arkivet/2027-08-05/
LOCATION:Ramsørummet\, Søndergade 11\, Viby Sj.\, 4130\, Danmark
CATEGORIES:Lokale bookninger
END:VEVENT
BEGIN:VEVENT
DTSTART;TZID=Europe/Copenhagen:20270805T120000
DTEND;TZID=Europe/Copenhagen:20270805T173000
DTSTAMP:20260425T154859
CREATED:20250505T095126Z
LAST-MODIFIED:20250905T085924Z
UID:10046100-1817467200-1817487000@vorescosmos.dk
SUMMARY:Café Cosmos
DESCRIPTION:
URL:https://vorescosmos.dk/begivenhed/cafe-cosmos/2027-08-05/
LOCATION:Fælleskøkkenet\, Søndergade 11\, Viby Sj.\, 4130\, Danmark
CATEGORIES:Lokale bookninger
END:VEVENT
BEGIN:VEVENT
DTSTART;TZID=Europe/Copenhagen:20270807T100000
DTEND;TZID=Europe/Copenhagen:20270807T150000
DTSTAMP:20260425T154859
CREATED:20250109T113659Z
LAST-MODIFIED:20250109T113958Z
UID:10043246-1817632800-1817650800@vorescosmos.dk
SUMMARY:BilledCosmos
DESCRIPTION:
URL:https://vorescosmos.dk/begivenhed/billedcosmos-26/2027-08-07/
LOCATION:Værkstedet\, Søndergade 11\, Viby Sj.\, 4130\, Danmark
CATEGORIES:Lokale bookninger
END:VEVENT
BEGIN:VEVENT
DTSTART;TZID=Europe/Copenhagen:20270809T120000
DTEND;TZID=Europe/Copenhagen:20270809T173000
DTSTAMP:20260425T154859
CREATED:20250505T095126Z
LAST-MODIFIED:20250905T085924Z
UID:10045002-1817812800-1817832600@vorescosmos.dk
SUMMARY:Café Cosmos
DESCRIPTION:
URL:https://vorescosmos.dk/begivenhed/cafe-cosmos/2027-08-09/
LOCATION:Fælleskøkkenet\, Søndergade 11\, Viby Sj.\, 4130\, Danmark
CATEGORIES:Lokale bookninger
END:VEVENT
BEGIN:VEVENT
DTSTART;TZID=Europe/Copenhagen:20270809T160000
DTEND;TZID=Europe/Copenhagen:20270809T180000
DTSTAMP:20260425T154859
CREATED:20231030T123535Z
LAST-MODIFIED:20241205T141227Z
UID:10039987-1817827200-1817834400@vorescosmos.dk
SUMMARY:Bibliotekscaféen
DESCRIPTION:
URL:https://vorescosmos.dk/begivenhed/bibliotekscafeen-12/2027-08-09/
LOCATION:Tænketanken\, Søndergade 11\, Viby Sj.\, 4130\, Danmark
CATEGORIES:Lokale bookninger
END:VEVENT
BEGIN:VEVENT
DTSTART;TZID=Europe/Copenhagen:20270810T120000
DTEND;TZID=Europe/Copenhagen:20270810T173000
DTSTAMP:20260425T154859
CREATED:20250505T095126Z
LAST-MODIFIED:20250905T085924Z
UID:10045003-1817899200-1817919000@vorescosmos.dk
SUMMARY:Café Cosmos
DESCRIPTION:
URL:https://vorescosmos.dk/begivenhed/cafe-cosmos/2027-08-10/
LOCATION:Fælleskøkkenet\, Søndergade 11\, Viby Sj.\, 4130\, Danmark
CATEGORIES:Lokale bookninger
END:VEVENT
BEGIN:VEVENT
DTSTART;TZID=Europe/Copenhagen:20270811T120000
DTEND;TZID=Europe/Copenhagen:20270811T173000
DTSTAMP:20260425T154859
CREATED:20250505T095126Z
LAST-MODIFIED:20250905T085924Z
UID:10045004-1817985600-1818005400@vorescosmos.dk
SUMMARY:Café Cosmos
DESCRIPTION:
URL:https://vorescosmos.dk/begivenhed/cafe-cosmos/2027-08-11/
LOCATION:Fælleskøkkenet\, Søndergade 11\, Viby Sj.\, 4130\, Danmark
CATEGORIES:Lokale bookninger
END:VEVENT
BEGIN:VEVENT
DTSTART;TZID=Europe/Copenhagen:20270812T080000
DTEND;TZID=Europe/Copenhagen:20270812T170000
DTSTAMP:20260425T154859
CREATED:20231123T134526Z
LAST-MODIFIED:20240627T092948Z
UID:10038560-1818057600-1818090000@vorescosmos.dk
SUMMARY:Reserveret arkivet
DESCRIPTION:
URL:https://vorescosmos.dk/begivenhed/reserveret-arkivet/2027-08-12/
LOCATION:Ramsørummet\, Søndergade 11\, Viby Sj.\, 4130\, Danmark
CATEGORIES:Lokale bookninger
END:VEVENT
BEGIN:VEVENT
DTSTART;TZID=Europe/Copenhagen:20270812T120000
DTEND;TZID=Europe/Copenhagen:20270812T173000
DTSTAMP:20260425T154859
CREATED:20250505T095126Z
LAST-MODIFIED:20250905T085924Z
UID:10046101-1818072000-1818091800@vorescosmos.dk
SUMMARY:Café Cosmos
DESCRIPTION:
URL:https://vorescosmos.dk/begivenhed/cafe-cosmos/2027-08-12/
LOCATION:Fælleskøkkenet\, Søndergade 11\, Viby Sj.\, 4130\, Danmark
CATEGORIES:Lokale bookninger
END:VEVENT
BEGIN:VEVENT
DTSTART;TZID=Europe/Copenhagen:20270814T100000
DTEND;TZID=Europe/Copenhagen:20270814T150000
DTSTAMP:20260425T154859
CREATED:20250109T113659Z
LAST-MODIFIED:20250109T113958Z
UID:10043247-1818237600-1818255600@vorescosmos.dk
SUMMARY:BilledCosmos
DESCRIPTION:
URL:https://vorescosmos.dk/begivenhed/billedcosmos-26/2027-08-14/
LOCATION:Værkstedet\, Søndergade 11\, Viby Sj.\, 4130\, Danmark
CATEGORIES:Lokale bookninger
END:VEVENT
BEGIN:VEVENT
DTSTART;TZID=Europe/Copenhagen:20270816T120000
DTEND;TZID=Europe/Copenhagen:20270816T173000
DTSTAMP:20260425T154859
CREATED:20250505T095126Z
LAST-MODIFIED:20250905T085924Z
UID:10045006-1818417600-1818437400@vorescosmos.dk
SUMMARY:Café Cosmos
DESCRIPTION:
URL:https://vorescosmos.dk/begivenhed/cafe-cosmos/2027-08-16/
LOCATION:Fælleskøkkenet\, Søndergade 11\, Viby Sj.\, 4130\, Danmark
CATEGORIES:Lokale bookninger
END:VEVENT
BEGIN:VEVENT
DTSTART;TZID=Europe/Copenhagen:20270816T160000
DTEND;TZID=Europe/Copenhagen:20270816T180000
DTSTAMP:20260425T154859
CREATED:20231030T123535Z
LAST-MODIFIED:20241205T141227Z
UID:10039988-1818432000-1818439200@vorescosmos.dk
SUMMARY:Bibliotekscaféen
DESCRIPTION:
URL:https://vorescosmos.dk/begivenhed/bibliotekscafeen-12/2027-08-16/
LOCATION:Tænketanken\, Søndergade 11\, Viby Sj.\, 4130\, Danmark
CATEGORIES:Lokale bookninger
END:VEVENT
BEGIN:VEVENT
DTSTART;TZID=Europe/Copenhagen:20270817T120000
DTEND;TZID=Europe/Copenhagen:20270817T173000
DTSTAMP:20260425T154859
CREATED:20250505T095126Z
LAST-MODIFIED:20250905T085924Z
UID:10045007-1818504000-1818523800@vorescosmos.dk
SUMMARY:Café Cosmos
DESCRIPTION:
URL:https://vorescosmos.dk/begivenhed/cafe-cosmos/2027-08-17/
LOCATION:Fælleskøkkenet\, Søndergade 11\, Viby Sj.\, 4130\, Danmark
CATEGORIES:Lokale bookninger
END:VEVENT
BEGIN:VEVENT
DTSTART;TZID=Europe/Copenhagen:20270818T120000
DTEND;TZID=Europe/Copenhagen:20270818T173000
DTSTAMP:20260425T154859
CREATED:20250505T095126Z
LAST-MODIFIED:20250905T085924Z
UID:10045008-1818590400-1818610200@vorescosmos.dk
SUMMARY:Café Cosmos
DESCRIPTION:
URL:https://vorescosmos.dk/begivenhed/cafe-cosmos/2027-08-18/
LOCATION:Fælleskøkkenet\, Søndergade 11\, Viby Sj.\, 4130\, Danmark
CATEGORIES:Lokale bookninger
END:VEVENT
BEGIN:VEVENT
DTSTART;TZID=Europe/Copenhagen:20270819T080000
DTEND;TZID=Europe/Copenhagen:20270819T170000
DTSTAMP:20260425T154859
CREATED:20231123T134526Z
LAST-MODIFIED:20240627T092948Z
UID:10038561-1818662400-1818694800@vorescosmos.dk
SUMMARY:Reserveret arkivet
DESCRIPTION:
URL:https://vorescosmos.dk/begivenhed/reserveret-arkivet/2027-08-19/
LOCATION:Ramsørummet\, Søndergade 11\, Viby Sj.\, 4130\, Danmark
CATEGORIES:Lokale bookninger
END:VEVENT
BEGIN:VEVENT
DTSTART;TZID=Europe/Copenhagen:20270819T120000
DTEND;TZID=Europe/Copenhagen:20270819T173000
DTSTAMP:20260425T154859
CREATED:20250505T095126Z
LAST-MODIFIED:20250905T085924Z
UID:10046102-1818676800-1818696600@vorescosmos.dk
SUMMARY:Café Cosmos
DESCRIPTION:
URL:https://vorescosmos.dk/begivenhed/cafe-cosmos/2027-08-19/
LOCATION:Fælleskøkkenet\, Søndergade 11\, Viby Sj.\, 4130\, Danmark
CATEGORIES:Lokale bookninger
END:VEVENT
BEGIN:VEVENT
DTSTART;TZID=Europe/Copenhagen:20270821T100000
DTEND;TZID=Europe/Copenhagen:20270821T150000
DTSTAMP:20260425T154859
CREATED:20250109T113659Z
LAST-MODIFIED:20250109T113958Z
UID:10043248-1818842400-1818860400@vorescosmos.dk
SUMMARY:BilledCosmos
DESCRIPTION:
URL:https://vorescosmos.dk/begivenhed/billedcosmos-26/2027-08-21/
LOCATION:Værkstedet\, Søndergade 11\, Viby Sj.\, 4130\, Danmark
CATEGORIES:Lokale bookninger
END:VEVENT
BEGIN:VEVENT
DTSTART;TZID=Europe/Copenhagen:20270823T120000
DTEND;TZID=Europe/Copenhagen:20270823T173000
DTSTAMP:20260425T154859
CREATED:20250505T095126Z
LAST-MODIFIED:20250905T085924Z
UID:10045010-1819022400-1819042200@vorescosmos.dk
SUMMARY:Café Cosmos
DESCRIPTION:
URL:https://vorescosmos.dk/begivenhed/cafe-cosmos/2027-08-23/
LOCATION:Fælleskøkkenet\, Søndergade 11\, Viby Sj.\, 4130\, Danmark
CATEGORIES:Lokale bookninger
END:VEVENT
END:VCALENDAR