BEGIN:VCALENDAR
VERSION:2.0
PRODID:-//Vores Cosmos - ECPv6.15.20//NONSGML v1.0//EN
CALSCALE:GREGORIAN
METHOD:PUBLISH
X-WR-CALNAME:Vores Cosmos
X-ORIGINAL-URL:https://vorescosmos.dk
X-WR-CALDESC:Begivenheder for Vores Cosmos
REFRESH-INTERVAL;VALUE=DURATION:PT1H
X-Robots-Tag:noindex
X-PUBLISHED-TTL:PT1H
BEGIN:VTIMEZONE
TZID:Europe/Copenhagen
BEGIN:DAYLIGHT
TZOFFSETFROM:+0100
TZOFFSETTO:+0200
TZNAME:CEST
DTSTART:20260329T010000
END:DAYLIGHT
BEGIN:STANDARD
TZOFFSETFROM:+0200
TZOFFSETTO:+0100
TZNAME:CET
DTSTART:20261025T010000
END:STANDARD
BEGIN:DAYLIGHT
TZOFFSETFROM:+0100
TZOFFSETTO:+0200
TZNAME:CEST
DTSTART:20270328T010000
END:DAYLIGHT
BEGIN:STANDARD
TZOFFSETFROM:+0200
TZOFFSETTO:+0100
TZNAME:CET
DTSTART:20271031T010000
END:STANDARD
BEGIN:DAYLIGHT
TZOFFSETFROM:+0100
TZOFFSETTO:+0200
TZNAME:CEST
DTSTART:20280326T010000
END:DAYLIGHT
BEGIN:STANDARD
TZOFFSETFROM:+0200
TZOFFSETTO:+0100
TZNAME:CET
DTSTART:20281029T010000
END:STANDARD
END:VTIMEZONE
BEGIN:VEVENT
DTSTART;TZID=Europe/Copenhagen:20270913T120000
DTEND;TZID=Europe/Copenhagen:20270913T173000
DTSTAMP:20260426T000618
CREATED:20250505T095126Z
LAST-MODIFIED:20250905T085924Z
UID:10045022-1820836800-1820856600@vorescosmos.dk
SUMMARY:Café Cosmos
DESCRIPTION:
URL:https://vorescosmos.dk/begivenhed/cafe-cosmos/2027-09-13/
LOCATION:Fælleskøkkenet\, Søndergade 11\, Viby Sj.\, 4130\, Danmark
CATEGORIES:Lokale bookninger
END:VEVENT
BEGIN:VEVENT
DTSTART;TZID=Europe/Copenhagen:20270913T160000
DTEND;TZID=Europe/Copenhagen:20270913T180000
DTSTAMP:20260426T000618
CREATED:20231030T123535Z
LAST-MODIFIED:20241205T141227Z
UID:10039992-1820851200-1820858400@vorescosmos.dk
SUMMARY:Bibliotekscaféen
DESCRIPTION:
URL:https://vorescosmos.dk/begivenhed/bibliotekscafeen-12/2027-09-13/
LOCATION:Tænketanken\, Søndergade 11\, Viby Sj.\, 4130\, Danmark
CATEGORIES:Lokale bookninger
END:VEVENT
BEGIN:VEVENT
DTSTART;TZID=Europe/Copenhagen:20270914T120000
DTEND;TZID=Europe/Copenhagen:20270914T173000
DTSTAMP:20260426T000618
CREATED:20250505T095126Z
LAST-MODIFIED:20250905T085924Z
UID:10045023-1820923200-1820943000@vorescosmos.dk
SUMMARY:Café Cosmos
DESCRIPTION:
URL:https://vorescosmos.dk/begivenhed/cafe-cosmos/2027-09-14/
LOCATION:Fælleskøkkenet\, Søndergade 11\, Viby Sj.\, 4130\, Danmark
CATEGORIES:Lokale bookninger
END:VEVENT
BEGIN:VEVENT
DTSTART;TZID=Europe/Copenhagen:20270915T120000
DTEND;TZID=Europe/Copenhagen:20270915T173000
DTSTAMP:20260426T000618
CREATED:20250505T095126Z
LAST-MODIFIED:20250905T085924Z
UID:10045024-1821009600-1821029400@vorescosmos.dk
SUMMARY:Café Cosmos
DESCRIPTION:
URL:https://vorescosmos.dk/begivenhed/cafe-cosmos/2027-09-15/
LOCATION:Fælleskøkkenet\, Søndergade 11\, Viby Sj.\, 4130\, Danmark
CATEGORIES:Lokale bookninger
END:VEVENT
BEGIN:VEVENT
DTSTART;TZID=Europe/Copenhagen:20270916T080000
DTEND;TZID=Europe/Copenhagen:20270916T170000
DTSTAMP:20260426T000618
CREATED:20231123T134526Z
LAST-MODIFIED:20240627T092948Z
UID:10038565-1821081600-1821114000@vorescosmos.dk
SUMMARY:Reserveret arkivet
DESCRIPTION:
URL:https://vorescosmos.dk/begivenhed/reserveret-arkivet/2027-09-16/
LOCATION:Ramsørummet\, Søndergade 11\, Viby Sj.\, 4130\, Danmark
CATEGORIES:Lokale bookninger
END:VEVENT
BEGIN:VEVENT
DTSTART;TZID=Europe/Copenhagen:20270916T120000
DTEND;TZID=Europe/Copenhagen:20270916T173000
DTSTAMP:20260426T000618
CREATED:20250505T095126Z
LAST-MODIFIED:20250905T085924Z
UID:10046106-1821096000-1821115800@vorescosmos.dk
SUMMARY:Café Cosmos
DESCRIPTION:
URL:https://vorescosmos.dk/begivenhed/cafe-cosmos/2027-09-16/
LOCATION:Fælleskøkkenet\, Søndergade 11\, Viby Sj.\, 4130\, Danmark
CATEGORIES:Lokale bookninger
END:VEVENT
BEGIN:VEVENT
DTSTART;TZID=Europe/Copenhagen:20270918T100000
DTEND;TZID=Europe/Copenhagen:20270918T150000
DTSTAMP:20260426T000618
CREATED:20250109T113659Z
LAST-MODIFIED:20250109T113958Z
UID:10043252-1821261600-1821279600@vorescosmos.dk
SUMMARY:BilledCosmos
DESCRIPTION:
URL:https://vorescosmos.dk/begivenhed/billedcosmos-26/2027-09-18/
LOCATION:Værkstedet\, Søndergade 11\, Viby Sj.\, 4130\, Danmark
CATEGORIES:Lokale bookninger
END:VEVENT
BEGIN:VEVENT
DTSTART;TZID=Europe/Copenhagen:20270920T120000
DTEND;TZID=Europe/Copenhagen:20270920T173000
DTSTAMP:20260426T000618
CREATED:20250505T095126Z
LAST-MODIFIED:20250905T085924Z
UID:10045026-1821441600-1821461400@vorescosmos.dk
SUMMARY:Café Cosmos
DESCRIPTION:
URL:https://vorescosmos.dk/begivenhed/cafe-cosmos/2027-09-20/
LOCATION:Fælleskøkkenet\, Søndergade 11\, Viby Sj.\, 4130\, Danmark
CATEGORIES:Lokale bookninger
END:VEVENT
BEGIN:VEVENT
DTSTART;TZID=Europe/Copenhagen:20270920T160000
DTEND;TZID=Europe/Copenhagen:20270920T180000
DTSTAMP:20260426T000618
CREATED:20231030T123535Z
LAST-MODIFIED:20241205T141227Z
UID:10039993-1821456000-1821463200@vorescosmos.dk
SUMMARY:Bibliotekscaféen
DESCRIPTION:
URL:https://vorescosmos.dk/begivenhed/bibliotekscafeen-12/2027-09-20/
LOCATION:Tænketanken\, Søndergade 11\, Viby Sj.\, 4130\, Danmark
CATEGORIES:Lokale bookninger
END:VEVENT
BEGIN:VEVENT
DTSTART;TZID=Europe/Copenhagen:20270921T120000
DTEND;TZID=Europe/Copenhagen:20270921T173000
DTSTAMP:20260426T000618
CREATED:20250505T095126Z
LAST-MODIFIED:20250905T085924Z
UID:10045027-1821528000-1821547800@vorescosmos.dk
SUMMARY:Café Cosmos
DESCRIPTION:
URL:https://vorescosmos.dk/begivenhed/cafe-cosmos/2027-09-21/
LOCATION:Fælleskøkkenet\, Søndergade 11\, Viby Sj.\, 4130\, Danmark
CATEGORIES:Lokale bookninger
END:VEVENT
BEGIN:VEVENT
DTSTART;TZID=Europe/Copenhagen:20270922T120000
DTEND;TZID=Europe/Copenhagen:20270922T173000
DTSTAMP:20260426T000618
CREATED:20250505T095126Z
LAST-MODIFIED:20250905T085924Z
UID:10045028-1821614400-1821634200@vorescosmos.dk
SUMMARY:Café Cosmos
DESCRIPTION:
URL:https://vorescosmos.dk/begivenhed/cafe-cosmos/2027-09-22/
LOCATION:Fælleskøkkenet\, Søndergade 11\, Viby Sj.\, 4130\, Danmark
CATEGORIES:Lokale bookninger
END:VEVENT
BEGIN:VEVENT
DTSTART;TZID=Europe/Copenhagen:20270923T080000
DTEND;TZID=Europe/Copenhagen:20270923T170000
DTSTAMP:20260426T000618
CREATED:20231123T134526Z
LAST-MODIFIED:20240627T092948Z
UID:10038566-1821686400-1821718800@vorescosmos.dk
SUMMARY:Reserveret arkivet
DESCRIPTION:
URL:https://vorescosmos.dk/begivenhed/reserveret-arkivet/2027-09-23/
LOCATION:Ramsørummet\, Søndergade 11\, Viby Sj.\, 4130\, Danmark
CATEGORIES:Lokale bookninger
END:VEVENT
BEGIN:VEVENT
DTSTART;TZID=Europe/Copenhagen:20270923T120000
DTEND;TZID=Europe/Copenhagen:20270923T173000
DTSTAMP:20260426T000618
CREATED:20250505T095126Z
LAST-MODIFIED:20250905T085924Z
UID:10046107-1821700800-1821720600@vorescosmos.dk
SUMMARY:Café Cosmos
DESCRIPTION:
URL:https://vorescosmos.dk/begivenhed/cafe-cosmos/2027-09-23/
LOCATION:Fælleskøkkenet\, Søndergade 11\, Viby Sj.\, 4130\, Danmark
CATEGORIES:Lokale bookninger
END:VEVENT
BEGIN:VEVENT
DTSTART;TZID=Europe/Copenhagen:20270925T100000
DTEND;TZID=Europe/Copenhagen:20270925T150000
DTSTAMP:20260426T000618
CREATED:20250109T113659Z
LAST-MODIFIED:20250109T113958Z
UID:10043253-1821866400-1821884400@vorescosmos.dk
SUMMARY:BilledCosmos
DESCRIPTION:
URL:https://vorescosmos.dk/begivenhed/billedcosmos-26/2027-09-25/
LOCATION:Værkstedet\, Søndergade 11\, Viby Sj.\, 4130\, Danmark
CATEGORIES:Lokale bookninger
END:VEVENT
BEGIN:VEVENT
DTSTART;TZID=Europe/Copenhagen:20270927T120000
DTEND;TZID=Europe/Copenhagen:20270927T173000
DTSTAMP:20260426T000618
CREATED:20250505T095126Z
LAST-MODIFIED:20250905T085924Z
UID:10045030-1822046400-1822066200@vorescosmos.dk
SUMMARY:Café Cosmos
DESCRIPTION:
URL:https://vorescosmos.dk/begivenhed/cafe-cosmos/2027-09-27/
LOCATION:Fælleskøkkenet\, Søndergade 11\, Viby Sj.\, 4130\, Danmark
CATEGORIES:Lokale bookninger
END:VEVENT
BEGIN:VEVENT
DTSTART;TZID=Europe/Copenhagen:20270927T160000
DTEND;TZID=Europe/Copenhagen:20270927T180000
DTSTAMP:20260426T000618
CREATED:20231030T123535Z
LAST-MODIFIED:20241205T141227Z
UID:10039994-1822060800-1822068000@vorescosmos.dk
SUMMARY:Bibliotekscaféen
DESCRIPTION:
URL:https://vorescosmos.dk/begivenhed/bibliotekscafeen-12/2027-09-27/
LOCATION:Tænketanken\, Søndergade 11\, Viby Sj.\, 4130\, Danmark
CATEGORIES:Lokale bookninger
END:VEVENT
BEGIN:VEVENT
DTSTART;TZID=Europe/Copenhagen:20270928T120000
DTEND;TZID=Europe/Copenhagen:20270928T173000
DTSTAMP:20260426T000618
CREATED:20250505T095126Z
LAST-MODIFIED:20250905T085924Z
UID:10045031-1822132800-1822152600@vorescosmos.dk
SUMMARY:Café Cosmos
DESCRIPTION:
URL:https://vorescosmos.dk/begivenhed/cafe-cosmos/2027-09-28/
LOCATION:Fælleskøkkenet\, Søndergade 11\, Viby Sj.\, 4130\, Danmark
CATEGORIES:Lokale bookninger
END:VEVENT
BEGIN:VEVENT
DTSTART;TZID=Europe/Copenhagen:20270929T120000
DTEND;TZID=Europe/Copenhagen:20270929T173000
DTSTAMP:20260426T000618
CREATED:20250505T095126Z
LAST-MODIFIED:20250905T085924Z
UID:10045032-1822219200-1822239000@vorescosmos.dk
SUMMARY:Café Cosmos
DESCRIPTION:
URL:https://vorescosmos.dk/begivenhed/cafe-cosmos/2027-09-29/
LOCATION:Fælleskøkkenet\, Søndergade 11\, Viby Sj.\, 4130\, Danmark
CATEGORIES:Lokale bookninger
END:VEVENT
BEGIN:VEVENT
DTSTART;TZID=Europe/Copenhagen:20270930T080000
DTEND;TZID=Europe/Copenhagen:20270930T170000
DTSTAMP:20260426T000618
CREATED:20231123T134526Z
LAST-MODIFIED:20240627T092948Z
UID:10038567-1822291200-1822323600@vorescosmos.dk
SUMMARY:Reserveret arkivet
DESCRIPTION:
URL:https://vorescosmos.dk/begivenhed/reserveret-arkivet/2027-09-30/
LOCATION:Ramsørummet\, Søndergade 11\, Viby Sj.\, 4130\, Danmark
CATEGORIES:Lokale bookninger
END:VEVENT
BEGIN:VEVENT
DTSTART;TZID=Europe/Copenhagen:20270930T120000
DTEND;TZID=Europe/Copenhagen:20270930T173000
DTSTAMP:20260426T000618
CREATED:20250505T095126Z
LAST-MODIFIED:20250905T085924Z
UID:10046108-1822305600-1822325400@vorescosmos.dk
SUMMARY:Café Cosmos
DESCRIPTION:
URL:https://vorescosmos.dk/begivenhed/cafe-cosmos/2027-09-30/
LOCATION:Fælleskøkkenet\, Søndergade 11\, Viby Sj.\, 4130\, Danmark
CATEGORIES:Lokale bookninger
END:VEVENT
BEGIN:VEVENT
DTSTART;TZID=Europe/Copenhagen:20271002T100000
DTEND;TZID=Europe/Copenhagen:20271002T150000
DTSTAMP:20260426T000618
CREATED:20250109T113659Z
LAST-MODIFIED:20250109T113958Z
UID:10043254-1822471200-1822489200@vorescosmos.dk
SUMMARY:BilledCosmos
DESCRIPTION:
URL:https://vorescosmos.dk/begivenhed/billedcosmos-26/2027-10-02/
LOCATION:Værkstedet\, Søndergade 11\, Viby Sj.\, 4130\, Danmark
CATEGORIES:Lokale bookninger
END:VEVENT
BEGIN:VEVENT
DTSTART;TZID=Europe/Copenhagen:20271004T120000
DTEND;TZID=Europe/Copenhagen:20271004T173000
DTSTAMP:20260426T000618
CREATED:20250505T095126Z
LAST-MODIFIED:20250905T085924Z
UID:10045034-1822651200-1822671000@vorescosmos.dk
SUMMARY:Café Cosmos
DESCRIPTION:
URL:https://vorescosmos.dk/begivenhed/cafe-cosmos/2027-10-04/
LOCATION:Fælleskøkkenet\, Søndergade 11\, Viby Sj.\, 4130\, Danmark
CATEGORIES:Lokale bookninger
END:VEVENT
BEGIN:VEVENT
DTSTART;TZID=Europe/Copenhagen:20271004T160000
DTEND;TZID=Europe/Copenhagen:20271004T180000
DTSTAMP:20260426T000618
CREATED:20231030T123535Z
LAST-MODIFIED:20241205T141227Z
UID:10039995-1822665600-1822672800@vorescosmos.dk
SUMMARY:Bibliotekscaféen
DESCRIPTION:
URL:https://vorescosmos.dk/begivenhed/bibliotekscafeen-12/2027-10-04/
LOCATION:Tænketanken\, Søndergade 11\, Viby Sj.\, 4130\, Danmark
CATEGORIES:Lokale bookninger
END:VEVENT
BEGIN:VEVENT
DTSTART;TZID=Europe/Copenhagen:20271005T120000
DTEND;TZID=Europe/Copenhagen:20271005T173000
DTSTAMP:20260426T000618
CREATED:20250505T095126Z
LAST-MODIFIED:20250905T085924Z
UID:10045035-1822737600-1822757400@vorescosmos.dk
SUMMARY:Café Cosmos
DESCRIPTION:
URL:https://vorescosmos.dk/begivenhed/cafe-cosmos/2027-10-05/
LOCATION:Fælleskøkkenet\, Søndergade 11\, Viby Sj.\, 4130\, Danmark
CATEGORIES:Lokale bookninger
END:VEVENT
BEGIN:VEVENT
DTSTART;TZID=Europe/Copenhagen:20271006T120000
DTEND;TZID=Europe/Copenhagen:20271006T173000
DTSTAMP:20260426T000618
CREATED:20250505T095126Z
LAST-MODIFIED:20250905T085924Z
UID:10045036-1822824000-1822843800@vorescosmos.dk
SUMMARY:Café Cosmos
DESCRIPTION:
URL:https://vorescosmos.dk/begivenhed/cafe-cosmos/2027-10-06/
LOCATION:Fælleskøkkenet\, Søndergade 11\, Viby Sj.\, 4130\, Danmark
CATEGORIES:Lokale bookninger
END:VEVENT
BEGIN:VEVENT
DTSTART;TZID=Europe/Copenhagen:20271007T080000
DTEND;TZID=Europe/Copenhagen:20271007T170000
DTSTAMP:20260426T000618
CREATED:20231123T134526Z
LAST-MODIFIED:20240627T092948Z
UID:10038568-1822896000-1822928400@vorescosmos.dk
SUMMARY:Reserveret arkivet
DESCRIPTION:
URL:https://vorescosmos.dk/begivenhed/reserveret-arkivet/2027-10-07/
LOCATION:Ramsørummet\, Søndergade 11\, Viby Sj.\, 4130\, Danmark
CATEGORIES:Lokale bookninger
END:VEVENT
BEGIN:VEVENT
DTSTART;TZID=Europe/Copenhagen:20271007T120000
DTEND;TZID=Europe/Copenhagen:20271007T173000
DTSTAMP:20260426T000618
CREATED:20250505T095126Z
LAST-MODIFIED:20250905T085924Z
UID:10046109-1822910400-1822930200@vorescosmos.dk
SUMMARY:Café Cosmos
DESCRIPTION:
URL:https://vorescosmos.dk/begivenhed/cafe-cosmos/2027-10-07/
LOCATION:Fælleskøkkenet\, Søndergade 11\, Viby Sj.\, 4130\, Danmark
CATEGORIES:Lokale bookninger
END:VEVENT
BEGIN:VEVENT
DTSTART;TZID=Europe/Copenhagen:20271009T100000
DTEND;TZID=Europe/Copenhagen:20271009T150000
DTSTAMP:20260426T000618
CREATED:20250109T113659Z
LAST-MODIFIED:20250109T113958Z
UID:10043255-1823076000-1823094000@vorescosmos.dk
SUMMARY:BilledCosmos
DESCRIPTION:
URL:https://vorescosmos.dk/begivenhed/billedcosmos-26/2027-10-09/
LOCATION:Værkstedet\, Søndergade 11\, Viby Sj.\, 4130\, Danmark
CATEGORIES:Lokale bookninger
END:VEVENT
BEGIN:VEVENT
DTSTART;TZID=Europe/Copenhagen:20271011T120000
DTEND;TZID=Europe/Copenhagen:20271011T173000
DTSTAMP:20260426T000618
CREATED:20250505T095126Z
LAST-MODIFIED:20250905T085924Z
UID:10045038-1823256000-1823275800@vorescosmos.dk
SUMMARY:Café Cosmos
DESCRIPTION:
URL:https://vorescosmos.dk/begivenhed/cafe-cosmos/2027-10-11/
LOCATION:Fælleskøkkenet\, Søndergade 11\, Viby Sj.\, 4130\, Danmark
CATEGORIES:Lokale bookninger
END:VEVENT
BEGIN:VEVENT
DTSTART;TZID=Europe/Copenhagen:20271011T160000
DTEND;TZID=Europe/Copenhagen:20271011T180000
DTSTAMP:20260426T000618
CREATED:20231030T123535Z
LAST-MODIFIED:20241205T141227Z
UID:10039996-1823270400-1823277600@vorescosmos.dk
SUMMARY:Bibliotekscaféen
DESCRIPTION:
URL:https://vorescosmos.dk/begivenhed/bibliotekscafeen-12/2027-10-11/
LOCATION:Tænketanken\, Søndergade 11\, Viby Sj.\, 4130\, Danmark
CATEGORIES:Lokale bookninger
END:VEVENT
END:VCALENDAR