BEGIN:VCALENDAR
VERSION:2.0
PRODID:-//Vores Cosmos - ECPv6.15.20//NONSGML v1.0//EN
CALSCALE:GREGORIAN
METHOD:PUBLISH
X-WR-CALNAME:Vores Cosmos
X-ORIGINAL-URL:https://vorescosmos.dk
X-WR-CALDESC:Begivenheder for Vores Cosmos
REFRESH-INTERVAL;VALUE=DURATION:PT1H
X-Robots-Tag:noindex
X-PUBLISHED-TTL:PT1H
BEGIN:VTIMEZONE
TZID:Europe/Copenhagen
BEGIN:DAYLIGHT
TZOFFSETFROM:+0100
TZOFFSETTO:+0200
TZNAME:CEST
DTSTART:20260329T010000
END:DAYLIGHT
BEGIN:STANDARD
TZOFFSETFROM:+0200
TZOFFSETTO:+0100
TZNAME:CET
DTSTART:20261025T010000
END:STANDARD
BEGIN:DAYLIGHT
TZOFFSETFROM:+0100
TZOFFSETTO:+0200
TZNAME:CEST
DTSTART:20270328T010000
END:DAYLIGHT
BEGIN:STANDARD
TZOFFSETFROM:+0200
TZOFFSETTO:+0100
TZNAME:CET
DTSTART:20271031T010000
END:STANDARD
BEGIN:DAYLIGHT
TZOFFSETFROM:+0100
TZOFFSETTO:+0200
TZNAME:CEST
DTSTART:20280326T010000
END:DAYLIGHT
BEGIN:STANDARD
TZOFFSETFROM:+0200
TZOFFSETTO:+0100
TZNAME:CET
DTSTART:20281029T010000
END:STANDARD
END:VTIMEZONE
BEGIN:VEVENT
DTSTART;TZID=Europe/Copenhagen:20271012T120000
DTEND;TZID=Europe/Copenhagen:20271012T173000
DTSTAMP:20260426T050913
CREATED:20250505T095126Z
LAST-MODIFIED:20250905T085924Z
UID:10045039-1823342400-1823362200@vorescosmos.dk
SUMMARY:Café Cosmos
DESCRIPTION:
URL:https://vorescosmos.dk/begivenhed/cafe-cosmos/2027-10-12/
LOCATION:Fælleskøkkenet\, Søndergade 11\, Viby Sj.\, 4130\, Danmark
CATEGORIES:Lokale bookninger
END:VEVENT
BEGIN:VEVENT
DTSTART;TZID=Europe/Copenhagen:20271013T120000
DTEND;TZID=Europe/Copenhagen:20271013T173000
DTSTAMP:20260426T050913
CREATED:20250505T095126Z
LAST-MODIFIED:20250905T085924Z
UID:10045040-1823428800-1823448600@vorescosmos.dk
SUMMARY:Café Cosmos
DESCRIPTION:
URL:https://vorescosmos.dk/begivenhed/cafe-cosmos/2027-10-13/
LOCATION:Fælleskøkkenet\, Søndergade 11\, Viby Sj.\, 4130\, Danmark
CATEGORIES:Lokale bookninger
END:VEVENT
BEGIN:VEVENT
DTSTART;TZID=Europe/Copenhagen:20271014T080000
DTEND;TZID=Europe/Copenhagen:20271014T170000
DTSTAMP:20260426T050913
CREATED:20231123T134526Z
LAST-MODIFIED:20240627T092948Z
UID:10038569-1823500800-1823533200@vorescosmos.dk
SUMMARY:Reserveret arkivet
DESCRIPTION:
URL:https://vorescosmos.dk/begivenhed/reserveret-arkivet/2027-10-14/
LOCATION:Ramsørummet\, Søndergade 11\, Viby Sj.\, 4130\, Danmark
CATEGORIES:Lokale bookninger
END:VEVENT
BEGIN:VEVENT
DTSTART;TZID=Europe/Copenhagen:20271014T120000
DTEND;TZID=Europe/Copenhagen:20271014T173000
DTSTAMP:20260426T050913
CREATED:20250505T095126Z
LAST-MODIFIED:20250905T085924Z
UID:10046110-1823515200-1823535000@vorescosmos.dk
SUMMARY:Café Cosmos
DESCRIPTION:
URL:https://vorescosmos.dk/begivenhed/cafe-cosmos/2027-10-14/
LOCATION:Fælleskøkkenet\, Søndergade 11\, Viby Sj.\, 4130\, Danmark
CATEGORIES:Lokale bookninger
END:VEVENT
BEGIN:VEVENT
DTSTART;TZID=Europe/Copenhagen:20271016T100000
DTEND;TZID=Europe/Copenhagen:20271016T150000
DTSTAMP:20260426T050913
CREATED:20250109T113659Z
LAST-MODIFIED:20250109T113958Z
UID:10043256-1823680800-1823698800@vorescosmos.dk
SUMMARY:BilledCosmos
DESCRIPTION:
URL:https://vorescosmos.dk/begivenhed/billedcosmos-26/2027-10-16/
LOCATION:Værkstedet\, Søndergade 11\, Viby Sj.\, 4130\, Danmark
CATEGORIES:Lokale bookninger
END:VEVENT
BEGIN:VEVENT
DTSTART;TZID=Europe/Copenhagen:20271018T120000
DTEND;TZID=Europe/Copenhagen:20271018T173000
DTSTAMP:20260426T050913
CREATED:20250505T095126Z
LAST-MODIFIED:20250905T085924Z
UID:10045042-1823860800-1823880600@vorescosmos.dk
SUMMARY:Café Cosmos
DESCRIPTION:
URL:https://vorescosmos.dk/begivenhed/cafe-cosmos/2027-10-18/
LOCATION:Fælleskøkkenet\, Søndergade 11\, Viby Sj.\, 4130\, Danmark
CATEGORIES:Lokale bookninger
END:VEVENT
BEGIN:VEVENT
DTSTART;TZID=Europe/Copenhagen:20271018T160000
DTEND;TZID=Europe/Copenhagen:20271018T180000
DTSTAMP:20260426T050913
CREATED:20231030T123535Z
LAST-MODIFIED:20241205T141227Z
UID:10039997-1823875200-1823882400@vorescosmos.dk
SUMMARY:Bibliotekscaféen
DESCRIPTION:
URL:https://vorescosmos.dk/begivenhed/bibliotekscafeen-12/2027-10-18/
LOCATION:Tænketanken\, Søndergade 11\, Viby Sj.\, 4130\, Danmark
CATEGORIES:Lokale bookninger
END:VEVENT
BEGIN:VEVENT
DTSTART;TZID=Europe/Copenhagen:20271019T120000
DTEND;TZID=Europe/Copenhagen:20271019T173000
DTSTAMP:20260426T050913
CREATED:20250505T095126Z
LAST-MODIFIED:20250905T085924Z
UID:10045043-1823947200-1823967000@vorescosmos.dk
SUMMARY:Café Cosmos
DESCRIPTION:
URL:https://vorescosmos.dk/begivenhed/cafe-cosmos/2027-10-19/
LOCATION:Fælleskøkkenet\, Søndergade 11\, Viby Sj.\, 4130\, Danmark
CATEGORIES:Lokale bookninger
END:VEVENT
BEGIN:VEVENT
DTSTART;TZID=Europe/Copenhagen:20271020T120000
DTEND;TZID=Europe/Copenhagen:20271020T173000
DTSTAMP:20260426T050913
CREATED:20250505T095126Z
LAST-MODIFIED:20250905T085924Z
UID:10045044-1824033600-1824053400@vorescosmos.dk
SUMMARY:Café Cosmos
DESCRIPTION:
URL:https://vorescosmos.dk/begivenhed/cafe-cosmos/2027-10-20/
LOCATION:Fælleskøkkenet\, Søndergade 11\, Viby Sj.\, 4130\, Danmark
CATEGORIES:Lokale bookninger
END:VEVENT
BEGIN:VEVENT
DTSTART;TZID=Europe/Copenhagen:20271021T080000
DTEND;TZID=Europe/Copenhagen:20271021T170000
DTSTAMP:20260426T050913
CREATED:20231123T134526Z
LAST-MODIFIED:20240627T092948Z
UID:10038570-1824105600-1824138000@vorescosmos.dk
SUMMARY:Reserveret arkivet
DESCRIPTION:
URL:https://vorescosmos.dk/begivenhed/reserveret-arkivet/2027-10-21/
LOCATION:Ramsørummet\, Søndergade 11\, Viby Sj.\, 4130\, Danmark
CATEGORIES:Lokale bookninger
END:VEVENT
BEGIN:VEVENT
DTSTART;TZID=Europe/Copenhagen:20271021T120000
DTEND;TZID=Europe/Copenhagen:20271021T173000
DTSTAMP:20260426T050913
CREATED:20250505T095126Z
LAST-MODIFIED:20250905T085924Z
UID:10046111-1824120000-1824139800@vorescosmos.dk
SUMMARY:Café Cosmos
DESCRIPTION:
URL:https://vorescosmos.dk/begivenhed/cafe-cosmos/2027-10-21/
LOCATION:Fælleskøkkenet\, Søndergade 11\, Viby Sj.\, 4130\, Danmark
CATEGORIES:Lokale bookninger
END:VEVENT
BEGIN:VEVENT
DTSTART;TZID=Europe/Copenhagen:20271023T100000
DTEND;TZID=Europe/Copenhagen:20271023T150000
DTSTAMP:20260426T050913
CREATED:20250109T113659Z
LAST-MODIFIED:20250109T113958Z
UID:10043257-1824285600-1824303600@vorescosmos.dk
SUMMARY:BilledCosmos
DESCRIPTION:
URL:https://vorescosmos.dk/begivenhed/billedcosmos-26/2027-10-23/
LOCATION:Værkstedet\, Søndergade 11\, Viby Sj.\, 4130\, Danmark
CATEGORIES:Lokale bookninger
END:VEVENT
BEGIN:VEVENT
DTSTART;TZID=Europe/Copenhagen:20271025T120000
DTEND;TZID=Europe/Copenhagen:20271025T173000
DTSTAMP:20260426T050913
CREATED:20250505T095126Z
LAST-MODIFIED:20250905T085924Z
UID:10045046-1824465600-1824485400@vorescosmos.dk
SUMMARY:Café Cosmos
DESCRIPTION:
URL:https://vorescosmos.dk/begivenhed/cafe-cosmos/2027-10-25/
LOCATION:Fælleskøkkenet\, Søndergade 11\, Viby Sj.\, 4130\, Danmark
CATEGORIES:Lokale bookninger
END:VEVENT
BEGIN:VEVENT
DTSTART;TZID=Europe/Copenhagen:20271025T160000
DTEND;TZID=Europe/Copenhagen:20271025T180000
DTSTAMP:20260426T050913
CREATED:20231030T123535Z
LAST-MODIFIED:20241205T141227Z
UID:10039998-1824480000-1824487200@vorescosmos.dk
SUMMARY:Bibliotekscaféen
DESCRIPTION:
URL:https://vorescosmos.dk/begivenhed/bibliotekscafeen-12/2027-10-25/
LOCATION:Tænketanken\, Søndergade 11\, Viby Sj.\, 4130\, Danmark
CATEGORIES:Lokale bookninger
END:VEVENT
BEGIN:VEVENT
DTSTART;TZID=Europe/Copenhagen:20271026T120000
DTEND;TZID=Europe/Copenhagen:20271026T173000
DTSTAMP:20260426T050913
CREATED:20250505T095126Z
LAST-MODIFIED:20250905T085924Z
UID:10045047-1824552000-1824571800@vorescosmos.dk
SUMMARY:Café Cosmos
DESCRIPTION:
URL:https://vorescosmos.dk/begivenhed/cafe-cosmos/2027-10-26/
LOCATION:Fælleskøkkenet\, Søndergade 11\, Viby Sj.\, 4130\, Danmark
CATEGORIES:Lokale bookninger
END:VEVENT
BEGIN:VEVENT
DTSTART;TZID=Europe/Copenhagen:20271027T120000
DTEND;TZID=Europe/Copenhagen:20271027T173000
DTSTAMP:20260426T050913
CREATED:20250505T095126Z
LAST-MODIFIED:20250905T085924Z
UID:10045048-1824638400-1824658200@vorescosmos.dk
SUMMARY:Café Cosmos
DESCRIPTION:
URL:https://vorescosmos.dk/begivenhed/cafe-cosmos/2027-10-27/
LOCATION:Fælleskøkkenet\, Søndergade 11\, Viby Sj.\, 4130\, Danmark
CATEGORIES:Lokale bookninger
END:VEVENT
BEGIN:VEVENT
DTSTART;TZID=Europe/Copenhagen:20271028T080000
DTEND;TZID=Europe/Copenhagen:20271028T170000
DTSTAMP:20260426T050913
CREATED:20231123T134526Z
LAST-MODIFIED:20240627T092948Z
UID:10038571-1824710400-1824742800@vorescosmos.dk
SUMMARY:Reserveret arkivet
DESCRIPTION:
URL:https://vorescosmos.dk/begivenhed/reserveret-arkivet/2027-10-28/
LOCATION:Ramsørummet\, Søndergade 11\, Viby Sj.\, 4130\, Danmark
CATEGORIES:Lokale bookninger
END:VEVENT
BEGIN:VEVENT
DTSTART;TZID=Europe/Copenhagen:20271028T120000
DTEND;TZID=Europe/Copenhagen:20271028T173000
DTSTAMP:20260426T050913
CREATED:20250505T095126Z
LAST-MODIFIED:20250905T085924Z
UID:10046112-1824724800-1824744600@vorescosmos.dk
SUMMARY:Café Cosmos
DESCRIPTION:
URL:https://vorescosmos.dk/begivenhed/cafe-cosmos/2027-10-28/
LOCATION:Fælleskøkkenet\, Søndergade 11\, Viby Sj.\, 4130\, Danmark
CATEGORIES:Lokale bookninger
END:VEVENT
BEGIN:VEVENT
DTSTART;TZID=Europe/Copenhagen:20271030T100000
DTEND;TZID=Europe/Copenhagen:20271030T150000
DTSTAMP:20260426T050913
CREATED:20250109T113659Z
LAST-MODIFIED:20250109T113958Z
UID:10043258-1824890400-1824908400@vorescosmos.dk
SUMMARY:BilledCosmos
DESCRIPTION:
URL:https://vorescosmos.dk/begivenhed/billedcosmos-26/2027-10-30/
LOCATION:Værkstedet\, Søndergade 11\, Viby Sj.\, 4130\, Danmark
CATEGORIES:Lokale bookninger
END:VEVENT
BEGIN:VEVENT
DTSTART;TZID=Europe/Copenhagen:20271101T120000
DTEND;TZID=Europe/Copenhagen:20271101T173000
DTSTAMP:20260426T050913
CREATED:20250505T095126Z
LAST-MODIFIED:20250905T085924Z
UID:10045050-1825070400-1825090200@vorescosmos.dk
SUMMARY:Café Cosmos
DESCRIPTION:
URL:https://vorescosmos.dk/begivenhed/cafe-cosmos/2027-11-01/
LOCATION:Fælleskøkkenet\, Søndergade 11\, Viby Sj.\, 4130\, Danmark
CATEGORIES:Lokale bookninger
END:VEVENT
BEGIN:VEVENT
DTSTART;TZID=Europe/Copenhagen:20271101T160000
DTEND;TZID=Europe/Copenhagen:20271101T180000
DTSTAMP:20260426T050913
CREATED:20231030T123535Z
LAST-MODIFIED:20241205T141227Z
UID:10039999-1825084800-1825092000@vorescosmos.dk
SUMMARY:Bibliotekscaféen
DESCRIPTION:
URL:https://vorescosmos.dk/begivenhed/bibliotekscafeen-12/2027-11-01/
LOCATION:Tænketanken\, Søndergade 11\, Viby Sj.\, 4130\, Danmark
CATEGORIES:Lokale bookninger
END:VEVENT
BEGIN:VEVENT
DTSTART;TZID=Europe/Copenhagen:20271102T120000
DTEND;TZID=Europe/Copenhagen:20271102T173000
DTSTAMP:20260426T050913
CREATED:20250505T095126Z
LAST-MODIFIED:20250905T085924Z
UID:10045051-1825156800-1825176600@vorescosmos.dk
SUMMARY:Café Cosmos
DESCRIPTION:
URL:https://vorescosmos.dk/begivenhed/cafe-cosmos/2027-11-02/
LOCATION:Fælleskøkkenet\, Søndergade 11\, Viby Sj.\, 4130\, Danmark
CATEGORIES:Lokale bookninger
END:VEVENT
BEGIN:VEVENT
DTSTART;TZID=Europe/Copenhagen:20271103T120000
DTEND;TZID=Europe/Copenhagen:20271103T173000
DTSTAMP:20260426T050913
CREATED:20250505T095126Z
LAST-MODIFIED:20250905T085924Z
UID:10045052-1825243200-1825263000@vorescosmos.dk
SUMMARY:Café Cosmos
DESCRIPTION:
URL:https://vorescosmos.dk/begivenhed/cafe-cosmos/2027-11-03/
LOCATION:Fælleskøkkenet\, Søndergade 11\, Viby Sj.\, 4130\, Danmark
CATEGORIES:Lokale bookninger
END:VEVENT
BEGIN:VEVENT
DTSTART;TZID=Europe/Copenhagen:20271104T080000
DTEND;TZID=Europe/Copenhagen:20271104T170000
DTSTAMP:20260426T050913
CREATED:20231123T134526Z
LAST-MODIFIED:20240627T092948Z
UID:10038572-1825315200-1825347600@vorescosmos.dk
SUMMARY:Reserveret arkivet
DESCRIPTION:
URL:https://vorescosmos.dk/begivenhed/reserveret-arkivet/2027-11-04/
LOCATION:Ramsørummet\, Søndergade 11\, Viby Sj.\, 4130\, Danmark
CATEGORIES:Lokale bookninger
END:VEVENT
BEGIN:VEVENT
DTSTART;TZID=Europe/Copenhagen:20271104T120000
DTEND;TZID=Europe/Copenhagen:20271104T173000
DTSTAMP:20260426T050913
CREATED:20250505T095126Z
LAST-MODIFIED:20250905T085924Z
UID:10046113-1825329600-1825349400@vorescosmos.dk
SUMMARY:Café Cosmos
DESCRIPTION:
URL:https://vorescosmos.dk/begivenhed/cafe-cosmos/2027-11-04/
LOCATION:Fælleskøkkenet\, Søndergade 11\, Viby Sj.\, 4130\, Danmark
CATEGORIES:Lokale bookninger
END:VEVENT
BEGIN:VEVENT
DTSTART;TZID=Europe/Copenhagen:20271106T100000
DTEND;TZID=Europe/Copenhagen:20271106T150000
DTSTAMP:20260426T050913
CREATED:20250109T113659Z
LAST-MODIFIED:20250109T113958Z
UID:10043259-1825495200-1825513200@vorescosmos.dk
SUMMARY:BilledCosmos
DESCRIPTION:
URL:https://vorescosmos.dk/begivenhed/billedcosmos-26/2027-11-06/
LOCATION:Værkstedet\, Søndergade 11\, Viby Sj.\, 4130\, Danmark
CATEGORIES:Lokale bookninger
END:VEVENT
BEGIN:VEVENT
DTSTART;TZID=Europe/Copenhagen:20271108T120000
DTEND;TZID=Europe/Copenhagen:20271108T173000
DTSTAMP:20260426T050913
CREATED:20250505T095126Z
LAST-MODIFIED:20250905T085924Z
UID:10045054-1825675200-1825695000@vorescosmos.dk
SUMMARY:Café Cosmos
DESCRIPTION:
URL:https://vorescosmos.dk/begivenhed/cafe-cosmos/2027-11-08/
LOCATION:Fælleskøkkenet\, Søndergade 11\, Viby Sj.\, 4130\, Danmark
CATEGORIES:Lokale bookninger
END:VEVENT
BEGIN:VEVENT
DTSTART;TZID=Europe/Copenhagen:20271108T160000
DTEND;TZID=Europe/Copenhagen:20271108T180000
DTSTAMP:20260426T050913
CREATED:20231030T123535Z
LAST-MODIFIED:20241205T141227Z
UID:10040000-1825689600-1825696800@vorescosmos.dk
SUMMARY:Bibliotekscaféen
DESCRIPTION:
URL:https://vorescosmos.dk/begivenhed/bibliotekscafeen-12/2027-11-08/
LOCATION:Tænketanken\, Søndergade 11\, Viby Sj.\, 4130\, Danmark
CATEGORIES:Lokale bookninger
END:VEVENT
BEGIN:VEVENT
DTSTART;TZID=Europe/Copenhagen:20271109T120000
DTEND;TZID=Europe/Copenhagen:20271109T173000
DTSTAMP:20260426T050913
CREATED:20250505T095126Z
LAST-MODIFIED:20250905T085924Z
UID:10045055-1825761600-1825781400@vorescosmos.dk
SUMMARY:Café Cosmos
DESCRIPTION:
URL:https://vorescosmos.dk/begivenhed/cafe-cosmos/2027-11-09/
LOCATION:Fælleskøkkenet\, Søndergade 11\, Viby Sj.\, 4130\, Danmark
CATEGORIES:Lokale bookninger
END:VEVENT
BEGIN:VEVENT
DTSTART;TZID=Europe/Copenhagen:20271110T120000
DTEND;TZID=Europe/Copenhagen:20271110T173000
DTSTAMP:20260426T050913
CREATED:20250505T095126Z
LAST-MODIFIED:20250905T085924Z
UID:10045056-1825848000-1825867800@vorescosmos.dk
SUMMARY:Café Cosmos
DESCRIPTION:
URL:https://vorescosmos.dk/begivenhed/cafe-cosmos/2027-11-10/
LOCATION:Fælleskøkkenet\, Søndergade 11\, Viby Sj.\, 4130\, Danmark
CATEGORIES:Lokale bookninger
END:VEVENT
END:VCALENDAR