BEGIN:VCALENDAR
VERSION:2.0
PRODID:-//Vores Cosmos - ECPv6.15.20//NONSGML v1.0//EN
CALSCALE:GREGORIAN
METHOD:PUBLISH
X-WR-CALNAME:Vores Cosmos
X-ORIGINAL-URL:https://vorescosmos.dk
X-WR-CALDESC:Begivenheder for Vores Cosmos
REFRESH-INTERVAL;VALUE=DURATION:PT1H
X-Robots-Tag:noindex
X-PUBLISHED-TTL:PT1H
BEGIN:VTIMEZONE
TZID:Europe/Copenhagen
BEGIN:DAYLIGHT
TZOFFSETFROM:+0100
TZOFFSETTO:+0200
TZNAME:CEST
DTSTART:20250330T010000
END:DAYLIGHT
BEGIN:STANDARD
TZOFFSETFROM:+0200
TZOFFSETTO:+0100
TZNAME:CET
DTSTART:20251026T010000
END:STANDARD
BEGIN:DAYLIGHT
TZOFFSETFROM:+0100
TZOFFSETTO:+0200
TZNAME:CEST
DTSTART:20260329T010000
END:DAYLIGHT
BEGIN:STANDARD
TZOFFSETFROM:+0200
TZOFFSETTO:+0100
TZNAME:CET
DTSTART:20261025T010000
END:STANDARD
BEGIN:DAYLIGHT
TZOFFSETFROM:+0100
TZOFFSETTO:+0200
TZNAME:CEST
DTSTART:20270328T010000
END:DAYLIGHT
BEGIN:STANDARD
TZOFFSETFROM:+0200
TZOFFSETTO:+0100
TZNAME:CET
DTSTART:20271031T010000
END:STANDARD
END:VTIMEZONE
BEGIN:VEVENT
DTSTART;TZID=Europe/Copenhagen:20260514T080000
DTEND;TZID=Europe/Copenhagen:20260514T170000
DTSTAMP:20260422T022802
CREATED:20231123T134526Z
LAST-MODIFIED:20240627T092948Z
UID:10038495-1778745600-1778778000@vorescosmos.dk
SUMMARY:Reserveret arkivet
DESCRIPTION:
URL:https://vorescosmos.dk/begivenhed/reserveret-arkivet/2026-05-14/
LOCATION:Ramsørummet\, Søndergade 11\, Viby Sj.\, 4130\, Danmark
CATEGORIES:Lokale bookninger
END:VEVENT
BEGIN:VEVENT
DTSTART;TZID=Europe/Copenhagen:20260514T100000
DTEND;TZID=Europe/Copenhagen:20260514T150000
DTSTAMP:20260422T022802
CREATED:20251103T120405Z
LAST-MODIFIED:20251103T120405Z
UID:10046482-1778752800-1778770800@vorescosmos.dk
SUMMARY:Akvarellerne
DESCRIPTION:
URL:https://vorescosmos.dk/begivenhed/akvarellerne-6/2026-05-14/
LOCATION:Værkstedet\, Søndergade 11\, Viby Sj.\, 4130\, Danmark
CATEGORIES:Lokale bookninger
END:VEVENT
BEGIN:VEVENT
DTSTART;TZID=Europe/Copenhagen:20260514T120000
DTEND;TZID=Europe/Copenhagen:20260514T173000
DTSTAMP:20260422T022802
CREATED:20250505T095126Z
LAST-MODIFIED:20250905T085924Z
UID:10046036-1778760000-1778779800@vorescosmos.dk
SUMMARY:Café Cosmos
DESCRIPTION:
URL:https://vorescosmos.dk/begivenhed/cafe-cosmos/2026-05-14/
LOCATION:Fælleskøkkenet\, Søndergade 11\, Viby Sj.\, 4130\, Danmark
CATEGORIES:Lokale bookninger
END:VEVENT
BEGIN:VEVENT
DTSTART;TZID=Europe/Copenhagen:20260516T100000
DTEND;TZID=Europe/Copenhagen:20260516T150000
DTSTAMP:20260422T022802
CREATED:20250109T113659Z
LAST-MODIFIED:20250109T113958Z
UID:10043182-1778925600-1778943600@vorescosmos.dk
SUMMARY:BilledCosmos
DESCRIPTION:
URL:https://vorescosmos.dk/begivenhed/billedcosmos-26/2026-05-16/
LOCATION:Værkstedet\, Søndergade 11\, Viby Sj.\, 4130\, Danmark
CATEGORIES:Lokale bookninger
END:VEVENT
BEGIN:VEVENT
DTSTART;TZID=Europe/Copenhagen:20260516T103000
DTEND;TZID=Europe/Copenhagen:20260516T143000
DTSTAMP:20260422T022802
CREATED:20260216T111750Z
LAST-MODIFIED:20260216T111751Z
UID:10046770-1778927400-1778941800@vorescosmos.dk
SUMMARY:Café Cosmos
DESCRIPTION:
URL:https://vorescosmos.dk/begivenhed/cafe-cosmos-15/
LOCATION:Fælleskøkkenet\, Søndergade 11\, Viby Sj.\, 4130\, Danmark
CATEGORIES:Lokale bookninger
END:VEVENT
BEGIN:VEVENT
DTSTART;TZID=Europe/Copenhagen:20260518T100000
DTEND;TZID=Europe/Copenhagen:20260518T120000
DTSTAMP:20260422T022802
CREATED:20251103T105322Z
LAST-MODIFIED:20251103T105655Z
UID:10046448-1779098400-1779105600@vorescosmos.dk
SUMMARY:Ældresagen
DESCRIPTION:
URL:https://vorescosmos.dk/begivenhed/aeldresagen-19/2026-05-18/
LOCATION:Tænketanken\, Søndergade 11\, Viby Sj.\, 4130\, Danmark
CATEGORIES:Lokale bookninger
END:VEVENT
BEGIN:VEVENT
DTSTART;TZID=Europe/Copenhagen:20260518T120000
DTEND;TZID=Europe/Copenhagen:20260518T173000
DTSTAMP:20260422T022802
CREATED:20250505T095126Z
LAST-MODIFIED:20250905T085924Z
UID:10044746-1779105600-1779125400@vorescosmos.dk
SUMMARY:Café Cosmos
DESCRIPTION:
URL:https://vorescosmos.dk/begivenhed/cafe-cosmos/2026-05-18/
LOCATION:Fælleskøkkenet\, Søndergade 11\, Viby Sj.\, 4130\, Danmark
CATEGORIES:Lokale bookninger
END:VEVENT
BEGIN:VEVENT
DTSTART;TZID=Europe/Copenhagen:20260518T160000
DTEND;TZID=Europe/Copenhagen:20260518T170000
DTSTAMP:20260422T022802
CREATED:20260408T091523Z
LAST-MODIFIED:20260408T091524Z
UID:10047000-1779120000-1779123600@vorescosmos.dk
SUMMARY:Biblioteket
DESCRIPTION:
URL:https://vorescosmos.dk/begivenhed/biblioteket-63/
LOCATION:Backstage\, Søndergade 11\, Viby Sj.\, 4130
CATEGORIES:Lokale bookninger
END:VEVENT
BEGIN:VEVENT
DTSTART;TZID=Europe/Copenhagen:20260518T160000
DTEND;TZID=Europe/Copenhagen:20260518T180000
DTSTAMP:20260422T022802
CREATED:20231030T123535Z
LAST-MODIFIED:20241205T141227Z
UID:10039923-1779120000-1779127200@vorescosmos.dk
SUMMARY:Bibliotekscaféen
DESCRIPTION:
URL:https://vorescosmos.dk/begivenhed/bibliotekscafeen-12/2026-05-18/
LOCATION:Tænketanken\, Søndergade 11\, Viby Sj.\, 4130\, Danmark
CATEGORIES:Lokale bookninger
END:VEVENT
BEGIN:VEVENT
DTSTART;TZID=Europe/Copenhagen:20260518T183000
DTEND;TZID=Europe/Copenhagen:20260518T211500
DTSTAMP:20260422T022802
CREATED:20251114T093741Z
LAST-MODIFIED:20251114T093741Z
UID:10046555-1779129000-1779138900@vorescosmos.dk
SUMMARY:Rosa
DESCRIPTION:
URL:https://vorescosmos.dk/begivenhed/rosa/2026-05-18/
LOCATION:Peder Syv salen\, Søndergade 11\, Viby Sj.\, 4130\, Danmark
CATEGORIES:Lokale bookninger
END:VEVENT
BEGIN:VEVENT
DTSTART;TZID=Europe/Copenhagen:20260518T190000
DTEND;TZID=Europe/Copenhagen:20260518T220000
DTSTAMP:20260422T022802
CREATED:20260414T125957Z
LAST-MODIFIED:20260414T125957Z
UID:10047018-1779130800-1779141600@vorescosmos.dk
SUMMARY:Kulturcosmos
DESCRIPTION:
URL:https://vorescosmos.dk/begivenhed/kulturcosmos-65/
LOCATION:Værkstedet\, Søndergade 11\, Viby Sj.\, 4130\, Danmark
CATEGORIES:Lokale bookninger
END:VEVENT
BEGIN:VEVENT
DTSTART;TZID=Europe/Copenhagen:20260519T120000
DTEND;TZID=Europe/Copenhagen:20260519T173000
DTSTAMP:20260422T022802
CREATED:20250505T095126Z
LAST-MODIFIED:20250905T085924Z
UID:10044747-1779192000-1779211800@vorescosmos.dk
SUMMARY:Café Cosmos
DESCRIPTION:
URL:https://vorescosmos.dk/begivenhed/cafe-cosmos/2026-05-19/
LOCATION:Fælleskøkkenet\, Søndergade 11\, Viby Sj.\, 4130\, Danmark
CATEGORIES:Lokale bookninger
END:VEVENT
BEGIN:VEVENT
DTSTART;TZID=Europe/Copenhagen:20260519T130000
DTEND;TZID=Europe/Copenhagen:20260519T170000
DTSTAMP:20260422T022802
CREATED:20260126T130733Z
LAST-MODIFIED:20260126T130733Z
UID:10046715-1779195600-1779210000@vorescosmos.dk
SUMMARY:Billedcosmos
DESCRIPTION:
URL:https://vorescosmos.dk/begivenhed/billedcosmos-53/
LOCATION:Værkstedet\, Søndergade 11\, Viby Sj.\, 4130\, Danmark
CATEGORIES:Lokale bookninger
END:VEVENT
BEGIN:VEVENT
DTSTART;TZID=Europe/Copenhagen:20260520T120000
DTEND;TZID=Europe/Copenhagen:20260520T173000
DTSTAMP:20260422T022802
CREATED:20250505T095126Z
LAST-MODIFIED:20250905T085924Z
UID:10044748-1779278400-1779298200@vorescosmos.dk
SUMMARY:Café Cosmos
DESCRIPTION:
URL:https://vorescosmos.dk/begivenhed/cafe-cosmos/2026-05-20/
LOCATION:Fælleskøkkenet\, Søndergade 11\, Viby Sj.\, 4130\, Danmark
CATEGORIES:Lokale bookninger
END:VEVENT
BEGIN:VEVENT
DTSTART;TZID=Europe/Copenhagen:20260520T150000
DTEND;TZID=Europe/Copenhagen:20260520T210000
DTSTAMP:20260422T022802
CREATED:20251125T142855Z
LAST-MODIFIED:20251125T142855Z
UID:10046572-1779289200-1779310800@vorescosmos.dk
SUMMARY:Viby Sewing bees
DESCRIPTION:
URL:https://vorescosmos.dk/begivenhed/viby-sewing-bees-13/
LOCATION:Værkstedet\, Søndergade 11\, Viby Sj.\, 4130\, Danmark
CATEGORIES:Lokale bookninger
END:VEVENT
BEGIN:VEVENT
DTSTART;TZID=Europe/Copenhagen:20260521T080000
DTEND;TZID=Europe/Copenhagen:20260521T170000
DTSTAMP:20260422T022802
CREATED:20231123T134526Z
LAST-MODIFIED:20240627T092948Z
UID:10038496-1779350400-1779382800@vorescosmos.dk
SUMMARY:Reserveret arkivet
DESCRIPTION:
URL:https://vorescosmos.dk/begivenhed/reserveret-arkivet/2026-05-21/
LOCATION:Ramsørummet\, Søndergade 11\, Viby Sj.\, 4130\, Danmark
CATEGORIES:Lokale bookninger
END:VEVENT
BEGIN:VEVENT
DTSTART;TZID=Europe/Copenhagen:20260521T100000
DTEND;TZID=Europe/Copenhagen:20260521T150000
DTSTAMP:20260422T022802
CREATED:20251103T120405Z
LAST-MODIFIED:20251103T120405Z
UID:10046483-1779357600-1779375600@vorescosmos.dk
SUMMARY:Akvarellerne
DESCRIPTION:
URL:https://vorescosmos.dk/begivenhed/akvarellerne-6/2026-05-21/
LOCATION:Værkstedet\, Søndergade 11\, Viby Sj.\, 4130\, Danmark
CATEGORIES:Lokale bookninger
END:VEVENT
BEGIN:VEVENT
DTSTART;TZID=Europe/Copenhagen:20260521T120000
DTEND;TZID=Europe/Copenhagen:20260521T173000
DTSTAMP:20260422T022802
CREATED:20250505T095126Z
LAST-MODIFIED:20250905T085924Z
UID:10046037-1779364800-1779384600@vorescosmos.dk
SUMMARY:Café Cosmos
DESCRIPTION:
URL:https://vorescosmos.dk/begivenhed/cafe-cosmos/2026-05-21/
LOCATION:Fælleskøkkenet\, Søndergade 11\, Viby Sj.\, 4130\, Danmark
CATEGORIES:Lokale bookninger
END:VEVENT
BEGIN:VEVENT
DTSTART;TZID=Europe/Copenhagen:20260521T160000
DTEND;TZID=Europe/Copenhagen:20260521T220000
DTSTAMP:20260422T022802
CREATED:20260312T122835Z
LAST-MODIFIED:20260312T122835Z
UID:10046974-1779379200-1779400800@vorescosmos.dk
SUMMARY:Kulturcosmos 1. musikformat
DESCRIPTION:
URL:https://vorescosmos.dk/begivenhed/kulturcosmos-1-musikformat-5/
LOCATION:Backstage\, Søndergade 11\, Viby Sj.\, 4130
CATEGORIES:Lokale bookninger
END:VEVENT
BEGIN:VEVENT
DTSTART;TZID=Europe/Copenhagen:20260521T160000
DTEND;TZID=Europe/Copenhagen:20260521T220000
DTSTAMP:20260422T022802
CREATED:20260312T122940Z
LAST-MODIFIED:20260312T122940Z
UID:10046975-1779379200-1779400800@vorescosmos.dk
SUMMARY:Kulturcosmos 1. musikformat
DESCRIPTION:
URL:https://vorescosmos.dk/begivenhed/kulturcosmos-1-musikformat-6/
LOCATION:Peder Syv salen\, Søndergade 11\, Viby Sj.\, 4130\, Danmark
CATEGORIES:Lokale bookninger
END:VEVENT
BEGIN:VEVENT
DTSTART;TZID=Europe/Copenhagen:20260523T100000
DTEND;TZID=Europe/Copenhagen:20260523T150000
DTSTAMP:20260422T022802
CREATED:20250109T113659Z
LAST-MODIFIED:20250109T113958Z
UID:10043183-1779530400-1779548400@vorescosmos.dk
SUMMARY:BilledCosmos
DESCRIPTION:
URL:https://vorescosmos.dk/begivenhed/billedcosmos-26/2026-05-23/
LOCATION:Værkstedet\, Søndergade 11\, Viby Sj.\, 4130\, Danmark
CATEGORIES:Lokale bookninger
END:VEVENT
BEGIN:VEVENT
DTSTART;TZID=Europe/Copenhagen:20260523T103000
DTEND;TZID=Europe/Copenhagen:20260523T143000
DTSTAMP:20260422T022802
CREATED:20260216T111843Z
LAST-MODIFIED:20260216T111844Z
UID:10046771-1779532200-1779546600@vorescosmos.dk
SUMMARY:Café Cosmos
DESCRIPTION:
URL:https://vorescosmos.dk/begivenhed/cafe-cosmos-16/
LOCATION:Fælleskøkkenet\, Søndergade 11\, Viby Sj.\, 4130\, Danmark
CATEGORIES:Lokale bookninger
END:VEVENT
BEGIN:VEVENT
DTSTART;TZID=Europe/Copenhagen:20260525T120000
DTEND;TZID=Europe/Copenhagen:20260525T173000
DTSTAMP:20260422T022802
CREATED:20250505T095126Z
LAST-MODIFIED:20250905T085924Z
UID:10044750-1779710400-1779730200@vorescosmos.dk
SUMMARY:Café Cosmos
DESCRIPTION:
URL:https://vorescosmos.dk/begivenhed/cafe-cosmos/2026-05-25/
LOCATION:Fælleskøkkenet\, Søndergade 11\, Viby Sj.\, 4130\, Danmark
CATEGORIES:Lokale bookninger
END:VEVENT
BEGIN:VEVENT
DTSTART;TZID=Europe/Copenhagen:20260525T160000
DTEND;TZID=Europe/Copenhagen:20260525T180000
DTSTAMP:20260422T022802
CREATED:20231030T123535Z
LAST-MODIFIED:20241205T141227Z
UID:10039924-1779724800-1779732000@vorescosmos.dk
SUMMARY:Bibliotekscaféen
DESCRIPTION:
URL:https://vorescosmos.dk/begivenhed/bibliotekscafeen-12/2026-05-25/
LOCATION:Tænketanken\, Søndergade 11\, Viby Sj.\, 4130\, Danmark
CATEGORIES:Lokale bookninger
END:VEVENT
BEGIN:VEVENT
DTSTART;TZID=Europe/Copenhagen:20260525T183000
DTEND;TZID=Europe/Copenhagen:20260525T203000
DTSTAMP:20260422T022802
CREATED:20260106T153546Z
LAST-MODIFIED:20260106T153546Z
UID:10046673-1779733800-1779741000@vorescosmos.dk
SUMMARY:Læsegruppe 4
DESCRIPTION:
URL:https://vorescosmos.dk/begivenhed/laesegruppe-4-25/
LOCATION:Værkstedet\, Søndergade 11\, Viby Sj.\, 4130\, Danmark
CATEGORIES:Lokale bookninger
END:VEVENT
BEGIN:VEVENT
DTSTART;TZID=Europe/Copenhagen:20260526T120000
DTEND;TZID=Europe/Copenhagen:20260526T173000
DTSTAMP:20260422T022802
CREATED:20250505T095126Z
LAST-MODIFIED:20250905T085924Z
UID:10044751-1779796800-1779816600@vorescosmos.dk
SUMMARY:Café Cosmos
DESCRIPTION:
URL:https://vorescosmos.dk/begivenhed/cafe-cosmos/2026-05-26/
LOCATION:Fælleskøkkenet\, Søndergade 11\, Viby Sj.\, 4130\, Danmark
CATEGORIES:Lokale bookninger
END:VEVENT
BEGIN:VEVENT
DTSTART;TZID=Europe/Copenhagen:20260526T130000
DTEND;TZID=Europe/Copenhagen:20260526T170000
DTSTAMP:20260422T022802
CREATED:20260126T130823Z
LAST-MODIFIED:20260126T130824Z
UID:10046716-1779800400-1779814800@vorescosmos.dk
SUMMARY:Billedcosmos
DESCRIPTION:
URL:https://vorescosmos.dk/begivenhed/billedcosmos-54/
LOCATION:Værkstedet\, Søndergade 11\, Viby Sj.\, 4130\, Danmark
CATEGORIES:Lokale bookninger
END:VEVENT
BEGIN:VEVENT
DTSTART;TZID=Europe/Copenhagen:20260526T180000
DTEND;TZID=Europe/Copenhagen:20260526T220000
DTSTAMP:20260422T022802
CREATED:20251219T072353Z
LAST-MODIFIED:20251219T072354Z
UID:10046623-1779818400-1779832800@vorescosmos.dk
SUMMARY:Generalforsamling Ejerforeningen Syvmose
DESCRIPTION:
URL:https://vorescosmos.dk/begivenhed/generalforsamling-ejerforeningen-syvmose/
LOCATION:Peder Syv salen\, Søndergade 11\, Viby Sj.\, 4130\, Danmark
CATEGORIES:Lokale bookninger
END:VEVENT
BEGIN:VEVENT
DTSTART;TZID=Europe/Copenhagen:20260526T180000
DTEND;TZID=Europe/Copenhagen:20260526T220000
DTSTAMP:20260422T022802
CREATED:20260414T125835Z
LAST-MODIFIED:20260414T125835Z
UID:10047017-1779818400-1779832800@vorescosmos.dk
SUMMARY:Kulturcosmos
DESCRIPTION:
URL:https://vorescosmos.dk/begivenhed/kulturcosmos-64/
LOCATION:Værkstedet\, Søndergade 11\, Viby Sj.\, 4130\, Danmark
CATEGORIES:Lokale bookninger
END:VEVENT
BEGIN:VEVENT
DTSTART;TZID=Europe/Copenhagen:20260527T120000
DTEND;TZID=Europe/Copenhagen:20260527T173000
DTSTAMP:20260422T022802
CREATED:20250505T095126Z
LAST-MODIFIED:20250905T085924Z
UID:10044752-1779883200-1779903000@vorescosmos.dk
SUMMARY:Café Cosmos
DESCRIPTION:
URL:https://vorescosmos.dk/begivenhed/cafe-cosmos/2026-05-27/
LOCATION:Fælleskøkkenet\, Søndergade 11\, Viby Sj.\, 4130\, Danmark
CATEGORIES:Lokale bookninger
END:VEVENT
END:VCALENDAR