BEGIN:VCALENDAR
VERSION:2.0
PRODID:-//Vores Cosmos - ECPv6.15.20//NONSGML v1.0//EN
CALSCALE:GREGORIAN
METHOD:PUBLISH
X-ORIGINAL-URL:https://vorescosmos.dk
X-WR-CALDESC:Begivenheder for Vores Cosmos
REFRESH-INTERVAL;VALUE=DURATION:PT1H
X-Robots-Tag:noindex
X-PUBLISHED-TTL:PT1H
BEGIN:VTIMEZONE
TZID:Europe/Copenhagen
BEGIN:DAYLIGHT
TZOFFSETFROM:+0100
TZOFFSETTO:+0200
TZNAME:CEST
DTSTART:20250330T010000
END:DAYLIGHT
BEGIN:STANDARD
TZOFFSETFROM:+0200
TZOFFSETTO:+0100
TZNAME:CET
DTSTART:20251026T010000
END:STANDARD
BEGIN:DAYLIGHT
TZOFFSETFROM:+0100
TZOFFSETTO:+0200
TZNAME:CEST
DTSTART:20260329T010000
END:DAYLIGHT
BEGIN:STANDARD
TZOFFSETFROM:+0200
TZOFFSETTO:+0100
TZNAME:CET
DTSTART:20261025T010000
END:STANDARD
BEGIN:DAYLIGHT
TZOFFSETFROM:+0100
TZOFFSETTO:+0200
TZNAME:CEST
DTSTART:20270328T010000
END:DAYLIGHT
BEGIN:STANDARD
TZOFFSETFROM:+0200
TZOFFSETTO:+0100
TZNAME:CET
DTSTART:20271031T010000
END:STANDARD
END:VTIMEZONE
BEGIN:VEVENT
DTSTART;TZID=Europe/Copenhagen:20260420T120000
DTEND;TZID=Europe/Copenhagen:20260420T173000
DTSTAMP:20260421T120354
CREATED:20250505T095126Z
LAST-MODIFIED:20250905T085924Z
UID:10044730-1776686400-1776706200@vorescosmos.dk
SUMMARY:Café Cosmos
DESCRIPTION:
URL:https://vorescosmos.dk/begivenhed/cafe-cosmos/2026-04-20/
LOCATION:Fælleskøkkenet\, Søndergade 11\, Viby Sj.\, 4130\, Danmark
CATEGORIES:Lokale bookninger
END:VEVENT
BEGIN:VEVENT
DTSTART;TZID=Europe/Copenhagen:20260419T090000
DTEND;TZID=Europe/Copenhagen:20260419T160000
DTSTAMP:20260421T120354
CREATED:20260130T124111Z
LAST-MODIFIED:20260130T124111Z
UID:10046739-1776589200-1776614400@vorescosmos.dk
SUMMARY:Kræftens bekæmpelse
DESCRIPTION:
URL:https://vorescosmos.dk/begivenhed/kraeftens-bekaempelse-6/
LOCATION:Fælleskøkkenet\, Søndergade 11\, Viby Sj.\, 4130\, Danmark
CATEGORIES:Lokale bookninger
END:VEVENT
BEGIN:VEVENT
DTSTART;TZID=Europe/Copenhagen:20260418T103000
DTEND;TZID=Europe/Copenhagen:20260418T143000
DTSTAMP:20260421T120354
CREATED:20260216T102939Z
LAST-MODIFIED:20260216T102940Z
UID:10046766-1776508200-1776522600@vorescosmos.dk
SUMMARY:Café Cosmos
DESCRIPTION:
URL:https://vorescosmos.dk/begivenhed/cafe-cosmos-11/
LOCATION:Fælleskøkkenet\, Søndergade 11\, Viby Sj.\, 4130\, Danmark
CATEGORIES:Lokale bookninger
END:VEVENT
BEGIN:VEVENT
DTSTART;TZID=Europe/Copenhagen:20260416T173000
DTEND;TZID=Europe/Copenhagen:20260416T220000
DTSTAMP:20260421T120354
CREATED:20260105T131738Z
LAST-MODIFIED:20260105T142753Z
UID:10046647-1776360600-1776376800@vorescosmos.dk
SUMMARY:KulturCosmos + Biblioteket: KulturSalonen
DESCRIPTION:
URL:https://vorescosmos.dk/begivenhed/kulturcosmos-biblioteket-kultursalonen-2/
LOCATION:Fælleskøkkenet\, Søndergade 11\, Viby Sj.\, 4130\, Danmark
CATEGORIES:Lokale bookninger
END:VEVENT
BEGIN:VEVENT
DTSTART;TZID=Europe/Copenhagen:20260416T120000
DTEND;TZID=Europe/Copenhagen:20260416T173000
DTSTAMP:20260421T120354
CREATED:20250505T095126Z
LAST-MODIFIED:20250905T085924Z
UID:10046032-1776340800-1776360600@vorescosmos.dk
SUMMARY:Café Cosmos
DESCRIPTION:
URL:https://vorescosmos.dk/begivenhed/cafe-cosmos/2026-04-16/
LOCATION:Fælleskøkkenet\, Søndergade 11\, Viby Sj.\, 4130\, Danmark
CATEGORIES:Lokale bookninger
END:VEVENT
BEGIN:VEVENT
DTSTART;TZID=Europe/Copenhagen:20260415T120000
DTEND;TZID=Europe/Copenhagen:20260415T173000
DTSTAMP:20260421T120354
CREATED:20250505T095126Z
LAST-MODIFIED:20250905T085924Z
UID:10044728-1776254400-1776274200@vorescosmos.dk
SUMMARY:Café Cosmos
DESCRIPTION:
URL:https://vorescosmos.dk/begivenhed/cafe-cosmos/2026-04-15/
LOCATION:Fælleskøkkenet\, Søndergade 11\, Viby Sj.\, 4130\, Danmark
CATEGORIES:Lokale bookninger
END:VEVENT
BEGIN:VEVENT
DTSTART;TZID=Europe/Copenhagen:20260414T180000
DTEND;TZID=Europe/Copenhagen:20260414T220000
DTSTAMP:20260421T120354
CREATED:20251201T144849Z
LAST-MODIFIED:20251201T144850Z
UID:10046591-1776189600-1776204000@vorescosmos.dk
SUMMARY:Kulturcosmos
DESCRIPTION:
URL:https://vorescosmos.dk/begivenhed/kulturcosmos-51/
LOCATION:Fælleskøkkenet\, Søndergade 11\, Viby Sj.\, 4130\, Danmark
CATEGORIES:Lokale bookninger
END:VEVENT
BEGIN:VEVENT
DTSTART;TZID=Europe/Copenhagen:20260414T120000
DTEND;TZID=Europe/Copenhagen:20260414T173000
DTSTAMP:20260421T120354
CREATED:20250505T095126Z
LAST-MODIFIED:20250905T085924Z
UID:10044727-1776168000-1776187800@vorescosmos.dk
SUMMARY:Café Cosmos
DESCRIPTION:
URL:https://vorescosmos.dk/begivenhed/cafe-cosmos/2026-04-14/
LOCATION:Fælleskøkkenet\, Søndergade 11\, Viby Sj.\, 4130\, Danmark
CATEGORIES:Lokale bookninger
END:VEVENT
BEGIN:VEVENT
DTSTART;TZID=Europe/Copenhagen:20260413T120000
DTEND;TZID=Europe/Copenhagen:20260413T173000
DTSTAMP:20260421T120354
CREATED:20250505T095126Z
LAST-MODIFIED:20250905T085924Z
UID:10044726-1776081600-1776101400@vorescosmos.dk
SUMMARY:Café Cosmos
DESCRIPTION:
URL:https://vorescosmos.dk/begivenhed/cafe-cosmos/2026-04-13/
LOCATION:Fælleskøkkenet\, Søndergade 11\, Viby Sj.\, 4130\, Danmark
CATEGORIES:Lokale bookninger
END:VEVENT
BEGIN:VEVENT
DTSTART;TZID=Europe/Copenhagen:20260411T103000
DTEND;TZID=Europe/Copenhagen:20260411T143000
DTSTAMP:20260421T120354
CREATED:20260216T102840Z
LAST-MODIFIED:20260216T102840Z
UID:10046765-1775903400-1775917800@vorescosmos.dk
SUMMARY:Café Cosmos
DESCRIPTION:
URL:https://vorescosmos.dk/begivenhed/cafe-cosmos-10/
LOCATION:Fælleskøkkenet\, Søndergade 11\, Viby Sj.\, 4130\, Danmark
CATEGORIES:Lokale bookninger
END:VEVENT
BEGIN:VEVENT
DTSTART;TZID=Europe/Copenhagen:20260410T110000
DTEND;TZID=Europe/Copenhagen:20260410T150000
DTSTAMP:20260421T120354
CREATED:20260102T120140Z
LAST-MODIFIED:20260102T120140Z
UID:10046637-1775818800-1775833200@vorescosmos.dk
SUMMARY:CosmosGryden
DESCRIPTION:
URL:https://vorescosmos.dk/begivenhed/cosmosgryden-12/2026-04-10/
LOCATION:Fælleskøkkenet\, Søndergade 11\, Viby Sj.\, 4130\, Danmark
CATEGORIES:Lokale bookninger
END:VEVENT
BEGIN:VEVENT
DTSTART;TZID=Europe/Copenhagen:20260409T120000
DTEND;TZID=Europe/Copenhagen:20260409T173000
DTSTAMP:20260421T120354
CREATED:20250505T095126Z
LAST-MODIFIED:20250905T085924Z
UID:10046031-1775736000-1775755800@vorescosmos.dk
SUMMARY:Café Cosmos
DESCRIPTION:
URL:https://vorescosmos.dk/begivenhed/cafe-cosmos/2026-04-09/
LOCATION:Fælleskøkkenet\, Søndergade 11\, Viby Sj.\, 4130\, Danmark
CATEGORIES:Lokale bookninger
END:VEVENT
BEGIN:VEVENT
DTSTART;TZID=Europe/Copenhagen:20260408T180000
DTEND;TZID=Europe/Copenhagen:20260408T230000
DTSTAMP:20260421T120354
CREATED:20251103T115242Z
LAST-MODIFIED:20260302T120100Z
UID:10046851-1775671200-1775689200@vorescosmos.dk
SUMMARY:Ramsø Vinklub
DESCRIPTION:
URL:https://vorescosmos.dk/begivenhed/ramsoe-vinklub-27/2026-04-08/
LOCATION:Fælleskøkkenet\, Søndergade 11\, Viby Sj.\, 4130\, Danmark
CATEGORIES:Lokale bookninger
END:VEVENT
BEGIN:VEVENT
DTSTART;TZID=Europe/Copenhagen:20260408T120000
DTEND;TZID=Europe/Copenhagen:20260408T173000
DTSTAMP:20260421T120354
CREATED:20250505T095126Z
LAST-MODIFIED:20250905T085924Z
UID:10044724-1775649600-1775669400@vorescosmos.dk
SUMMARY:Café Cosmos
DESCRIPTION:
URL:https://vorescosmos.dk/begivenhed/cafe-cosmos/2026-04-08/
LOCATION:Fælleskøkkenet\, Søndergade 11\, Viby Sj.\, 4130\, Danmark
CATEGORIES:Lokale bookninger
END:VEVENT
BEGIN:VEVENT
DTSTART;TZID=Europe/Copenhagen:20260407T120000
DTEND;TZID=Europe/Copenhagen:20260407T173000
DTSTAMP:20260421T120354
CREATED:20250505T095126Z
LAST-MODIFIED:20250905T085924Z
UID:10044723-1775563200-1775583000@vorescosmos.dk
SUMMARY:Café Cosmos
DESCRIPTION:
URL:https://vorescosmos.dk/begivenhed/cafe-cosmos/2026-04-07/
LOCATION:Fælleskøkkenet\, Søndergade 11\, Viby Sj.\, 4130\, Danmark
CATEGORIES:Lokale bookninger
END:VEVENT
BEGIN:VEVENT
DTSTART;TZID=Europe/Copenhagen:20260406T120000
DTEND;TZID=Europe/Copenhagen:20260406T173000
DTSTAMP:20260421T120354
CREATED:20250505T095126Z
LAST-MODIFIED:20250905T085924Z
UID:10044722-1775476800-1775496600@vorescosmos.dk
SUMMARY:Café Cosmos
DESCRIPTION:
URL:https://vorescosmos.dk/begivenhed/cafe-cosmos/2026-04-06/
LOCATION:Fælleskøkkenet\, Søndergade 11\, Viby Sj.\, 4130\, Danmark
CATEGORIES:Lokale bookninger
END:VEVENT
BEGIN:VEVENT
DTSTART;TZID=Europe/Copenhagen:20260404T103000
DTEND;TZID=Europe/Copenhagen:20260404T143000
DTSTAMP:20260421T120354
CREATED:20260216T102739Z
LAST-MODIFIED:20260216T102739Z
UID:10046764-1775298600-1775313000@vorescosmos.dk
SUMMARY:Café Cosmos
DESCRIPTION:
URL:https://vorescosmos.dk/begivenhed/cafe-cosmos-9/
LOCATION:Fælleskøkkenet\, Søndergade 11\, Viby Sj.\, 4130\, Danmark
CATEGORIES:Lokale bookninger
END:VEVENT
BEGIN:VEVENT
DTSTART;TZID=Europe/Copenhagen:20260402T120000
DTEND;TZID=Europe/Copenhagen:20260402T173000
DTSTAMP:20260421T120354
CREATED:20250505T095126Z
LAST-MODIFIED:20250905T085924Z
UID:10046030-1775131200-1775151000@vorescosmos.dk
SUMMARY:Café Cosmos
DESCRIPTION:
URL:https://vorescosmos.dk/begivenhed/cafe-cosmos/2026-04-02/
LOCATION:Fælleskøkkenet\, Søndergade 11\, Viby Sj.\, 4130\, Danmark
CATEGORIES:Lokale bookninger
END:VEVENT
BEGIN:VEVENT
DTSTART;TZID=Europe/Copenhagen:20260401T120000
DTEND;TZID=Europe/Copenhagen:20260401T173000
DTSTAMP:20260421T120354
CREATED:20250505T095126Z
LAST-MODIFIED:20250905T085924Z
UID:10044720-1775044800-1775064600@vorescosmos.dk
SUMMARY:Café Cosmos
DESCRIPTION:
URL:https://vorescosmos.dk/begivenhed/cafe-cosmos/2026-04-01/
LOCATION:Fælleskøkkenet\, Søndergade 11\, Viby Sj.\, 4130\, Danmark
CATEGORIES:Lokale bookninger
END:VEVENT
BEGIN:VEVENT
DTSTART;TZID=Europe/Copenhagen:20260331T120000
DTEND;TZID=Europe/Copenhagen:20260331T173000
DTSTAMP:20260421T120354
CREATED:20250505T095126Z
LAST-MODIFIED:20250905T085924Z
UID:10044719-1774958400-1774978200@vorescosmos.dk
SUMMARY:Café Cosmos
DESCRIPTION:
URL:https://vorescosmos.dk/begivenhed/cafe-cosmos/2026-03-31/
LOCATION:Fælleskøkkenet\, Søndergade 11\, Viby Sj.\, 4130\, Danmark
CATEGORIES:Lokale bookninger
END:VEVENT
BEGIN:VEVENT
DTSTART;TZID=Europe/Copenhagen:20260330T120000
DTEND;TZID=Europe/Copenhagen:20260330T173000
DTSTAMP:20260421T120354
CREATED:20250505T095126Z
LAST-MODIFIED:20250905T085924Z
UID:10044718-1774872000-1774891800@vorescosmos.dk
SUMMARY:Café Cosmos
DESCRIPTION:
URL:https://vorescosmos.dk/begivenhed/cafe-cosmos/2026-03-30/
LOCATION:Fælleskøkkenet\, Søndergade 11\, Viby Sj.\, 4130\, Danmark
CATEGORIES:Lokale bookninger
END:VEVENT
BEGIN:VEVENT
DTSTART;TZID=Europe/Copenhagen:20260328T103000
DTEND;TZID=Europe/Copenhagen:20260328T143000
DTSTAMP:20260421T120354
CREATED:20260216T102639Z
LAST-MODIFIED:20260216T102639Z
UID:10046763-1774693800-1774708200@vorescosmos.dk
SUMMARY:Café Cosmos
DESCRIPTION:
URL:https://vorescosmos.dk/begivenhed/cafe-cosmos-8/
LOCATION:Fælleskøkkenet\, Søndergade 11\, Viby Sj.\, 4130\, Danmark
CATEGORIES:Lokale bookninger
END:VEVENT
BEGIN:VEVENT
DTSTART;TZID=Europe/Copenhagen:20260326T170000
DTEND;TZID=Europe/Copenhagen:20260326T210000
DTSTAMP:20260421T120354
CREATED:20251208T093319Z
LAST-MODIFIED:20251208T093319Z
UID:10046613-1774544400-1774558800@vorescosmos.dk
SUMMARY:KulturCosmos GF
DESCRIPTION:
URL:https://vorescosmos.dk/begivenhed/kulturcosmos-gf/
LOCATION:Fælleskøkkenet\, Søndergade 11\, Viby Sj.\, 4130\, Danmark
CATEGORIES:Lokale bookninger
END:VEVENT
BEGIN:VEVENT
DTSTART;TZID=Europe/Copenhagen:20260326T120000
DTEND;TZID=Europe/Copenhagen:20260326T173000
DTSTAMP:20260421T120354
CREATED:20250505T095126Z
LAST-MODIFIED:20250905T085924Z
UID:10046029-1774526400-1774546200@vorescosmos.dk
SUMMARY:Café Cosmos
DESCRIPTION:
URL:https://vorescosmos.dk/begivenhed/cafe-cosmos/2026-03-26/
LOCATION:Fælleskøkkenet\, Søndergade 11\, Viby Sj.\, 4130\, Danmark
CATEGORIES:Lokale bookninger
END:VEVENT
BEGIN:VEVENT
DTSTART;TZID=Europe/Copenhagen:20260325T120000
DTEND;TZID=Europe/Copenhagen:20260325T173000
DTSTAMP:20260421T120354
CREATED:20250505T095126Z
LAST-MODIFIED:20250905T085924Z
UID:10044716-1774440000-1774459800@vorescosmos.dk
SUMMARY:Café Cosmos
DESCRIPTION:
URL:https://vorescosmos.dk/begivenhed/cafe-cosmos/2026-03-25/
LOCATION:Fælleskøkkenet\, Søndergade 11\, Viby Sj.\, 4130\, Danmark
CATEGORIES:Lokale bookninger
END:VEVENT
BEGIN:VEVENT
DTSTART;TZID=Europe/Copenhagen:20260324T120000
DTEND;TZID=Europe/Copenhagen:20260324T173000
DTSTAMP:20260421T120354
CREATED:20260304T124958Z
LAST-MODIFIED:20260304T124959Z
UID:10044715-1774353600-1774373400@vorescosmos.dk
SUMMARY:Café Cosmos (aflyst pga. valget)
DESCRIPTION:
URL:https://vorescosmos.dk/begivenhed/cafe-cosmos-46/
LOCATION:Fælleskøkkenet\, Søndergade 11\, Viby Sj.\, 4130\, Danmark
CATEGORIES:Lokale bookninger
END:VEVENT
BEGIN:VEVENT
DTSTART;TZID=Europe/Copenhagen:20260324T080000
DTEND;TZID=Europe/Copenhagen:20260324T230000
DTSTAMP:20260421T120354
CREATED:20260304T115045Z
LAST-MODIFIED:20260304T115046Z
UID:10046860-1774339200-1774393200@vorescosmos.dk
SUMMARY:Roskilde Kommune - Folketingsvalg
DESCRIPTION:
URL:https://vorescosmos.dk/begivenhed/roskilde-kommune-folketingsvalg-2/
LOCATION:Fælleskøkkenet\, Søndergade 11\, Viby Sj.\, 4130\, Danmark
CATEGORIES:Lokale bookninger
END:VEVENT
BEGIN:VEVENT
DTSTART;TZID=Europe/Copenhagen:20260323T120000
DTEND;TZID=Europe/Copenhagen:20260323T173000
DTSTAMP:20260421T120354
CREATED:20250505T095126Z
LAST-MODIFIED:20250905T085924Z
UID:10044714-1774267200-1774287000@vorescosmos.dk
SUMMARY:Café Cosmos
DESCRIPTION:
URL:https://vorescosmos.dk/begivenhed/cafe-cosmos/2026-03-23/
LOCATION:Fælleskøkkenet\, Søndergade 11\, Viby Sj.\, 4130\, Danmark
CATEGORIES:Lokale bookninger
END:VEVENT
BEGIN:VEVENT
DTSTART;TZID=Europe/Copenhagen:20260321T103000
DTEND;TZID=Europe/Copenhagen:20260321T143000
DTSTAMP:20260421T120354
CREATED:20260216T102511Z
LAST-MODIFIED:20260216T102511Z
UID:10046762-1774089000-1774103400@vorescosmos.dk
SUMMARY:Café Cosmos
DESCRIPTION:
URL:https://vorescosmos.dk/begivenhed/cafe-cosmos-7/
LOCATION:Fælleskøkkenet\, Søndergade 11\, Viby Sj.\, 4130\, Danmark
CATEGORIES:Lokale bookninger
END:VEVENT
BEGIN:VEVENT
DTSTART;TZID=Europe/Copenhagen:20260319T173000
DTEND;TZID=Europe/Copenhagen:20260319T213000
DTSTAMP:20260421T120354
CREATED:20251103T105855Z
LAST-MODIFIED:20251103T105940Z
UID:10046452-1773941400-1773955800@vorescosmos.dk
SUMMARY:GF Kildemosen
DESCRIPTION:
URL:https://vorescosmos.dk/begivenhed/gf-kildemosen/
LOCATION:Fælleskøkkenet\, Søndergade 11\, Viby Sj.\, 4130\, Danmark
CATEGORIES:Lokale bookninger
END:VEVENT
END:VCALENDAR