BEGIN:VCALENDAR
VERSION:2.0
PRODID:-//Vores Cosmos - ECPv6.15.20//NONSGML v1.0//EN
CALSCALE:GREGORIAN
METHOD:PUBLISH
X-ORIGINAL-URL:https://vorescosmos.dk
X-WR-CALDESC:Begivenheder for Vores Cosmos
REFRESH-INTERVAL;VALUE=DURATION:PT1H
X-Robots-Tag:noindex
X-PUBLISHED-TTL:PT1H
BEGIN:VTIMEZONE
TZID:Europe/Copenhagen
BEGIN:DAYLIGHT
TZOFFSETFROM:+0100
TZOFFSETTO:+0200
TZNAME:CEST
DTSTART:20240331T010000
END:DAYLIGHT
BEGIN:STANDARD
TZOFFSETFROM:+0200
TZOFFSETTO:+0100
TZNAME:CET
DTSTART:20241027T010000
END:STANDARD
BEGIN:DAYLIGHT
TZOFFSETFROM:+0100
TZOFFSETTO:+0200
TZNAME:CEST
DTSTART:20250330T010000
END:DAYLIGHT
BEGIN:STANDARD
TZOFFSETFROM:+0200
TZOFFSETTO:+0100
TZNAME:CET
DTSTART:20251026T010000
END:STANDARD
BEGIN:DAYLIGHT
TZOFFSETFROM:+0100
TZOFFSETTO:+0200
TZNAME:CEST
DTSTART:20260329T010000
END:DAYLIGHT
BEGIN:STANDARD
TZOFFSETFROM:+0200
TZOFFSETTO:+0100
TZNAME:CET
DTSTART:20261025T010000
END:STANDARD
END:VTIMEZONE
BEGIN:VEVENT
DTSTART;TZID=Europe/Copenhagen:20251028T120000
DTEND;TZID=Europe/Copenhagen:20251028T173000
DTSTAMP:20260422T124430
CREATED:20250505T095126Z
LAST-MODIFIED:20250905T085924Z
UID:10044631-1761652800-1761672600@vorescosmos.dk
SUMMARY:Café Cosmos
DESCRIPTION:
URL:https://vorescosmos.dk/begivenhed/cafe-cosmos/2025-10-28/
LOCATION:Fælleskøkkenet\, Søndergade 11\, Viby Sj.\, 4130\, Danmark
CATEGORIES:Lokale bookninger
END:VEVENT
BEGIN:VEVENT
DTSTART;TZID=Europe/Copenhagen:20251027T120000
DTEND;TZID=Europe/Copenhagen:20251027T173000
DTSTAMP:20260422T124430
CREATED:20250505T095126Z
LAST-MODIFIED:20250905T085924Z
UID:10044630-1761566400-1761586200@vorescosmos.dk
SUMMARY:Café Cosmos
DESCRIPTION:
URL:https://vorescosmos.dk/begivenhed/cafe-cosmos/2025-10-27/
LOCATION:Fælleskøkkenet\, Søndergade 11\, Viby Sj.\, 4130\, Danmark
CATEGORIES:Lokale bookninger
END:VEVENT
BEGIN:VEVENT
DTSTART;TZID=Europe/Copenhagen:20251023T180000
DTEND;TZID=Europe/Copenhagen:20251023T230000
DTSTAMP:20260422T124430
CREATED:20250602T140519Z
LAST-MODIFIED:20250602T140606Z
UID:10045678-1761242400-1761260400@vorescosmos.dk
SUMMARY:Ramsø vinklub
DESCRIPTION:
URL:https://vorescosmos.dk/begivenhed/ramsoe-vinklub-24/2025-10-23/
LOCATION:Fælleskøkkenet\, Søndergade 11\, Viby Sj.\, 4130\, Danmark
CATEGORIES:Lokale bookninger
END:VEVENT
BEGIN:VEVENT
DTSTART;TZID=Europe/Copenhagen:20251023T120000
DTEND;TZID=Europe/Copenhagen:20251023T173000
DTSTAMP:20260422T124430
CREATED:20250505T095126Z
LAST-MODIFIED:20250905T085924Z
UID:10046007-1761220800-1761240600@vorescosmos.dk
SUMMARY:Café Cosmos
DESCRIPTION:
URL:https://vorescosmos.dk/begivenhed/cafe-cosmos/2025-10-23/
LOCATION:Fælleskøkkenet\, Søndergade 11\, Viby Sj.\, 4130\, Danmark
CATEGORIES:Lokale bookninger
END:VEVENT
BEGIN:VEVENT
DTSTART;TZID=Europe/Copenhagen:20251022T120000
DTEND;TZID=Europe/Copenhagen:20251022T173000
DTSTAMP:20260422T124430
CREATED:20250505T095126Z
LAST-MODIFIED:20250905T085924Z
UID:10044628-1761134400-1761154200@vorescosmos.dk
SUMMARY:Café Cosmos
DESCRIPTION:
URL:https://vorescosmos.dk/begivenhed/cafe-cosmos/2025-10-22/
LOCATION:Fælleskøkkenet\, Søndergade 11\, Viby Sj.\, 4130\, Danmark
CATEGORIES:Lokale bookninger
END:VEVENT
BEGIN:VEVENT
DTSTART;TZID=Europe/Copenhagen:20251021T120000
DTEND;TZID=Europe/Copenhagen:20251021T173000
DTSTAMP:20260422T124430
CREATED:20250505T095126Z
LAST-MODIFIED:20250905T085924Z
UID:10044627-1761048000-1761067800@vorescosmos.dk
SUMMARY:Café Cosmos
DESCRIPTION:
URL:https://vorescosmos.dk/begivenhed/cafe-cosmos/2025-10-21/
LOCATION:Fælleskøkkenet\, Søndergade 11\, Viby Sj.\, 4130\, Danmark
CATEGORIES:Lokale bookninger
END:VEVENT
BEGIN:VEVENT
DTSTART;TZID=Europe/Copenhagen:20251020T120000
DTEND;TZID=Europe/Copenhagen:20251020T173000
DTSTAMP:20260422T124430
CREATED:20250505T095126Z
LAST-MODIFIED:20250905T085924Z
UID:10044626-1760961600-1760981400@vorescosmos.dk
SUMMARY:Café Cosmos
DESCRIPTION:
URL:https://vorescosmos.dk/begivenhed/cafe-cosmos/2025-10-20/
LOCATION:Fælleskøkkenet\, Søndergade 11\, Viby Sj.\, 4130\, Danmark
CATEGORIES:Lokale bookninger
END:VEVENT
BEGIN:VEVENT
DTSTART;TZID=Europe/Copenhagen:20251016T120000
DTEND;TZID=Europe/Copenhagen:20251016T173000
DTSTAMP:20260422T124430
CREATED:20250505T095126Z
LAST-MODIFIED:20250905T085924Z
UID:10046006-1760616000-1760635800@vorescosmos.dk
SUMMARY:Café Cosmos
DESCRIPTION:
URL:https://vorescosmos.dk/begivenhed/cafe-cosmos/2025-10-16/
LOCATION:Fælleskøkkenet\, Søndergade 11\, Viby Sj.\, 4130\, Danmark
CATEGORIES:Lokale bookninger
END:VEVENT
BEGIN:VEVENT
DTSTART;TZID=Europe/Copenhagen:20251015T120000
DTEND;TZID=Europe/Copenhagen:20251015T173000
DTSTAMP:20260422T124430
CREATED:20250505T095126Z
LAST-MODIFIED:20250905T085924Z
UID:10044624-1760529600-1760549400@vorescosmos.dk
SUMMARY:Café Cosmos
DESCRIPTION:
URL:https://vorescosmos.dk/begivenhed/cafe-cosmos/2025-10-15/
LOCATION:Fælleskøkkenet\, Søndergade 11\, Viby Sj.\, 4130\, Danmark
CATEGORIES:Lokale bookninger
END:VEVENT
BEGIN:VEVENT
DTSTART;TZID=Europe/Copenhagen:20251014T120000
DTEND;TZID=Europe/Copenhagen:20251014T173000
DTSTAMP:20260422T124430
CREATED:20250505T095126Z
LAST-MODIFIED:20250905T085924Z
UID:10044623-1760443200-1760463000@vorescosmos.dk
SUMMARY:Café Cosmos
DESCRIPTION:
URL:https://vorescosmos.dk/begivenhed/cafe-cosmos/2025-10-14/
LOCATION:Fælleskøkkenet\, Søndergade 11\, Viby Sj.\, 4130\, Danmark
CATEGORIES:Lokale bookninger
END:VEVENT
BEGIN:VEVENT
DTSTART;TZID=Europe/Copenhagen:20251013T120000
DTEND;TZID=Europe/Copenhagen:20251013T173000
DTSTAMP:20260422T124430
CREATED:20250505T095126Z
LAST-MODIFIED:20250905T085924Z
UID:10044622-1760356800-1760376600@vorescosmos.dk
SUMMARY:Café Cosmos
DESCRIPTION:
URL:https://vorescosmos.dk/begivenhed/cafe-cosmos/2025-10-13/
LOCATION:Fælleskøkkenet\, Søndergade 11\, Viby Sj.\, 4130\, Danmark
CATEGORIES:Lokale bookninger
END:VEVENT
BEGIN:VEVENT
DTSTART;TZID=Europe/Copenhagen:20251010T100000
DTEND;TZID=Europe/Copenhagen:20251010T140000
DTSTAMP:20260422T124430
CREATED:20250808T081214Z
LAST-MODIFIED:20250808T081214Z
UID:10045878-1760090400-1760104800@vorescosmos.dk
SUMMARY:CosmosGryden
DESCRIPTION:
URL:https://vorescosmos.dk/begivenhed/cosmosgryden-9/2025-10-10/
LOCATION:Fælleskøkkenet\, Søndergade 11\, Viby Sj.\, 4130\, Danmark
CATEGORIES:Lokale bookninger
END:VEVENT
BEGIN:VEVENT
DTSTART;TZID=Europe/Copenhagen:20251009T120000
DTEND;TZID=Europe/Copenhagen:20251009T173000
DTSTAMP:20260422T124430
CREATED:20250505T095126Z
LAST-MODIFIED:20250905T085924Z
UID:10046005-1760011200-1760031000@vorescosmos.dk
SUMMARY:Café Cosmos
DESCRIPTION:
URL:https://vorescosmos.dk/begivenhed/cafe-cosmos/2025-10-09/
LOCATION:Fælleskøkkenet\, Søndergade 11\, Viby Sj.\, 4130\, Danmark
CATEGORIES:Lokale bookninger
END:VEVENT
BEGIN:VEVENT
DTSTART;TZID=Europe/Copenhagen:20251008T120000
DTEND;TZID=Europe/Copenhagen:20251008T173000
DTSTAMP:20260422T124430
CREATED:20250505T095126Z
LAST-MODIFIED:20250905T085924Z
UID:10044620-1759924800-1759944600@vorescosmos.dk
SUMMARY:Café Cosmos
DESCRIPTION:
URL:https://vorescosmos.dk/begivenhed/cafe-cosmos/2025-10-08/
LOCATION:Fælleskøkkenet\, Søndergade 11\, Viby Sj.\, 4130\, Danmark
CATEGORIES:Lokale bookninger
END:VEVENT
BEGIN:VEVENT
DTSTART;TZID=Europe/Copenhagen:20251007T180000
DTEND;TZID=Europe/Copenhagen:20251007T220000
DTSTAMP:20260422T124430
CREATED:20250602T140718Z
LAST-MODIFIED:20250602T140719Z
UID:10045683-1759860000-1759874400@vorescosmos.dk
SUMMARY:Ramsø vinklub
DESCRIPTION:
URL:https://vorescosmos.dk/begivenhed/ramsoe-vinklub-25/
LOCATION:Fælleskøkkenet\, Søndergade 11\, Viby Sj.\, 4130\, Danmark
CATEGORIES:Lokale bookninger
END:VEVENT
BEGIN:VEVENT
DTSTART;TZID=Europe/Copenhagen:20251007T120000
DTEND;TZID=Europe/Copenhagen:20251007T173000
DTSTAMP:20260422T124430
CREATED:20250505T095126Z
LAST-MODIFIED:20250905T085924Z
UID:10044619-1759838400-1759858200@vorescosmos.dk
SUMMARY:Café Cosmos
DESCRIPTION:
URL:https://vorescosmos.dk/begivenhed/cafe-cosmos/2025-10-07/
LOCATION:Fælleskøkkenet\, Søndergade 11\, Viby Sj.\, 4130\, Danmark
CATEGORIES:Lokale bookninger
END:VEVENT
BEGIN:VEVENT
DTSTART;TZID=Europe/Copenhagen:20251006T120000
DTEND;TZID=Europe/Copenhagen:20251006T173000
DTSTAMP:20260422T124430
CREATED:20250505T095126Z
LAST-MODIFIED:20250905T085924Z
UID:10044618-1759752000-1759771800@vorescosmos.dk
SUMMARY:Café Cosmos
DESCRIPTION:
URL:https://vorescosmos.dk/begivenhed/cafe-cosmos/2025-10-06/
LOCATION:Fælleskøkkenet\, Søndergade 11\, Viby Sj.\, 4130\, Danmark
CATEGORIES:Lokale bookninger
END:VEVENT
BEGIN:VEVENT
DTSTART;TZID=Europe/Copenhagen:20251004T153000
DTEND;TZID=Europe/Copenhagen:20251004T230000
DTSTAMP:20260422T124430
CREATED:20241001T085259Z
LAST-MODIFIED:20241001T085300Z
UID:10042729-1759591800-1759618800@vorescosmos.dk
SUMMARY:Det 3. musikformat
DESCRIPTION:
URL:https://vorescosmos.dk/begivenhed/det-3-musikformat-3/
LOCATION:Fælleskøkkenet\, Søndergade 11\, Viby Sj.\, 4130\, Danmark
CATEGORIES:Lokale bookninger
END:VEVENT
BEGIN:VEVENT
DTSTART;TZID=Europe/Copenhagen:20251002T120000
DTEND;TZID=Europe/Copenhagen:20251002T173000
DTSTAMP:20260422T124430
CREATED:20250505T095126Z
LAST-MODIFIED:20250905T085924Z
UID:10046004-1759406400-1759426200@vorescosmos.dk
SUMMARY:Café Cosmos
DESCRIPTION:
URL:https://vorescosmos.dk/begivenhed/cafe-cosmos/2025-10-02/
LOCATION:Fælleskøkkenet\, Søndergade 11\, Viby Sj.\, 4130\, Danmark
CATEGORIES:Lokale bookninger
END:VEVENT
BEGIN:VEVENT
DTSTART;TZID=Europe/Copenhagen:20251001T120000
DTEND;TZID=Europe/Copenhagen:20251001T173000
DTSTAMP:20260422T124430
CREATED:20250505T095126Z
LAST-MODIFIED:20250905T085924Z
UID:10044616-1759320000-1759339800@vorescosmos.dk
SUMMARY:Café Cosmos
DESCRIPTION:
URL:https://vorescosmos.dk/begivenhed/cafe-cosmos/2025-10-01/
LOCATION:Fælleskøkkenet\, Søndergade 11\, Viby Sj.\, 4130\, Danmark
CATEGORIES:Lokale bookninger
END:VEVENT
BEGIN:VEVENT
DTSTART;TZID=Europe/Copenhagen:20250930T120000
DTEND;TZID=Europe/Copenhagen:20250930T173000
DTSTAMP:20260422T124430
CREATED:20250505T095126Z
LAST-MODIFIED:20250905T085924Z
UID:10044615-1759233600-1759253400@vorescosmos.dk
SUMMARY:Café Cosmos
DESCRIPTION:
URL:https://vorescosmos.dk/begivenhed/cafe-cosmos/2025-09-30/
LOCATION:Fælleskøkkenet\, Søndergade 11\, Viby Sj.\, 4130\, Danmark
CATEGORIES:Lokale bookninger
END:VEVENT
BEGIN:VEVENT
DTSTART;TZID=Europe/Copenhagen:20250929T120000
DTEND;TZID=Europe/Copenhagen:20250929T173000
DTSTAMP:20260422T124430
CREATED:20250505T095126Z
LAST-MODIFIED:20250905T085924Z
UID:10044614-1759147200-1759167000@vorescosmos.dk
SUMMARY:Café Cosmos
DESCRIPTION:
URL:https://vorescosmos.dk/begivenhed/cafe-cosmos/2025-09-29/
LOCATION:Fælleskøkkenet\, Søndergade 11\, Viby Sj.\, 4130\, Danmark
CATEGORIES:Lokale bookninger
END:VEVENT
BEGIN:VEVENT
DTSTART;TZID=Europe/Copenhagen:20250925T170000
DTEND;TZID=Europe/Copenhagen:20250925T220000
DTSTAMP:20260422T124430
CREATED:20250523T114709Z
LAST-MODIFIED:20250523T114709Z
UID:10045659-1758819600-1758837600@vorescosmos.dk
SUMMARY:Biblioteket
DESCRIPTION:
URL:https://vorescosmos.dk/begivenhed/biblioteket-54/
LOCATION:Fælleskøkkenet\, Søndergade 11\, Viby Sj.\, 4130\, Danmark
CATEGORIES:Lokale bookninger
END:VEVENT
BEGIN:VEVENT
DTSTART;TZID=Europe/Copenhagen:20250925T120000
DTEND;TZID=Europe/Copenhagen:20250925T173000
DTSTAMP:20260422T124430
CREATED:20250505T095126Z
LAST-MODIFIED:20250905T085924Z
UID:10046003-1758801600-1758821400@vorescosmos.dk
SUMMARY:Café Cosmos
DESCRIPTION:
URL:https://vorescosmos.dk/begivenhed/cafe-cosmos/2025-09-25/
LOCATION:Fælleskøkkenet\, Søndergade 11\, Viby Sj.\, 4130\, Danmark
CATEGORIES:Lokale bookninger
END:VEVENT
BEGIN:VEVENT
DTSTART;TZID=Europe/Copenhagen:20250924T120000
DTEND;TZID=Europe/Copenhagen:20250924T173000
DTSTAMP:20260422T124430
CREATED:20250505T095126Z
LAST-MODIFIED:20250905T085924Z
UID:10044612-1758715200-1758735000@vorescosmos.dk
SUMMARY:Café Cosmos
DESCRIPTION:
URL:https://vorescosmos.dk/begivenhed/cafe-cosmos/2025-09-24/
LOCATION:Fælleskøkkenet\, Søndergade 11\, Viby Sj.\, 4130\, Danmark
CATEGORIES:Lokale bookninger
END:VEVENT
BEGIN:VEVENT
DTSTART;TZID=Europe/Copenhagen:20250923T120000
DTEND;TZID=Europe/Copenhagen:20250923T173000
DTSTAMP:20260422T124430
CREATED:20250505T095126Z
LAST-MODIFIED:20250905T085924Z
UID:10044611-1758628800-1758648600@vorescosmos.dk
SUMMARY:Café Cosmos
DESCRIPTION:
URL:https://vorescosmos.dk/begivenhed/cafe-cosmos/2025-09-23/
LOCATION:Fælleskøkkenet\, Søndergade 11\, Viby Sj.\, 4130\, Danmark
CATEGORIES:Lokale bookninger
END:VEVENT
BEGIN:VEVENT
DTSTART;TZID=Europe/Copenhagen:20250922T120000
DTEND;TZID=Europe/Copenhagen:20250922T173000
DTSTAMP:20260422T124430
CREATED:20250505T095126Z
LAST-MODIFIED:20250905T085924Z
UID:10044610-1758542400-1758562200@vorescosmos.dk
SUMMARY:Café Cosmos
DESCRIPTION:
URL:https://vorescosmos.dk/begivenhed/cafe-cosmos/2025-09-22/
LOCATION:Fælleskøkkenet\, Søndergade 11\, Viby Sj.\, 4130\, Danmark
CATEGORIES:Lokale bookninger
END:VEVENT
BEGIN:VEVENT
DTSTART;TZID=Europe/Copenhagen:20250918T120000
DTEND;TZID=Europe/Copenhagen:20250918T173000
DTSTAMP:20260422T124430
CREATED:20250505T095126Z
LAST-MODIFIED:20250905T085924Z
UID:10046002-1758196800-1758216600@vorescosmos.dk
SUMMARY:Café Cosmos
DESCRIPTION:
URL:https://vorescosmos.dk/begivenhed/cafe-cosmos/2025-09-18/
LOCATION:Fælleskøkkenet\, Søndergade 11\, Viby Sj.\, 4130\, Danmark
CATEGORIES:Lokale bookninger
END:VEVENT
BEGIN:VEVENT
DTSTART;TZID=Europe/Copenhagen:20250917T120000
DTEND;TZID=Europe/Copenhagen:20250917T173000
DTSTAMP:20260422T124430
CREATED:20250505T095126Z
LAST-MODIFIED:20250905T085924Z
UID:10044608-1758110400-1758130200@vorescosmos.dk
SUMMARY:Café Cosmos
DESCRIPTION:
URL:https://vorescosmos.dk/begivenhed/cafe-cosmos/2025-09-17/
LOCATION:Fælleskøkkenet\, Søndergade 11\, Viby Sj.\, 4130\, Danmark
CATEGORIES:Lokale bookninger
END:VEVENT
BEGIN:VEVENT
DTSTART;TZID=Europe/Copenhagen:20250916T120000
DTEND;TZID=Europe/Copenhagen:20250916T173000
DTSTAMP:20260422T124430
CREATED:20250505T095126Z
LAST-MODIFIED:20250905T085924Z
UID:10044607-1758024000-1758043800@vorescosmos.dk
SUMMARY:Café Cosmos
DESCRIPTION:
URL:https://vorescosmos.dk/begivenhed/cafe-cosmos/2025-09-16/
LOCATION:Fælleskøkkenet\, Søndergade 11\, Viby Sj.\, 4130\, Danmark
CATEGORIES:Lokale bookninger
END:VEVENT
END:VCALENDAR