BEGIN:VCALENDAR
VERSION:2.0
PRODID:-//Vores Cosmos - ECPv6.15.20//NONSGML v1.0//EN
CALSCALE:GREGORIAN
METHOD:PUBLISH
X-ORIGINAL-URL:https://vorescosmos.dk
X-WR-CALDESC:Begivenheder for Vores Cosmos
REFRESH-INTERVAL;VALUE=DURATION:PT1H
X-Robots-Tag:noindex
X-PUBLISHED-TTL:PT1H
BEGIN:VTIMEZONE
TZID:Europe/Copenhagen
BEGIN:DAYLIGHT
TZOFFSETFROM:+0100
TZOFFSETTO:+0200
TZNAME:CEST
DTSTART:20250330T010000
END:DAYLIGHT
BEGIN:STANDARD
TZOFFSETFROM:+0200
TZOFFSETTO:+0100
TZNAME:CET
DTSTART:20251026T010000
END:STANDARD
BEGIN:DAYLIGHT
TZOFFSETFROM:+0100
TZOFFSETTO:+0200
TZNAME:CEST
DTSTART:20260329T010000
END:DAYLIGHT
BEGIN:STANDARD
TZOFFSETFROM:+0200
TZOFFSETTO:+0100
TZNAME:CET
DTSTART:20261025T010000
END:STANDARD
BEGIN:DAYLIGHT
TZOFFSETFROM:+0100
TZOFFSETTO:+0200
TZNAME:CEST
DTSTART:20270328T010000
END:DAYLIGHT
BEGIN:STANDARD
TZOFFSETFROM:+0200
TZOFFSETTO:+0100
TZNAME:CET
DTSTART:20271031T010000
END:STANDARD
BEGIN:DAYLIGHT
TZOFFSETFROM:+0100
TZOFFSETTO:+0200
TZNAME:CEST
DTSTART:20280326T010000
END:DAYLIGHT
BEGIN:STANDARD
TZOFFSETFROM:+0200
TZOFFSETTO:+0100
TZNAME:CET
DTSTART:20281029T010000
END:STANDARD
END:VTIMEZONE
BEGIN:VEVENT
DTSTART;TZID=Europe/Copenhagen:20261123T120000
DTEND;TZID=Europe/Copenhagen:20261123T173000
DTSTAMP:20260420T200153
CREATED:20250505T095126Z
LAST-MODIFIED:20250905T085924Z
UID:10044854-1795435200-1795455000@vorescosmos.dk
SUMMARY:Café Cosmos
DESCRIPTION:
URL:https://vorescosmos.dk/begivenhed/cafe-cosmos/2026-11-23/
LOCATION:Fælleskøkkenet\, Søndergade 11\, Viby Sj.\, 4130\, Danmark
CATEGORIES:Lokale bookninger
END:VEVENT
BEGIN:VEVENT
DTSTART;TZID=Europe/Copenhagen:20261124T120000
DTEND;TZID=Europe/Copenhagen:20261124T173000
DTSTAMP:20260420T200153
CREATED:20250505T095126Z
LAST-MODIFIED:20250905T085924Z
UID:10044855-1795521600-1795541400@vorescosmos.dk
SUMMARY:Café Cosmos
DESCRIPTION:
URL:https://vorescosmos.dk/begivenhed/cafe-cosmos/2026-11-24/
LOCATION:Fælleskøkkenet\, Søndergade 11\, Viby Sj.\, 4130\, Danmark
CATEGORIES:Lokale bookninger
END:VEVENT
BEGIN:VEVENT
DTSTART;TZID=Europe/Copenhagen:20261125T120000
DTEND;TZID=Europe/Copenhagen:20261125T173000
DTSTAMP:20260420T200153
CREATED:20250505T095126Z
LAST-MODIFIED:20250905T085924Z
UID:10044856-1795608000-1795627800@vorescosmos.dk
SUMMARY:Café Cosmos
DESCRIPTION:
URL:https://vorescosmos.dk/begivenhed/cafe-cosmos/2026-11-25/
LOCATION:Fælleskøkkenet\, Søndergade 11\, Viby Sj.\, 4130\, Danmark
CATEGORIES:Lokale bookninger
END:VEVENT
BEGIN:VEVENT
DTSTART;TZID=Europe/Copenhagen:20261126T120000
DTEND;TZID=Europe/Copenhagen:20261126T173000
DTSTAMP:20260420T200153
CREATED:20250505T095126Z
LAST-MODIFIED:20250905T085924Z
UID:10046064-1795694400-1795714200@vorescosmos.dk
SUMMARY:Café Cosmos
DESCRIPTION:
URL:https://vorescosmos.dk/begivenhed/cafe-cosmos/2026-11-26/
LOCATION:Fælleskøkkenet\, Søndergade 11\, Viby Sj.\, 4130\, Danmark
CATEGORIES:Lokale bookninger
END:VEVENT
BEGIN:VEVENT
DTSTART;TZID=Europe/Copenhagen:20261128T103000
DTEND;TZID=Europe/Copenhagen:20261128T143000
DTSTAMP:20260420T200153
CREATED:20260216T141840Z
LAST-MODIFIED:20260216T141841Z
UID:10046806-1795861800-1795876200@vorescosmos.dk
SUMMARY:Café Cosmos
DESCRIPTION:
URL:https://vorescosmos.dk/begivenhed/cafe-cosmos-42/
LOCATION:Fælleskøkkenet\, Søndergade 11\, Viby Sj.\, 4130\, Danmark
CATEGORIES:Lokale bookninger
END:VEVENT
BEGIN:VEVENT
DTSTART;TZID=Europe/Copenhagen:20261130T120000
DTEND;TZID=Europe/Copenhagen:20261130T173000
DTSTAMP:20260420T200153
CREATED:20250505T095126Z
LAST-MODIFIED:20250905T085924Z
UID:10044858-1796040000-1796059800@vorescosmos.dk
SUMMARY:Café Cosmos
DESCRIPTION:
URL:https://vorescosmos.dk/begivenhed/cafe-cosmos/2026-11-30/
LOCATION:Fælleskøkkenet\, Søndergade 11\, Viby Sj.\, 4130\, Danmark
CATEGORIES:Lokale bookninger
END:VEVENT
BEGIN:VEVENT
DTSTART;TZID=Europe/Copenhagen:20261201T120000
DTEND;TZID=Europe/Copenhagen:20261201T173000
DTSTAMP:20260420T200153
CREATED:20250505T095126Z
LAST-MODIFIED:20250905T085924Z
UID:10044859-1796126400-1796146200@vorescosmos.dk
SUMMARY:Café Cosmos
DESCRIPTION:
URL:https://vorescosmos.dk/begivenhed/cafe-cosmos/2026-12-01/
LOCATION:Fælleskøkkenet\, Søndergade 11\, Viby Sj.\, 4130\, Danmark
CATEGORIES:Lokale bookninger
END:VEVENT
BEGIN:VEVENT
DTSTART;TZID=Europe/Copenhagen:20261202T120000
DTEND;TZID=Europe/Copenhagen:20261202T173000
DTSTAMP:20260420T200153
CREATED:20250505T095126Z
LAST-MODIFIED:20250905T085924Z
UID:10044860-1796212800-1796232600@vorescosmos.dk
SUMMARY:Café Cosmos
DESCRIPTION:
URL:https://vorescosmos.dk/begivenhed/cafe-cosmos/2026-12-02/
LOCATION:Fælleskøkkenet\, Søndergade 11\, Viby Sj.\, 4130\, Danmark
CATEGORIES:Lokale bookninger
END:VEVENT
BEGIN:VEVENT
DTSTART;TZID=Europe/Copenhagen:20261203T120000
DTEND;TZID=Europe/Copenhagen:20261203T173000
DTSTAMP:20260420T200153
CREATED:20250505T095126Z
LAST-MODIFIED:20250905T085924Z
UID:10046065-1796299200-1796319000@vorescosmos.dk
SUMMARY:Café Cosmos
DESCRIPTION:
URL:https://vorescosmos.dk/begivenhed/cafe-cosmos/2026-12-03/
LOCATION:Fælleskøkkenet\, Søndergade 11\, Viby Sj.\, 4130\, Danmark
CATEGORIES:Lokale bookninger
END:VEVENT
BEGIN:VEVENT
DTSTART;TZID=Europe/Copenhagen:20261205T103000
DTEND;TZID=Europe/Copenhagen:20261205T143000
DTSTAMP:20260420T200153
CREATED:20260216T141945Z
LAST-MODIFIED:20260216T141946Z
UID:10046807-1796466600-1796481000@vorescosmos.dk
SUMMARY:Café Cosmos
DESCRIPTION:
URL:https://vorescosmos.dk/begivenhed/cafe-cosmos-43/
LOCATION:Fælleskøkkenet\, Søndergade 11\, Viby Sj.\, 4130\, Danmark
CATEGORIES:Lokale bookninger
END:VEVENT
BEGIN:VEVENT
DTSTART;TZID=Europe/Copenhagen:20261207T120000
DTEND;TZID=Europe/Copenhagen:20261207T173000
DTSTAMP:20260420T200153
CREATED:20250505T095126Z
LAST-MODIFIED:20250905T085924Z
UID:10044862-1796644800-1796664600@vorescosmos.dk
SUMMARY:Café Cosmos
DESCRIPTION:
URL:https://vorescosmos.dk/begivenhed/cafe-cosmos/2026-12-07/
LOCATION:Fælleskøkkenet\, Søndergade 11\, Viby Sj.\, 4130\, Danmark
CATEGORIES:Lokale bookninger
END:VEVENT
BEGIN:VEVENT
DTSTART;TZID=Europe/Copenhagen:20261208T120000
DTEND;TZID=Europe/Copenhagen:20261208T173000
DTSTAMP:20260420T200153
CREATED:20250505T095126Z
LAST-MODIFIED:20250905T085924Z
UID:10044863-1796731200-1796751000@vorescosmos.dk
SUMMARY:Café Cosmos
DESCRIPTION:
URL:https://vorescosmos.dk/begivenhed/cafe-cosmos/2026-12-08/
LOCATION:Fælleskøkkenet\, Søndergade 11\, Viby Sj.\, 4130\, Danmark
CATEGORIES:Lokale bookninger
END:VEVENT
BEGIN:VEVENT
DTSTART;TZID=Europe/Copenhagen:20261209T120000
DTEND;TZID=Europe/Copenhagen:20261209T173000
DTSTAMP:20260420T200153
CREATED:20250505T095126Z
LAST-MODIFIED:20250905T085924Z
UID:10044864-1796817600-1796837400@vorescosmos.dk
SUMMARY:Café Cosmos
DESCRIPTION:
URL:https://vorescosmos.dk/begivenhed/cafe-cosmos/2026-12-09/
LOCATION:Fælleskøkkenet\, Søndergade 11\, Viby Sj.\, 4130\, Danmark
CATEGORIES:Lokale bookninger
END:VEVENT
BEGIN:VEVENT
DTSTART;TZID=Europe/Copenhagen:20261210T120000
DTEND;TZID=Europe/Copenhagen:20261210T173000
DTSTAMP:20260420T200153
CREATED:20250505T095126Z
LAST-MODIFIED:20250905T085924Z
UID:10046066-1796904000-1796923800@vorescosmos.dk
SUMMARY:Café Cosmos
DESCRIPTION:
URL:https://vorescosmos.dk/begivenhed/cafe-cosmos/2026-12-10/
LOCATION:Fælleskøkkenet\, Søndergade 11\, Viby Sj.\, 4130\, Danmark
CATEGORIES:Lokale bookninger
END:VEVENT
BEGIN:VEVENT
DTSTART;TZID=Europe/Copenhagen:20261210T173000
DTEND;TZID=Europe/Copenhagen:20261210T230000
DTSTAMP:20260420T200153
CREATED:20251110T083705Z
LAST-MODIFIED:20251110T083706Z
UID:10046525-1796923800-1796943600@vorescosmos.dk
SUMMARY:KulturCosmos: 4. musikformat
DESCRIPTION:
URL:https://vorescosmos.dk/begivenhed/kulturcosmos-4-musikformat-7/
LOCATION:Fælleskøkkenet\, Søndergade 11\, Viby Sj.\, 4130\, Danmark
CATEGORIES:Lokale bookninger
END:VEVENT
BEGIN:VEVENT
DTSTART;TZID=Europe/Copenhagen:20261212T103000
DTEND;TZID=Europe/Copenhagen:20261212T143000
DTSTAMP:20260420T200153
CREATED:20260216T142039Z
LAST-MODIFIED:20260216T142039Z
UID:10046808-1797071400-1797085800@vorescosmos.dk
SUMMARY:Café Cosmos
DESCRIPTION:
URL:https://vorescosmos.dk/begivenhed/cafe-cosmos-44/
LOCATION:Fælleskøkkenet\, Søndergade 11\, Viby Sj.\, 4130\, Danmark
CATEGORIES:Lokale bookninger
END:VEVENT
BEGIN:VEVENT
DTSTART;TZID=Europe/Copenhagen:20261214T120000
DTEND;TZID=Europe/Copenhagen:20261214T173000
DTSTAMP:20260420T200153
CREATED:20250505T095126Z
LAST-MODIFIED:20250905T085924Z
UID:10044866-1797249600-1797269400@vorescosmos.dk
SUMMARY:Café Cosmos
DESCRIPTION:
URL:https://vorescosmos.dk/begivenhed/cafe-cosmos/2026-12-14/
LOCATION:Fælleskøkkenet\, Søndergade 11\, Viby Sj.\, 4130\, Danmark
CATEGORIES:Lokale bookninger
END:VEVENT
BEGIN:VEVENT
DTSTART;TZID=Europe/Copenhagen:20261215T120000
DTEND;TZID=Europe/Copenhagen:20261215T173000
DTSTAMP:20260420T200153
CREATED:20250505T095126Z
LAST-MODIFIED:20250905T085924Z
UID:10044867-1797336000-1797355800@vorescosmos.dk
SUMMARY:Café Cosmos
DESCRIPTION:
URL:https://vorescosmos.dk/begivenhed/cafe-cosmos/2026-12-15/
LOCATION:Fælleskøkkenet\, Søndergade 11\, Viby Sj.\, 4130\, Danmark
CATEGORIES:Lokale bookninger
END:VEVENT
BEGIN:VEVENT
DTSTART;TZID=Europe/Copenhagen:20261216T120000
DTEND;TZID=Europe/Copenhagen:20261216T173000
DTSTAMP:20260420T200153
CREATED:20250505T095126Z
LAST-MODIFIED:20250905T085924Z
UID:10044868-1797422400-1797442200@vorescosmos.dk
SUMMARY:Café Cosmos
DESCRIPTION:
URL:https://vorescosmos.dk/begivenhed/cafe-cosmos/2026-12-16/
LOCATION:Fælleskøkkenet\, Søndergade 11\, Viby Sj.\, 4130\, Danmark
CATEGORIES:Lokale bookninger
END:VEVENT
BEGIN:VEVENT
DTSTART;TZID=Europe/Copenhagen:20261217T120000
DTEND;TZID=Europe/Copenhagen:20261217T173000
DTSTAMP:20260420T200153
CREATED:20250505T095126Z
LAST-MODIFIED:20250905T085924Z
UID:10046067-1797508800-1797528600@vorescosmos.dk
SUMMARY:Café Cosmos
DESCRIPTION:
URL:https://vorescosmos.dk/begivenhed/cafe-cosmos/2026-12-17/
LOCATION:Fælleskøkkenet\, Søndergade 11\, Viby Sj.\, 4130\, Danmark
CATEGORIES:Lokale bookninger
END:VEVENT
BEGIN:VEVENT
DTSTART;TZID=Europe/Copenhagen:20261219T103000
DTEND;TZID=Europe/Copenhagen:20261219T143000
DTSTAMP:20260420T200153
CREATED:20260216T142132Z
LAST-MODIFIED:20260216T142133Z
UID:10046809-1797676200-1797690600@vorescosmos.dk
SUMMARY:Café Cosmos
DESCRIPTION:
URL:https://vorescosmos.dk/begivenhed/cafe-cosmos-45/
LOCATION:Fælleskøkkenet\, Søndergade 11\, Viby Sj.\, 4130\, Danmark
CATEGORIES:Lokale bookninger
END:VEVENT
BEGIN:VEVENT
DTSTART;TZID=Europe/Copenhagen:20261221T120000
DTEND;TZID=Europe/Copenhagen:20261221T173000
DTSTAMP:20260420T200153
CREATED:20250505T095126Z
LAST-MODIFIED:20250905T085924Z
UID:10044870-1797854400-1797874200@vorescosmos.dk
SUMMARY:Café Cosmos
DESCRIPTION:
URL:https://vorescosmos.dk/begivenhed/cafe-cosmos/2026-12-21/
LOCATION:Fælleskøkkenet\, Søndergade 11\, Viby Sj.\, 4130\, Danmark
CATEGORIES:Lokale bookninger
END:VEVENT
BEGIN:VEVENT
DTSTART;TZID=Europe/Copenhagen:20261222T120000
DTEND;TZID=Europe/Copenhagen:20261222T173000
DTSTAMP:20260420T200153
CREATED:20250505T095126Z
LAST-MODIFIED:20250905T085924Z
UID:10044871-1797940800-1797960600@vorescosmos.dk
SUMMARY:Café Cosmos
DESCRIPTION:
URL:https://vorescosmos.dk/begivenhed/cafe-cosmos/2026-12-22/
LOCATION:Fælleskøkkenet\, Søndergade 11\, Viby Sj.\, 4130\, Danmark
CATEGORIES:Lokale bookninger
END:VEVENT
BEGIN:VEVENT
DTSTART;TZID=Europe/Copenhagen:20261223T120000
DTEND;TZID=Europe/Copenhagen:20261223T173000
DTSTAMP:20260420T200153
CREATED:20250505T095126Z
LAST-MODIFIED:20250905T085924Z
UID:10044872-1798027200-1798047000@vorescosmos.dk
SUMMARY:Café Cosmos
DESCRIPTION:
URL:https://vorescosmos.dk/begivenhed/cafe-cosmos/2026-12-23/
LOCATION:Fælleskøkkenet\, Søndergade 11\, Viby Sj.\, 4130\, Danmark
CATEGORIES:Lokale bookninger
END:VEVENT
BEGIN:VEVENT
DTSTART;TZID=Europe/Copenhagen:20261224T120000
DTEND;TZID=Europe/Copenhagen:20261224T173000
DTSTAMP:20260420T200153
CREATED:20250505T095126Z
LAST-MODIFIED:20250905T085924Z
UID:10046068-1798113600-1798133400@vorescosmos.dk
SUMMARY:Café Cosmos
DESCRIPTION:
URL:https://vorescosmos.dk/begivenhed/cafe-cosmos/2026-12-24/
LOCATION:Fælleskøkkenet\, Søndergade 11\, Viby Sj.\, 4130\, Danmark
CATEGORIES:Lokale bookninger
END:VEVENT
BEGIN:VEVENT
DTSTART;TZID=Europe/Copenhagen:20261228T120000
DTEND;TZID=Europe/Copenhagen:20261228T173000
DTSTAMP:20260420T200153
CREATED:20250505T095126Z
LAST-MODIFIED:20250905T085924Z
UID:10044874-1798459200-1798479000@vorescosmos.dk
SUMMARY:Café Cosmos
DESCRIPTION:
URL:https://vorescosmos.dk/begivenhed/cafe-cosmos/2026-12-28/
LOCATION:Fælleskøkkenet\, Søndergade 11\, Viby Sj.\, 4130\, Danmark
CATEGORIES:Lokale bookninger
END:VEVENT
BEGIN:VEVENT
DTSTART;TZID=Europe/Copenhagen:20261229T120000
DTEND;TZID=Europe/Copenhagen:20261229T173000
DTSTAMP:20260420T200153
CREATED:20250505T095126Z
LAST-MODIFIED:20250905T085924Z
UID:10044875-1798545600-1798565400@vorescosmos.dk
SUMMARY:Café Cosmos
DESCRIPTION:
URL:https://vorescosmos.dk/begivenhed/cafe-cosmos/2026-12-29/
LOCATION:Fælleskøkkenet\, Søndergade 11\, Viby Sj.\, 4130\, Danmark
CATEGORIES:Lokale bookninger
END:VEVENT
BEGIN:VEVENT
DTSTART;TZID=Europe/Copenhagen:20261230T120000
DTEND;TZID=Europe/Copenhagen:20261230T173000
DTSTAMP:20260420T200153
CREATED:20250505T095126Z
LAST-MODIFIED:20250905T085924Z
UID:10044876-1798632000-1798651800@vorescosmos.dk
SUMMARY:Café Cosmos
DESCRIPTION:
URL:https://vorescosmos.dk/begivenhed/cafe-cosmos/2026-12-30/
LOCATION:Fælleskøkkenet\, Søndergade 11\, Viby Sj.\, 4130\, Danmark
CATEGORIES:Lokale bookninger
END:VEVENT
BEGIN:VEVENT
DTSTART;TZID=Europe/Copenhagen:20261231T120000
DTEND;TZID=Europe/Copenhagen:20261231T173000
DTSTAMP:20260420T200153
CREATED:20250505T095126Z
LAST-MODIFIED:20250905T085924Z
UID:10046069-1798718400-1798738200@vorescosmos.dk
SUMMARY:Café Cosmos
DESCRIPTION:
URL:https://vorescosmos.dk/begivenhed/cafe-cosmos/2026-12-31/
LOCATION:Fælleskøkkenet\, Søndergade 11\, Viby Sj.\, 4130\, Danmark
CATEGORIES:Lokale bookninger
END:VEVENT
BEGIN:VEVENT
DTSTART;TZID=Europe/Copenhagen:20270104T120000
DTEND;TZID=Europe/Copenhagen:20270104T173000
DTSTAMP:20260420T200153
CREATED:20250505T095126Z
LAST-MODIFIED:20250905T085924Z
UID:10044878-1799064000-1799083800@vorescosmos.dk
SUMMARY:Café Cosmos
DESCRIPTION:
URL:https://vorescosmos.dk/begivenhed/cafe-cosmos/2027-01-04/
LOCATION:Fælleskøkkenet\, Søndergade 11\, Viby Sj.\, 4130\, Danmark
CATEGORIES:Lokale bookninger
END:VEVENT
END:VCALENDAR