BEGIN:VCALENDAR
VERSION:2.0
PRODID:-//Vores Cosmos - ECPv6.15.20//NONSGML v1.0//EN
CALSCALE:GREGORIAN
METHOD:PUBLISH
X-WR-CALNAME:Vores Cosmos
X-ORIGINAL-URL:https://vorescosmos.dk
X-WR-CALDESC:Begivenheder for Vores Cosmos
REFRESH-INTERVAL;VALUE=DURATION:PT1H
X-Robots-Tag:noindex
X-PUBLISHED-TTL:PT1H
BEGIN:VTIMEZONE
TZID:Europe/Copenhagen
BEGIN:DAYLIGHT
TZOFFSETFROM:+0100
TZOFFSETTO:+0200
TZNAME:CEST
DTSTART:20240331T010000
END:DAYLIGHT
BEGIN:STANDARD
TZOFFSETFROM:+0200
TZOFFSETTO:+0100
TZNAME:CET
DTSTART:20241027T010000
END:STANDARD
BEGIN:DAYLIGHT
TZOFFSETFROM:+0100
TZOFFSETTO:+0200
TZNAME:CEST
DTSTART:20250330T010000
END:DAYLIGHT
BEGIN:STANDARD
TZOFFSETFROM:+0200
TZOFFSETTO:+0100
TZNAME:CET
DTSTART:20251026T010000
END:STANDARD
BEGIN:DAYLIGHT
TZOFFSETFROM:+0100
TZOFFSETTO:+0200
TZNAME:CEST
DTSTART:20260329T010000
END:DAYLIGHT
BEGIN:STANDARD
TZOFFSETFROM:+0200
TZOFFSETTO:+0100
TZNAME:CET
DTSTART:20261025T010000
END:STANDARD
END:VTIMEZONE
BEGIN:VEVENT
DTSTART;TZID=Europe/Copenhagen:20250819T120000
DTEND;TZID=Europe/Copenhagen:20250819T173000
DTSTAMP:20260422T214253
CREATED:20250505T095126Z
LAST-MODIFIED:20250905T085924Z
UID:10044591-1755604800-1755624600@vorescosmos.dk
SUMMARY:Café Cosmos
DESCRIPTION:
URL:https://vorescosmos.dk/begivenhed/cafe-cosmos/2025-08-19/
LOCATION:Fælleskøkkenet\, Søndergade 11\, Viby Sj.\, 4130\, Danmark
CATEGORIES:Lokale bookninger
END:VEVENT
BEGIN:VEVENT
DTSTART;TZID=Europe/Copenhagen:20250818T120000
DTEND;TZID=Europe/Copenhagen:20250818T173000
DTSTAMP:20260422T214253
CREATED:20250505T095126Z
LAST-MODIFIED:20250905T085924Z
UID:10044590-1755518400-1755538200@vorescosmos.dk
SUMMARY:Café Cosmos
DESCRIPTION:
URL:https://vorescosmos.dk/begivenhed/cafe-cosmos/2025-08-18/
LOCATION:Fælleskøkkenet\, Søndergade 11\, Viby Sj.\, 4130\, Danmark
CATEGORIES:Lokale bookninger
END:VEVENT
BEGIN:VEVENT
DTSTART;TZID=Europe/Copenhagen:20250814T120000
DTEND;TZID=Europe/Copenhagen:20250814T173000
DTSTAMP:20260422T214253
CREATED:20250505T095126Z
LAST-MODIFIED:20250905T085924Z
UID:10045997-1755172800-1755192600@vorescosmos.dk
SUMMARY:Café Cosmos
DESCRIPTION:
URL:https://vorescosmos.dk/begivenhed/cafe-cosmos/2025-08-14/
LOCATION:Fælleskøkkenet\, Søndergade 11\, Viby Sj.\, 4130\, Danmark
CATEGORIES:Lokale bookninger
END:VEVENT
BEGIN:VEVENT
DTSTART;TZID=Europe/Copenhagen:20250813T120000
DTEND;TZID=Europe/Copenhagen:20250813T173000
DTSTAMP:20260422T214253
CREATED:20250505T095126Z
LAST-MODIFIED:20250905T085924Z
UID:10044588-1755086400-1755106200@vorescosmos.dk
SUMMARY:Café Cosmos
DESCRIPTION:
URL:https://vorescosmos.dk/begivenhed/cafe-cosmos/2025-08-13/
LOCATION:Fælleskøkkenet\, Søndergade 11\, Viby Sj.\, 4130\, Danmark
CATEGORIES:Lokale bookninger
END:VEVENT
BEGIN:VEVENT
DTSTART;TZID=Europe/Copenhagen:20250812T120000
DTEND;TZID=Europe/Copenhagen:20250812T173000
DTSTAMP:20260422T214253
CREATED:20250505T095126Z
LAST-MODIFIED:20250905T085924Z
UID:10044587-1755000000-1755019800@vorescosmos.dk
SUMMARY:Café Cosmos
DESCRIPTION:
URL:https://vorescosmos.dk/begivenhed/cafe-cosmos/2025-08-12/
LOCATION:Fælleskøkkenet\, Søndergade 11\, Viby Sj.\, 4130\, Danmark
CATEGORIES:Lokale bookninger
END:VEVENT
BEGIN:VEVENT
DTSTART;TZID=Europe/Copenhagen:20250811T120000
DTEND;TZID=Europe/Copenhagen:20250811T173000
DTSTAMP:20260422T214253
CREATED:20250505T095126Z
LAST-MODIFIED:20250905T085924Z
UID:10044586-1754913600-1754933400@vorescosmos.dk
SUMMARY:Café Cosmos
DESCRIPTION:
URL:https://vorescosmos.dk/begivenhed/cafe-cosmos/2025-08-11/
LOCATION:Fælleskøkkenet\, Søndergade 11\, Viby Sj.\, 4130\, Danmark
CATEGORIES:Lokale bookninger
END:VEVENT
BEGIN:VEVENT
DTSTART;TZID=Europe/Copenhagen:20250807T120000
DTEND;TZID=Europe/Copenhagen:20250807T173000
DTSTAMP:20260422T214253
CREATED:20250505T095126Z
LAST-MODIFIED:20250905T085924Z
UID:10045996-1754568000-1754587800@vorescosmos.dk
SUMMARY:Café Cosmos
DESCRIPTION:
URL:https://vorescosmos.dk/begivenhed/cafe-cosmos/2025-08-07/
LOCATION:Fælleskøkkenet\, Søndergade 11\, Viby Sj.\, 4130\, Danmark
CATEGORIES:Lokale bookninger
END:VEVENT
BEGIN:VEVENT
DTSTART;TZID=Europe/Copenhagen:20250806T120000
DTEND;TZID=Europe/Copenhagen:20250806T173000
DTSTAMP:20260422T214253
CREATED:20250505T095126Z
LAST-MODIFIED:20250905T085924Z
UID:10044584-1754481600-1754501400@vorescosmos.dk
SUMMARY:Café Cosmos
DESCRIPTION:
URL:https://vorescosmos.dk/begivenhed/cafe-cosmos/2025-08-06/
LOCATION:Fælleskøkkenet\, Søndergade 11\, Viby Sj.\, 4130\, Danmark
CATEGORIES:Lokale bookninger
END:VEVENT
BEGIN:VEVENT
DTSTART;TZID=Europe/Copenhagen:20250805T120000
DTEND;TZID=Europe/Copenhagen:20250805T173000
DTSTAMP:20260422T214253
CREATED:20250505T095126Z
LAST-MODIFIED:20250905T085924Z
UID:10044583-1754395200-1754415000@vorescosmos.dk
SUMMARY:Café Cosmos
DESCRIPTION:
URL:https://vorescosmos.dk/begivenhed/cafe-cosmos/2025-08-05/
LOCATION:Fælleskøkkenet\, Søndergade 11\, Viby Sj.\, 4130\, Danmark
CATEGORIES:Lokale bookninger
END:VEVENT
BEGIN:VEVENT
DTSTART;TZID=Europe/Copenhagen:20250804T120000
DTEND;TZID=Europe/Copenhagen:20250804T173000
DTSTAMP:20260422T214253
CREATED:20250505T095126Z
LAST-MODIFIED:20250905T085924Z
UID:10044582-1754308800-1754328600@vorescosmos.dk
SUMMARY:Café Cosmos
DESCRIPTION:
URL:https://vorescosmos.dk/begivenhed/cafe-cosmos/2025-08-04/
LOCATION:Fælleskøkkenet\, Søndergade 11\, Viby Sj.\, 4130\, Danmark
CATEGORIES:Lokale bookninger
END:VEVENT
BEGIN:VEVENT
DTSTART;TZID=Europe/Copenhagen:20250731T120000
DTEND;TZID=Europe/Copenhagen:20250731T173000
DTSTAMP:20260422T214253
CREATED:20250505T095126Z
LAST-MODIFIED:20250905T085924Z
UID:10045995-1753963200-1753983000@vorescosmos.dk
SUMMARY:Café Cosmos
DESCRIPTION:
URL:https://vorescosmos.dk/begivenhed/cafe-cosmos/2025-07-31/
LOCATION:Fælleskøkkenet\, Søndergade 11\, Viby Sj.\, 4130\, Danmark
CATEGORIES:Lokale bookninger
END:VEVENT
BEGIN:VEVENT
DTSTART;TZID=Europe/Copenhagen:20250730T120000
DTEND;TZID=Europe/Copenhagen:20250730T173000
DTSTAMP:20260422T214253
CREATED:20250505T095126Z
LAST-MODIFIED:20250905T085924Z
UID:10044580-1753876800-1753896600@vorescosmos.dk
SUMMARY:Café Cosmos
DESCRIPTION:
URL:https://vorescosmos.dk/begivenhed/cafe-cosmos/2025-07-30/
LOCATION:Fælleskøkkenet\, Søndergade 11\, Viby Sj.\, 4130\, Danmark
CATEGORIES:Lokale bookninger
END:VEVENT
BEGIN:VEVENT
DTSTART;TZID=Europe/Copenhagen:20250729T120000
DTEND;TZID=Europe/Copenhagen:20250729T173000
DTSTAMP:20260422T214253
CREATED:20250505T095126Z
LAST-MODIFIED:20250905T085924Z
UID:10044579-1753790400-1753810200@vorescosmos.dk
SUMMARY:Café Cosmos
DESCRIPTION:
URL:https://vorescosmos.dk/begivenhed/cafe-cosmos/2025-07-29/
LOCATION:Fælleskøkkenet\, Søndergade 11\, Viby Sj.\, 4130\, Danmark
CATEGORIES:Lokale bookninger
END:VEVENT
BEGIN:VEVENT
DTSTART;TZID=Europe/Copenhagen:20250728T120000
DTEND;TZID=Europe/Copenhagen:20250728T173000
DTSTAMP:20260422T214253
CREATED:20250505T095126Z
LAST-MODIFIED:20250905T085924Z
UID:10044578-1753704000-1753723800@vorescosmos.dk
SUMMARY:Café Cosmos
DESCRIPTION:
URL:https://vorescosmos.dk/begivenhed/cafe-cosmos/2025-07-28/
LOCATION:Fælleskøkkenet\, Søndergade 11\, Viby Sj.\, 4130\, Danmark
CATEGORIES:Lokale bookninger
END:VEVENT
BEGIN:VEVENT
DTSTART;TZID=Europe/Copenhagen:20250724T120000
DTEND;TZID=Europe/Copenhagen:20250724T173000
DTSTAMP:20260422T214253
CREATED:20250505T095126Z
LAST-MODIFIED:20250905T085924Z
UID:10045994-1753358400-1753378200@vorescosmos.dk
SUMMARY:Café Cosmos
DESCRIPTION:
URL:https://vorescosmos.dk/begivenhed/cafe-cosmos/2025-07-24/
LOCATION:Fælleskøkkenet\, Søndergade 11\, Viby Sj.\, 4130\, Danmark
CATEGORIES:Lokale bookninger
END:VEVENT
BEGIN:VEVENT
DTSTART;TZID=Europe/Copenhagen:20250723T120000
DTEND;TZID=Europe/Copenhagen:20250723T173000
DTSTAMP:20260422T214253
CREATED:20250505T095126Z
LAST-MODIFIED:20250905T085924Z
UID:10044576-1753272000-1753291800@vorescosmos.dk
SUMMARY:Café Cosmos
DESCRIPTION:
URL:https://vorescosmos.dk/begivenhed/cafe-cosmos/2025-07-23/
LOCATION:Fælleskøkkenet\, Søndergade 11\, Viby Sj.\, 4130\, Danmark
CATEGORIES:Lokale bookninger
END:VEVENT
BEGIN:VEVENT
DTSTART;TZID=Europe/Copenhagen:20250722T120000
DTEND;TZID=Europe/Copenhagen:20250722T173000
DTSTAMP:20260422T214253
CREATED:20250505T095126Z
LAST-MODIFIED:20250905T085924Z
UID:10044575-1753185600-1753205400@vorescosmos.dk
SUMMARY:Café Cosmos
DESCRIPTION:
URL:https://vorescosmos.dk/begivenhed/cafe-cosmos/2025-07-22/
LOCATION:Fælleskøkkenet\, Søndergade 11\, Viby Sj.\, 4130\, Danmark
CATEGORIES:Lokale bookninger
END:VEVENT
BEGIN:VEVENT
DTSTART;TZID=Europe/Copenhagen:20250721T120000
DTEND;TZID=Europe/Copenhagen:20250721T173000
DTSTAMP:20260422T214253
CREATED:20250505T095126Z
LAST-MODIFIED:20250905T085924Z
UID:10044574-1753099200-1753119000@vorescosmos.dk
SUMMARY:Café Cosmos
DESCRIPTION:
URL:https://vorescosmos.dk/begivenhed/cafe-cosmos/2025-07-21/
LOCATION:Fælleskøkkenet\, Søndergade 11\, Viby Sj.\, 4130\, Danmark
CATEGORIES:Lokale bookninger
END:VEVENT
BEGIN:VEVENT
DTSTART;TZID=Europe/Copenhagen:20250717T120000
DTEND;TZID=Europe/Copenhagen:20250717T173000
DTSTAMP:20260422T214253
CREATED:20250505T095126Z
LAST-MODIFIED:20250905T085924Z
UID:10045993-1752753600-1752773400@vorescosmos.dk
SUMMARY:Café Cosmos
DESCRIPTION:
URL:https://vorescosmos.dk/begivenhed/cafe-cosmos/2025-07-17/
LOCATION:Fælleskøkkenet\, Søndergade 11\, Viby Sj.\, 4130\, Danmark
CATEGORIES:Lokale bookninger
END:VEVENT
BEGIN:VEVENT
DTSTART;TZID=Europe/Copenhagen:20250716T120000
DTEND;TZID=Europe/Copenhagen:20250716T173000
DTSTAMP:20260422T214253
CREATED:20250505T095126Z
LAST-MODIFIED:20250905T085924Z
UID:10044572-1752667200-1752687000@vorescosmos.dk
SUMMARY:Café Cosmos
DESCRIPTION:
URL:https://vorescosmos.dk/begivenhed/cafe-cosmos/2025-07-16/
LOCATION:Fælleskøkkenet\, Søndergade 11\, Viby Sj.\, 4130\, Danmark
CATEGORIES:Lokale bookninger
END:VEVENT
BEGIN:VEVENT
DTSTART;TZID=Europe/Copenhagen:20250715T120000
DTEND;TZID=Europe/Copenhagen:20250715T173000
DTSTAMP:20260422T214253
CREATED:20250505T095126Z
LAST-MODIFIED:20250905T085924Z
UID:10044571-1752580800-1752600600@vorescosmos.dk
SUMMARY:Café Cosmos
DESCRIPTION:
URL:https://vorescosmos.dk/begivenhed/cafe-cosmos/2025-07-15/
LOCATION:Fælleskøkkenet\, Søndergade 11\, Viby Sj.\, 4130\, Danmark
CATEGORIES:Lokale bookninger
END:VEVENT
BEGIN:VEVENT
DTSTART;TZID=Europe/Copenhagen:20250714T120000
DTEND;TZID=Europe/Copenhagen:20250714T173000
DTSTAMP:20260422T214253
CREATED:20250505T095126Z
LAST-MODIFIED:20250905T085924Z
UID:10044570-1752494400-1752514200@vorescosmos.dk
SUMMARY:Café Cosmos
DESCRIPTION:
URL:https://vorescosmos.dk/begivenhed/cafe-cosmos/2025-07-14/
LOCATION:Fælleskøkkenet\, Søndergade 11\, Viby Sj.\, 4130\, Danmark
CATEGORIES:Lokale bookninger
END:VEVENT
BEGIN:VEVENT
DTSTART;TZID=Europe/Copenhagen:20250710T120000
DTEND;TZID=Europe/Copenhagen:20250710T173000
DTSTAMP:20260422T214253
CREATED:20250505T095126Z
LAST-MODIFIED:20250905T085924Z
UID:10045992-1752148800-1752168600@vorescosmos.dk
SUMMARY:Café Cosmos
DESCRIPTION:
URL:https://vorescosmos.dk/begivenhed/cafe-cosmos/2025-07-10/
LOCATION:Fælleskøkkenet\, Søndergade 11\, Viby Sj.\, 4130\, Danmark
CATEGORIES:Lokale bookninger
END:VEVENT
BEGIN:VEVENT
DTSTART;TZID=Europe/Copenhagen:20250709T120000
DTEND;TZID=Europe/Copenhagen:20250709T173000
DTSTAMP:20260422T214253
CREATED:20250505T095126Z
LAST-MODIFIED:20250905T085924Z
UID:10044568-1752062400-1752082200@vorescosmos.dk
SUMMARY:Café Cosmos
DESCRIPTION:
URL:https://vorescosmos.dk/begivenhed/cafe-cosmos/2025-07-09/
LOCATION:Fælleskøkkenet\, Søndergade 11\, Viby Sj.\, 4130\, Danmark
CATEGORIES:Lokale bookninger
END:VEVENT
BEGIN:VEVENT
DTSTART;TZID=Europe/Copenhagen:20250708T120000
DTEND;TZID=Europe/Copenhagen:20250708T173000
DTSTAMP:20260422T214253
CREATED:20250505T095126Z
LAST-MODIFIED:20250905T085924Z
UID:10044567-1751976000-1751995800@vorescosmos.dk
SUMMARY:Café Cosmos
DESCRIPTION:
URL:https://vorescosmos.dk/begivenhed/cafe-cosmos/2025-07-08/
LOCATION:Fælleskøkkenet\, Søndergade 11\, Viby Sj.\, 4130\, Danmark
CATEGORIES:Lokale bookninger
END:VEVENT
BEGIN:VEVENT
DTSTART;TZID=Europe/Copenhagen:20250707T120000
DTEND;TZID=Europe/Copenhagen:20250707T173000
DTSTAMP:20260422T214253
CREATED:20250505T095126Z
LAST-MODIFIED:20250905T085924Z
UID:10044566-1751889600-1751909400@vorescosmos.dk
SUMMARY:Café Cosmos
DESCRIPTION:
URL:https://vorescosmos.dk/begivenhed/cafe-cosmos/2025-07-07/
LOCATION:Fælleskøkkenet\, Søndergade 11\, Viby Sj.\, 4130\, Danmark
CATEGORIES:Lokale bookninger
END:VEVENT
BEGIN:VEVENT
DTSTART;TZID=Europe/Copenhagen:20250703T120000
DTEND;TZID=Europe/Copenhagen:20250703T173000
DTSTAMP:20260422T214253
CREATED:20250505T095126Z
LAST-MODIFIED:20250905T085924Z
UID:10045991-1751544000-1751563800@vorescosmos.dk
SUMMARY:Café Cosmos
DESCRIPTION:
URL:https://vorescosmos.dk/begivenhed/cafe-cosmos/2025-07-03/
LOCATION:Fælleskøkkenet\, Søndergade 11\, Viby Sj.\, 4130\, Danmark
CATEGORIES:Lokale bookninger
END:VEVENT
BEGIN:VEVENT
DTSTART;TZID=Europe/Copenhagen:20250702T120000
DTEND;TZID=Europe/Copenhagen:20250702T173000
DTSTAMP:20260422T214253
CREATED:20250505T095126Z
LAST-MODIFIED:20250905T085924Z
UID:10044564-1751457600-1751477400@vorescosmos.dk
SUMMARY:Café Cosmos
DESCRIPTION:
URL:https://vorescosmos.dk/begivenhed/cafe-cosmos/2025-07-02/
LOCATION:Fælleskøkkenet\, Søndergade 11\, Viby Sj.\, 4130\, Danmark
CATEGORIES:Lokale bookninger
END:VEVENT
BEGIN:VEVENT
DTSTART;TZID=Europe/Copenhagen:20250701T120000
DTEND;TZID=Europe/Copenhagen:20250701T173000
DTSTAMP:20260422T214253
CREATED:20250505T095126Z
LAST-MODIFIED:20250905T085924Z
UID:10044563-1751371200-1751391000@vorescosmos.dk
SUMMARY:Café Cosmos
DESCRIPTION:
URL:https://vorescosmos.dk/begivenhed/cafe-cosmos/2025-07-01/
LOCATION:Fælleskøkkenet\, Søndergade 11\, Viby Sj.\, 4130\, Danmark
CATEGORIES:Lokale bookninger
END:VEVENT
BEGIN:VEVENT
DTSTART;TZID=Europe/Copenhagen:20250630T120000
DTEND;TZID=Europe/Copenhagen:20250630T173000
DTSTAMP:20260422T214253
CREATED:20250505T095126Z
LAST-MODIFIED:20250905T085924Z
UID:10044562-1751284800-1751304600@vorescosmos.dk
SUMMARY:Café Cosmos
DESCRIPTION:
URL:https://vorescosmos.dk/begivenhed/cafe-cosmos/2025-06-30/
LOCATION:Fælleskøkkenet\, Søndergade 11\, Viby Sj.\, 4130\, Danmark
CATEGORIES:Lokale bookninger
END:VEVENT
END:VCALENDAR