BEGIN:VCALENDAR
VERSION:2.0
PRODID:-//Vores Cosmos - ECPv6.15.20//NONSGML v1.0//EN
CALSCALE:GREGORIAN
METHOD:PUBLISH
X-WR-CALNAME:Vores Cosmos
X-ORIGINAL-URL:https://vorescosmos.dk
X-WR-CALDESC:Begivenheder for Vores Cosmos
REFRESH-INTERVAL;VALUE=DURATION:PT1H
X-Robots-Tag:noindex
X-PUBLISHED-TTL:PT1H
BEGIN:VTIMEZONE
TZID:Europe/Copenhagen
BEGIN:DAYLIGHT
TZOFFSETFROM:+0100
TZOFFSETTO:+0200
TZNAME:CEST
DTSTART:20240331T010000
END:DAYLIGHT
BEGIN:STANDARD
TZOFFSETFROM:+0200
TZOFFSETTO:+0100
TZNAME:CET
DTSTART:20241027T010000
END:STANDARD
BEGIN:DAYLIGHT
TZOFFSETFROM:+0100
TZOFFSETTO:+0200
TZNAME:CEST
DTSTART:20250330T010000
END:DAYLIGHT
BEGIN:STANDARD
TZOFFSETFROM:+0200
TZOFFSETTO:+0100
TZNAME:CET
DTSTART:20251026T010000
END:STANDARD
BEGIN:DAYLIGHT
TZOFFSETFROM:+0100
TZOFFSETTO:+0200
TZNAME:CEST
DTSTART:20260329T010000
END:DAYLIGHT
BEGIN:STANDARD
TZOFFSETFROM:+0200
TZOFFSETTO:+0100
TZNAME:CET
DTSTART:20261025T010000
END:STANDARD
END:VTIMEZONE
BEGIN:VEVENT
DTSTART;TZID=Europe/Copenhagen:20250715T120000
DTEND;TZID=Europe/Copenhagen:20250715T173000
DTSTAMP:20260423T005829
CREATED:20250505T095126Z
LAST-MODIFIED:20250905T085924Z
UID:10044571-1752580800-1752600600@vorescosmos.dk
SUMMARY:Café Cosmos
DESCRIPTION:
URL:https://vorescosmos.dk/begivenhed/cafe-cosmos/2025-07-15/
LOCATION:Fælleskøkkenet\, Søndergade 11\, Viby Sj.\, 4130\, Danmark
CATEGORIES:Lokale bookninger
END:VEVENT
BEGIN:VEVENT
DTSTART;TZID=Europe/Copenhagen:20250714T120000
DTEND;TZID=Europe/Copenhagen:20250714T173000
DTSTAMP:20260423T005829
CREATED:20250505T095126Z
LAST-MODIFIED:20250905T085924Z
UID:10044570-1752494400-1752514200@vorescosmos.dk
SUMMARY:Café Cosmos
DESCRIPTION:
URL:https://vorescosmos.dk/begivenhed/cafe-cosmos/2025-07-14/
LOCATION:Fælleskøkkenet\, Søndergade 11\, Viby Sj.\, 4130\, Danmark
CATEGORIES:Lokale bookninger
END:VEVENT
BEGIN:VEVENT
DTSTART;TZID=Europe/Copenhagen:20250710T120000
DTEND;TZID=Europe/Copenhagen:20250710T173000
DTSTAMP:20260423T005829
CREATED:20250505T095126Z
LAST-MODIFIED:20250905T085924Z
UID:10045992-1752148800-1752168600@vorescosmos.dk
SUMMARY:Café Cosmos
DESCRIPTION:
URL:https://vorescosmos.dk/begivenhed/cafe-cosmos/2025-07-10/
LOCATION:Fælleskøkkenet\, Søndergade 11\, Viby Sj.\, 4130\, Danmark
CATEGORIES:Lokale bookninger
END:VEVENT
BEGIN:VEVENT
DTSTART;TZID=Europe/Copenhagen:20250709T120000
DTEND;TZID=Europe/Copenhagen:20250709T173000
DTSTAMP:20260423T005829
CREATED:20250505T095126Z
LAST-MODIFIED:20250905T085924Z
UID:10044568-1752062400-1752082200@vorescosmos.dk
SUMMARY:Café Cosmos
DESCRIPTION:
URL:https://vorescosmos.dk/begivenhed/cafe-cosmos/2025-07-09/
LOCATION:Fælleskøkkenet\, Søndergade 11\, Viby Sj.\, 4130\, Danmark
CATEGORIES:Lokale bookninger
END:VEVENT
BEGIN:VEVENT
DTSTART;TZID=Europe/Copenhagen:20250708T120000
DTEND;TZID=Europe/Copenhagen:20250708T173000
DTSTAMP:20260423T005829
CREATED:20250505T095126Z
LAST-MODIFIED:20250905T085924Z
UID:10044567-1751976000-1751995800@vorescosmos.dk
SUMMARY:Café Cosmos
DESCRIPTION:
URL:https://vorescosmos.dk/begivenhed/cafe-cosmos/2025-07-08/
LOCATION:Fælleskøkkenet\, Søndergade 11\, Viby Sj.\, 4130\, Danmark
CATEGORIES:Lokale bookninger
END:VEVENT
BEGIN:VEVENT
DTSTART;TZID=Europe/Copenhagen:20250707T120000
DTEND;TZID=Europe/Copenhagen:20250707T173000
DTSTAMP:20260423T005829
CREATED:20250505T095126Z
LAST-MODIFIED:20250905T085924Z
UID:10044566-1751889600-1751909400@vorescosmos.dk
SUMMARY:Café Cosmos
DESCRIPTION:
URL:https://vorescosmos.dk/begivenhed/cafe-cosmos/2025-07-07/
LOCATION:Fælleskøkkenet\, Søndergade 11\, Viby Sj.\, 4130\, Danmark
CATEGORIES:Lokale bookninger
END:VEVENT
BEGIN:VEVENT
DTSTART;TZID=Europe/Copenhagen:20250703T120000
DTEND;TZID=Europe/Copenhagen:20250703T173000
DTSTAMP:20260423T005829
CREATED:20250505T095126Z
LAST-MODIFIED:20250905T085924Z
UID:10045991-1751544000-1751563800@vorescosmos.dk
SUMMARY:Café Cosmos
DESCRIPTION:
URL:https://vorescosmos.dk/begivenhed/cafe-cosmos/2025-07-03/
LOCATION:Fælleskøkkenet\, Søndergade 11\, Viby Sj.\, 4130\, Danmark
CATEGORIES:Lokale bookninger
END:VEVENT
BEGIN:VEVENT
DTSTART;TZID=Europe/Copenhagen:20250702T120000
DTEND;TZID=Europe/Copenhagen:20250702T173000
DTSTAMP:20260423T005829
CREATED:20250505T095126Z
LAST-MODIFIED:20250905T085924Z
UID:10044564-1751457600-1751477400@vorescosmos.dk
SUMMARY:Café Cosmos
DESCRIPTION:
URL:https://vorescosmos.dk/begivenhed/cafe-cosmos/2025-07-02/
LOCATION:Fælleskøkkenet\, Søndergade 11\, Viby Sj.\, 4130\, Danmark
CATEGORIES:Lokale bookninger
END:VEVENT
BEGIN:VEVENT
DTSTART;TZID=Europe/Copenhagen:20250701T120000
DTEND;TZID=Europe/Copenhagen:20250701T173000
DTSTAMP:20260423T005829
CREATED:20250505T095126Z
LAST-MODIFIED:20250905T085924Z
UID:10044563-1751371200-1751391000@vorescosmos.dk
SUMMARY:Café Cosmos
DESCRIPTION:
URL:https://vorescosmos.dk/begivenhed/cafe-cosmos/2025-07-01/
LOCATION:Fælleskøkkenet\, Søndergade 11\, Viby Sj.\, 4130\, Danmark
CATEGORIES:Lokale bookninger
END:VEVENT
BEGIN:VEVENT
DTSTART;TZID=Europe/Copenhagen:20250630T120000
DTEND;TZID=Europe/Copenhagen:20250630T173000
DTSTAMP:20260423T005829
CREATED:20250505T095126Z
LAST-MODIFIED:20250905T085924Z
UID:10044562-1751284800-1751304600@vorescosmos.dk
SUMMARY:Café Cosmos
DESCRIPTION:
URL:https://vorescosmos.dk/begivenhed/cafe-cosmos/2025-06-30/
LOCATION:Fælleskøkkenet\, Søndergade 11\, Viby Sj.\, 4130\, Danmark
CATEGORIES:Lokale bookninger
END:VEVENT
BEGIN:VEVENT
DTSTART;TZID=Europe/Copenhagen:20250626T120000
DTEND;TZID=Europe/Copenhagen:20250626T173000
DTSTAMP:20260423T005829
CREATED:20250505T095126Z
LAST-MODIFIED:20250905T085924Z
UID:10045990-1750939200-1750959000@vorescosmos.dk
SUMMARY:Café Cosmos
DESCRIPTION:
URL:https://vorescosmos.dk/begivenhed/cafe-cosmos/2025-06-26/
LOCATION:Fælleskøkkenet\, Søndergade 11\, Viby Sj.\, 4130\, Danmark
CATEGORIES:Lokale bookninger
END:VEVENT
BEGIN:VEVENT
DTSTART;TZID=Europe/Copenhagen:20250625T120000
DTEND;TZID=Europe/Copenhagen:20250625T173000
DTSTAMP:20260423T005829
CREATED:20250505T095126Z
LAST-MODIFIED:20250905T085924Z
UID:10044560-1750852800-1750872600@vorescosmos.dk
SUMMARY:Café Cosmos
DESCRIPTION:
URL:https://vorescosmos.dk/begivenhed/cafe-cosmos/2025-06-25/
LOCATION:Fælleskøkkenet\, Søndergade 11\, Viby Sj.\, 4130\, Danmark
CATEGORIES:Lokale bookninger
END:VEVENT
BEGIN:VEVENT
DTSTART;TZID=Europe/Copenhagen:20250624T120000
DTEND;TZID=Europe/Copenhagen:20250624T173000
DTSTAMP:20260423T005829
CREATED:20250505T095126Z
LAST-MODIFIED:20250905T085924Z
UID:10044559-1750766400-1750786200@vorescosmos.dk
SUMMARY:Café Cosmos
DESCRIPTION:
URL:https://vorescosmos.dk/begivenhed/cafe-cosmos/2025-06-24/
LOCATION:Fælleskøkkenet\, Søndergade 11\, Viby Sj.\, 4130\, Danmark
CATEGORIES:Lokale bookninger
END:VEVENT
BEGIN:VEVENT
DTSTART;TZID=Europe/Copenhagen:20250623T120000
DTEND;TZID=Europe/Copenhagen:20250623T173000
DTSTAMP:20260423T005829
CREATED:20250505T095126Z
LAST-MODIFIED:20250905T085924Z
UID:10044558-1750680000-1750699800@vorescosmos.dk
SUMMARY:Café Cosmos
DESCRIPTION:
URL:https://vorescosmos.dk/begivenhed/cafe-cosmos/2025-06-23/
LOCATION:Fælleskøkkenet\, Søndergade 11\, Viby Sj.\, 4130\, Danmark
CATEGORIES:Lokale bookninger
END:VEVENT
BEGIN:VEVENT
DTSTART;TZID=Europe/Copenhagen:20250619T120000
DTEND;TZID=Europe/Copenhagen:20250619T173000
DTSTAMP:20260423T005829
CREATED:20250505T095126Z
LAST-MODIFIED:20250905T085924Z
UID:10045989-1750334400-1750354200@vorescosmos.dk
SUMMARY:Café Cosmos
DESCRIPTION:
URL:https://vorescosmos.dk/begivenhed/cafe-cosmos/2025-06-19/
LOCATION:Fælleskøkkenet\, Søndergade 11\, Viby Sj.\, 4130\, Danmark
CATEGORIES:Lokale bookninger
END:VEVENT
BEGIN:VEVENT
DTSTART;TZID=Europe/Copenhagen:20250618T120000
DTEND;TZID=Europe/Copenhagen:20250618T173000
DTSTAMP:20260423T005829
CREATED:20250505T095126Z
LAST-MODIFIED:20250905T085924Z
UID:10044556-1750248000-1750267800@vorescosmos.dk
SUMMARY:Café Cosmos
DESCRIPTION:
URL:https://vorescosmos.dk/begivenhed/cafe-cosmos/2025-06-18/
LOCATION:Fælleskøkkenet\, Søndergade 11\, Viby Sj.\, 4130\, Danmark
CATEGORIES:Lokale bookninger
END:VEVENT
BEGIN:VEVENT
DTSTART;TZID=Europe/Copenhagen:20250617T120000
DTEND;TZID=Europe/Copenhagen:20250617T173000
DTSTAMP:20260423T005829
CREATED:20250505T095126Z
LAST-MODIFIED:20250905T085924Z
UID:10044555-1750161600-1750181400@vorescosmos.dk
SUMMARY:Café Cosmos
DESCRIPTION:
URL:https://vorescosmos.dk/begivenhed/cafe-cosmos/2025-06-17/
LOCATION:Fælleskøkkenet\, Søndergade 11\, Viby Sj.\, 4130\, Danmark
CATEGORIES:Lokale bookninger
END:VEVENT
BEGIN:VEVENT
DTSTART;TZID=Europe/Copenhagen:20250616T120000
DTEND;TZID=Europe/Copenhagen:20250616T173000
DTSTAMP:20260423T005829
CREATED:20250505T095126Z
LAST-MODIFIED:20250905T085924Z
UID:10044554-1750075200-1750095000@vorescosmos.dk
SUMMARY:Café Cosmos
DESCRIPTION:
URL:https://vorescosmos.dk/begivenhed/cafe-cosmos/2025-06-16/
LOCATION:Fælleskøkkenet\, Søndergade 11\, Viby Sj.\, 4130\, Danmark
CATEGORIES:Lokale bookninger
END:VEVENT
BEGIN:VEVENT
DTSTART;TZID=Europe/Copenhagen:20250613T100000
DTEND;TZID=Europe/Copenhagen:20250613T143000
DTSTAMP:20260423T005829
CREATED:20241216T120246Z
LAST-MODIFIED:20241216T120246Z
UID:10043062-1749808800-1749825000@vorescosmos.dk
SUMMARY:Cosmosgryden
DESCRIPTION:
URL:https://vorescosmos.dk/begivenhed/cosmosgryden-10/2025-06-13/
LOCATION:Fælleskøkkenet\, Søndergade 11\, Viby Sj.\, 4130\, Danmark
CATEGORIES:Lokale bookninger
END:VEVENT
BEGIN:VEVENT
DTSTART;TZID=Europe/Copenhagen:20250612T120000
DTEND;TZID=Europe/Copenhagen:20250612T173000
DTSTAMP:20260423T005829
CREATED:20250505T095126Z
LAST-MODIFIED:20250905T085924Z
UID:10045988-1749729600-1749749400@vorescosmos.dk
SUMMARY:Café Cosmos
DESCRIPTION:
URL:https://vorescosmos.dk/begivenhed/cafe-cosmos/2025-06-12/
LOCATION:Fælleskøkkenet\, Søndergade 11\, Viby Sj.\, 4130\, Danmark
CATEGORIES:Lokale bookninger
END:VEVENT
BEGIN:VEVENT
DTSTART;TZID=Europe/Copenhagen:20250612T080000
DTEND;TZID=Europe/Copenhagen:20250612T110000
DTSTAMP:20260423T005829
CREATED:20250509T064200Z
LAST-MODIFIED:20250509T064201Z
UID:10045589-1749715200-1749726000@vorescosmos.dk
SUMMARY:Roskilde Kommune
DESCRIPTION:
URL:https://vorescosmos.dk/begivenhed/roskilde-kommune-7/
LOCATION:Fælleskøkkenet\, Søndergade 11\, Viby Sj.\, 4130\, Danmark
CATEGORIES:Lokale bookninger
END:VEVENT
BEGIN:VEVENT
DTSTART;TZID=Europe/Copenhagen:20250611T120000
DTEND;TZID=Europe/Copenhagen:20250611T173000
DTSTAMP:20260423T005829
CREATED:20250505T095126Z
LAST-MODIFIED:20250905T085924Z
UID:10044552-1749643200-1749663000@vorescosmos.dk
SUMMARY:Café Cosmos
DESCRIPTION:
URL:https://vorescosmos.dk/begivenhed/cafe-cosmos/2025-06-11/
LOCATION:Fælleskøkkenet\, Søndergade 11\, Viby Sj.\, 4130\, Danmark
CATEGORIES:Lokale bookninger
END:VEVENT
BEGIN:VEVENT
DTSTART;TZID=Europe/Copenhagen:20250610T120000
DTEND;TZID=Europe/Copenhagen:20250610T173000
DTSTAMP:20260423T005829
CREATED:20250505T095126Z
LAST-MODIFIED:20250905T085924Z
UID:10044551-1749556800-1749576600@vorescosmos.dk
SUMMARY:Café Cosmos
DESCRIPTION:
URL:https://vorescosmos.dk/begivenhed/cafe-cosmos/2025-06-10/
LOCATION:Fælleskøkkenet\, Søndergade 11\, Viby Sj.\, 4130\, Danmark
CATEGORIES:Lokale bookninger
END:VEVENT
BEGIN:VEVENT
DTSTART;TZID=Europe/Copenhagen:20250609T120000
DTEND;TZID=Europe/Copenhagen:20250609T173000
DTSTAMP:20260423T005829
CREATED:20250505T095126Z
LAST-MODIFIED:20250905T085924Z
UID:10044550-1749470400-1749490200@vorescosmos.dk
SUMMARY:Café Cosmos
DESCRIPTION:
URL:https://vorescosmos.dk/begivenhed/cafe-cosmos/2025-06-09/
LOCATION:Fælleskøkkenet\, Søndergade 11\, Viby Sj.\, 4130\, Danmark
CATEGORIES:Lokale bookninger
END:VEVENT
BEGIN:VEVENT
DTSTART;TZID=Europe/Copenhagen:20250605T120000
DTEND;TZID=Europe/Copenhagen:20250605T173000
DTSTAMP:20260423T005829
CREATED:20250505T095126Z
LAST-MODIFIED:20250905T085924Z
UID:10045987-1749124800-1749144600@vorescosmos.dk
SUMMARY:Café Cosmos
DESCRIPTION:
URL:https://vorescosmos.dk/begivenhed/cafe-cosmos/2025-06-05/
LOCATION:Fælleskøkkenet\, Søndergade 11\, Viby Sj.\, 4130\, Danmark
CATEGORIES:Lokale bookninger
END:VEVENT
BEGIN:VEVENT
DTSTART;TZID=Europe/Copenhagen:20250604T120000
DTEND;TZID=Europe/Copenhagen:20250604T173000
DTSTAMP:20260423T005829
CREATED:20250505T095126Z
LAST-MODIFIED:20250905T085924Z
UID:10044548-1749038400-1749058200@vorescosmos.dk
SUMMARY:Café Cosmos
DESCRIPTION:
URL:https://vorescosmos.dk/begivenhed/cafe-cosmos/2025-06-04/
LOCATION:Fælleskøkkenet\, Søndergade 11\, Viby Sj.\, 4130\, Danmark
CATEGORIES:Lokale bookninger
END:VEVENT
BEGIN:VEVENT
DTSTART;TZID=Europe/Copenhagen:20250603T120000
DTEND;TZID=Europe/Copenhagen:20250603T173000
DTSTAMP:20260423T005829
CREATED:20250505T095126Z
LAST-MODIFIED:20250905T085924Z
UID:10044547-1748952000-1748971800@vorescosmos.dk
SUMMARY:Café Cosmos
DESCRIPTION:
URL:https://vorescosmos.dk/begivenhed/cafe-cosmos/2025-06-03/
LOCATION:Fælleskøkkenet\, Søndergade 11\, Viby Sj.\, 4130\, Danmark
CATEGORIES:Lokale bookninger
END:VEVENT
BEGIN:VEVENT
DTSTART;TZID=Europe/Copenhagen:20250602T120000
DTEND;TZID=Europe/Copenhagen:20250602T173000
DTSTAMP:20260423T005829
CREATED:20250505T095126Z
LAST-MODIFIED:20250905T085924Z
UID:10044546-1748865600-1748885400@vorescosmos.dk
SUMMARY:Café Cosmos
DESCRIPTION:
URL:https://vorescosmos.dk/begivenhed/cafe-cosmos/2025-06-02/
LOCATION:Fælleskøkkenet\, Søndergade 11\, Viby Sj.\, 4130\, Danmark
CATEGORIES:Lokale bookninger
END:VEVENT
BEGIN:VEVENT
DTSTART;TZID=Europe/Copenhagen:20250530T160000
DTEND;TZID=Europe/Copenhagen:20250530T230000
DTSTAMP:20260423T005829
CREATED:20241203T140031Z
LAST-MODIFIED:20241203T140108Z
UID:10042962-1748620800-1748646000@vorescosmos.dk
SUMMARY:Comedy banko
DESCRIPTION:
URL:https://vorescosmos.dk/begivenhed/comedy-banko-6/
LOCATION:Fælleskøkkenet\, Søndergade 11\, Viby Sj.\, 4130\, Danmark
CATEGORIES:Lokale bookninger
END:VEVENT
BEGIN:VEVENT
DTSTART;TZID=Europe/Copenhagen:20250529T120000
DTEND;TZID=Europe/Copenhagen:20250529T173000
DTSTAMP:20260423T005829
CREATED:20250505T095126Z
LAST-MODIFIED:20250905T085924Z
UID:10045986-1748520000-1748539800@vorescosmos.dk
SUMMARY:Café Cosmos
DESCRIPTION:
URL:https://vorescosmos.dk/begivenhed/cafe-cosmos/2025-05-29/
LOCATION:Fælleskøkkenet\, Søndergade 11\, Viby Sj.\, 4130\, Danmark
CATEGORIES:Lokale bookninger
END:VEVENT
END:VCALENDAR