BEGIN:VCALENDAR
VERSION:2.0
PRODID:-//Vores Cosmos - ECPv6.15.20//NONSGML v1.0//EN
CALSCALE:GREGORIAN
METHOD:PUBLISH
X-ORIGINAL-URL:https://vorescosmos.dk
X-WR-CALDESC:Begivenheder for Vores Cosmos
REFRESH-INTERVAL;VALUE=DURATION:PT1H
X-Robots-Tag:noindex
X-PUBLISHED-TTL:PT1H
BEGIN:VTIMEZONE
TZID:Europe/Copenhagen
BEGIN:DAYLIGHT
TZOFFSETFROM:+0100
TZOFFSETTO:+0200
TZNAME:CEST
DTSTART:20240331T010000
END:DAYLIGHT
BEGIN:STANDARD
TZOFFSETFROM:+0200
TZOFFSETTO:+0100
TZNAME:CET
DTSTART:20241027T010000
END:STANDARD
BEGIN:DAYLIGHT
TZOFFSETFROM:+0100
TZOFFSETTO:+0200
TZNAME:CEST
DTSTART:20250330T010000
END:DAYLIGHT
BEGIN:STANDARD
TZOFFSETFROM:+0200
TZOFFSETTO:+0100
TZNAME:CET
DTSTART:20251026T010000
END:STANDARD
BEGIN:DAYLIGHT
TZOFFSETFROM:+0100
TZOFFSETTO:+0200
TZNAME:CEST
DTSTART:20260329T010000
END:DAYLIGHT
BEGIN:STANDARD
TZOFFSETFROM:+0200
TZOFFSETTO:+0100
TZNAME:CET
DTSTART:20261025T010000
END:STANDARD
END:VTIMEZONE
BEGIN:VEVENT
DTSTART;TZID=Europe/Copenhagen:20250612T080000
DTEND;TZID=Europe/Copenhagen:20250612T110000
DTSTAMP:20260423T041624
CREATED:20250509T064200Z
LAST-MODIFIED:20250509T064201Z
UID:10045589-1749715200-1749726000@vorescosmos.dk
SUMMARY:Roskilde Kommune
DESCRIPTION:
URL:https://vorescosmos.dk/begivenhed/roskilde-kommune-7/
LOCATION:Fælleskøkkenet\, Søndergade 11\, Viby Sj.\, 4130\, Danmark
CATEGORIES:Lokale bookninger
END:VEVENT
BEGIN:VEVENT
DTSTART;TZID=Europe/Copenhagen:20250611T120000
DTEND;TZID=Europe/Copenhagen:20250611T173000
DTSTAMP:20260423T041624
CREATED:20250505T095126Z
LAST-MODIFIED:20250905T085924Z
UID:10044552-1749643200-1749663000@vorescosmos.dk
SUMMARY:Café Cosmos
DESCRIPTION:
URL:https://vorescosmos.dk/begivenhed/cafe-cosmos/2025-06-11/
LOCATION:Fælleskøkkenet\, Søndergade 11\, Viby Sj.\, 4130\, Danmark
CATEGORIES:Lokale bookninger
END:VEVENT
BEGIN:VEVENT
DTSTART;TZID=Europe/Copenhagen:20250610T120000
DTEND;TZID=Europe/Copenhagen:20250610T173000
DTSTAMP:20260423T041624
CREATED:20250505T095126Z
LAST-MODIFIED:20250905T085924Z
UID:10044551-1749556800-1749576600@vorescosmos.dk
SUMMARY:Café Cosmos
DESCRIPTION:
URL:https://vorescosmos.dk/begivenhed/cafe-cosmos/2025-06-10/
LOCATION:Fælleskøkkenet\, Søndergade 11\, Viby Sj.\, 4130\, Danmark
CATEGORIES:Lokale bookninger
END:VEVENT
BEGIN:VEVENT
DTSTART;TZID=Europe/Copenhagen:20250609T120000
DTEND;TZID=Europe/Copenhagen:20250609T173000
DTSTAMP:20260423T041624
CREATED:20250505T095126Z
LAST-MODIFIED:20250905T085924Z
UID:10044550-1749470400-1749490200@vorescosmos.dk
SUMMARY:Café Cosmos
DESCRIPTION:
URL:https://vorescosmos.dk/begivenhed/cafe-cosmos/2025-06-09/
LOCATION:Fælleskøkkenet\, Søndergade 11\, Viby Sj.\, 4130\, Danmark
CATEGORIES:Lokale bookninger
END:VEVENT
BEGIN:VEVENT
DTSTART;TZID=Europe/Copenhagen:20250605T120000
DTEND;TZID=Europe/Copenhagen:20250605T173000
DTSTAMP:20260423T041624
CREATED:20250505T095126Z
LAST-MODIFIED:20250905T085924Z
UID:10045987-1749124800-1749144600@vorescosmos.dk
SUMMARY:Café Cosmos
DESCRIPTION:
URL:https://vorescosmos.dk/begivenhed/cafe-cosmos/2025-06-05/
LOCATION:Fælleskøkkenet\, Søndergade 11\, Viby Sj.\, 4130\, Danmark
CATEGORIES:Lokale bookninger
END:VEVENT
BEGIN:VEVENT
DTSTART;TZID=Europe/Copenhagen:20250604T120000
DTEND;TZID=Europe/Copenhagen:20250604T173000
DTSTAMP:20260423T041624
CREATED:20250505T095126Z
LAST-MODIFIED:20250905T085924Z
UID:10044548-1749038400-1749058200@vorescosmos.dk
SUMMARY:Café Cosmos
DESCRIPTION:
URL:https://vorescosmos.dk/begivenhed/cafe-cosmos/2025-06-04/
LOCATION:Fælleskøkkenet\, Søndergade 11\, Viby Sj.\, 4130\, Danmark
CATEGORIES:Lokale bookninger
END:VEVENT
BEGIN:VEVENT
DTSTART;TZID=Europe/Copenhagen:20250603T120000
DTEND;TZID=Europe/Copenhagen:20250603T173000
DTSTAMP:20260423T041624
CREATED:20250505T095126Z
LAST-MODIFIED:20250905T085924Z
UID:10044547-1748952000-1748971800@vorescosmos.dk
SUMMARY:Café Cosmos
DESCRIPTION:
URL:https://vorescosmos.dk/begivenhed/cafe-cosmos/2025-06-03/
LOCATION:Fælleskøkkenet\, Søndergade 11\, Viby Sj.\, 4130\, Danmark
CATEGORIES:Lokale bookninger
END:VEVENT
BEGIN:VEVENT
DTSTART;TZID=Europe/Copenhagen:20250602T120000
DTEND;TZID=Europe/Copenhagen:20250602T173000
DTSTAMP:20260423T041624
CREATED:20250505T095126Z
LAST-MODIFIED:20250905T085924Z
UID:10044546-1748865600-1748885400@vorescosmos.dk
SUMMARY:Café Cosmos
DESCRIPTION:
URL:https://vorescosmos.dk/begivenhed/cafe-cosmos/2025-06-02/
LOCATION:Fælleskøkkenet\, Søndergade 11\, Viby Sj.\, 4130\, Danmark
CATEGORIES:Lokale bookninger
END:VEVENT
BEGIN:VEVENT
DTSTART;TZID=Europe/Copenhagen:20250530T160000
DTEND;TZID=Europe/Copenhagen:20250530T230000
DTSTAMP:20260423T041624
CREATED:20241203T140031Z
LAST-MODIFIED:20241203T140108Z
UID:10042962-1748620800-1748646000@vorescosmos.dk
SUMMARY:Comedy banko
DESCRIPTION:
URL:https://vorescosmos.dk/begivenhed/comedy-banko-6/
LOCATION:Fælleskøkkenet\, Søndergade 11\, Viby Sj.\, 4130\, Danmark
CATEGORIES:Lokale bookninger
END:VEVENT
BEGIN:VEVENT
DTSTART;TZID=Europe/Copenhagen:20250529T120000
DTEND;TZID=Europe/Copenhagen:20250529T173000
DTSTAMP:20260423T041624
CREATED:20250505T095126Z
LAST-MODIFIED:20250905T085924Z
UID:10045986-1748520000-1748539800@vorescosmos.dk
SUMMARY:Café Cosmos
DESCRIPTION:
URL:https://vorescosmos.dk/begivenhed/cafe-cosmos/2025-05-29/
LOCATION:Fælleskøkkenet\, Søndergade 11\, Viby Sj.\, 4130\, Danmark
CATEGORIES:Lokale bookninger
END:VEVENT
BEGIN:VEVENT
DTSTART;TZID=Europe/Copenhagen:20250528T120000
DTEND;TZID=Europe/Copenhagen:20250528T173000
DTSTAMP:20260423T041624
CREATED:20250505T095126Z
LAST-MODIFIED:20250905T085924Z
UID:10044544-1748433600-1748453400@vorescosmos.dk
SUMMARY:Café Cosmos
DESCRIPTION:
URL:https://vorescosmos.dk/begivenhed/cafe-cosmos/2025-05-28/
LOCATION:Fælleskøkkenet\, Søndergade 11\, Viby Sj.\, 4130\, Danmark
CATEGORIES:Lokale bookninger
END:VEVENT
BEGIN:VEVENT
DTSTART;TZID=Europe/Copenhagen:20250527T120000
DTEND;TZID=Europe/Copenhagen:20250527T173000
DTSTAMP:20260423T041624
CREATED:20250505T095126Z
LAST-MODIFIED:20250905T085924Z
UID:10044543-1748347200-1748367000@vorescosmos.dk
SUMMARY:Café Cosmos
DESCRIPTION:
URL:https://vorescosmos.dk/begivenhed/cafe-cosmos/2025-05-27/
LOCATION:Fælleskøkkenet\, Søndergade 11\, Viby Sj.\, 4130\, Danmark
CATEGORIES:Lokale bookninger
END:VEVENT
BEGIN:VEVENT
DTSTART;TZID=Europe/Copenhagen:20250526T120000
DTEND;TZID=Europe/Copenhagen:20250526T173000
DTSTAMP:20260423T041624
CREATED:20250505T095126Z
LAST-MODIFIED:20250905T085924Z
UID:10044542-1748260800-1748280600@vorescosmos.dk
SUMMARY:Café Cosmos
DESCRIPTION:
URL:https://vorescosmos.dk/begivenhed/cafe-cosmos/2025-05-26/
LOCATION:Fælleskøkkenet\, Søndergade 11\, Viby Sj.\, 4130\, Danmark
CATEGORIES:Lokale bookninger
END:VEVENT
BEGIN:VEVENT
DTSTART;TZID=Europe/Copenhagen:20250522T120000
DTEND;TZID=Europe/Copenhagen:20250522T173000
DTSTAMP:20260423T041624
CREATED:20250505T095126Z
LAST-MODIFIED:20250905T085924Z
UID:10045985-1747915200-1747935000@vorescosmos.dk
SUMMARY:Café Cosmos
DESCRIPTION:
URL:https://vorescosmos.dk/begivenhed/cafe-cosmos/2025-05-22/
LOCATION:Fælleskøkkenet\, Søndergade 11\, Viby Sj.\, 4130\, Danmark
CATEGORIES:Lokale bookninger
END:VEVENT
BEGIN:VEVENT
DTSTART;TZID=Europe/Copenhagen:20250521T120000
DTEND;TZID=Europe/Copenhagen:20250521T173000
DTSTAMP:20260423T041624
CREATED:20250505T095126Z
LAST-MODIFIED:20250905T085924Z
UID:10044540-1747828800-1747848600@vorescosmos.dk
SUMMARY:Café Cosmos
DESCRIPTION:
URL:https://vorescosmos.dk/begivenhed/cafe-cosmos/2025-05-21/
LOCATION:Fælleskøkkenet\, Søndergade 11\, Viby Sj.\, 4130\, Danmark
CATEGORIES:Lokale bookninger
END:VEVENT
BEGIN:VEVENT
DTSTART;TZID=Europe/Copenhagen:20250520T120000
DTEND;TZID=Europe/Copenhagen:20250520T173000
DTSTAMP:20260423T041624
CREATED:20250505T095126Z
LAST-MODIFIED:20250905T085924Z
UID:10044539-1747742400-1747762200@vorescosmos.dk
SUMMARY:Café Cosmos
DESCRIPTION:
URL:https://vorescosmos.dk/begivenhed/cafe-cosmos/2025-05-20/
LOCATION:Fælleskøkkenet\, Søndergade 11\, Viby Sj.\, 4130\, Danmark
CATEGORIES:Lokale bookninger
END:VEVENT
BEGIN:VEVENT
DTSTART;TZID=Europe/Copenhagen:20250519T120000
DTEND;TZID=Europe/Copenhagen:20250519T173000
DTSTAMP:20260423T041624
CREATED:20250505T095126Z
LAST-MODIFIED:20250905T085924Z
UID:10044538-1747656000-1747675800@vorescosmos.dk
SUMMARY:Café Cosmos
DESCRIPTION:
URL:https://vorescosmos.dk/begivenhed/cafe-cosmos/2025-05-19/
LOCATION:Fælleskøkkenet\, Søndergade 11\, Viby Sj.\, 4130\, Danmark
CATEGORIES:Lokale bookninger
END:VEVENT
BEGIN:VEVENT
DTSTART;TZID=Europe/Copenhagen:20250515T120000
DTEND;TZID=Europe/Copenhagen:20250515T173000
DTSTAMP:20260423T041624
CREATED:20250505T095126Z
LAST-MODIFIED:20250905T085924Z
UID:10045984-1747310400-1747330200@vorescosmos.dk
SUMMARY:Café Cosmos
DESCRIPTION:
URL:https://vorescosmos.dk/begivenhed/cafe-cosmos/2025-05-15/
LOCATION:Fælleskøkkenet\, Søndergade 11\, Viby Sj.\, 4130\, Danmark
CATEGORIES:Lokale bookninger
END:VEVENT
BEGIN:VEVENT
DTSTART;TZID=Europe/Copenhagen:20250514T120000
DTEND;TZID=Europe/Copenhagen:20250514T173000
DTSTAMP:20260423T041624
CREATED:20250505T095126Z
LAST-MODIFIED:20250905T085924Z
UID:10044536-1747224000-1747243800@vorescosmos.dk
SUMMARY:Café Cosmos
DESCRIPTION:
URL:https://vorescosmos.dk/begivenhed/cafe-cosmos/2025-05-14/
LOCATION:Fælleskøkkenet\, Søndergade 11\, Viby Sj.\, 4130\, Danmark
CATEGORIES:Lokale bookninger
END:VEVENT
BEGIN:VEVENT
DTSTART;TZID=Europe/Copenhagen:20250513T180000
DTEND;TZID=Europe/Copenhagen:20250513T230000
DTSTAMP:20260423T041624
CREATED:20250303T134928Z
LAST-MODIFIED:20250303T134928Z
UID:10043472-1747159200-1747177200@vorescosmos.dk
SUMMARY:Ramsø Lokalhistoriske Forening
DESCRIPTION:
URL:https://vorescosmos.dk/begivenhed/ramsoe-lokalhistoriske-forening-18/
LOCATION:Fælleskøkkenet\, Søndergade 11\, Viby Sj.\, 4130\, Danmark
CATEGORIES:Lokale bookninger
END:VEVENT
BEGIN:VEVENT
DTSTART;TZID=Europe/Copenhagen:20250513T120000
DTEND;TZID=Europe/Copenhagen:20250513T173000
DTSTAMP:20260423T041624
CREATED:20250505T095126Z
LAST-MODIFIED:20250905T085924Z
UID:10044535-1747137600-1747157400@vorescosmos.dk
SUMMARY:Café Cosmos
DESCRIPTION:
URL:https://vorescosmos.dk/begivenhed/cafe-cosmos/2025-05-13/
LOCATION:Fælleskøkkenet\, Søndergade 11\, Viby Sj.\, 4130\, Danmark
CATEGORIES:Lokale bookninger
END:VEVENT
BEGIN:VEVENT
DTSTART;TZID=Europe/Copenhagen:20250512T120000
DTEND;TZID=Europe/Copenhagen:20250512T173000
DTSTAMP:20260423T041624
CREATED:20250505T095126Z
LAST-MODIFIED:20250905T085924Z
UID:10044534-1747051200-1747071000@vorescosmos.dk
SUMMARY:Café Cosmos
DESCRIPTION:
URL:https://vorescosmos.dk/begivenhed/cafe-cosmos/2025-05-12/
LOCATION:Fælleskøkkenet\, Søndergade 11\, Viby Sj.\, 4130\, Danmark
CATEGORIES:Lokale bookninger
END:VEVENT
BEGIN:VEVENT
DTSTART;TZID=Europe/Copenhagen:20250509T170000
DTEND;TZID=Europe/Copenhagen:20250509T230000
DTSTAMP:20260423T041624
CREATED:20250115T132752Z
LAST-MODIFIED:20250115T132752Z
UID:10043389-1746810000-1746831600@vorescosmos.dk
SUMMARY:4. musikformat
DESCRIPTION:
URL:https://vorescosmos.dk/begivenhed/4-musikformat-15/
LOCATION:Fælleskøkkenet\, Søndergade 11\, Viby Sj.\, 4130\, Danmark
CATEGORIES:Lokale bookninger
END:VEVENT
BEGIN:VEVENT
DTSTART;TZID=Europe/Copenhagen:20250509T100000
DTEND;TZID=Europe/Copenhagen:20250509T143000
DTSTAMP:20260423T041624
CREATED:20241216T120246Z
LAST-MODIFIED:20241216T120246Z
UID:10043061-1746784800-1746801000@vorescosmos.dk
SUMMARY:Cosmosgryden
DESCRIPTION:
URL:https://vorescosmos.dk/begivenhed/cosmosgryden-10/2025-05-09/
LOCATION:Fælleskøkkenet\, Søndergade 11\, Viby Sj.\, 4130\, Danmark
CATEGORIES:Lokale bookninger
END:VEVENT
BEGIN:VEVENT
DTSTART;TZID=Europe/Copenhagen:20250508T180000
DTEND;TZID=Europe/Copenhagen:20250508T230000
DTSTAMP:20260423T041624
CREATED:20250319T084059Z
LAST-MODIFIED:20250319T084100Z
UID:10043495-1746727200-1746745200@vorescosmos.dk
SUMMARY:Ramsø Vinklub
DESCRIPTION:
URL:https://vorescosmos.dk/begivenhed/ramsoe-vinklub-22/
LOCATION:Fælleskøkkenet\, Søndergade 11\, Viby Sj.\, 4130\, Danmark
CATEGORIES:Lokale bookninger
END:VEVENT
BEGIN:VEVENT
DTSTART;TZID=Europe/Copenhagen:20250508T120000
DTEND;TZID=Europe/Copenhagen:20250508T173000
DTSTAMP:20260423T041624
CREATED:20250505T095126Z
LAST-MODIFIED:20250905T085924Z
UID:10045983-1746705600-1746725400@vorescosmos.dk
SUMMARY:Café Cosmos
DESCRIPTION:
URL:https://vorescosmos.dk/begivenhed/cafe-cosmos/2025-05-08/
LOCATION:Fælleskøkkenet\, Søndergade 11\, Viby Sj.\, 4130\, Danmark
CATEGORIES:Lokale bookninger
END:VEVENT
BEGIN:VEVENT
DTSTART;TZID=Europe/Copenhagen:20250507T120000
DTEND;TZID=Europe/Copenhagen:20250507T173000
DTSTAMP:20260423T041624
CREATED:20250505T095126Z
LAST-MODIFIED:20250905T085924Z
UID:10044532-1746619200-1746639000@vorescosmos.dk
SUMMARY:Café Cosmos
DESCRIPTION:
URL:https://vorescosmos.dk/begivenhed/cafe-cosmos/2025-05-07/
LOCATION:Fælleskøkkenet\, Søndergade 11\, Viby Sj.\, 4130\, Danmark
CATEGORIES:Lokale bookninger
END:VEVENT
BEGIN:VEVENT
DTSTART;TZID=Europe/Copenhagen:20250506T120000
DTEND;TZID=Europe/Copenhagen:20250506T173000
DTSTAMP:20260423T041624
CREATED:20250505T095126Z
LAST-MODIFIED:20250905T085924Z
UID:10044531-1746532800-1746552600@vorescosmos.dk
SUMMARY:Café Cosmos
DESCRIPTION:
URL:https://vorescosmos.dk/begivenhed/cafe-cosmos/2025-05-06/
LOCATION:Fælleskøkkenet\, Søndergade 11\, Viby Sj.\, 4130\, Danmark
CATEGORIES:Lokale bookninger
END:VEVENT
BEGIN:VEVENT
DTSTART;TZID=Europe/Copenhagen:20250505T120000
DTEND;TZID=Europe/Copenhagen:20250505T173000
DTSTAMP:20260423T041624
CREATED:20250505T095126Z
LAST-MODIFIED:20250905T085924Z
UID:10044530-1746446400-1746466200@vorescosmos.dk
SUMMARY:Café Cosmos
DESCRIPTION:
URL:https://vorescosmos.dk/begivenhed/cafe-cosmos/2025-05-05/
LOCATION:Fælleskøkkenet\, Søndergade 11\, Viby Sj.\, 4130\, Danmark
CATEGORIES:Lokale bookninger
END:VEVENT
BEGIN:VEVENT
DTSTART;TZID=Europe/Copenhagen:20250428T150000
DTEND;TZID=Europe/Copenhagen:20250428T230000
DTSTAMP:20260423T041624
CREATED:20250428T133226Z
LAST-MODIFIED:20250428T133226Z
UID:10043575-1745852400-1745881200@vorescosmos.dk
SUMMARY:KulturCosmos - 3. musikformat
DESCRIPTION:
URL:https://vorescosmos.dk/begivenhed/kulturcosmos-3-musikformat-7/
LOCATION:Fælleskøkkenet\, Søndergade 11\, Viby Sj.\, 4130\, Danmark
CATEGORIES:Lokale bookninger
END:VEVENT
END:VCALENDAR