BEGIN:VCALENDAR
VERSION:2.0
PRODID:-//Vores Cosmos - ECPv6.15.20//NONSGML v1.0//EN
CALSCALE:GREGORIAN
METHOD:PUBLISH
X-WR-CALNAME:Vores Cosmos
X-ORIGINAL-URL:https://vorescosmos.dk
X-WR-CALDESC:Begivenheder for Vores Cosmos
REFRESH-INTERVAL;VALUE=DURATION:PT1H
X-Robots-Tag:noindex
X-PUBLISHED-TTL:PT1H
BEGIN:VTIMEZONE
TZID:Europe/Copenhagen
BEGIN:DAYLIGHT
TZOFFSETFROM:+0100
TZOFFSETTO:+0200
TZNAME:CEST
DTSTART:20260329T010000
END:DAYLIGHT
BEGIN:STANDARD
TZOFFSETFROM:+0200
TZOFFSETTO:+0100
TZNAME:CET
DTSTART:20261025T010000
END:STANDARD
BEGIN:DAYLIGHT
TZOFFSETFROM:+0100
TZOFFSETTO:+0200
TZNAME:CEST
DTSTART:20270328T010000
END:DAYLIGHT
BEGIN:STANDARD
TZOFFSETFROM:+0200
TZOFFSETTO:+0100
TZNAME:CET
DTSTART:20271031T010000
END:STANDARD
BEGIN:DAYLIGHT
TZOFFSETFROM:+0100
TZOFFSETTO:+0200
TZNAME:CEST
DTSTART:20280326T010000
END:DAYLIGHT
BEGIN:STANDARD
TZOFFSETFROM:+0200
TZOFFSETTO:+0100
TZNAME:CET
DTSTART:20281029T010000
END:STANDARD
END:VTIMEZONE
BEGIN:VEVENT
DTSTART;TZID=Europe/Copenhagen:20270610T120000
DTEND;TZID=Europe/Copenhagen:20270610T173000
DTSTAMP:20260421T165350
CREATED:20250505T095126Z
LAST-MODIFIED:20250905T085924Z
UID:10046092-1812628800-1812648600@vorescosmos.dk
SUMMARY:Café Cosmos
DESCRIPTION:
URL:https://vorescosmos.dk/begivenhed/cafe-cosmos/2027-06-10/
LOCATION:Fælleskøkkenet\, Søndergade 11\, Viby Sj.\, 4130\, Danmark
CATEGORIES:Lokale bookninger
END:VEVENT
BEGIN:VEVENT
DTSTART;TZID=Europe/Copenhagen:20270614T120000
DTEND;TZID=Europe/Copenhagen:20270614T173000
DTSTAMP:20260421T165350
CREATED:20250505T095126Z
LAST-MODIFIED:20250905T085924Z
UID:10044970-1812974400-1812994200@vorescosmos.dk
SUMMARY:Café Cosmos
DESCRIPTION:
URL:https://vorescosmos.dk/begivenhed/cafe-cosmos/2027-06-14/
LOCATION:Fælleskøkkenet\, Søndergade 11\, Viby Sj.\, 4130\, Danmark
CATEGORIES:Lokale bookninger
END:VEVENT
BEGIN:VEVENT
DTSTART;TZID=Europe/Copenhagen:20270615T120000
DTEND;TZID=Europe/Copenhagen:20270615T173000
DTSTAMP:20260421T165350
CREATED:20250505T095126Z
LAST-MODIFIED:20250905T085924Z
UID:10044971-1813060800-1813080600@vorescosmos.dk
SUMMARY:Café Cosmos
DESCRIPTION:
URL:https://vorescosmos.dk/begivenhed/cafe-cosmos/2027-06-15/
LOCATION:Fælleskøkkenet\, Søndergade 11\, Viby Sj.\, 4130\, Danmark
CATEGORIES:Lokale bookninger
END:VEVENT
BEGIN:VEVENT
DTSTART;TZID=Europe/Copenhagen:20270616T120000
DTEND;TZID=Europe/Copenhagen:20270616T173000
DTSTAMP:20260421T165350
CREATED:20250505T095126Z
LAST-MODIFIED:20250905T085924Z
UID:10044972-1813147200-1813167000@vorescosmos.dk
SUMMARY:Café Cosmos
DESCRIPTION:
URL:https://vorescosmos.dk/begivenhed/cafe-cosmos/2027-06-16/
LOCATION:Fælleskøkkenet\, Søndergade 11\, Viby Sj.\, 4130\, Danmark
CATEGORIES:Lokale bookninger
END:VEVENT
BEGIN:VEVENT
DTSTART;TZID=Europe/Copenhagen:20270617T120000
DTEND;TZID=Europe/Copenhagen:20270617T173000
DTSTAMP:20260421T165350
CREATED:20250505T095126Z
LAST-MODIFIED:20250905T085924Z
UID:10046093-1813233600-1813253400@vorescosmos.dk
SUMMARY:Café Cosmos
DESCRIPTION:
URL:https://vorescosmos.dk/begivenhed/cafe-cosmos/2027-06-17/
LOCATION:Fælleskøkkenet\, Søndergade 11\, Viby Sj.\, 4130\, Danmark
CATEGORIES:Lokale bookninger
END:VEVENT
BEGIN:VEVENT
DTSTART;TZID=Europe/Copenhagen:20270621T120000
DTEND;TZID=Europe/Copenhagen:20270621T173000
DTSTAMP:20260421T165350
CREATED:20250505T095126Z
LAST-MODIFIED:20250905T085924Z
UID:10044974-1813579200-1813599000@vorescosmos.dk
SUMMARY:Café Cosmos
DESCRIPTION:
URL:https://vorescosmos.dk/begivenhed/cafe-cosmos/2027-06-21/
LOCATION:Fælleskøkkenet\, Søndergade 11\, Viby Sj.\, 4130\, Danmark
CATEGORIES:Lokale bookninger
END:VEVENT
BEGIN:VEVENT
DTSTART;TZID=Europe/Copenhagen:20270622T120000
DTEND;TZID=Europe/Copenhagen:20270622T173000
DTSTAMP:20260421T165350
CREATED:20250505T095126Z
LAST-MODIFIED:20250905T085924Z
UID:10044975-1813665600-1813685400@vorescosmos.dk
SUMMARY:Café Cosmos
DESCRIPTION:
URL:https://vorescosmos.dk/begivenhed/cafe-cosmos/2027-06-22/
LOCATION:Fælleskøkkenet\, Søndergade 11\, Viby Sj.\, 4130\, Danmark
CATEGORIES:Lokale bookninger
END:VEVENT
BEGIN:VEVENT
DTSTART;TZID=Europe/Copenhagen:20270623T120000
DTEND;TZID=Europe/Copenhagen:20270623T173000
DTSTAMP:20260421T165350
CREATED:20250505T095126Z
LAST-MODIFIED:20250905T085924Z
UID:10044976-1813752000-1813771800@vorescosmos.dk
SUMMARY:Café Cosmos
DESCRIPTION:
URL:https://vorescosmos.dk/begivenhed/cafe-cosmos/2027-06-23/
LOCATION:Fælleskøkkenet\, Søndergade 11\, Viby Sj.\, 4130\, Danmark
CATEGORIES:Lokale bookninger
END:VEVENT
BEGIN:VEVENT
DTSTART;TZID=Europe/Copenhagen:20270624T120000
DTEND;TZID=Europe/Copenhagen:20270624T173000
DTSTAMP:20260421T165350
CREATED:20250505T095126Z
LAST-MODIFIED:20250905T085924Z
UID:10046094-1813838400-1813858200@vorescosmos.dk
SUMMARY:Café Cosmos
DESCRIPTION:
URL:https://vorescosmos.dk/begivenhed/cafe-cosmos/2027-06-24/
LOCATION:Fælleskøkkenet\, Søndergade 11\, Viby Sj.\, 4130\, Danmark
CATEGORIES:Lokale bookninger
END:VEVENT
BEGIN:VEVENT
DTSTART;TZID=Europe/Copenhagen:20270628T120000
DTEND;TZID=Europe/Copenhagen:20270628T173000
DTSTAMP:20260421T165350
CREATED:20250505T095126Z
LAST-MODIFIED:20250905T085924Z
UID:10044978-1814184000-1814203800@vorescosmos.dk
SUMMARY:Café Cosmos
DESCRIPTION:
URL:https://vorescosmos.dk/begivenhed/cafe-cosmos/2027-06-28/
LOCATION:Fælleskøkkenet\, Søndergade 11\, Viby Sj.\, 4130\, Danmark
CATEGORIES:Lokale bookninger
END:VEVENT
BEGIN:VEVENT
DTSTART;TZID=Europe/Copenhagen:20270629T120000
DTEND;TZID=Europe/Copenhagen:20270629T173000
DTSTAMP:20260421T165350
CREATED:20250505T095126Z
LAST-MODIFIED:20250905T085924Z
UID:10044979-1814270400-1814290200@vorescosmos.dk
SUMMARY:Café Cosmos
DESCRIPTION:
URL:https://vorescosmos.dk/begivenhed/cafe-cosmos/2027-06-29/
LOCATION:Fælleskøkkenet\, Søndergade 11\, Viby Sj.\, 4130\, Danmark
CATEGORIES:Lokale bookninger
END:VEVENT
BEGIN:VEVENT
DTSTART;TZID=Europe/Copenhagen:20270630T120000
DTEND;TZID=Europe/Copenhagen:20270630T173000
DTSTAMP:20260421T165350
CREATED:20250505T095126Z
LAST-MODIFIED:20250905T085924Z
UID:10044980-1814356800-1814376600@vorescosmos.dk
SUMMARY:Café Cosmos
DESCRIPTION:
URL:https://vorescosmos.dk/begivenhed/cafe-cosmos/2027-06-30/
LOCATION:Fælleskøkkenet\, Søndergade 11\, Viby Sj.\, 4130\, Danmark
CATEGORIES:Lokale bookninger
END:VEVENT
BEGIN:VEVENT
DTSTART;TZID=Europe/Copenhagen:20270701T120000
DTEND;TZID=Europe/Copenhagen:20270701T173000
DTSTAMP:20260421T165350
CREATED:20250505T095126Z
LAST-MODIFIED:20250905T085924Z
UID:10046095-1814443200-1814463000@vorescosmos.dk
SUMMARY:Café Cosmos
DESCRIPTION:
URL:https://vorescosmos.dk/begivenhed/cafe-cosmos/2027-07-01/
LOCATION:Fælleskøkkenet\, Søndergade 11\, Viby Sj.\, 4130\, Danmark
CATEGORIES:Lokale bookninger
END:VEVENT
BEGIN:VEVENT
DTSTART;TZID=Europe/Copenhagen:20270705T120000
DTEND;TZID=Europe/Copenhagen:20270705T173000
DTSTAMP:20260421T165350
CREATED:20250505T095126Z
LAST-MODIFIED:20250905T085924Z
UID:10044982-1814788800-1814808600@vorescosmos.dk
SUMMARY:Café Cosmos
DESCRIPTION:
URL:https://vorescosmos.dk/begivenhed/cafe-cosmos/2027-07-05/
LOCATION:Fælleskøkkenet\, Søndergade 11\, Viby Sj.\, 4130\, Danmark
CATEGORIES:Lokale bookninger
END:VEVENT
BEGIN:VEVENT
DTSTART;TZID=Europe/Copenhagen:20270706T120000
DTEND;TZID=Europe/Copenhagen:20270706T173000
DTSTAMP:20260421T165350
CREATED:20250505T095126Z
LAST-MODIFIED:20250905T085924Z
UID:10044983-1814875200-1814895000@vorescosmos.dk
SUMMARY:Café Cosmos
DESCRIPTION:
URL:https://vorescosmos.dk/begivenhed/cafe-cosmos/2027-07-06/
LOCATION:Fælleskøkkenet\, Søndergade 11\, Viby Sj.\, 4130\, Danmark
CATEGORIES:Lokale bookninger
END:VEVENT
BEGIN:VEVENT
DTSTART;TZID=Europe/Copenhagen:20270707T120000
DTEND;TZID=Europe/Copenhagen:20270707T173000
DTSTAMP:20260421T165350
CREATED:20250505T095126Z
LAST-MODIFIED:20250905T085924Z
UID:10044984-1814961600-1814981400@vorescosmos.dk
SUMMARY:Café Cosmos
DESCRIPTION:
URL:https://vorescosmos.dk/begivenhed/cafe-cosmos/2027-07-07/
LOCATION:Fælleskøkkenet\, Søndergade 11\, Viby Sj.\, 4130\, Danmark
CATEGORIES:Lokale bookninger
END:VEVENT
BEGIN:VEVENT
DTSTART;TZID=Europe/Copenhagen:20270708T120000
DTEND;TZID=Europe/Copenhagen:20270708T173000
DTSTAMP:20260421T165350
CREATED:20250505T095126Z
LAST-MODIFIED:20250905T085924Z
UID:10046096-1815048000-1815067800@vorescosmos.dk
SUMMARY:Café Cosmos
DESCRIPTION:
URL:https://vorescosmos.dk/begivenhed/cafe-cosmos/2027-07-08/
LOCATION:Fælleskøkkenet\, Søndergade 11\, Viby Sj.\, 4130\, Danmark
CATEGORIES:Lokale bookninger
END:VEVENT
BEGIN:VEVENT
DTSTART;TZID=Europe/Copenhagen:20270712T120000
DTEND;TZID=Europe/Copenhagen:20270712T173000
DTSTAMP:20260421T165350
CREATED:20250505T095126Z
LAST-MODIFIED:20250905T085924Z
UID:10044986-1815393600-1815413400@vorescosmos.dk
SUMMARY:Café Cosmos
DESCRIPTION:
URL:https://vorescosmos.dk/begivenhed/cafe-cosmos/2027-07-12/
LOCATION:Fælleskøkkenet\, Søndergade 11\, Viby Sj.\, 4130\, Danmark
CATEGORIES:Lokale bookninger
END:VEVENT
BEGIN:VEVENT
DTSTART;TZID=Europe/Copenhagen:20270713T120000
DTEND;TZID=Europe/Copenhagen:20270713T173000
DTSTAMP:20260421T165350
CREATED:20250505T095126Z
LAST-MODIFIED:20250905T085924Z
UID:10044987-1815480000-1815499800@vorescosmos.dk
SUMMARY:Café Cosmos
DESCRIPTION:
URL:https://vorescosmos.dk/begivenhed/cafe-cosmos/2027-07-13/
LOCATION:Fælleskøkkenet\, Søndergade 11\, Viby Sj.\, 4130\, Danmark
CATEGORIES:Lokale bookninger
END:VEVENT
BEGIN:VEVENT
DTSTART;TZID=Europe/Copenhagen:20270714T120000
DTEND;TZID=Europe/Copenhagen:20270714T173000
DTSTAMP:20260421T165350
CREATED:20250505T095126Z
LAST-MODIFIED:20250905T085924Z
UID:10044988-1815566400-1815586200@vorescosmos.dk
SUMMARY:Café Cosmos
DESCRIPTION:
URL:https://vorescosmos.dk/begivenhed/cafe-cosmos/2027-07-14/
LOCATION:Fælleskøkkenet\, Søndergade 11\, Viby Sj.\, 4130\, Danmark
CATEGORIES:Lokale bookninger
END:VEVENT
BEGIN:VEVENT
DTSTART;TZID=Europe/Copenhagen:20270715T120000
DTEND;TZID=Europe/Copenhagen:20270715T173000
DTSTAMP:20260421T165350
CREATED:20250505T095126Z
LAST-MODIFIED:20250905T085924Z
UID:10046097-1815652800-1815672600@vorescosmos.dk
SUMMARY:Café Cosmos
DESCRIPTION:
URL:https://vorescosmos.dk/begivenhed/cafe-cosmos/2027-07-15/
LOCATION:Fælleskøkkenet\, Søndergade 11\, Viby Sj.\, 4130\, Danmark
CATEGORIES:Lokale bookninger
END:VEVENT
BEGIN:VEVENT
DTSTART;TZID=Europe/Copenhagen:20270719T120000
DTEND;TZID=Europe/Copenhagen:20270719T173000
DTSTAMP:20260421T165350
CREATED:20250505T095126Z
LAST-MODIFIED:20250905T085924Z
UID:10044990-1815998400-1816018200@vorescosmos.dk
SUMMARY:Café Cosmos
DESCRIPTION:
URL:https://vorescosmos.dk/begivenhed/cafe-cosmos/2027-07-19/
LOCATION:Fælleskøkkenet\, Søndergade 11\, Viby Sj.\, 4130\, Danmark
CATEGORIES:Lokale bookninger
END:VEVENT
BEGIN:VEVENT
DTSTART;TZID=Europe/Copenhagen:20270720T120000
DTEND;TZID=Europe/Copenhagen:20270720T173000
DTSTAMP:20260421T165350
CREATED:20250505T095126Z
LAST-MODIFIED:20250905T085924Z
UID:10044991-1816084800-1816104600@vorescosmos.dk
SUMMARY:Café Cosmos
DESCRIPTION:
URL:https://vorescosmos.dk/begivenhed/cafe-cosmos/2027-07-20/
LOCATION:Fælleskøkkenet\, Søndergade 11\, Viby Sj.\, 4130\, Danmark
CATEGORIES:Lokale bookninger
END:VEVENT
BEGIN:VEVENT
DTSTART;TZID=Europe/Copenhagen:20270721T120000
DTEND;TZID=Europe/Copenhagen:20270721T173000
DTSTAMP:20260421T165350
CREATED:20250505T095126Z
LAST-MODIFIED:20250905T085924Z
UID:10044992-1816171200-1816191000@vorescosmos.dk
SUMMARY:Café Cosmos
DESCRIPTION:
URL:https://vorescosmos.dk/begivenhed/cafe-cosmos/2027-07-21/
LOCATION:Fælleskøkkenet\, Søndergade 11\, Viby Sj.\, 4130\, Danmark
CATEGORIES:Lokale bookninger
END:VEVENT
BEGIN:VEVENT
DTSTART;TZID=Europe/Copenhagen:20270722T120000
DTEND;TZID=Europe/Copenhagen:20270722T173000
DTSTAMP:20260421T165350
CREATED:20250505T095126Z
LAST-MODIFIED:20250905T085924Z
UID:10046098-1816257600-1816277400@vorescosmos.dk
SUMMARY:Café Cosmos
DESCRIPTION:
URL:https://vorescosmos.dk/begivenhed/cafe-cosmos/2027-07-22/
LOCATION:Fælleskøkkenet\, Søndergade 11\, Viby Sj.\, 4130\, Danmark
CATEGORIES:Lokale bookninger
END:VEVENT
BEGIN:VEVENT
DTSTART;TZID=Europe/Copenhagen:20270726T120000
DTEND;TZID=Europe/Copenhagen:20270726T173000
DTSTAMP:20260421T165350
CREATED:20250505T095126Z
LAST-MODIFIED:20250905T085924Z
UID:10044994-1816603200-1816623000@vorescosmos.dk
SUMMARY:Café Cosmos
DESCRIPTION:
URL:https://vorescosmos.dk/begivenhed/cafe-cosmos/2027-07-26/
LOCATION:Fælleskøkkenet\, Søndergade 11\, Viby Sj.\, 4130\, Danmark
CATEGORIES:Lokale bookninger
END:VEVENT
BEGIN:VEVENT
DTSTART;TZID=Europe/Copenhagen:20270727T120000
DTEND;TZID=Europe/Copenhagen:20270727T173000
DTSTAMP:20260421T165350
CREATED:20250505T095126Z
LAST-MODIFIED:20250905T085924Z
UID:10044995-1816689600-1816709400@vorescosmos.dk
SUMMARY:Café Cosmos
DESCRIPTION:
URL:https://vorescosmos.dk/begivenhed/cafe-cosmos/2027-07-27/
LOCATION:Fælleskøkkenet\, Søndergade 11\, Viby Sj.\, 4130\, Danmark
CATEGORIES:Lokale bookninger
END:VEVENT
BEGIN:VEVENT
DTSTART;TZID=Europe/Copenhagen:20270728T120000
DTEND;TZID=Europe/Copenhagen:20270728T173000
DTSTAMP:20260421T165350
CREATED:20250505T095126Z
LAST-MODIFIED:20250905T085924Z
UID:10044996-1816776000-1816795800@vorescosmos.dk
SUMMARY:Café Cosmos
DESCRIPTION:
URL:https://vorescosmos.dk/begivenhed/cafe-cosmos/2027-07-28/
LOCATION:Fælleskøkkenet\, Søndergade 11\, Viby Sj.\, 4130\, Danmark
CATEGORIES:Lokale bookninger
END:VEVENT
BEGIN:VEVENT
DTSTART;TZID=Europe/Copenhagen:20270729T120000
DTEND;TZID=Europe/Copenhagen:20270729T173000
DTSTAMP:20260421T165350
CREATED:20250505T095126Z
LAST-MODIFIED:20250905T085924Z
UID:10046099-1816862400-1816882200@vorescosmos.dk
SUMMARY:Café Cosmos
DESCRIPTION:
URL:https://vorescosmos.dk/begivenhed/cafe-cosmos/2027-07-29/
LOCATION:Fælleskøkkenet\, Søndergade 11\, Viby Sj.\, 4130\, Danmark
CATEGORIES:Lokale bookninger
END:VEVENT
BEGIN:VEVENT
DTSTART;TZID=Europe/Copenhagen:20270802T120000
DTEND;TZID=Europe/Copenhagen:20270802T173000
DTSTAMP:20260421T165350
CREATED:20250505T095126Z
LAST-MODIFIED:20250905T085924Z
UID:10044998-1817208000-1817227800@vorescosmos.dk
SUMMARY:Café Cosmos
DESCRIPTION:
URL:https://vorescosmos.dk/begivenhed/cafe-cosmos/2027-08-02/
LOCATION:Fælleskøkkenet\, Søndergade 11\, Viby Sj.\, 4130\, Danmark
CATEGORIES:Lokale bookninger
END:VEVENT
END:VCALENDAR