BEGIN:VCALENDAR
VERSION:2.0
PRODID:-//Vores Cosmos - ECPv6.15.20//NONSGML v1.0//EN
CALSCALE:GREGORIAN
METHOD:PUBLISH
X-WR-CALNAME:Vores Cosmos
X-ORIGINAL-URL:https://vorescosmos.dk
X-WR-CALDESC:Begivenheder for Vores Cosmos
REFRESH-INTERVAL;VALUE=DURATION:PT1H
X-Robots-Tag:noindex
X-PUBLISHED-TTL:PT1H
BEGIN:VTIMEZONE
TZID:Europe/Copenhagen
BEGIN:DAYLIGHT
TZOFFSETFROM:+0100
TZOFFSETTO:+0200
TZNAME:CEST
DTSTART:20250330T010000
END:DAYLIGHT
BEGIN:STANDARD
TZOFFSETFROM:+0200
TZOFFSETTO:+0100
TZNAME:CET
DTSTART:20251026T010000
END:STANDARD
BEGIN:DAYLIGHT
TZOFFSETFROM:+0100
TZOFFSETTO:+0200
TZNAME:CEST
DTSTART:20260329T010000
END:DAYLIGHT
BEGIN:STANDARD
TZOFFSETFROM:+0200
TZOFFSETTO:+0100
TZNAME:CET
DTSTART:20261025T010000
END:STANDARD
BEGIN:DAYLIGHT
TZOFFSETFROM:+0100
TZOFFSETTO:+0200
TZNAME:CEST
DTSTART:20270328T010000
END:DAYLIGHT
BEGIN:STANDARD
TZOFFSETFROM:+0200
TZOFFSETTO:+0100
TZNAME:CET
DTSTART:20271031T010000
END:STANDARD
END:VTIMEZONE
BEGIN:VEVENT
DTSTART;TZID=Europe/Copenhagen:20260319T120000
DTEND;TZID=Europe/Copenhagen:20260319T173000
DTSTAMP:20260421T172904
CREATED:20250505T095126Z
LAST-MODIFIED:20250905T085924Z
UID:10046028-1773921600-1773941400@vorescosmos.dk
SUMMARY:Café Cosmos
DESCRIPTION:
URL:https://vorescosmos.dk/begivenhed/cafe-cosmos/2026-03-19/
LOCATION:Fælleskøkkenet\, Søndergade 11\, Viby Sj.\, 4130\, Danmark
CATEGORIES:Lokale bookninger
END:VEVENT
BEGIN:VEVENT
DTSTART;TZID=Europe/Copenhagen:20260318T120000
DTEND;TZID=Europe/Copenhagen:20260318T173000
DTSTAMP:20260421T172904
CREATED:20250505T095126Z
LAST-MODIFIED:20250905T085924Z
UID:10044712-1773835200-1773855000@vorescosmos.dk
SUMMARY:Café Cosmos
DESCRIPTION:
URL:https://vorescosmos.dk/begivenhed/cafe-cosmos/2026-03-18/
LOCATION:Fælleskøkkenet\, Søndergade 11\, Viby Sj.\, 4130\, Danmark
CATEGORIES:Lokale bookninger
END:VEVENT
BEGIN:VEVENT
DTSTART;TZID=Europe/Copenhagen:20260317T120000
DTEND;TZID=Europe/Copenhagen:20260317T173000
DTSTAMP:20260421T172904
CREATED:20250505T095126Z
LAST-MODIFIED:20250905T085924Z
UID:10044711-1773748800-1773768600@vorescosmos.dk
SUMMARY:Café Cosmos
DESCRIPTION:
URL:https://vorescosmos.dk/begivenhed/cafe-cosmos/2026-03-17/
LOCATION:Fælleskøkkenet\, Søndergade 11\, Viby Sj.\, 4130\, Danmark
CATEGORIES:Lokale bookninger
END:VEVENT
BEGIN:VEVENT
DTSTART;TZID=Europe/Copenhagen:20260316T120000
DTEND;TZID=Europe/Copenhagen:20260316T173000
DTSTAMP:20260421T172904
CREATED:20250505T095126Z
LAST-MODIFIED:20250905T085924Z
UID:10044710-1773662400-1773682200@vorescosmos.dk
SUMMARY:Café Cosmos
DESCRIPTION:
URL:https://vorescosmos.dk/begivenhed/cafe-cosmos/2026-03-16/
LOCATION:Fælleskøkkenet\, Søndergade 11\, Viby Sj.\, 4130\, Danmark
CATEGORIES:Lokale bookninger
END:VEVENT
BEGIN:VEVENT
DTSTART;TZID=Europe/Copenhagen:20260314T103000
DTEND;TZID=Europe/Copenhagen:20260314T143000
DTSTAMP:20260421T172904
CREATED:20260216T102418Z
LAST-MODIFIED:20260216T102419Z
UID:10046761-1773484200-1773498600@vorescosmos.dk
SUMMARY:Café Cosmos
DESCRIPTION:
URL:https://vorescosmos.dk/begivenhed/cafe-cosmos-6/
LOCATION:Fælleskøkkenet\, Søndergade 11\, Viby Sj.\, 4130\, Danmark
CATEGORIES:Lokale bookninger
END:VEVENT
BEGIN:VEVENT
DTSTART;TZID=Europe/Copenhagen:20260313T110000
DTEND;TZID=Europe/Copenhagen:20260313T150000
DTSTAMP:20260421T172904
CREATED:20260102T120140Z
LAST-MODIFIED:20260102T120140Z
UID:10046636-1773399600-1773414000@vorescosmos.dk
SUMMARY:CosmosGryden
DESCRIPTION:
URL:https://vorescosmos.dk/begivenhed/cosmosgryden-12/2026-03-13/
LOCATION:Fælleskøkkenet\, Søndergade 11\, Viby Sj.\, 4130\, Danmark
CATEGORIES:Lokale bookninger
END:VEVENT
BEGIN:VEVENT
DTSTART;TZID=Europe/Copenhagen:20260312T180000
DTEND;TZID=Europe/Copenhagen:20260312T230000
DTSTAMP:20260421T172904
CREATED:20251103T115242Z
LAST-MODIFIED:20260302T120100Z
UID:10046461-1773338400-1773356400@vorescosmos.dk
SUMMARY:Ramsø Vinklub
DESCRIPTION:
URL:https://vorescosmos.dk/begivenhed/ramsoe-vinklub-27/2026-03-12/
LOCATION:Fælleskøkkenet\, Søndergade 11\, Viby Sj.\, 4130\, Danmark
CATEGORIES:Lokale bookninger
END:VEVENT
BEGIN:VEVENT
DTSTART;TZID=Europe/Copenhagen:20260312T120000
DTEND;TZID=Europe/Copenhagen:20260312T173000
DTSTAMP:20260421T172904
CREATED:20250505T095126Z
LAST-MODIFIED:20250905T085924Z
UID:10046027-1773316800-1773336600@vorescosmos.dk
SUMMARY:Café Cosmos
DESCRIPTION:
URL:https://vorescosmos.dk/begivenhed/cafe-cosmos/2026-03-12/
LOCATION:Fælleskøkkenet\, Søndergade 11\, Viby Sj.\, 4130\, Danmark
CATEGORIES:Lokale bookninger
END:VEVENT
BEGIN:VEVENT
DTSTART;TZID=Europe/Copenhagen:20260311T120000
DTEND;TZID=Europe/Copenhagen:20260311T173000
DTSTAMP:20260421T172904
CREATED:20250505T095126Z
LAST-MODIFIED:20250905T085924Z
UID:10044708-1773230400-1773250200@vorescosmos.dk
SUMMARY:Café Cosmos
DESCRIPTION:
URL:https://vorescosmos.dk/begivenhed/cafe-cosmos/2026-03-11/
LOCATION:Fælleskøkkenet\, Søndergade 11\, Viby Sj.\, 4130\, Danmark
CATEGORIES:Lokale bookninger
END:VEVENT
BEGIN:VEVENT
DTSTART;TZID=Europe/Copenhagen:20260310T120000
DTEND;TZID=Europe/Copenhagen:20260310T173000
DTSTAMP:20260421T172904
CREATED:20250505T095126Z
LAST-MODIFIED:20250905T085924Z
UID:10044707-1773144000-1773163800@vorescosmos.dk
SUMMARY:Café Cosmos
DESCRIPTION:
URL:https://vorescosmos.dk/begivenhed/cafe-cosmos/2026-03-10/
LOCATION:Fælleskøkkenet\, Søndergade 11\, Viby Sj.\, 4130\, Danmark
CATEGORIES:Lokale bookninger
END:VEVENT
BEGIN:VEVENT
DTSTART;TZID=Europe/Copenhagen:20260309T120000
DTEND;TZID=Europe/Copenhagen:20260309T173000
DTSTAMP:20260421T172904
CREATED:20250505T095126Z
LAST-MODIFIED:20250905T085924Z
UID:10044706-1773057600-1773077400@vorescosmos.dk
SUMMARY:Café Cosmos
DESCRIPTION:
URL:https://vorescosmos.dk/begivenhed/cafe-cosmos/2026-03-09/
LOCATION:Fælleskøkkenet\, Søndergade 11\, Viby Sj.\, 4130\, Danmark
CATEGORIES:Lokale bookninger
END:VEVENT
BEGIN:VEVENT
DTSTART;TZID=Europe/Copenhagen:20260307T103000
DTEND;TZID=Europe/Copenhagen:20260307T143000
DTSTAMP:20260421T172904
CREATED:20260216T102256Z
LAST-MODIFIED:20260216T102256Z
UID:10046760-1772879400-1772893800@vorescosmos.dk
SUMMARY:Café Cosmos
DESCRIPTION:
URL:https://vorescosmos.dk/begivenhed/cafe-cosmos-5/
LOCATION:Fælleskøkkenet\, Søndergade 11\, Viby Sj.\, 4130\, Danmark
CATEGORIES:Lokale bookninger
END:VEVENT
BEGIN:VEVENT
DTSTART;TZID=Europe/Copenhagen:20260305T120000
DTEND;TZID=Europe/Copenhagen:20260305T173000
DTSTAMP:20260421T172904
CREATED:20250505T095126Z
LAST-MODIFIED:20250905T085924Z
UID:10046026-1772712000-1772731800@vorescosmos.dk
SUMMARY:Café Cosmos
DESCRIPTION:
URL:https://vorescosmos.dk/begivenhed/cafe-cosmos/2026-03-05/
LOCATION:Fælleskøkkenet\, Søndergade 11\, Viby Sj.\, 4130\, Danmark
CATEGORIES:Lokale bookninger
END:VEVENT
BEGIN:VEVENT
DTSTART;TZID=Europe/Copenhagen:20260304T120000
DTEND;TZID=Europe/Copenhagen:20260304T173000
DTSTAMP:20260421T172904
CREATED:20250505T095126Z
LAST-MODIFIED:20250905T085924Z
UID:10044704-1772625600-1772645400@vorescosmos.dk
SUMMARY:Café Cosmos
DESCRIPTION:
URL:https://vorescosmos.dk/begivenhed/cafe-cosmos/2026-03-04/
LOCATION:Fælleskøkkenet\, Søndergade 11\, Viby Sj.\, 4130\, Danmark
CATEGORIES:Lokale bookninger
END:VEVENT
BEGIN:VEVENT
DTSTART;TZID=Europe/Copenhagen:20260303T120000
DTEND;TZID=Europe/Copenhagen:20260303T173000
DTSTAMP:20260421T172904
CREATED:20250505T095126Z
LAST-MODIFIED:20250905T085924Z
UID:10044703-1772539200-1772559000@vorescosmos.dk
SUMMARY:Café Cosmos
DESCRIPTION:
URL:https://vorescosmos.dk/begivenhed/cafe-cosmos/2026-03-03/
LOCATION:Fælleskøkkenet\, Søndergade 11\, Viby Sj.\, 4130\, Danmark
CATEGORIES:Lokale bookninger
END:VEVENT
BEGIN:VEVENT
DTSTART;TZID=Europe/Copenhagen:20260302T120000
DTEND;TZID=Europe/Copenhagen:20260302T173000
DTSTAMP:20260421T172904
CREATED:20250505T095126Z
LAST-MODIFIED:20250905T085924Z
UID:10044702-1772452800-1772472600@vorescosmos.dk
SUMMARY:Café Cosmos
DESCRIPTION:
URL:https://vorescosmos.dk/begivenhed/cafe-cosmos/2026-03-02/
LOCATION:Fælleskøkkenet\, Søndergade 11\, Viby Sj.\, 4130\, Danmark
CATEGORIES:Lokale bookninger
END:VEVENT
BEGIN:VEVENT
DTSTART;TZID=Europe/Copenhagen:20260228T103000
DTEND;TZID=Europe/Copenhagen:20260228T143000
DTSTAMP:20260421T172904
CREATED:20260216T100856Z
LAST-MODIFIED:20260216T100857Z
UID:10046759-1772274600-1772289000@vorescosmos.dk
SUMMARY:Café Cosmos
DESCRIPTION:
URL:https://vorescosmos.dk/begivenhed/cafe-cosmos-4/
LOCATION:Fælleskøkkenet\, Søndergade 11\, Viby Sj.\, 4130\, Danmark
CATEGORIES:Lokale bookninger
END:VEVENT
BEGIN:VEVENT
DTSTART;TZID=Europe/Copenhagen:20260227T170000
DTEND;TZID=Europe/Copenhagen:20260227T230000
DTSTAMP:20260421T172904
CREATED:20251201T123525Z
LAST-MODIFIED:20251201T123526Z
UID:10046585-1772211600-1772233200@vorescosmos.dk
SUMMARY:4. musikformat
DESCRIPTION:
URL:https://vorescosmos.dk/begivenhed/4-musikformat-21/
LOCATION:Fælleskøkkenet\, Søndergade 11\, Viby Sj.\, 4130\, Danmark
CATEGORIES:Lokale bookninger
END:VEVENT
BEGIN:VEVENT
DTSTART;TZID=Europe/Copenhagen:20260226T120000
DTEND;TZID=Europe/Copenhagen:20260226T173000
DTSTAMP:20260421T172904
CREATED:20250505T095126Z
LAST-MODIFIED:20250905T085924Z
UID:10046025-1772107200-1772127000@vorescosmos.dk
SUMMARY:Café Cosmos
DESCRIPTION:
URL:https://vorescosmos.dk/begivenhed/cafe-cosmos/2026-02-26/
LOCATION:Fælleskøkkenet\, Søndergade 11\, Viby Sj.\, 4130\, Danmark
CATEGORIES:Lokale bookninger
END:VEVENT
BEGIN:VEVENT
DTSTART;TZID=Europe/Copenhagen:20260225T180000
DTEND;TZID=Europe/Copenhagen:20260225T230000
DTSTAMP:20260421T172904
CREATED:20251103T115242Z
LAST-MODIFIED:20260302T120100Z
UID:10046460-1772042400-1772060400@vorescosmos.dk
SUMMARY:Ramsø Vinklub
DESCRIPTION:
URL:https://vorescosmos.dk/begivenhed/ramsoe-vinklub-27/2026-02-25/
LOCATION:Fælleskøkkenet\, Søndergade 11\, Viby Sj.\, 4130\, Danmark
CATEGORIES:Lokale bookninger
END:VEVENT
BEGIN:VEVENT
DTSTART;TZID=Europe/Copenhagen:20260225T120000
DTEND;TZID=Europe/Copenhagen:20260225T173000
DTSTAMP:20260421T172904
CREATED:20250505T095126Z
LAST-MODIFIED:20250905T085924Z
UID:10044700-1772020800-1772040600@vorescosmos.dk
SUMMARY:Café Cosmos
DESCRIPTION:
URL:https://vorescosmos.dk/begivenhed/cafe-cosmos/2026-02-25/
LOCATION:Fælleskøkkenet\, Søndergade 11\, Viby Sj.\, 4130\, Danmark
CATEGORIES:Lokale bookninger
END:VEVENT
BEGIN:VEVENT
DTSTART;TZID=Europe/Copenhagen:20260224T120000
DTEND;TZID=Europe/Copenhagen:20260224T173000
DTSTAMP:20260421T172904
CREATED:20250505T095126Z
LAST-MODIFIED:20250905T085924Z
UID:10044699-1771934400-1771954200@vorescosmos.dk
SUMMARY:Café Cosmos
DESCRIPTION:
URL:https://vorescosmos.dk/begivenhed/cafe-cosmos/2026-02-24/
LOCATION:Fælleskøkkenet\, Søndergade 11\, Viby Sj.\, 4130\, Danmark
CATEGORIES:Lokale bookninger
END:VEVENT
BEGIN:VEVENT
DTSTART;TZID=Europe/Copenhagen:20260223T120000
DTEND;TZID=Europe/Copenhagen:20260223T173000
DTSTAMP:20260421T172904
CREATED:20250505T095126Z
LAST-MODIFIED:20250905T085924Z
UID:10044698-1771848000-1771867800@vorescosmos.dk
SUMMARY:Café Cosmos
DESCRIPTION:
URL:https://vorescosmos.dk/begivenhed/cafe-cosmos/2026-02-23/
LOCATION:Fælleskøkkenet\, Søndergade 11\, Viby Sj.\, 4130\, Danmark
CATEGORIES:Lokale bookninger
END:VEVENT
BEGIN:VEVENT
DTSTART;TZID=Europe/Copenhagen:20260221T103000
DTEND;TZID=Europe/Copenhagen:20260221T143000
DTSTAMP:20260421T172904
CREATED:20260216T100719Z
LAST-MODIFIED:20260216T100719Z
UID:10046758-1771669800-1771684200@vorescosmos.dk
SUMMARY:Café Cosmos
DESCRIPTION:
URL:https://vorescosmos.dk/begivenhed/cafe-cosmos-3/
LOCATION:Fælleskøkkenet\, Søndergade 11\, Viby Sj.\, 4130\, Danmark
CATEGORIES:Lokale bookninger
END:VEVENT
BEGIN:VEVENT
DTSTART;TZID=Europe/Copenhagen:20260219T120000
DTEND;TZID=Europe/Copenhagen:20260219T173000
DTSTAMP:20260421T172904
CREATED:20250505T095126Z
LAST-MODIFIED:20250905T085924Z
UID:10046024-1771502400-1771522200@vorescosmos.dk
SUMMARY:Café Cosmos
DESCRIPTION:
URL:https://vorescosmos.dk/begivenhed/cafe-cosmos/2026-02-19/
LOCATION:Fælleskøkkenet\, Søndergade 11\, Viby Sj.\, 4130\, Danmark
CATEGORIES:Lokale bookninger
END:VEVENT
BEGIN:VEVENT
DTSTART;TZID=Europe/Copenhagen:20260218T180000
DTEND;TZID=Europe/Copenhagen:20260218T220000
DTSTAMP:20260421T172904
CREATED:20251201T144429Z
LAST-MODIFIED:20251201T144429Z
UID:10046588-1771437600-1771452000@vorescosmos.dk
SUMMARY:KulturCosmos
DESCRIPTION:
URL:https://vorescosmos.dk/begivenhed/kulturcosmos-48/
LOCATION:Fælleskøkkenet\, Søndergade 11\, Viby Sj.\, 4130\, Danmark
CATEGORIES:Lokale bookninger
END:VEVENT
BEGIN:VEVENT
DTSTART;TZID=Europe/Copenhagen:20260218T120000
DTEND;TZID=Europe/Copenhagen:20260218T173000
DTSTAMP:20260421T172904
CREATED:20250505T095126Z
LAST-MODIFIED:20250905T085924Z
UID:10044696-1771416000-1771435800@vorescosmos.dk
SUMMARY:Café Cosmos
DESCRIPTION:
URL:https://vorescosmos.dk/begivenhed/cafe-cosmos/2026-02-18/
LOCATION:Fælleskøkkenet\, Søndergade 11\, Viby Sj.\, 4130\, Danmark
CATEGORIES:Lokale bookninger
END:VEVENT
BEGIN:VEVENT
DTSTART;TZID=Europe/Copenhagen:20260217T120000
DTEND;TZID=Europe/Copenhagen:20260217T173000
DTSTAMP:20260421T172904
CREATED:20250505T095126Z
LAST-MODIFIED:20250905T085924Z
UID:10044695-1771329600-1771349400@vorescosmos.dk
SUMMARY:Café Cosmos
DESCRIPTION:
URL:https://vorescosmos.dk/begivenhed/cafe-cosmos/2026-02-17/
LOCATION:Fælleskøkkenet\, Søndergade 11\, Viby Sj.\, 4130\, Danmark
CATEGORIES:Lokale bookninger
END:VEVENT
BEGIN:VEVENT
DTSTART;TZID=Europe/Copenhagen:20260216T120000
DTEND;TZID=Europe/Copenhagen:20260216T173000
DTSTAMP:20260421T172904
CREATED:20250505T095126Z
LAST-MODIFIED:20250905T085924Z
UID:10044694-1771243200-1771263000@vorescosmos.dk
SUMMARY:Café Cosmos
DESCRIPTION:
URL:https://vorescosmos.dk/begivenhed/cafe-cosmos/2026-02-16/
LOCATION:Fælleskøkkenet\, Søndergade 11\, Viby Sj.\, 4130\, Danmark
CATEGORIES:Lokale bookninger
END:VEVENT
BEGIN:VEVENT
DTSTART;TZID=Europe/Copenhagen:20260213T110000
DTEND;TZID=Europe/Copenhagen:20260213T150000
DTSTAMP:20260421T172904
CREATED:20260102T120140Z
LAST-MODIFIED:20260102T120140Z
UID:10046635-1770980400-1770994800@vorescosmos.dk
SUMMARY:CosmosGryden
DESCRIPTION:
URL:https://vorescosmos.dk/begivenhed/cosmosgryden-12/2026-02-13/
LOCATION:Fælleskøkkenet\, Søndergade 11\, Viby Sj.\, 4130\, Danmark
CATEGORIES:Lokale bookninger
END:VEVENT
END:VCALENDAR