BEGIN:VCALENDAR
VERSION:2.0
PRODID:-//Vores Cosmos - ECPv6.15.20//NONSGML v1.0//EN
CALSCALE:GREGORIAN
METHOD:PUBLISH
X-WR-CALNAME:Vores Cosmos
X-ORIGINAL-URL:https://vorescosmos.dk
X-WR-CALDESC:Begivenheder for Vores Cosmos
REFRESH-INTERVAL;VALUE=DURATION:PT1H
X-Robots-Tag:noindex
X-PUBLISHED-TTL:PT1H
BEGIN:VTIMEZONE
TZID:Europe/Copenhagen
BEGIN:DAYLIGHT
TZOFFSETFROM:+0100
TZOFFSETTO:+0200
TZNAME:CEST
DTSTART:20270328T010000
END:DAYLIGHT
BEGIN:STANDARD
TZOFFSETFROM:+0200
TZOFFSETTO:+0100
TZNAME:CET
DTSTART:20271031T010000
END:STANDARD
BEGIN:DAYLIGHT
TZOFFSETFROM:+0100
TZOFFSETTO:+0200
TZNAME:CEST
DTSTART:20280326T010000
END:DAYLIGHT
BEGIN:STANDARD
TZOFFSETFROM:+0200
TZOFFSETTO:+0100
TZNAME:CET
DTSTART:20281029T010000
END:STANDARD
BEGIN:DAYLIGHT
TZOFFSETFROM:+0100
TZOFFSETTO:+0200
TZNAME:CEST
DTSTART:20290325T010000
END:DAYLIGHT
BEGIN:STANDARD
TZOFFSETFROM:+0200
TZOFFSETTO:+0100
TZNAME:CET
DTSTART:20291028T010000
END:STANDARD
END:VTIMEZONE
BEGIN:VEVENT
DTSTART;TZID=Europe/Copenhagen:20280126T120000
DTEND;TZID=Europe/Copenhagen:20280126T173000
DTSTAMP:20260422T144453
CREATED:20250505T095126Z
LAST-MODIFIED:20250905T085924Z
UID:10045100-1832500800-1832520600@vorescosmos.dk
SUMMARY:Café Cosmos
DESCRIPTION:
URL:https://vorescosmos.dk/begivenhed/cafe-cosmos/2028-01-26/
LOCATION:Fælleskøkkenet\, Søndergade 11\, Viby Sj.\, 4130\, Danmark
CATEGORIES:Lokale bookninger
END:VEVENT
BEGIN:VEVENT
DTSTART;TZID=Europe/Copenhagen:20280127T120000
DTEND;TZID=Europe/Copenhagen:20280127T173000
DTSTAMP:20260422T144453
CREATED:20250505T095126Z
LAST-MODIFIED:20250905T085924Z
UID:10046125-1832587200-1832607000@vorescosmos.dk
SUMMARY:Café Cosmos
DESCRIPTION:
URL:https://vorescosmos.dk/begivenhed/cafe-cosmos/2028-01-27/
LOCATION:Fælleskøkkenet\, Søndergade 11\, Viby Sj.\, 4130\, Danmark
CATEGORIES:Lokale bookninger
END:VEVENT
BEGIN:VEVENT
DTSTART;TZID=Europe/Copenhagen:20280131T120000
DTEND;TZID=Europe/Copenhagen:20280131T173000
DTSTAMP:20260422T144453
CREATED:20250505T095126Z
LAST-MODIFIED:20250905T085924Z
UID:10045102-1832932800-1832952600@vorescosmos.dk
SUMMARY:Café Cosmos
DESCRIPTION:
URL:https://vorescosmos.dk/begivenhed/cafe-cosmos/2028-01-31/
LOCATION:Fælleskøkkenet\, Søndergade 11\, Viby Sj.\, 4130\, Danmark
CATEGORIES:Lokale bookninger
END:VEVENT
BEGIN:VEVENT
DTSTART;TZID=Europe/Copenhagen:20280201T120000
DTEND;TZID=Europe/Copenhagen:20280201T173000
DTSTAMP:20260422T144453
CREATED:20250505T095126Z
LAST-MODIFIED:20250905T085924Z
UID:10045103-1833019200-1833039000@vorescosmos.dk
SUMMARY:Café Cosmos
DESCRIPTION:
URL:https://vorescosmos.dk/begivenhed/cafe-cosmos/2028-02-01/
LOCATION:Fælleskøkkenet\, Søndergade 11\, Viby Sj.\, 4130\, Danmark
CATEGORIES:Lokale bookninger
END:VEVENT
BEGIN:VEVENT
DTSTART;TZID=Europe/Copenhagen:20280202T120000
DTEND;TZID=Europe/Copenhagen:20280202T173000
DTSTAMP:20260422T144453
CREATED:20250505T095126Z
LAST-MODIFIED:20250905T085924Z
UID:10045104-1833105600-1833125400@vorescosmos.dk
SUMMARY:Café Cosmos
DESCRIPTION:
URL:https://vorescosmos.dk/begivenhed/cafe-cosmos/2028-02-02/
LOCATION:Fælleskøkkenet\, Søndergade 11\, Viby Sj.\, 4130\, Danmark
CATEGORIES:Lokale bookninger
END:VEVENT
BEGIN:VEVENT
DTSTART;TZID=Europe/Copenhagen:20280203T120000
DTEND;TZID=Europe/Copenhagen:20280203T173000
DTSTAMP:20260422T144453
CREATED:20250505T095126Z
LAST-MODIFIED:20250905T085924Z
UID:10046126-1833192000-1833211800@vorescosmos.dk
SUMMARY:Café Cosmos
DESCRIPTION:
URL:https://vorescosmos.dk/begivenhed/cafe-cosmos/2028-02-03/
LOCATION:Fælleskøkkenet\, Søndergade 11\, Viby Sj.\, 4130\, Danmark
CATEGORIES:Lokale bookninger
END:VEVENT
BEGIN:VEVENT
DTSTART;TZID=Europe/Copenhagen:20280207T120000
DTEND;TZID=Europe/Copenhagen:20280207T173000
DTSTAMP:20260422T144453
CREATED:20250505T095126Z
LAST-MODIFIED:20250905T085924Z
UID:10045106-1833537600-1833557400@vorescosmos.dk
SUMMARY:Café Cosmos
DESCRIPTION:
URL:https://vorescosmos.dk/begivenhed/cafe-cosmos/2028-02-07/
LOCATION:Fælleskøkkenet\, Søndergade 11\, Viby Sj.\, 4130\, Danmark
CATEGORIES:Lokale bookninger
END:VEVENT
BEGIN:VEVENT
DTSTART;TZID=Europe/Copenhagen:20280208T120000
DTEND;TZID=Europe/Copenhagen:20280208T173000
DTSTAMP:20260422T144453
CREATED:20250505T095126Z
LAST-MODIFIED:20250905T085924Z
UID:10045107-1833624000-1833643800@vorescosmos.dk
SUMMARY:Café Cosmos
DESCRIPTION:
URL:https://vorescosmos.dk/begivenhed/cafe-cosmos/2028-02-08/
LOCATION:Fælleskøkkenet\, Søndergade 11\, Viby Sj.\, 4130\, Danmark
CATEGORIES:Lokale bookninger
END:VEVENT
BEGIN:VEVENT
DTSTART;TZID=Europe/Copenhagen:20280209T120000
DTEND;TZID=Europe/Copenhagen:20280209T173000
DTSTAMP:20260422T144453
CREATED:20250505T095126Z
LAST-MODIFIED:20250905T085924Z
UID:10045108-1833710400-1833730200@vorescosmos.dk
SUMMARY:Café Cosmos
DESCRIPTION:
URL:https://vorescosmos.dk/begivenhed/cafe-cosmos/2028-02-09/
LOCATION:Fælleskøkkenet\, Søndergade 11\, Viby Sj.\, 4130\, Danmark
CATEGORIES:Lokale bookninger
END:VEVENT
BEGIN:VEVENT
DTSTART;TZID=Europe/Copenhagen:20280210T120000
DTEND;TZID=Europe/Copenhagen:20280210T173000
DTSTAMP:20260422T144453
CREATED:20250505T095126Z
LAST-MODIFIED:20250905T085924Z
UID:10046127-1833796800-1833816600@vorescosmos.dk
SUMMARY:Café Cosmos
DESCRIPTION:
URL:https://vorescosmos.dk/begivenhed/cafe-cosmos/2028-02-10/
LOCATION:Fælleskøkkenet\, Søndergade 11\, Viby Sj.\, 4130\, Danmark
CATEGORIES:Lokale bookninger
END:VEVENT
BEGIN:VEVENT
DTSTART;TZID=Europe/Copenhagen:20280214T120000
DTEND;TZID=Europe/Copenhagen:20280214T173000
DTSTAMP:20260422T144453
CREATED:20250505T095126Z
LAST-MODIFIED:20250905T085924Z
UID:10045110-1834142400-1834162200@vorescosmos.dk
SUMMARY:Café Cosmos
DESCRIPTION:
URL:https://vorescosmos.dk/begivenhed/cafe-cosmos/2028-02-14/
LOCATION:Fælleskøkkenet\, Søndergade 11\, Viby Sj.\, 4130\, Danmark
CATEGORIES:Lokale bookninger
END:VEVENT
BEGIN:VEVENT
DTSTART;TZID=Europe/Copenhagen:20280215T120000
DTEND;TZID=Europe/Copenhagen:20280215T173000
DTSTAMP:20260422T144453
CREATED:20250505T095126Z
LAST-MODIFIED:20250905T085924Z
UID:10045111-1834228800-1834248600@vorescosmos.dk
SUMMARY:Café Cosmos
DESCRIPTION:
URL:https://vorescosmos.dk/begivenhed/cafe-cosmos/2028-02-15/
LOCATION:Fælleskøkkenet\, Søndergade 11\, Viby Sj.\, 4130\, Danmark
CATEGORIES:Lokale bookninger
END:VEVENT
BEGIN:VEVENT
DTSTART;TZID=Europe/Copenhagen:20280216T120000
DTEND;TZID=Europe/Copenhagen:20280216T173000
DTSTAMP:20260422T144453
CREATED:20250505T095126Z
LAST-MODIFIED:20250905T085924Z
UID:10045112-1834315200-1834335000@vorescosmos.dk
SUMMARY:Café Cosmos
DESCRIPTION:
URL:https://vorescosmos.dk/begivenhed/cafe-cosmos/2028-02-16/
LOCATION:Fælleskøkkenet\, Søndergade 11\, Viby Sj.\, 4130\, Danmark
CATEGORIES:Lokale bookninger
END:VEVENT
BEGIN:VEVENT
DTSTART;TZID=Europe/Copenhagen:20280217T120000
DTEND;TZID=Europe/Copenhagen:20280217T173000
DTSTAMP:20260422T144453
CREATED:20250505T095126Z
LAST-MODIFIED:20250905T085924Z
UID:10046128-1834401600-1834421400@vorescosmos.dk
SUMMARY:Café Cosmos
DESCRIPTION:
URL:https://vorescosmos.dk/begivenhed/cafe-cosmos/2028-02-17/
LOCATION:Fælleskøkkenet\, Søndergade 11\, Viby Sj.\, 4130\, Danmark
CATEGORIES:Lokale bookninger
END:VEVENT
BEGIN:VEVENT
DTSTART;TZID=Europe/Copenhagen:20280221T120000
DTEND;TZID=Europe/Copenhagen:20280221T173000
DTSTAMP:20260422T144453
CREATED:20250505T095126Z
LAST-MODIFIED:20250905T085924Z
UID:10045114-1834747200-1834767000@vorescosmos.dk
SUMMARY:Café Cosmos
DESCRIPTION:
URL:https://vorescosmos.dk/begivenhed/cafe-cosmos/2028-02-21/
LOCATION:Fælleskøkkenet\, Søndergade 11\, Viby Sj.\, 4130\, Danmark
CATEGORIES:Lokale bookninger
END:VEVENT
BEGIN:VEVENT
DTSTART;TZID=Europe/Copenhagen:20280222T120000
DTEND;TZID=Europe/Copenhagen:20280222T173000
DTSTAMP:20260422T144453
CREATED:20250505T095126Z
LAST-MODIFIED:20250905T085924Z
UID:10045115-1834833600-1834853400@vorescosmos.dk
SUMMARY:Café Cosmos
DESCRIPTION:
URL:https://vorescosmos.dk/begivenhed/cafe-cosmos/2028-02-22/
LOCATION:Fælleskøkkenet\, Søndergade 11\, Viby Sj.\, 4130\, Danmark
CATEGORIES:Lokale bookninger
END:VEVENT
BEGIN:VEVENT
DTSTART;TZID=Europe/Copenhagen:20280223T120000
DTEND;TZID=Europe/Copenhagen:20280223T173000
DTSTAMP:20260422T144453
CREATED:20250505T095126Z
LAST-MODIFIED:20250905T085924Z
UID:10045116-1834920000-1834939800@vorescosmos.dk
SUMMARY:Café Cosmos
DESCRIPTION:
URL:https://vorescosmos.dk/begivenhed/cafe-cosmos/2028-02-23/
LOCATION:Fælleskøkkenet\, Søndergade 11\, Viby Sj.\, 4130\, Danmark
CATEGORIES:Lokale bookninger
END:VEVENT
BEGIN:VEVENT
DTSTART;TZID=Europe/Copenhagen:20280224T120000
DTEND;TZID=Europe/Copenhagen:20280224T173000
DTSTAMP:20260422T144453
CREATED:20250505T095126Z
LAST-MODIFIED:20250905T085924Z
UID:10046129-1835006400-1835026200@vorescosmos.dk
SUMMARY:Café Cosmos
DESCRIPTION:
URL:https://vorescosmos.dk/begivenhed/cafe-cosmos/2028-02-24/
LOCATION:Fælleskøkkenet\, Søndergade 11\, Viby Sj.\, 4130\, Danmark
CATEGORIES:Lokale bookninger
END:VEVENT
BEGIN:VEVENT
DTSTART;TZID=Europe/Copenhagen:20280228T120000
DTEND;TZID=Europe/Copenhagen:20280228T173000
DTSTAMP:20260422T144453
CREATED:20250505T095126Z
LAST-MODIFIED:20250905T085924Z
UID:10045118-1835352000-1835371800@vorescosmos.dk
SUMMARY:Café Cosmos
DESCRIPTION:
URL:https://vorescosmos.dk/begivenhed/cafe-cosmos/2028-02-28/
LOCATION:Fælleskøkkenet\, Søndergade 11\, Viby Sj.\, 4130\, Danmark
CATEGORIES:Lokale bookninger
END:VEVENT
BEGIN:VEVENT
DTSTART;TZID=Europe/Copenhagen:20280229T120000
DTEND;TZID=Europe/Copenhagen:20280229T173000
DTSTAMP:20260422T144453
CREATED:20250505T095126Z
LAST-MODIFIED:20250905T085924Z
UID:10045119-1835438400-1835458200@vorescosmos.dk
SUMMARY:Café Cosmos
DESCRIPTION:
URL:https://vorescosmos.dk/begivenhed/cafe-cosmos/2028-02-29/
LOCATION:Fælleskøkkenet\, Søndergade 11\, Viby Sj.\, 4130\, Danmark
CATEGORIES:Lokale bookninger
END:VEVENT
BEGIN:VEVENT
DTSTART;TZID=Europe/Copenhagen:20280301T120000
DTEND;TZID=Europe/Copenhagen:20280301T173000
DTSTAMP:20260422T144453
CREATED:20250505T095126Z
LAST-MODIFIED:20250905T085924Z
UID:10045120-1835524800-1835544600@vorescosmos.dk
SUMMARY:Café Cosmos
DESCRIPTION:
URL:https://vorescosmos.dk/begivenhed/cafe-cosmos/2028-03-01/
LOCATION:Fælleskøkkenet\, Søndergade 11\, Viby Sj.\, 4130\, Danmark
CATEGORIES:Lokale bookninger
END:VEVENT
BEGIN:VEVENT
DTSTART;TZID=Europe/Copenhagen:20280302T120000
DTEND;TZID=Europe/Copenhagen:20280302T173000
DTSTAMP:20260422T144453
CREATED:20250505T095126Z
LAST-MODIFIED:20250905T085924Z
UID:10046130-1835611200-1835631000@vorescosmos.dk
SUMMARY:Café Cosmos
DESCRIPTION:
URL:https://vorescosmos.dk/begivenhed/cafe-cosmos/2028-03-02/
LOCATION:Fælleskøkkenet\, Søndergade 11\, Viby Sj.\, 4130\, Danmark
CATEGORIES:Lokale bookninger
END:VEVENT
BEGIN:VEVENT
DTSTART;TZID=Europe/Copenhagen:20280306T120000
DTEND;TZID=Europe/Copenhagen:20280306T173000
DTSTAMP:20260422T144453
CREATED:20250505T095126Z
LAST-MODIFIED:20250905T085924Z
UID:10045122-1835956800-1835976600@vorescosmos.dk
SUMMARY:Café Cosmos
DESCRIPTION:
URL:https://vorescosmos.dk/begivenhed/cafe-cosmos/2028-03-06/
LOCATION:Fælleskøkkenet\, Søndergade 11\, Viby Sj.\, 4130\, Danmark
CATEGORIES:Lokale bookninger
END:VEVENT
BEGIN:VEVENT
DTSTART;TZID=Europe/Copenhagen:20280307T120000
DTEND;TZID=Europe/Copenhagen:20280307T173000
DTSTAMP:20260422T144453
CREATED:20250505T095126Z
LAST-MODIFIED:20250905T085924Z
UID:10045123-1836043200-1836063000@vorescosmos.dk
SUMMARY:Café Cosmos
DESCRIPTION:
URL:https://vorescosmos.dk/begivenhed/cafe-cosmos/2028-03-07/
LOCATION:Fælleskøkkenet\, Søndergade 11\, Viby Sj.\, 4130\, Danmark
CATEGORIES:Lokale bookninger
END:VEVENT
BEGIN:VEVENT
DTSTART;TZID=Europe/Copenhagen:20280308T120000
DTEND;TZID=Europe/Copenhagen:20280308T173000
DTSTAMP:20260422T144453
CREATED:20250505T095126Z
LAST-MODIFIED:20250905T085924Z
UID:10045124-1836129600-1836149400@vorescosmos.dk
SUMMARY:Café Cosmos
DESCRIPTION:
URL:https://vorescosmos.dk/begivenhed/cafe-cosmos/2028-03-08/
LOCATION:Fælleskøkkenet\, Søndergade 11\, Viby Sj.\, 4130\, Danmark
CATEGORIES:Lokale bookninger
END:VEVENT
BEGIN:VEVENT
DTSTART;TZID=Europe/Copenhagen:20280309T120000
DTEND;TZID=Europe/Copenhagen:20280309T173000
DTSTAMP:20260422T144453
CREATED:20250505T095126Z
LAST-MODIFIED:20250905T085924Z
UID:10046131-1836216000-1836235800@vorescosmos.dk
SUMMARY:Café Cosmos
DESCRIPTION:
URL:https://vorescosmos.dk/begivenhed/cafe-cosmos/2028-03-09/
LOCATION:Fælleskøkkenet\, Søndergade 11\, Viby Sj.\, 4130\, Danmark
CATEGORIES:Lokale bookninger
END:VEVENT
BEGIN:VEVENT
DTSTART;TZID=Europe/Copenhagen:20280313T120000
DTEND;TZID=Europe/Copenhagen:20280313T173000
DTSTAMP:20260422T144453
CREATED:20250505T095126Z
LAST-MODIFIED:20250905T085924Z
UID:10045126-1836561600-1836581400@vorescosmos.dk
SUMMARY:Café Cosmos
DESCRIPTION:
URL:https://vorescosmos.dk/begivenhed/cafe-cosmos/2028-03-13/
LOCATION:Fælleskøkkenet\, Søndergade 11\, Viby Sj.\, 4130\, Danmark
CATEGORIES:Lokale bookninger
END:VEVENT
BEGIN:VEVENT
DTSTART;TZID=Europe/Copenhagen:20280314T120000
DTEND;TZID=Europe/Copenhagen:20280314T173000
DTSTAMP:20260422T144453
CREATED:20250505T095126Z
LAST-MODIFIED:20250905T085924Z
UID:10045127-1836648000-1836667800@vorescosmos.dk
SUMMARY:Café Cosmos
DESCRIPTION:
URL:https://vorescosmos.dk/begivenhed/cafe-cosmos/2028-03-14/
LOCATION:Fælleskøkkenet\, Søndergade 11\, Viby Sj.\, 4130\, Danmark
CATEGORIES:Lokale bookninger
END:VEVENT
BEGIN:VEVENT
DTSTART;TZID=Europe/Copenhagen:20280315T120000
DTEND;TZID=Europe/Copenhagen:20280315T173000
DTSTAMP:20260422T144453
CREATED:20250505T095126Z
LAST-MODIFIED:20250905T085924Z
UID:10045128-1836734400-1836754200@vorescosmos.dk
SUMMARY:Café Cosmos
DESCRIPTION:
URL:https://vorescosmos.dk/begivenhed/cafe-cosmos/2028-03-15/
LOCATION:Fælleskøkkenet\, Søndergade 11\, Viby Sj.\, 4130\, Danmark
CATEGORIES:Lokale bookninger
END:VEVENT
BEGIN:VEVENT
DTSTART;TZID=Europe/Copenhagen:20280316T120000
DTEND;TZID=Europe/Copenhagen:20280316T173000
DTSTAMP:20260422T144453
CREATED:20250505T095126Z
LAST-MODIFIED:20250905T085924Z
UID:10046132-1836820800-1836840600@vorescosmos.dk
SUMMARY:Café Cosmos
DESCRIPTION:
URL:https://vorescosmos.dk/begivenhed/cafe-cosmos/2028-03-16/
LOCATION:Fælleskøkkenet\, Søndergade 11\, Viby Sj.\, 4130\, Danmark
CATEGORIES:Lokale bookninger
END:VEVENT
END:VCALENDAR