BEGIN:VCALENDAR
VERSION:2.0
PRODID:-//Vores Cosmos - ECPv6.15.20//NONSGML v1.0//EN
CALSCALE:GREGORIAN
METHOD:PUBLISH
X-WR-CALNAME:Vores Cosmos
X-ORIGINAL-URL:https://vorescosmos.dk
X-WR-CALDESC:Begivenheder for Vores Cosmos
REFRESH-INTERVAL;VALUE=DURATION:PT1H
X-Robots-Tag:noindex
X-PUBLISHED-TTL:PT1H
BEGIN:VTIMEZONE
TZID:Europe/Copenhagen
BEGIN:DAYLIGHT
TZOFFSETFROM:+0100
TZOFFSETTO:+0200
TZNAME:CEST
DTSTART:20270328T010000
END:DAYLIGHT
BEGIN:STANDARD
TZOFFSETFROM:+0200
TZOFFSETTO:+0100
TZNAME:CET
DTSTART:20271031T010000
END:STANDARD
BEGIN:DAYLIGHT
TZOFFSETFROM:+0100
TZOFFSETTO:+0200
TZNAME:CEST
DTSTART:20280326T010000
END:DAYLIGHT
BEGIN:STANDARD
TZOFFSETFROM:+0200
TZOFFSETTO:+0100
TZNAME:CET
DTSTART:20281029T010000
END:STANDARD
BEGIN:DAYLIGHT
TZOFFSETFROM:+0100
TZOFFSETTO:+0200
TZNAME:CEST
DTSTART:20290325T010000
END:DAYLIGHT
BEGIN:STANDARD
TZOFFSETFROM:+0200
TZOFFSETTO:+0100
TZNAME:CET
DTSTART:20291028T010000
END:STANDARD
END:VTIMEZONE
BEGIN:VEVENT
DTSTART;TZID=Europe/Copenhagen:20280302T120000
DTEND;TZID=Europe/Copenhagen:20280302T173000
DTSTAMP:20260422T181144
CREATED:20250505T095126Z
LAST-MODIFIED:20250905T085924Z
UID:10046130-1835611200-1835631000@vorescosmos.dk
SUMMARY:Café Cosmos
DESCRIPTION:
URL:https://vorescosmos.dk/begivenhed/cafe-cosmos/2028-03-02/
LOCATION:Fælleskøkkenet\, Søndergade 11\, Viby Sj.\, 4130\, Danmark
CATEGORIES:Lokale bookninger
END:VEVENT
BEGIN:VEVENT
DTSTART;TZID=Europe/Copenhagen:20280306T120000
DTEND;TZID=Europe/Copenhagen:20280306T173000
DTSTAMP:20260422T181144
CREATED:20250505T095126Z
LAST-MODIFIED:20250905T085924Z
UID:10045122-1835956800-1835976600@vorescosmos.dk
SUMMARY:Café Cosmos
DESCRIPTION:
URL:https://vorescosmos.dk/begivenhed/cafe-cosmos/2028-03-06/
LOCATION:Fælleskøkkenet\, Søndergade 11\, Viby Sj.\, 4130\, Danmark
CATEGORIES:Lokale bookninger
END:VEVENT
BEGIN:VEVENT
DTSTART;TZID=Europe/Copenhagen:20280307T120000
DTEND;TZID=Europe/Copenhagen:20280307T173000
DTSTAMP:20260422T181144
CREATED:20250505T095126Z
LAST-MODIFIED:20250905T085924Z
UID:10045123-1836043200-1836063000@vorescosmos.dk
SUMMARY:Café Cosmos
DESCRIPTION:
URL:https://vorescosmos.dk/begivenhed/cafe-cosmos/2028-03-07/
LOCATION:Fælleskøkkenet\, Søndergade 11\, Viby Sj.\, 4130\, Danmark
CATEGORIES:Lokale bookninger
END:VEVENT
BEGIN:VEVENT
DTSTART;TZID=Europe/Copenhagen:20280308T120000
DTEND;TZID=Europe/Copenhagen:20280308T173000
DTSTAMP:20260422T181144
CREATED:20250505T095126Z
LAST-MODIFIED:20250905T085924Z
UID:10045124-1836129600-1836149400@vorescosmos.dk
SUMMARY:Café Cosmos
DESCRIPTION:
URL:https://vorescosmos.dk/begivenhed/cafe-cosmos/2028-03-08/
LOCATION:Fælleskøkkenet\, Søndergade 11\, Viby Sj.\, 4130\, Danmark
CATEGORIES:Lokale bookninger
END:VEVENT
BEGIN:VEVENT
DTSTART;TZID=Europe/Copenhagen:20280309T120000
DTEND;TZID=Europe/Copenhagen:20280309T173000
DTSTAMP:20260422T181144
CREATED:20250505T095126Z
LAST-MODIFIED:20250905T085924Z
UID:10046131-1836216000-1836235800@vorescosmos.dk
SUMMARY:Café Cosmos
DESCRIPTION:
URL:https://vorescosmos.dk/begivenhed/cafe-cosmos/2028-03-09/
LOCATION:Fælleskøkkenet\, Søndergade 11\, Viby Sj.\, 4130\, Danmark
CATEGORIES:Lokale bookninger
END:VEVENT
BEGIN:VEVENT
DTSTART;TZID=Europe/Copenhagen:20280313T120000
DTEND;TZID=Europe/Copenhagen:20280313T173000
DTSTAMP:20260422T181144
CREATED:20250505T095126Z
LAST-MODIFIED:20250905T085924Z
UID:10045126-1836561600-1836581400@vorescosmos.dk
SUMMARY:Café Cosmos
DESCRIPTION:
URL:https://vorescosmos.dk/begivenhed/cafe-cosmos/2028-03-13/
LOCATION:Fælleskøkkenet\, Søndergade 11\, Viby Sj.\, 4130\, Danmark
CATEGORIES:Lokale bookninger
END:VEVENT
BEGIN:VEVENT
DTSTART;TZID=Europe/Copenhagen:20280314T120000
DTEND;TZID=Europe/Copenhagen:20280314T173000
DTSTAMP:20260422T181144
CREATED:20250505T095126Z
LAST-MODIFIED:20250905T085924Z
UID:10045127-1836648000-1836667800@vorescosmos.dk
SUMMARY:Café Cosmos
DESCRIPTION:
URL:https://vorescosmos.dk/begivenhed/cafe-cosmos/2028-03-14/
LOCATION:Fælleskøkkenet\, Søndergade 11\, Viby Sj.\, 4130\, Danmark
CATEGORIES:Lokale bookninger
END:VEVENT
BEGIN:VEVENT
DTSTART;TZID=Europe/Copenhagen:20280315T120000
DTEND;TZID=Europe/Copenhagen:20280315T173000
DTSTAMP:20260422T181144
CREATED:20250505T095126Z
LAST-MODIFIED:20250905T085924Z
UID:10045128-1836734400-1836754200@vorescosmos.dk
SUMMARY:Café Cosmos
DESCRIPTION:
URL:https://vorescosmos.dk/begivenhed/cafe-cosmos/2028-03-15/
LOCATION:Fælleskøkkenet\, Søndergade 11\, Viby Sj.\, 4130\, Danmark
CATEGORIES:Lokale bookninger
END:VEVENT
BEGIN:VEVENT
DTSTART;TZID=Europe/Copenhagen:20280316T120000
DTEND;TZID=Europe/Copenhagen:20280316T173000
DTSTAMP:20260422T181144
CREATED:20250505T095126Z
LAST-MODIFIED:20250905T085924Z
UID:10046132-1836820800-1836840600@vorescosmos.dk
SUMMARY:Café Cosmos
DESCRIPTION:
URL:https://vorescosmos.dk/begivenhed/cafe-cosmos/2028-03-16/
LOCATION:Fælleskøkkenet\, Søndergade 11\, Viby Sj.\, 4130\, Danmark
CATEGORIES:Lokale bookninger
END:VEVENT
BEGIN:VEVENT
DTSTART;TZID=Europe/Copenhagen:20280320T120000
DTEND;TZID=Europe/Copenhagen:20280320T173000
DTSTAMP:20260422T181144
CREATED:20250505T095126Z
LAST-MODIFIED:20250905T085924Z
UID:10045130-1837166400-1837186200@vorescosmos.dk
SUMMARY:Café Cosmos
DESCRIPTION:
URL:https://vorescosmos.dk/begivenhed/cafe-cosmos/2028-03-20/
LOCATION:Fælleskøkkenet\, Søndergade 11\, Viby Sj.\, 4130\, Danmark
CATEGORIES:Lokale bookninger
END:VEVENT
BEGIN:VEVENT
DTSTART;TZID=Europe/Copenhagen:20280321T120000
DTEND;TZID=Europe/Copenhagen:20280321T173000
DTSTAMP:20260422T181144
CREATED:20250505T095126Z
LAST-MODIFIED:20250905T085924Z
UID:10045131-1837252800-1837272600@vorescosmos.dk
SUMMARY:Café Cosmos
DESCRIPTION:
URL:https://vorescosmos.dk/begivenhed/cafe-cosmos/2028-03-21/
LOCATION:Fælleskøkkenet\, Søndergade 11\, Viby Sj.\, 4130\, Danmark
CATEGORIES:Lokale bookninger
END:VEVENT
BEGIN:VEVENT
DTSTART;TZID=Europe/Copenhagen:20280322T120000
DTEND;TZID=Europe/Copenhagen:20280322T173000
DTSTAMP:20260422T181144
CREATED:20250505T095126Z
LAST-MODIFIED:20250905T085924Z
UID:10045132-1837339200-1837359000@vorescosmos.dk
SUMMARY:Café Cosmos
DESCRIPTION:
URL:https://vorescosmos.dk/begivenhed/cafe-cosmos/2028-03-22/
LOCATION:Fælleskøkkenet\, Søndergade 11\, Viby Sj.\, 4130\, Danmark
CATEGORIES:Lokale bookninger
END:VEVENT
BEGIN:VEVENT
DTSTART;TZID=Europe/Copenhagen:20280323T120000
DTEND;TZID=Europe/Copenhagen:20280323T173000
DTSTAMP:20260422T181144
CREATED:20250505T095126Z
LAST-MODIFIED:20250905T085924Z
UID:10046133-1837425600-1837445400@vorescosmos.dk
SUMMARY:Café Cosmos
DESCRIPTION:
URL:https://vorescosmos.dk/begivenhed/cafe-cosmos/2028-03-23/
LOCATION:Fælleskøkkenet\, Søndergade 11\, Viby Sj.\, 4130\, Danmark
CATEGORIES:Lokale bookninger
END:VEVENT
BEGIN:VEVENT
DTSTART;TZID=Europe/Copenhagen:20280327T120000
DTEND;TZID=Europe/Copenhagen:20280327T173000
DTSTAMP:20260422T181144
CREATED:20250505T095126Z
LAST-MODIFIED:20250905T085924Z
UID:10045134-1837771200-1837791000@vorescosmos.dk
SUMMARY:Café Cosmos
DESCRIPTION:
URL:https://vorescosmos.dk/begivenhed/cafe-cosmos/2028-03-27/
LOCATION:Fælleskøkkenet\, Søndergade 11\, Viby Sj.\, 4130\, Danmark
CATEGORIES:Lokale bookninger
END:VEVENT
BEGIN:VEVENT
DTSTART;TZID=Europe/Copenhagen:20280328T120000
DTEND;TZID=Europe/Copenhagen:20280328T173000
DTSTAMP:20260422T181144
CREATED:20250505T095126Z
LAST-MODIFIED:20250905T085924Z
UID:10045135-1837857600-1837877400@vorescosmos.dk
SUMMARY:Café Cosmos
DESCRIPTION:
URL:https://vorescosmos.dk/begivenhed/cafe-cosmos/2028-03-28/
LOCATION:Fælleskøkkenet\, Søndergade 11\, Viby Sj.\, 4130\, Danmark
CATEGORIES:Lokale bookninger
END:VEVENT
BEGIN:VEVENT
DTSTART;TZID=Europe/Copenhagen:20280329T120000
DTEND;TZID=Europe/Copenhagen:20280329T173000
DTSTAMP:20260422T181144
CREATED:20250505T095126Z
LAST-MODIFIED:20250905T085924Z
UID:10045136-1837944000-1837963800@vorescosmos.dk
SUMMARY:Café Cosmos
DESCRIPTION:
URL:https://vorescosmos.dk/begivenhed/cafe-cosmos/2028-03-29/
LOCATION:Fælleskøkkenet\, Søndergade 11\, Viby Sj.\, 4130\, Danmark
CATEGORIES:Lokale bookninger
END:VEVENT
BEGIN:VEVENT
DTSTART;TZID=Europe/Copenhagen:20280330T120000
DTEND;TZID=Europe/Copenhagen:20280330T173000
DTSTAMP:20260422T181144
CREATED:20250505T095126Z
LAST-MODIFIED:20250905T085924Z
UID:10046134-1838030400-1838050200@vorescosmos.dk
SUMMARY:Café Cosmos
DESCRIPTION:
URL:https://vorescosmos.dk/begivenhed/cafe-cosmos/2028-03-30/
LOCATION:Fælleskøkkenet\, Søndergade 11\, Viby Sj.\, 4130\, Danmark
CATEGORIES:Lokale bookninger
END:VEVENT
BEGIN:VEVENT
DTSTART;TZID=Europe/Copenhagen:20280403T120000
DTEND;TZID=Europe/Copenhagen:20280403T173000
DTSTAMP:20260422T181144
CREATED:20250505T095126Z
LAST-MODIFIED:20250905T085924Z
UID:10045138-1838376000-1838395800@vorescosmos.dk
SUMMARY:Café Cosmos
DESCRIPTION:
URL:https://vorescosmos.dk/begivenhed/cafe-cosmos/2028-04-03/
LOCATION:Fælleskøkkenet\, Søndergade 11\, Viby Sj.\, 4130\, Danmark
CATEGORIES:Lokale bookninger
END:VEVENT
BEGIN:VEVENT
DTSTART;TZID=Europe/Copenhagen:20280404T120000
DTEND;TZID=Europe/Copenhagen:20280404T173000
DTSTAMP:20260422T181144
CREATED:20250505T095126Z
LAST-MODIFIED:20250905T085924Z
UID:10045139-1838462400-1838482200@vorescosmos.dk
SUMMARY:Café Cosmos
DESCRIPTION:
URL:https://vorescosmos.dk/begivenhed/cafe-cosmos/2028-04-04/
LOCATION:Fælleskøkkenet\, Søndergade 11\, Viby Sj.\, 4130\, Danmark
CATEGORIES:Lokale bookninger
END:VEVENT
BEGIN:VEVENT
DTSTART;TZID=Europe/Copenhagen:20280405T120000
DTEND;TZID=Europe/Copenhagen:20280405T173000
DTSTAMP:20260422T181144
CREATED:20250505T095126Z
LAST-MODIFIED:20250905T085924Z
UID:10045140-1838548800-1838568600@vorescosmos.dk
SUMMARY:Café Cosmos
DESCRIPTION:
URL:https://vorescosmos.dk/begivenhed/cafe-cosmos/2028-04-05/
LOCATION:Fælleskøkkenet\, Søndergade 11\, Viby Sj.\, 4130\, Danmark
CATEGORIES:Lokale bookninger
END:VEVENT
BEGIN:VEVENT
DTSTART;TZID=Europe/Copenhagen:20280406T120000
DTEND;TZID=Europe/Copenhagen:20280406T173000
DTSTAMP:20260422T181144
CREATED:20250505T095126Z
LAST-MODIFIED:20250905T085924Z
UID:10046135-1838635200-1838655000@vorescosmos.dk
SUMMARY:Café Cosmos
DESCRIPTION:
URL:https://vorescosmos.dk/begivenhed/cafe-cosmos/2028-04-06/
LOCATION:Fælleskøkkenet\, Søndergade 11\, Viby Sj.\, 4130\, Danmark
CATEGORIES:Lokale bookninger
END:VEVENT
BEGIN:VEVENT
DTSTART;TZID=Europe/Copenhagen:20280410T120000
DTEND;TZID=Europe/Copenhagen:20280410T173000
DTSTAMP:20260422T181144
CREATED:20250505T095126Z
LAST-MODIFIED:20250905T085924Z
UID:10045142-1838980800-1839000600@vorescosmos.dk
SUMMARY:Café Cosmos
DESCRIPTION:
URL:https://vorescosmos.dk/begivenhed/cafe-cosmos/2028-04-10/
LOCATION:Fælleskøkkenet\, Søndergade 11\, Viby Sj.\, 4130\, Danmark
CATEGORIES:Lokale bookninger
END:VEVENT
BEGIN:VEVENT
DTSTART;TZID=Europe/Copenhagen:20280411T120000
DTEND;TZID=Europe/Copenhagen:20280411T173000
DTSTAMP:20260422T181144
CREATED:20250505T095126Z
LAST-MODIFIED:20250905T085924Z
UID:10045143-1839067200-1839087000@vorescosmos.dk
SUMMARY:Café Cosmos
DESCRIPTION:
URL:https://vorescosmos.dk/begivenhed/cafe-cosmos/2028-04-11/
LOCATION:Fælleskøkkenet\, Søndergade 11\, Viby Sj.\, 4130\, Danmark
CATEGORIES:Lokale bookninger
END:VEVENT
BEGIN:VEVENT
DTSTART;TZID=Europe/Copenhagen:20280412T120000
DTEND;TZID=Europe/Copenhagen:20280412T173000
DTSTAMP:20260422T181144
CREATED:20250505T095126Z
LAST-MODIFIED:20250905T085924Z
UID:10045144-1839153600-1839173400@vorescosmos.dk
SUMMARY:Café Cosmos
DESCRIPTION:
URL:https://vorescosmos.dk/begivenhed/cafe-cosmos/2028-04-12/
LOCATION:Fælleskøkkenet\, Søndergade 11\, Viby Sj.\, 4130\, Danmark
CATEGORIES:Lokale bookninger
END:VEVENT
BEGIN:VEVENT
DTSTART;TZID=Europe/Copenhagen:20280413T120000
DTEND;TZID=Europe/Copenhagen:20280413T173000
DTSTAMP:20260422T181144
CREATED:20250505T095126Z
LAST-MODIFIED:20250905T085924Z
UID:10046136-1839240000-1839259800@vorescosmos.dk
SUMMARY:Café Cosmos
DESCRIPTION:
URL:https://vorescosmos.dk/begivenhed/cafe-cosmos/2028-04-13/
LOCATION:Fælleskøkkenet\, Søndergade 11\, Viby Sj.\, 4130\, Danmark
CATEGORIES:Lokale bookninger
END:VEVENT
BEGIN:VEVENT
DTSTART;TZID=Europe/Copenhagen:20280417T120000
DTEND;TZID=Europe/Copenhagen:20280417T173000
DTSTAMP:20260422T181144
CREATED:20250505T095126Z
LAST-MODIFIED:20250905T085924Z
UID:10045146-1839585600-1839605400@vorescosmos.dk
SUMMARY:Café Cosmos
DESCRIPTION:
URL:https://vorescosmos.dk/begivenhed/cafe-cosmos/2028-04-17/
LOCATION:Fælleskøkkenet\, Søndergade 11\, Viby Sj.\, 4130\, Danmark
CATEGORIES:Lokale bookninger
END:VEVENT
BEGIN:VEVENT
DTSTART;TZID=Europe/Copenhagen:20280418T120000
DTEND;TZID=Europe/Copenhagen:20280418T173000
DTSTAMP:20260422T181144
CREATED:20250505T095126Z
LAST-MODIFIED:20250905T085924Z
UID:10045147-1839672000-1839691800@vorescosmos.dk
SUMMARY:Café Cosmos
DESCRIPTION:
URL:https://vorescosmos.dk/begivenhed/cafe-cosmos/2028-04-18/
LOCATION:Fælleskøkkenet\, Søndergade 11\, Viby Sj.\, 4130\, Danmark
CATEGORIES:Lokale bookninger
END:VEVENT
BEGIN:VEVENT
DTSTART;TZID=Europe/Copenhagen:20280419T120000
DTEND;TZID=Europe/Copenhagen:20280419T173000
DTSTAMP:20260422T181144
CREATED:20250505T095126Z
LAST-MODIFIED:20250905T085924Z
UID:10045148-1839758400-1839778200@vorescosmos.dk
SUMMARY:Café Cosmos
DESCRIPTION:
URL:https://vorescosmos.dk/begivenhed/cafe-cosmos/2028-04-19/
LOCATION:Fælleskøkkenet\, Søndergade 11\, Viby Sj.\, 4130\, Danmark
CATEGORIES:Lokale bookninger
END:VEVENT
BEGIN:VEVENT
DTSTART;TZID=Europe/Copenhagen:20280420T120000
DTEND;TZID=Europe/Copenhagen:20280420T173000
DTSTAMP:20260422T181144
CREATED:20250505T095126Z
LAST-MODIFIED:20250905T085924Z
UID:10046137-1839844800-1839864600@vorescosmos.dk
SUMMARY:Café Cosmos
DESCRIPTION:
URL:https://vorescosmos.dk/begivenhed/cafe-cosmos/2028-04-20/
LOCATION:Fælleskøkkenet\, Søndergade 11\, Viby Sj.\, 4130\, Danmark
CATEGORIES:Lokale bookninger
END:VEVENT
BEGIN:VEVENT
DTSTART;TZID=Europe/Copenhagen:20280424T120000
DTEND;TZID=Europe/Copenhagen:20280424T173000
DTSTAMP:20260422T181144
CREATED:20250505T095126Z
LAST-MODIFIED:20250905T085924Z
UID:10045150-1840190400-1840210200@vorescosmos.dk
SUMMARY:Café Cosmos
DESCRIPTION:
URL:https://vorescosmos.dk/begivenhed/cafe-cosmos/2028-04-24/
LOCATION:Fælleskøkkenet\, Søndergade 11\, Viby Sj.\, 4130\, Danmark
CATEGORIES:Lokale bookninger
END:VEVENT
END:VCALENDAR