BEGIN:VCALENDAR
VERSION:2.0
PRODID:-//Vores Cosmos - ECPv6.15.20//NONSGML v1.0//EN
CALSCALE:GREGORIAN
METHOD:PUBLISH
X-WR-CALNAME:Vores Cosmos
X-ORIGINAL-URL:https://vorescosmos.dk
X-WR-CALDESC:Begivenheder for Vores Cosmos
REFRESH-INTERVAL;VALUE=DURATION:PT1H
X-Robots-Tag:noindex
X-PUBLISHED-TTL:PT1H
BEGIN:VTIMEZONE
TZID:Europe/Copenhagen
BEGIN:DAYLIGHT
TZOFFSETFROM:+0100
TZOFFSETTO:+0200
TZNAME:CEST
DTSTART:20270328T010000
END:DAYLIGHT
BEGIN:STANDARD
TZOFFSETFROM:+0200
TZOFFSETTO:+0100
TZNAME:CET
DTSTART:20271031T010000
END:STANDARD
BEGIN:DAYLIGHT
TZOFFSETFROM:+0100
TZOFFSETTO:+0200
TZNAME:CEST
DTSTART:20280326T010000
END:DAYLIGHT
BEGIN:STANDARD
TZOFFSETFROM:+0200
TZOFFSETTO:+0100
TZNAME:CET
DTSTART:20281029T010000
END:STANDARD
BEGIN:DAYLIGHT
TZOFFSETFROM:+0100
TZOFFSETTO:+0200
TZNAME:CEST
DTSTART:20290325T010000
END:DAYLIGHT
BEGIN:STANDARD
TZOFFSETFROM:+0200
TZOFFSETTO:+0100
TZNAME:CET
DTSTART:20291028T010000
END:STANDARD
END:VTIMEZONE
BEGIN:VEVENT
DTSTART;TZID=Europe/Copenhagen:20280530T120000
DTEND;TZID=Europe/Copenhagen:20280530T173000
DTSTAMP:20260423T022241
CREATED:20250505T095126Z
LAST-MODIFIED:20250905T085924Z
UID:10045171-1843300800-1843320600@vorescosmos.dk
SUMMARY:Café Cosmos
DESCRIPTION:
URL:https://vorescosmos.dk/begivenhed/cafe-cosmos/2028-05-30/
LOCATION:Fælleskøkkenet\, Søndergade 11\, Viby Sj.\, 4130\, Danmark
CATEGORIES:Lokale bookninger
END:VEVENT
BEGIN:VEVENT
DTSTART;TZID=Europe/Copenhagen:20280531T120000
DTEND;TZID=Europe/Copenhagen:20280531T173000
DTSTAMP:20260423T022241
CREATED:20250505T095126Z
LAST-MODIFIED:20250905T085924Z
UID:10045172-1843387200-1843407000@vorescosmos.dk
SUMMARY:Café Cosmos
DESCRIPTION:
URL:https://vorescosmos.dk/begivenhed/cafe-cosmos/2028-05-31/
LOCATION:Fælleskøkkenet\, Søndergade 11\, Viby Sj.\, 4130\, Danmark
CATEGORIES:Lokale bookninger
END:VEVENT
BEGIN:VEVENT
DTSTART;TZID=Europe/Copenhagen:20280601T120000
DTEND;TZID=Europe/Copenhagen:20280601T173000
DTSTAMP:20260423T022241
CREATED:20250505T095126Z
LAST-MODIFIED:20250905T085924Z
UID:10046143-1843473600-1843493400@vorescosmos.dk
SUMMARY:Café Cosmos
DESCRIPTION:
URL:https://vorescosmos.dk/begivenhed/cafe-cosmos/2028-06-01/
LOCATION:Fælleskøkkenet\, Søndergade 11\, Viby Sj.\, 4130\, Danmark
CATEGORIES:Lokale bookninger
END:VEVENT
BEGIN:VEVENT
DTSTART;TZID=Europe/Copenhagen:20280605T120000
DTEND;TZID=Europe/Copenhagen:20280605T173000
DTSTAMP:20260423T022241
CREATED:20250505T095126Z
LAST-MODIFIED:20250905T085924Z
UID:10045174-1843819200-1843839000@vorescosmos.dk
SUMMARY:Café Cosmos
DESCRIPTION:
URL:https://vorescosmos.dk/begivenhed/cafe-cosmos/2028-06-05/
LOCATION:Fælleskøkkenet\, Søndergade 11\, Viby Sj.\, 4130\, Danmark
CATEGORIES:Lokale bookninger
END:VEVENT
BEGIN:VEVENT
DTSTART;TZID=Europe/Copenhagen:20280606T120000
DTEND;TZID=Europe/Copenhagen:20280606T173000
DTSTAMP:20260423T022241
CREATED:20250505T095126Z
LAST-MODIFIED:20250905T085924Z
UID:10045175-1843905600-1843925400@vorescosmos.dk
SUMMARY:Café Cosmos
DESCRIPTION:
URL:https://vorescosmos.dk/begivenhed/cafe-cosmos/2028-06-06/
LOCATION:Fælleskøkkenet\, Søndergade 11\, Viby Sj.\, 4130\, Danmark
CATEGORIES:Lokale bookninger
END:VEVENT
BEGIN:VEVENT
DTSTART;TZID=Europe/Copenhagen:20280607T120000
DTEND;TZID=Europe/Copenhagen:20280607T173000
DTSTAMP:20260423T022241
CREATED:20250505T095126Z
LAST-MODIFIED:20250905T085924Z
UID:10045176-1843992000-1844011800@vorescosmos.dk
SUMMARY:Café Cosmos
DESCRIPTION:
URL:https://vorescosmos.dk/begivenhed/cafe-cosmos/2028-06-07/
LOCATION:Fælleskøkkenet\, Søndergade 11\, Viby Sj.\, 4130\, Danmark
CATEGORIES:Lokale bookninger
END:VEVENT
BEGIN:VEVENT
DTSTART;TZID=Europe/Copenhagen:20280608T120000
DTEND;TZID=Europe/Copenhagen:20280608T173000
DTSTAMP:20260423T022241
CREATED:20250505T095126Z
LAST-MODIFIED:20250905T085924Z
UID:10046144-1844078400-1844098200@vorescosmos.dk
SUMMARY:Café Cosmos
DESCRIPTION:
URL:https://vorescosmos.dk/begivenhed/cafe-cosmos/2028-06-08/
LOCATION:Fælleskøkkenet\, Søndergade 11\, Viby Sj.\, 4130\, Danmark
CATEGORIES:Lokale bookninger
END:VEVENT
BEGIN:VEVENT
DTSTART;TZID=Europe/Copenhagen:20280612T120000
DTEND;TZID=Europe/Copenhagen:20280612T173000
DTSTAMP:20260423T022241
CREATED:20250505T095126Z
LAST-MODIFIED:20250905T085924Z
UID:10045178-1844424000-1844443800@vorescosmos.dk
SUMMARY:Café Cosmos
DESCRIPTION:
URL:https://vorescosmos.dk/begivenhed/cafe-cosmos/2028-06-12/
LOCATION:Fælleskøkkenet\, Søndergade 11\, Viby Sj.\, 4130\, Danmark
CATEGORIES:Lokale bookninger
END:VEVENT
BEGIN:VEVENT
DTSTART;TZID=Europe/Copenhagen:20280613T120000
DTEND;TZID=Europe/Copenhagen:20280613T173000
DTSTAMP:20260423T022241
CREATED:20250505T095126Z
LAST-MODIFIED:20250905T085924Z
UID:10045179-1844510400-1844530200@vorescosmos.dk
SUMMARY:Café Cosmos
DESCRIPTION:
URL:https://vorescosmos.dk/begivenhed/cafe-cosmos/2028-06-13/
LOCATION:Fælleskøkkenet\, Søndergade 11\, Viby Sj.\, 4130\, Danmark
CATEGORIES:Lokale bookninger
END:VEVENT
BEGIN:VEVENT
DTSTART;TZID=Europe/Copenhagen:20280614T120000
DTEND;TZID=Europe/Copenhagen:20280614T173000
DTSTAMP:20260423T022241
CREATED:20250505T095126Z
LAST-MODIFIED:20250905T085924Z
UID:10045180-1844596800-1844616600@vorescosmos.dk
SUMMARY:Café Cosmos
DESCRIPTION:
URL:https://vorescosmos.dk/begivenhed/cafe-cosmos/2028-06-14/
LOCATION:Fælleskøkkenet\, Søndergade 11\, Viby Sj.\, 4130\, Danmark
CATEGORIES:Lokale bookninger
END:VEVENT
BEGIN:VEVENT
DTSTART;TZID=Europe/Copenhagen:20280615T120000
DTEND;TZID=Europe/Copenhagen:20280615T173000
DTSTAMP:20260423T022241
CREATED:20250505T095126Z
LAST-MODIFIED:20250905T085924Z
UID:10046145-1844683200-1844703000@vorescosmos.dk
SUMMARY:Café Cosmos
DESCRIPTION:
URL:https://vorescosmos.dk/begivenhed/cafe-cosmos/2028-06-15/
LOCATION:Fælleskøkkenet\, Søndergade 11\, Viby Sj.\, 4130\, Danmark
CATEGORIES:Lokale bookninger
END:VEVENT
BEGIN:VEVENT
DTSTART;TZID=Europe/Copenhagen:20280619T120000
DTEND;TZID=Europe/Copenhagen:20280619T173000
DTSTAMP:20260423T022241
CREATED:20250505T095126Z
LAST-MODIFIED:20250905T085924Z
UID:10045182-1845028800-1845048600@vorescosmos.dk
SUMMARY:Café Cosmos
DESCRIPTION:
URL:https://vorescosmos.dk/begivenhed/cafe-cosmos/2028-06-19/
LOCATION:Fælleskøkkenet\, Søndergade 11\, Viby Sj.\, 4130\, Danmark
CATEGORIES:Lokale bookninger
END:VEVENT
BEGIN:VEVENT
DTSTART;TZID=Europe/Copenhagen:20280620T120000
DTEND;TZID=Europe/Copenhagen:20280620T173000
DTSTAMP:20260423T022241
CREATED:20250505T095126Z
LAST-MODIFIED:20250905T085924Z
UID:10045183-1845115200-1845135000@vorescosmos.dk
SUMMARY:Café Cosmos
DESCRIPTION:
URL:https://vorescosmos.dk/begivenhed/cafe-cosmos/2028-06-20/
LOCATION:Fælleskøkkenet\, Søndergade 11\, Viby Sj.\, 4130\, Danmark
CATEGORIES:Lokale bookninger
END:VEVENT
BEGIN:VEVENT
DTSTART;TZID=Europe/Copenhagen:20280621T120000
DTEND;TZID=Europe/Copenhagen:20280621T173000
DTSTAMP:20260423T022241
CREATED:20250505T095126Z
LAST-MODIFIED:20250905T085924Z
UID:10045184-1845201600-1845221400@vorescosmos.dk
SUMMARY:Café Cosmos
DESCRIPTION:
URL:https://vorescosmos.dk/begivenhed/cafe-cosmos/2028-06-21/
LOCATION:Fælleskøkkenet\, Søndergade 11\, Viby Sj.\, 4130\, Danmark
CATEGORIES:Lokale bookninger
END:VEVENT
BEGIN:VEVENT
DTSTART;TZID=Europe/Copenhagen:20280622T120000
DTEND;TZID=Europe/Copenhagen:20280622T173000
DTSTAMP:20260423T022241
CREATED:20250505T095126Z
LAST-MODIFIED:20250905T085924Z
UID:10046146-1845288000-1845307800@vorescosmos.dk
SUMMARY:Café Cosmos
DESCRIPTION:
URL:https://vorescosmos.dk/begivenhed/cafe-cosmos/2028-06-22/
LOCATION:Fælleskøkkenet\, Søndergade 11\, Viby Sj.\, 4130\, Danmark
CATEGORIES:Lokale bookninger
END:VEVENT
BEGIN:VEVENT
DTSTART;TZID=Europe/Copenhagen:20280626T120000
DTEND;TZID=Europe/Copenhagen:20280626T173000
DTSTAMP:20260423T022241
CREATED:20250505T095126Z
LAST-MODIFIED:20250905T085924Z
UID:10045186-1845633600-1845653400@vorescosmos.dk
SUMMARY:Café Cosmos
DESCRIPTION:
URL:https://vorescosmos.dk/begivenhed/cafe-cosmos/2028-06-26/
LOCATION:Fælleskøkkenet\, Søndergade 11\, Viby Sj.\, 4130\, Danmark
CATEGORIES:Lokale bookninger
END:VEVENT
BEGIN:VEVENT
DTSTART;TZID=Europe/Copenhagen:20280627T120000
DTEND;TZID=Europe/Copenhagen:20280627T173000
DTSTAMP:20260423T022241
CREATED:20250505T095126Z
LAST-MODIFIED:20250905T085924Z
UID:10045187-1845720000-1845739800@vorescosmos.dk
SUMMARY:Café Cosmos
DESCRIPTION:
URL:https://vorescosmos.dk/begivenhed/cafe-cosmos/2028-06-27/
LOCATION:Fælleskøkkenet\, Søndergade 11\, Viby Sj.\, 4130\, Danmark
CATEGORIES:Lokale bookninger
END:VEVENT
BEGIN:VEVENT
DTSTART;TZID=Europe/Copenhagen:20280628T120000
DTEND;TZID=Europe/Copenhagen:20280628T173000
DTSTAMP:20260423T022241
CREATED:20250505T095126Z
LAST-MODIFIED:20250905T085924Z
UID:10045188-1845806400-1845826200@vorescosmos.dk
SUMMARY:Café Cosmos
DESCRIPTION:
URL:https://vorescosmos.dk/begivenhed/cafe-cosmos/2028-06-28/
LOCATION:Fælleskøkkenet\, Søndergade 11\, Viby Sj.\, 4130\, Danmark
CATEGORIES:Lokale bookninger
END:VEVENT
BEGIN:VEVENT
DTSTART;TZID=Europe/Copenhagen:20280629T120000
DTEND;TZID=Europe/Copenhagen:20280629T173000
DTSTAMP:20260423T022241
CREATED:20250505T095126Z
LAST-MODIFIED:20250905T085924Z
UID:10046147-1845892800-1845912600@vorescosmos.dk
SUMMARY:Café Cosmos
DESCRIPTION:
URL:https://vorescosmos.dk/begivenhed/cafe-cosmos/2028-06-29/
LOCATION:Fælleskøkkenet\, Søndergade 11\, Viby Sj.\, 4130\, Danmark
CATEGORIES:Lokale bookninger
END:VEVENT
BEGIN:VEVENT
DTSTART;TZID=Europe/Copenhagen:20280703T120000
DTEND;TZID=Europe/Copenhagen:20280703T173000
DTSTAMP:20260423T022241
CREATED:20250505T095126Z
LAST-MODIFIED:20250905T085924Z
UID:10045190-1846238400-1846258200@vorescosmos.dk
SUMMARY:Café Cosmos
DESCRIPTION:
URL:https://vorescosmos.dk/begivenhed/cafe-cosmos/2028-07-03/
LOCATION:Fælleskøkkenet\, Søndergade 11\, Viby Sj.\, 4130\, Danmark
CATEGORIES:Lokale bookninger
END:VEVENT
BEGIN:VEVENT
DTSTART;TZID=Europe/Copenhagen:20280704T120000
DTEND;TZID=Europe/Copenhagen:20280704T173000
DTSTAMP:20260423T022241
CREATED:20250505T095126Z
LAST-MODIFIED:20250905T085924Z
UID:10045191-1846324800-1846344600@vorescosmos.dk
SUMMARY:Café Cosmos
DESCRIPTION:
URL:https://vorescosmos.dk/begivenhed/cafe-cosmos/2028-07-04/
LOCATION:Fælleskøkkenet\, Søndergade 11\, Viby Sj.\, 4130\, Danmark
CATEGORIES:Lokale bookninger
END:VEVENT
BEGIN:VEVENT
DTSTART;TZID=Europe/Copenhagen:20280705T120000
DTEND;TZID=Europe/Copenhagen:20280705T173000
DTSTAMP:20260423T022241
CREATED:20250505T095126Z
LAST-MODIFIED:20250905T085924Z
UID:10045192-1846411200-1846431000@vorescosmos.dk
SUMMARY:Café Cosmos
DESCRIPTION:
URL:https://vorescosmos.dk/begivenhed/cafe-cosmos/2028-07-05/
LOCATION:Fælleskøkkenet\, Søndergade 11\, Viby Sj.\, 4130\, Danmark
CATEGORIES:Lokale bookninger
END:VEVENT
BEGIN:VEVENT
DTSTART;TZID=Europe/Copenhagen:20280706T120000
DTEND;TZID=Europe/Copenhagen:20280706T173000
DTSTAMP:20260423T022241
CREATED:20250505T095126Z
LAST-MODIFIED:20250905T085924Z
UID:10046148-1846497600-1846517400@vorescosmos.dk
SUMMARY:Café Cosmos
DESCRIPTION:
URL:https://vorescosmos.dk/begivenhed/cafe-cosmos/2028-07-06/
LOCATION:Fælleskøkkenet\, Søndergade 11\, Viby Sj.\, 4130\, Danmark
CATEGORIES:Lokale bookninger
END:VEVENT
BEGIN:VEVENT
DTSTART;TZID=Europe/Copenhagen:20280710T120000
DTEND;TZID=Europe/Copenhagen:20280710T173000
DTSTAMP:20260423T022241
CREATED:20250505T095126Z
LAST-MODIFIED:20250905T085924Z
UID:10045194-1846843200-1846863000@vorescosmos.dk
SUMMARY:Café Cosmos
DESCRIPTION:
URL:https://vorescosmos.dk/begivenhed/cafe-cosmos/2028-07-10/
LOCATION:Fælleskøkkenet\, Søndergade 11\, Viby Sj.\, 4130\, Danmark
CATEGORIES:Lokale bookninger
END:VEVENT
BEGIN:VEVENT
DTSTART;TZID=Europe/Copenhagen:20280711T120000
DTEND;TZID=Europe/Copenhagen:20280711T173000
DTSTAMP:20260423T022241
CREATED:20250505T095126Z
LAST-MODIFIED:20250905T085924Z
UID:10045195-1846929600-1846949400@vorescosmos.dk
SUMMARY:Café Cosmos
DESCRIPTION:
URL:https://vorescosmos.dk/begivenhed/cafe-cosmos/2028-07-11/
LOCATION:Fælleskøkkenet\, Søndergade 11\, Viby Sj.\, 4130\, Danmark
CATEGORIES:Lokale bookninger
END:VEVENT
BEGIN:VEVENT
DTSTART;TZID=Europe/Copenhagen:20280712T120000
DTEND;TZID=Europe/Copenhagen:20280712T173000
DTSTAMP:20260423T022241
CREATED:20250505T095126Z
LAST-MODIFIED:20250905T085924Z
UID:10045196-1847016000-1847035800@vorescosmos.dk
SUMMARY:Café Cosmos
DESCRIPTION:
URL:https://vorescosmos.dk/begivenhed/cafe-cosmos/2028-07-12/
LOCATION:Fælleskøkkenet\, Søndergade 11\, Viby Sj.\, 4130\, Danmark
CATEGORIES:Lokale bookninger
END:VEVENT
BEGIN:VEVENT
DTSTART;TZID=Europe/Copenhagen:20280713T120000
DTEND;TZID=Europe/Copenhagen:20280713T173000
DTSTAMP:20260423T022241
CREATED:20250505T095126Z
LAST-MODIFIED:20250905T085924Z
UID:10046149-1847102400-1847122200@vorescosmos.dk
SUMMARY:Café Cosmos
DESCRIPTION:
URL:https://vorescosmos.dk/begivenhed/cafe-cosmos/2028-07-13/
LOCATION:Fælleskøkkenet\, Søndergade 11\, Viby Sj.\, 4130\, Danmark
CATEGORIES:Lokale bookninger
END:VEVENT
BEGIN:VEVENT
DTSTART;TZID=Europe/Copenhagen:20280717T120000
DTEND;TZID=Europe/Copenhagen:20280717T173000
DTSTAMP:20260423T022241
CREATED:20250505T095126Z
LAST-MODIFIED:20250905T085924Z
UID:10045198-1847448000-1847467800@vorescosmos.dk
SUMMARY:Café Cosmos
DESCRIPTION:
URL:https://vorescosmos.dk/begivenhed/cafe-cosmos/2028-07-17/
LOCATION:Fælleskøkkenet\, Søndergade 11\, Viby Sj.\, 4130\, Danmark
CATEGORIES:Lokale bookninger
END:VEVENT
BEGIN:VEVENT
DTSTART;TZID=Europe/Copenhagen:20280718T120000
DTEND;TZID=Europe/Copenhagen:20280718T173000
DTSTAMP:20260423T022241
CREATED:20250505T095126Z
LAST-MODIFIED:20250905T085924Z
UID:10045199-1847534400-1847554200@vorescosmos.dk
SUMMARY:Café Cosmos
DESCRIPTION:
URL:https://vorescosmos.dk/begivenhed/cafe-cosmos/2028-07-18/
LOCATION:Fælleskøkkenet\, Søndergade 11\, Viby Sj.\, 4130\, Danmark
CATEGORIES:Lokale bookninger
END:VEVENT
BEGIN:VEVENT
DTSTART;TZID=Europe/Copenhagen:20280719T120000
DTEND;TZID=Europe/Copenhagen:20280719T173000
DTSTAMP:20260423T022241
CREATED:20250505T095126Z
LAST-MODIFIED:20250905T085924Z
UID:10045200-1847620800-1847640600@vorescosmos.dk
SUMMARY:Café Cosmos
DESCRIPTION:
URL:https://vorescosmos.dk/begivenhed/cafe-cosmos/2028-07-19/
LOCATION:Fælleskøkkenet\, Søndergade 11\, Viby Sj.\, 4130\, Danmark
CATEGORIES:Lokale bookninger
END:VEVENT
END:VCALENDAR