BEGIN:VCALENDAR
VERSION:2.0
PRODID:-//Vores Cosmos - ECPv6.15.20//NONSGML v1.0//EN
CALSCALE:GREGORIAN
METHOD:PUBLISH
X-WR-CALNAME:Vores Cosmos
X-ORIGINAL-URL:https://vorescosmos.dk
X-WR-CALDESC:Begivenheder for Vores Cosmos
REFRESH-INTERVAL;VALUE=DURATION:PT1H
X-Robots-Tag:noindex
X-PUBLISHED-TTL:PT1H
BEGIN:VTIMEZONE
TZID:Europe/Copenhagen
BEGIN:DAYLIGHT
TZOFFSETFROM:+0100
TZOFFSETTO:+0200
TZNAME:CEST
DTSTART:20270328T010000
END:DAYLIGHT
BEGIN:STANDARD
TZOFFSETFROM:+0200
TZOFFSETTO:+0100
TZNAME:CET
DTSTART:20271031T010000
END:STANDARD
BEGIN:DAYLIGHT
TZOFFSETFROM:+0100
TZOFFSETTO:+0200
TZNAME:CEST
DTSTART:20280326T010000
END:DAYLIGHT
BEGIN:STANDARD
TZOFFSETFROM:+0200
TZOFFSETTO:+0100
TZNAME:CET
DTSTART:20281029T010000
END:STANDARD
BEGIN:DAYLIGHT
TZOFFSETFROM:+0100
TZOFFSETTO:+0200
TZNAME:CEST
DTSTART:20290325T010000
END:DAYLIGHT
BEGIN:STANDARD
TZOFFSETFROM:+0200
TZOFFSETTO:+0100
TZNAME:CET
DTSTART:20291028T010000
END:STANDARD
END:VTIMEZONE
BEGIN:VEVENT
DTSTART;TZID=Europe/Copenhagen:20280807T120000
DTEND;TZID=Europe/Copenhagen:20280807T173000
DTSTAMP:20260423T090603
CREATED:20250505T095126Z
LAST-MODIFIED:20250905T085924Z
UID:10045210-1849262400-1849282200@vorescosmos.dk
SUMMARY:Café Cosmos
DESCRIPTION:
URL:https://vorescosmos.dk/begivenhed/cafe-cosmos/2028-08-07/
LOCATION:Fælleskøkkenet\, Søndergade 11\, Viby Sj.\, 4130\, Danmark
CATEGORIES:Lokale bookninger
END:VEVENT
BEGIN:VEVENT
DTSTART;TZID=Europe/Copenhagen:20280808T120000
DTEND;TZID=Europe/Copenhagen:20280808T173000
DTSTAMP:20260423T090603
CREATED:20250505T095126Z
LAST-MODIFIED:20250905T085924Z
UID:10045211-1849348800-1849368600@vorescosmos.dk
SUMMARY:Café Cosmos
DESCRIPTION:
URL:https://vorescosmos.dk/begivenhed/cafe-cosmos/2028-08-08/
LOCATION:Fælleskøkkenet\, Søndergade 11\, Viby Sj.\, 4130\, Danmark
CATEGORIES:Lokale bookninger
END:VEVENT
BEGIN:VEVENT
DTSTART;TZID=Europe/Copenhagen:20280809T120000
DTEND;TZID=Europe/Copenhagen:20280809T173000
DTSTAMP:20260423T090603
CREATED:20250505T095126Z
LAST-MODIFIED:20250905T085924Z
UID:10045212-1849435200-1849455000@vorescosmos.dk
SUMMARY:Café Cosmos
DESCRIPTION:
URL:https://vorescosmos.dk/begivenhed/cafe-cosmos/2028-08-09/
LOCATION:Fælleskøkkenet\, Søndergade 11\, Viby Sj.\, 4130\, Danmark
CATEGORIES:Lokale bookninger
END:VEVENT
BEGIN:VEVENT
DTSTART;TZID=Europe/Copenhagen:20280810T120000
DTEND;TZID=Europe/Copenhagen:20280810T173000
DTSTAMP:20260423T090603
CREATED:20250505T095126Z
LAST-MODIFIED:20250905T085924Z
UID:10046153-1849521600-1849541400@vorescosmos.dk
SUMMARY:Café Cosmos
DESCRIPTION:
URL:https://vorescosmos.dk/begivenhed/cafe-cosmos/2028-08-10/
LOCATION:Fælleskøkkenet\, Søndergade 11\, Viby Sj.\, 4130\, Danmark
CATEGORIES:Lokale bookninger
END:VEVENT
BEGIN:VEVENT
DTSTART;TZID=Europe/Copenhagen:20280814T120000
DTEND;TZID=Europe/Copenhagen:20280814T173000
DTSTAMP:20260423T090603
CREATED:20250505T095126Z
LAST-MODIFIED:20250905T085924Z
UID:10045214-1849867200-1849887000@vorescosmos.dk
SUMMARY:Café Cosmos
DESCRIPTION:
URL:https://vorescosmos.dk/begivenhed/cafe-cosmos/2028-08-14/
LOCATION:Fælleskøkkenet\, Søndergade 11\, Viby Sj.\, 4130\, Danmark
CATEGORIES:Lokale bookninger
END:VEVENT
BEGIN:VEVENT
DTSTART;TZID=Europe/Copenhagen:20280815T120000
DTEND;TZID=Europe/Copenhagen:20280815T173000
DTSTAMP:20260423T090603
CREATED:20250505T095126Z
LAST-MODIFIED:20250905T085924Z
UID:10045215-1849953600-1849973400@vorescosmos.dk
SUMMARY:Café Cosmos
DESCRIPTION:
URL:https://vorescosmos.dk/begivenhed/cafe-cosmos/2028-08-15/
LOCATION:Fælleskøkkenet\, Søndergade 11\, Viby Sj.\, 4130\, Danmark
CATEGORIES:Lokale bookninger
END:VEVENT
BEGIN:VEVENT
DTSTART;TZID=Europe/Copenhagen:20280816T120000
DTEND;TZID=Europe/Copenhagen:20280816T173000
DTSTAMP:20260423T090603
CREATED:20250505T095126Z
LAST-MODIFIED:20250905T085924Z
UID:10045216-1850040000-1850059800@vorescosmos.dk
SUMMARY:Café Cosmos
DESCRIPTION:
URL:https://vorescosmos.dk/begivenhed/cafe-cosmos/2028-08-16/
LOCATION:Fælleskøkkenet\, Søndergade 11\, Viby Sj.\, 4130\, Danmark
CATEGORIES:Lokale bookninger
END:VEVENT
BEGIN:VEVENT
DTSTART;TZID=Europe/Copenhagen:20280817T120000
DTEND;TZID=Europe/Copenhagen:20280817T173000
DTSTAMP:20260423T090603
CREATED:20250505T095126Z
LAST-MODIFIED:20250905T085924Z
UID:10046154-1850126400-1850146200@vorescosmos.dk
SUMMARY:Café Cosmos
DESCRIPTION:
URL:https://vorescosmos.dk/begivenhed/cafe-cosmos/2028-08-17/
LOCATION:Fælleskøkkenet\, Søndergade 11\, Viby Sj.\, 4130\, Danmark
CATEGORIES:Lokale bookninger
END:VEVENT
BEGIN:VEVENT
DTSTART;TZID=Europe/Copenhagen:20280821T120000
DTEND;TZID=Europe/Copenhagen:20280821T173000
DTSTAMP:20260423T090603
CREATED:20250505T095126Z
LAST-MODIFIED:20250905T085924Z
UID:10045218-1850472000-1850491800@vorescosmos.dk
SUMMARY:Café Cosmos
DESCRIPTION:
URL:https://vorescosmos.dk/begivenhed/cafe-cosmos/2028-08-21/
LOCATION:Fælleskøkkenet\, Søndergade 11\, Viby Sj.\, 4130\, Danmark
CATEGORIES:Lokale bookninger
END:VEVENT
BEGIN:VEVENT
DTSTART;TZID=Europe/Copenhagen:20280822T120000
DTEND;TZID=Europe/Copenhagen:20280822T173000
DTSTAMP:20260423T090603
CREATED:20250505T095126Z
LAST-MODIFIED:20250905T085924Z
UID:10045219-1850558400-1850578200@vorescosmos.dk
SUMMARY:Café Cosmos
DESCRIPTION:
URL:https://vorescosmos.dk/begivenhed/cafe-cosmos/2028-08-22/
LOCATION:Fælleskøkkenet\, Søndergade 11\, Viby Sj.\, 4130\, Danmark
CATEGORIES:Lokale bookninger
END:VEVENT
BEGIN:VEVENT
DTSTART;TZID=Europe/Copenhagen:20280823T120000
DTEND;TZID=Europe/Copenhagen:20280823T173000
DTSTAMP:20260423T090603
CREATED:20250505T095126Z
LAST-MODIFIED:20250905T085924Z
UID:10045220-1850644800-1850664600@vorescosmos.dk
SUMMARY:Café Cosmos
DESCRIPTION:
URL:https://vorescosmos.dk/begivenhed/cafe-cosmos/2028-08-23/
LOCATION:Fælleskøkkenet\, Søndergade 11\, Viby Sj.\, 4130\, Danmark
CATEGORIES:Lokale bookninger
END:VEVENT
BEGIN:VEVENT
DTSTART;TZID=Europe/Copenhagen:20280824T120000
DTEND;TZID=Europe/Copenhagen:20280824T173000
DTSTAMP:20260423T090603
CREATED:20250505T095126Z
LAST-MODIFIED:20250905T085924Z
UID:10046155-1850731200-1850751000@vorescosmos.dk
SUMMARY:Café Cosmos
DESCRIPTION:
URL:https://vorescosmos.dk/begivenhed/cafe-cosmos/2028-08-24/
LOCATION:Fælleskøkkenet\, Søndergade 11\, Viby Sj.\, 4130\, Danmark
CATEGORIES:Lokale bookninger
END:VEVENT
BEGIN:VEVENT
DTSTART;TZID=Europe/Copenhagen:20280828T120000
DTEND;TZID=Europe/Copenhagen:20280828T173000
DTSTAMP:20260423T090603
CREATED:20250505T095126Z
LAST-MODIFIED:20250905T085924Z
UID:10045222-1851076800-1851096600@vorescosmos.dk
SUMMARY:Café Cosmos
DESCRIPTION:
URL:https://vorescosmos.dk/begivenhed/cafe-cosmos/2028-08-28/
LOCATION:Fælleskøkkenet\, Søndergade 11\, Viby Sj.\, 4130\, Danmark
CATEGORIES:Lokale bookninger
END:VEVENT
BEGIN:VEVENT
DTSTART;TZID=Europe/Copenhagen:20280829T120000
DTEND;TZID=Europe/Copenhagen:20280829T173000
DTSTAMP:20260423T090603
CREATED:20250505T095126Z
LAST-MODIFIED:20250905T085924Z
UID:10045223-1851163200-1851183000@vorescosmos.dk
SUMMARY:Café Cosmos
DESCRIPTION:
URL:https://vorescosmos.dk/begivenhed/cafe-cosmos/2028-08-29/
LOCATION:Fælleskøkkenet\, Søndergade 11\, Viby Sj.\, 4130\, Danmark
CATEGORIES:Lokale bookninger
END:VEVENT
BEGIN:VEVENT
DTSTART;TZID=Europe/Copenhagen:20280830T120000
DTEND;TZID=Europe/Copenhagen:20280830T173000
DTSTAMP:20260423T090603
CREATED:20250505T095126Z
LAST-MODIFIED:20250905T085924Z
UID:10045224-1851249600-1851269400@vorescosmos.dk
SUMMARY:Café Cosmos
DESCRIPTION:
URL:https://vorescosmos.dk/begivenhed/cafe-cosmos/2028-08-30/
LOCATION:Fælleskøkkenet\, Søndergade 11\, Viby Sj.\, 4130\, Danmark
CATEGORIES:Lokale bookninger
END:VEVENT
BEGIN:VEVENT
DTSTART;TZID=Europe/Copenhagen:20280831T120000
DTEND;TZID=Europe/Copenhagen:20280831T173000
DTSTAMP:20260423T090603
CREATED:20250505T095126Z
LAST-MODIFIED:20250905T085924Z
UID:10046156-1851336000-1851355800@vorescosmos.dk
SUMMARY:Café Cosmos
DESCRIPTION:
URL:https://vorescosmos.dk/begivenhed/cafe-cosmos/2028-08-31/
LOCATION:Fælleskøkkenet\, Søndergade 11\, Viby Sj.\, 4130\, Danmark
CATEGORIES:Lokale bookninger
END:VEVENT
BEGIN:VEVENT
DTSTART;TZID=Europe/Copenhagen:20280904T120000
DTEND;TZID=Europe/Copenhagen:20280904T173000
DTSTAMP:20260423T090603
CREATED:20250505T095126Z
LAST-MODIFIED:20250905T085924Z
UID:10045226-1851681600-1851701400@vorescosmos.dk
SUMMARY:Café Cosmos
DESCRIPTION:
URL:https://vorescosmos.dk/begivenhed/cafe-cosmos/2028-09-04/
LOCATION:Fælleskøkkenet\, Søndergade 11\, Viby Sj.\, 4130\, Danmark
CATEGORIES:Lokale bookninger
END:VEVENT
BEGIN:VEVENT
DTSTART;TZID=Europe/Copenhagen:20280905T120000
DTEND;TZID=Europe/Copenhagen:20280905T173000
DTSTAMP:20260423T090603
CREATED:20250505T095126Z
LAST-MODIFIED:20250905T085924Z
UID:10045227-1851768000-1851787800@vorescosmos.dk
SUMMARY:Café Cosmos
DESCRIPTION:
URL:https://vorescosmos.dk/begivenhed/cafe-cosmos/2028-09-05/
LOCATION:Fælleskøkkenet\, Søndergade 11\, Viby Sj.\, 4130\, Danmark
CATEGORIES:Lokale bookninger
END:VEVENT
BEGIN:VEVENT
DTSTART;TZID=Europe/Copenhagen:20280906T120000
DTEND;TZID=Europe/Copenhagen:20280906T173000
DTSTAMP:20260423T090603
CREATED:20250505T095126Z
LAST-MODIFIED:20250905T085924Z
UID:10045228-1851854400-1851874200@vorescosmos.dk
SUMMARY:Café Cosmos
DESCRIPTION:
URL:https://vorescosmos.dk/begivenhed/cafe-cosmos/2028-09-06/
LOCATION:Fælleskøkkenet\, Søndergade 11\, Viby Sj.\, 4130\, Danmark
CATEGORIES:Lokale bookninger
END:VEVENT
BEGIN:VEVENT
DTSTART;TZID=Europe/Copenhagen:20280907T120000
DTEND;TZID=Europe/Copenhagen:20280907T173000
DTSTAMP:20260423T090603
CREATED:20250505T095126Z
LAST-MODIFIED:20250905T085924Z
UID:10046157-1851940800-1851960600@vorescosmos.dk
SUMMARY:Café Cosmos
DESCRIPTION:
URL:https://vorescosmos.dk/begivenhed/cafe-cosmos/2028-09-07/
LOCATION:Fælleskøkkenet\, Søndergade 11\, Viby Sj.\, 4130\, Danmark
CATEGORIES:Lokale bookninger
END:VEVENT
BEGIN:VEVENT
DTSTART;TZID=Europe/Copenhagen:20280911T120000
DTEND;TZID=Europe/Copenhagen:20280911T173000
DTSTAMP:20260423T090603
CREATED:20250505T095126Z
LAST-MODIFIED:20250905T085924Z
UID:10045230-1852286400-1852306200@vorescosmos.dk
SUMMARY:Café Cosmos
DESCRIPTION:
URL:https://vorescosmos.dk/begivenhed/cafe-cosmos/2028-09-11/
LOCATION:Fælleskøkkenet\, Søndergade 11\, Viby Sj.\, 4130\, Danmark
CATEGORIES:Lokale bookninger
END:VEVENT
BEGIN:VEVENT
DTSTART;TZID=Europe/Copenhagen:20280912T120000
DTEND;TZID=Europe/Copenhagen:20280912T173000
DTSTAMP:20260423T090603
CREATED:20250505T095126Z
LAST-MODIFIED:20250905T085924Z
UID:10045231-1852372800-1852392600@vorescosmos.dk
SUMMARY:Café Cosmos
DESCRIPTION:
URL:https://vorescosmos.dk/begivenhed/cafe-cosmos/2028-09-12/
LOCATION:Fælleskøkkenet\, Søndergade 11\, Viby Sj.\, 4130\, Danmark
CATEGORIES:Lokale bookninger
END:VEVENT
BEGIN:VEVENT
DTSTART;TZID=Europe/Copenhagen:20280913T120000
DTEND;TZID=Europe/Copenhagen:20280913T173000
DTSTAMP:20260423T090603
CREATED:20250505T095126Z
LAST-MODIFIED:20250905T085924Z
UID:10045232-1852459200-1852479000@vorescosmos.dk
SUMMARY:Café Cosmos
DESCRIPTION:
URL:https://vorescosmos.dk/begivenhed/cafe-cosmos/2028-09-13/
LOCATION:Fælleskøkkenet\, Søndergade 11\, Viby Sj.\, 4130\, Danmark
CATEGORIES:Lokale bookninger
END:VEVENT
BEGIN:VEVENT
DTSTART;TZID=Europe/Copenhagen:20280914T120000
DTEND;TZID=Europe/Copenhagen:20280914T173000
DTSTAMP:20260423T090603
CREATED:20250505T095126Z
LAST-MODIFIED:20250905T085924Z
UID:10046158-1852545600-1852565400@vorescosmos.dk
SUMMARY:Café Cosmos
DESCRIPTION:
URL:https://vorescosmos.dk/begivenhed/cafe-cosmos/2028-09-14/
LOCATION:Fælleskøkkenet\, Søndergade 11\, Viby Sj.\, 4130\, Danmark
CATEGORIES:Lokale bookninger
END:VEVENT
BEGIN:VEVENT
DTSTART;TZID=Europe/Copenhagen:20280918T120000
DTEND;TZID=Europe/Copenhagen:20280918T173000
DTSTAMP:20260423T090603
CREATED:20250505T095126Z
LAST-MODIFIED:20250905T085924Z
UID:10045234-1852891200-1852911000@vorescosmos.dk
SUMMARY:Café Cosmos
DESCRIPTION:
URL:https://vorescosmos.dk/begivenhed/cafe-cosmos/2028-09-18/
LOCATION:Fælleskøkkenet\, Søndergade 11\, Viby Sj.\, 4130\, Danmark
CATEGORIES:Lokale bookninger
END:VEVENT
BEGIN:VEVENT
DTSTART;TZID=Europe/Copenhagen:20280919T120000
DTEND;TZID=Europe/Copenhagen:20280919T173000
DTSTAMP:20260423T090603
CREATED:20250505T095126Z
LAST-MODIFIED:20250905T085924Z
UID:10045235-1852977600-1852997400@vorescosmos.dk
SUMMARY:Café Cosmos
DESCRIPTION:
URL:https://vorescosmos.dk/begivenhed/cafe-cosmos/2028-09-19/
LOCATION:Fælleskøkkenet\, Søndergade 11\, Viby Sj.\, 4130\, Danmark
CATEGORIES:Lokale bookninger
END:VEVENT
BEGIN:VEVENT
DTSTART;TZID=Europe/Copenhagen:20280920T120000
DTEND;TZID=Europe/Copenhagen:20280920T173000
DTSTAMP:20260423T090603
CREATED:20250505T095126Z
LAST-MODIFIED:20250905T085924Z
UID:10045236-1853064000-1853083800@vorescosmos.dk
SUMMARY:Café Cosmos
DESCRIPTION:
URL:https://vorescosmos.dk/begivenhed/cafe-cosmos/2028-09-20/
LOCATION:Fælleskøkkenet\, Søndergade 11\, Viby Sj.\, 4130\, Danmark
CATEGORIES:Lokale bookninger
END:VEVENT
BEGIN:VEVENT
DTSTART;TZID=Europe/Copenhagen:20280921T120000
DTEND;TZID=Europe/Copenhagen:20280921T173000
DTSTAMP:20260423T090603
CREATED:20250505T095126Z
LAST-MODIFIED:20250905T085924Z
UID:10046159-1853150400-1853170200@vorescosmos.dk
SUMMARY:Café Cosmos
DESCRIPTION:
URL:https://vorescosmos.dk/begivenhed/cafe-cosmos/2028-09-21/
LOCATION:Fælleskøkkenet\, Søndergade 11\, Viby Sj.\, 4130\, Danmark
CATEGORIES:Lokale bookninger
END:VEVENT
BEGIN:VEVENT
DTSTART;TZID=Europe/Copenhagen:20280925T120000
DTEND;TZID=Europe/Copenhagen:20280925T173000
DTSTAMP:20260423T090603
CREATED:20250505T095126Z
LAST-MODIFIED:20250905T085924Z
UID:10045238-1853496000-1853515800@vorescosmos.dk
SUMMARY:Café Cosmos
DESCRIPTION:
URL:https://vorescosmos.dk/begivenhed/cafe-cosmos/2028-09-25/
LOCATION:Fælleskøkkenet\, Søndergade 11\, Viby Sj.\, 4130\, Danmark
CATEGORIES:Lokale bookninger
END:VEVENT
BEGIN:VEVENT
DTSTART;TZID=Europe/Copenhagen:20280926T120000
DTEND;TZID=Europe/Copenhagen:20280926T173000
DTSTAMP:20260423T090603
CREATED:20250505T095126Z
LAST-MODIFIED:20250905T085924Z
UID:10045239-1853582400-1853602200@vorescosmos.dk
SUMMARY:Café Cosmos
DESCRIPTION:
URL:https://vorescosmos.dk/begivenhed/cafe-cosmos/2028-09-26/
LOCATION:Fælleskøkkenet\, Søndergade 11\, Viby Sj.\, 4130\, Danmark
CATEGORIES:Lokale bookninger
END:VEVENT
END:VCALENDAR