BEGIN:VCALENDAR
VERSION:2.0
PRODID:-//Vores Cosmos - ECPv6.15.20//NONSGML v1.0//EN
CALSCALE:GREGORIAN
METHOD:PUBLISH
X-ORIGINAL-URL:https://vorescosmos.dk
X-WR-CALDESC:Begivenheder for Vores Cosmos
REFRESH-INTERVAL;VALUE=DURATION:PT1H
X-Robots-Tag:noindex
X-PUBLISHED-TTL:PT1H
BEGIN:VTIMEZONE
TZID:Europe/Copenhagen
BEGIN:DAYLIGHT
TZOFFSETFROM:+0100
TZOFFSETTO:+0200
TZNAME:CEST
DTSTART:20270328T010000
END:DAYLIGHT
BEGIN:STANDARD
TZOFFSETFROM:+0200
TZOFFSETTO:+0100
TZNAME:CET
DTSTART:20271031T010000
END:STANDARD
BEGIN:DAYLIGHT
TZOFFSETFROM:+0100
TZOFFSETTO:+0200
TZNAME:CEST
DTSTART:20280326T010000
END:DAYLIGHT
BEGIN:STANDARD
TZOFFSETFROM:+0200
TZOFFSETTO:+0100
TZNAME:CET
DTSTART:20281029T010000
END:STANDARD
BEGIN:DAYLIGHT
TZOFFSETFROM:+0100
TZOFFSETTO:+0200
TZNAME:CEST
DTSTART:20290325T010000
END:DAYLIGHT
BEGIN:STANDARD
TZOFFSETFROM:+0200
TZOFFSETTO:+0100
TZNAME:CET
DTSTART:20291028T010000
END:STANDARD
END:VTIMEZONE
BEGIN:VEVENT
DTSTART;TZID=Europe/Copenhagen:20280927T120000
DTEND;TZID=Europe/Copenhagen:20280927T173000
DTSTAMP:20260423T134843
CREATED:20250505T095126Z
LAST-MODIFIED:20250905T085924Z
UID:10045240-1853668800-1853688600@vorescosmos.dk
SUMMARY:Café Cosmos
DESCRIPTION:
URL:https://vorescosmos.dk/begivenhed/cafe-cosmos/2028-09-27/
LOCATION:Fælleskøkkenet\, Søndergade 11\, Viby Sj.\, 4130\, Danmark
CATEGORIES:Lokale bookninger
END:VEVENT
BEGIN:VEVENT
DTSTART;TZID=Europe/Copenhagen:20280928T120000
DTEND;TZID=Europe/Copenhagen:20280928T173000
DTSTAMP:20260423T134843
CREATED:20250505T095126Z
LAST-MODIFIED:20250905T085924Z
UID:10046160-1853755200-1853775000@vorescosmos.dk
SUMMARY:Café Cosmos
DESCRIPTION:
URL:https://vorescosmos.dk/begivenhed/cafe-cosmos/2028-09-28/
LOCATION:Fælleskøkkenet\, Søndergade 11\, Viby Sj.\, 4130\, Danmark
CATEGORIES:Lokale bookninger
END:VEVENT
BEGIN:VEVENT
DTSTART;TZID=Europe/Copenhagen:20281002T120000
DTEND;TZID=Europe/Copenhagen:20281002T173000
DTSTAMP:20260423T134843
CREATED:20250505T095126Z
LAST-MODIFIED:20250905T085924Z
UID:10045242-1854100800-1854120600@vorescosmos.dk
SUMMARY:Café Cosmos
DESCRIPTION:
URL:https://vorescosmos.dk/begivenhed/cafe-cosmos/2028-10-02/
LOCATION:Fælleskøkkenet\, Søndergade 11\, Viby Sj.\, 4130\, Danmark
CATEGORIES:Lokale bookninger
END:VEVENT
BEGIN:VEVENT
DTSTART;TZID=Europe/Copenhagen:20281003T120000
DTEND;TZID=Europe/Copenhagen:20281003T173000
DTSTAMP:20260423T134843
CREATED:20250505T095126Z
LAST-MODIFIED:20250905T085924Z
UID:10045243-1854187200-1854207000@vorescosmos.dk
SUMMARY:Café Cosmos
DESCRIPTION:
URL:https://vorescosmos.dk/begivenhed/cafe-cosmos/2028-10-03/
LOCATION:Fælleskøkkenet\, Søndergade 11\, Viby Sj.\, 4130\, Danmark
CATEGORIES:Lokale bookninger
END:VEVENT
BEGIN:VEVENT
DTSTART;TZID=Europe/Copenhagen:20281004T120000
DTEND;TZID=Europe/Copenhagen:20281004T173000
DTSTAMP:20260423T134843
CREATED:20250505T095126Z
LAST-MODIFIED:20250905T085924Z
UID:10045244-1854273600-1854293400@vorescosmos.dk
SUMMARY:Café Cosmos
DESCRIPTION:
URL:https://vorescosmos.dk/begivenhed/cafe-cosmos/2028-10-04/
LOCATION:Fælleskøkkenet\, Søndergade 11\, Viby Sj.\, 4130\, Danmark
CATEGORIES:Lokale bookninger
END:VEVENT
BEGIN:VEVENT
DTSTART;TZID=Europe/Copenhagen:20281005T120000
DTEND;TZID=Europe/Copenhagen:20281005T173000
DTSTAMP:20260423T134843
CREATED:20250505T095126Z
LAST-MODIFIED:20250905T085924Z
UID:10046161-1854360000-1854379800@vorescosmos.dk
SUMMARY:Café Cosmos
DESCRIPTION:
URL:https://vorescosmos.dk/begivenhed/cafe-cosmos/2028-10-05/
LOCATION:Fælleskøkkenet\, Søndergade 11\, Viby Sj.\, 4130\, Danmark
CATEGORIES:Lokale bookninger
END:VEVENT
BEGIN:VEVENT
DTSTART;TZID=Europe/Copenhagen:20281009T120000
DTEND;TZID=Europe/Copenhagen:20281009T173000
DTSTAMP:20260423T134843
CREATED:20250505T095126Z
LAST-MODIFIED:20250905T085924Z
UID:10045246-1854705600-1854725400@vorescosmos.dk
SUMMARY:Café Cosmos
DESCRIPTION:
URL:https://vorescosmos.dk/begivenhed/cafe-cosmos/2028-10-09/
LOCATION:Fælleskøkkenet\, Søndergade 11\, Viby Sj.\, 4130\, Danmark
CATEGORIES:Lokale bookninger
END:VEVENT
BEGIN:VEVENT
DTSTART;TZID=Europe/Copenhagen:20281010T120000
DTEND;TZID=Europe/Copenhagen:20281010T173000
DTSTAMP:20260423T134843
CREATED:20250505T095126Z
LAST-MODIFIED:20250905T085924Z
UID:10045247-1854792000-1854811800@vorescosmos.dk
SUMMARY:Café Cosmos
DESCRIPTION:
URL:https://vorescosmos.dk/begivenhed/cafe-cosmos/2028-10-10/
LOCATION:Fælleskøkkenet\, Søndergade 11\, Viby Sj.\, 4130\, Danmark
CATEGORIES:Lokale bookninger
END:VEVENT
BEGIN:VEVENT
DTSTART;TZID=Europe/Copenhagen:20281011T120000
DTEND;TZID=Europe/Copenhagen:20281011T173000
DTSTAMP:20260423T134843
CREATED:20250505T095126Z
LAST-MODIFIED:20250905T085924Z
UID:10045248-1854878400-1854898200@vorescosmos.dk
SUMMARY:Café Cosmos
DESCRIPTION:
URL:https://vorescosmos.dk/begivenhed/cafe-cosmos/2028-10-11/
LOCATION:Fælleskøkkenet\, Søndergade 11\, Viby Sj.\, 4130\, Danmark
CATEGORIES:Lokale bookninger
END:VEVENT
BEGIN:VEVENT
DTSTART;TZID=Europe/Copenhagen:20281012T120000
DTEND;TZID=Europe/Copenhagen:20281012T173000
DTSTAMP:20260423T134843
CREATED:20250505T095126Z
LAST-MODIFIED:20250905T085924Z
UID:10046162-1854964800-1854984600@vorescosmos.dk
SUMMARY:Café Cosmos
DESCRIPTION:
URL:https://vorescosmos.dk/begivenhed/cafe-cosmos/2028-10-12/
LOCATION:Fælleskøkkenet\, Søndergade 11\, Viby Sj.\, 4130\, Danmark
CATEGORIES:Lokale bookninger
END:VEVENT
BEGIN:VEVENT
DTSTART;TZID=Europe/Copenhagen:20281016T120000
DTEND;TZID=Europe/Copenhagen:20281016T173000
DTSTAMP:20260423T134843
CREATED:20250505T095126Z
LAST-MODIFIED:20250905T085924Z
UID:10045250-1855310400-1855330200@vorescosmos.dk
SUMMARY:Café Cosmos
DESCRIPTION:
URL:https://vorescosmos.dk/begivenhed/cafe-cosmos/2028-10-16/
LOCATION:Fælleskøkkenet\, Søndergade 11\, Viby Sj.\, 4130\, Danmark
CATEGORIES:Lokale bookninger
END:VEVENT
BEGIN:VEVENT
DTSTART;TZID=Europe/Copenhagen:20281017T120000
DTEND;TZID=Europe/Copenhagen:20281017T173000
DTSTAMP:20260423T134843
CREATED:20250505T095126Z
LAST-MODIFIED:20250905T085924Z
UID:10045251-1855396800-1855416600@vorescosmos.dk
SUMMARY:Café Cosmos
DESCRIPTION:
URL:https://vorescosmos.dk/begivenhed/cafe-cosmos/2028-10-17/
LOCATION:Fælleskøkkenet\, Søndergade 11\, Viby Sj.\, 4130\, Danmark
CATEGORIES:Lokale bookninger
END:VEVENT
BEGIN:VEVENT
DTSTART;TZID=Europe/Copenhagen:20281018T120000
DTEND;TZID=Europe/Copenhagen:20281018T173000
DTSTAMP:20260423T134843
CREATED:20250505T095126Z
LAST-MODIFIED:20250905T085924Z
UID:10045252-1855483200-1855503000@vorescosmos.dk
SUMMARY:Café Cosmos
DESCRIPTION:
URL:https://vorescosmos.dk/begivenhed/cafe-cosmos/2028-10-18/
LOCATION:Fælleskøkkenet\, Søndergade 11\, Viby Sj.\, 4130\, Danmark
CATEGORIES:Lokale bookninger
END:VEVENT
BEGIN:VEVENT
DTSTART;TZID=Europe/Copenhagen:20281019T120000
DTEND;TZID=Europe/Copenhagen:20281019T173000
DTSTAMP:20260423T134843
CREATED:20250505T095126Z
LAST-MODIFIED:20250905T085924Z
UID:10046163-1855569600-1855589400@vorescosmos.dk
SUMMARY:Café Cosmos
DESCRIPTION:
URL:https://vorescosmos.dk/begivenhed/cafe-cosmos/2028-10-19/
LOCATION:Fælleskøkkenet\, Søndergade 11\, Viby Sj.\, 4130\, Danmark
CATEGORIES:Lokale bookninger
END:VEVENT
BEGIN:VEVENT
DTSTART;TZID=Europe/Copenhagen:20281023T120000
DTEND;TZID=Europe/Copenhagen:20281023T173000
DTSTAMP:20260423T134843
CREATED:20250505T095126Z
LAST-MODIFIED:20250905T085924Z
UID:10045254-1855915200-1855935000@vorescosmos.dk
SUMMARY:Café Cosmos
DESCRIPTION:
URL:https://vorescosmos.dk/begivenhed/cafe-cosmos/2028-10-23/
LOCATION:Fælleskøkkenet\, Søndergade 11\, Viby Sj.\, 4130\, Danmark
CATEGORIES:Lokale bookninger
END:VEVENT
BEGIN:VEVENT
DTSTART;TZID=Europe/Copenhagen:20281024T120000
DTEND;TZID=Europe/Copenhagen:20281024T173000
DTSTAMP:20260423T134843
CREATED:20250505T095126Z
LAST-MODIFIED:20250905T085924Z
UID:10045255-1856001600-1856021400@vorescosmos.dk
SUMMARY:Café Cosmos
DESCRIPTION:
URL:https://vorescosmos.dk/begivenhed/cafe-cosmos/2028-10-24/
LOCATION:Fælleskøkkenet\, Søndergade 11\, Viby Sj.\, 4130\, Danmark
CATEGORIES:Lokale bookninger
END:VEVENT
BEGIN:VEVENT
DTSTART;TZID=Europe/Copenhagen:20281025T120000
DTEND;TZID=Europe/Copenhagen:20281025T173000
DTSTAMP:20260423T134843
CREATED:20250505T095126Z
LAST-MODIFIED:20250905T085924Z
UID:10045256-1856088000-1856107800@vorescosmos.dk
SUMMARY:Café Cosmos
DESCRIPTION:
URL:https://vorescosmos.dk/begivenhed/cafe-cosmos/2028-10-25/
LOCATION:Fælleskøkkenet\, Søndergade 11\, Viby Sj.\, 4130\, Danmark
CATEGORIES:Lokale bookninger
END:VEVENT
BEGIN:VEVENT
DTSTART;TZID=Europe/Copenhagen:20281026T120000
DTEND;TZID=Europe/Copenhagen:20281026T173000
DTSTAMP:20260423T134843
CREATED:20250505T095126Z
LAST-MODIFIED:20250905T085924Z
UID:10046164-1856174400-1856194200@vorescosmos.dk
SUMMARY:Café Cosmos
DESCRIPTION:
URL:https://vorescosmos.dk/begivenhed/cafe-cosmos/2028-10-26/
LOCATION:Fælleskøkkenet\, Søndergade 11\, Viby Sj.\, 4130\, Danmark
CATEGORIES:Lokale bookninger
END:VEVENT
BEGIN:VEVENT
DTSTART;TZID=Europe/Copenhagen:20281030T120000
DTEND;TZID=Europe/Copenhagen:20281030T173000
DTSTAMP:20260423T134843
CREATED:20250505T095126Z
LAST-MODIFIED:20250905T085924Z
UID:10045258-1856520000-1856539800@vorescosmos.dk
SUMMARY:Café Cosmos
DESCRIPTION:
URL:https://vorescosmos.dk/begivenhed/cafe-cosmos/2028-10-30/
LOCATION:Fælleskøkkenet\, Søndergade 11\, Viby Sj.\, 4130\, Danmark
CATEGORIES:Lokale bookninger
END:VEVENT
BEGIN:VEVENT
DTSTART;TZID=Europe/Copenhagen:20281031T120000
DTEND;TZID=Europe/Copenhagen:20281031T173000
DTSTAMP:20260423T134843
CREATED:20250505T095126Z
LAST-MODIFIED:20250905T085924Z
UID:10045259-1856606400-1856626200@vorescosmos.dk
SUMMARY:Café Cosmos
DESCRIPTION:
URL:https://vorescosmos.dk/begivenhed/cafe-cosmos/2028-10-31/
LOCATION:Fælleskøkkenet\, Søndergade 11\, Viby Sj.\, 4130\, Danmark
CATEGORIES:Lokale bookninger
END:VEVENT
BEGIN:VEVENT
DTSTART;TZID=Europe/Copenhagen:20281101T120000
DTEND;TZID=Europe/Copenhagen:20281101T173000
DTSTAMP:20260423T134843
CREATED:20250505T095126Z
LAST-MODIFIED:20250905T085924Z
UID:10045260-1856692800-1856712600@vorescosmos.dk
SUMMARY:Café Cosmos
DESCRIPTION:
URL:https://vorescosmos.dk/begivenhed/cafe-cosmos/2028-11-01/
LOCATION:Fælleskøkkenet\, Søndergade 11\, Viby Sj.\, 4130\, Danmark
CATEGORIES:Lokale bookninger
END:VEVENT
BEGIN:VEVENT
DTSTART;TZID=Europe/Copenhagen:20281102T120000
DTEND;TZID=Europe/Copenhagen:20281102T173000
DTSTAMP:20260423T134843
CREATED:20250505T095126Z
LAST-MODIFIED:20250905T085924Z
UID:10046165-1856779200-1856799000@vorescosmos.dk
SUMMARY:Café Cosmos
DESCRIPTION:
URL:https://vorescosmos.dk/begivenhed/cafe-cosmos/2028-11-02/
LOCATION:Fælleskøkkenet\, Søndergade 11\, Viby Sj.\, 4130\, Danmark
CATEGORIES:Lokale bookninger
END:VEVENT
BEGIN:VEVENT
DTSTART;TZID=Europe/Copenhagen:20281106T120000
DTEND;TZID=Europe/Copenhagen:20281106T173000
DTSTAMP:20260423T134843
CREATED:20250505T095126Z
LAST-MODIFIED:20250905T085924Z
UID:10045262-1857124800-1857144600@vorescosmos.dk
SUMMARY:Café Cosmos
DESCRIPTION:
URL:https://vorescosmos.dk/begivenhed/cafe-cosmos/2028-11-06/
LOCATION:Fælleskøkkenet\, Søndergade 11\, Viby Sj.\, 4130\, Danmark
CATEGORIES:Lokale bookninger
END:VEVENT
BEGIN:VEVENT
DTSTART;TZID=Europe/Copenhagen:20281107T120000
DTEND;TZID=Europe/Copenhagen:20281107T173000
DTSTAMP:20260423T134843
CREATED:20250505T095126Z
LAST-MODIFIED:20250905T085924Z
UID:10045263-1857211200-1857231000@vorescosmos.dk
SUMMARY:Café Cosmos
DESCRIPTION:
URL:https://vorescosmos.dk/begivenhed/cafe-cosmos/2028-11-07/
LOCATION:Fælleskøkkenet\, Søndergade 11\, Viby Sj.\, 4130\, Danmark
CATEGORIES:Lokale bookninger
END:VEVENT
BEGIN:VEVENT
DTSTART;TZID=Europe/Copenhagen:20281108T120000
DTEND;TZID=Europe/Copenhagen:20281108T173000
DTSTAMP:20260423T134843
CREATED:20250505T095126Z
LAST-MODIFIED:20250905T085924Z
UID:10045264-1857297600-1857317400@vorescosmos.dk
SUMMARY:Café Cosmos
DESCRIPTION:
URL:https://vorescosmos.dk/begivenhed/cafe-cosmos/2028-11-08/
LOCATION:Fælleskøkkenet\, Søndergade 11\, Viby Sj.\, 4130\, Danmark
CATEGORIES:Lokale bookninger
END:VEVENT
BEGIN:VEVENT
DTSTART;TZID=Europe/Copenhagen:20281109T120000
DTEND;TZID=Europe/Copenhagen:20281109T173000
DTSTAMP:20260423T134843
CREATED:20250505T095126Z
LAST-MODIFIED:20250905T085924Z
UID:10046166-1857384000-1857403800@vorescosmos.dk
SUMMARY:Café Cosmos
DESCRIPTION:
URL:https://vorescosmos.dk/begivenhed/cafe-cosmos/2028-11-09/
LOCATION:Fælleskøkkenet\, Søndergade 11\, Viby Sj.\, 4130\, Danmark
CATEGORIES:Lokale bookninger
END:VEVENT
BEGIN:VEVENT
DTSTART;TZID=Europe/Copenhagen:20281113T120000
DTEND;TZID=Europe/Copenhagen:20281113T173000
DTSTAMP:20260423T134843
CREATED:20250505T095126Z
LAST-MODIFIED:20250905T085924Z
UID:10045266-1857729600-1857749400@vorescosmos.dk
SUMMARY:Café Cosmos
DESCRIPTION:
URL:https://vorescosmos.dk/begivenhed/cafe-cosmos/2028-11-13/
LOCATION:Fælleskøkkenet\, Søndergade 11\, Viby Sj.\, 4130\, Danmark
CATEGORIES:Lokale bookninger
END:VEVENT
BEGIN:VEVENT
DTSTART;TZID=Europe/Copenhagen:20281114T120000
DTEND;TZID=Europe/Copenhagen:20281114T173000
DTSTAMP:20260423T134843
CREATED:20250505T095126Z
LAST-MODIFIED:20250905T085924Z
UID:10045267-1857816000-1857835800@vorescosmos.dk
SUMMARY:Café Cosmos
DESCRIPTION:
URL:https://vorescosmos.dk/begivenhed/cafe-cosmos/2028-11-14/
LOCATION:Fælleskøkkenet\, Søndergade 11\, Viby Sj.\, 4130\, Danmark
CATEGORIES:Lokale bookninger
END:VEVENT
BEGIN:VEVENT
DTSTART;TZID=Europe/Copenhagen:20281115T120000
DTEND;TZID=Europe/Copenhagen:20281115T173000
DTSTAMP:20260423T134843
CREATED:20250505T095126Z
LAST-MODIFIED:20250905T085924Z
UID:10045268-1857902400-1857922200@vorescosmos.dk
SUMMARY:Café Cosmos
DESCRIPTION:
URL:https://vorescosmos.dk/begivenhed/cafe-cosmos/2028-11-15/
LOCATION:Fælleskøkkenet\, Søndergade 11\, Viby Sj.\, 4130\, Danmark
CATEGORIES:Lokale bookninger
END:VEVENT
BEGIN:VEVENT
DTSTART;TZID=Europe/Copenhagen:20281116T120000
DTEND;TZID=Europe/Copenhagen:20281116T173000
DTSTAMP:20260423T134843
CREATED:20250505T095126Z
LAST-MODIFIED:20250905T085924Z
UID:10046167-1857988800-1858008600@vorescosmos.dk
SUMMARY:Café Cosmos
DESCRIPTION:
URL:https://vorescosmos.dk/begivenhed/cafe-cosmos/2028-11-16/
LOCATION:Fælleskøkkenet\, Søndergade 11\, Viby Sj.\, 4130\, Danmark
CATEGORIES:Lokale bookninger
END:VEVENT
END:VCALENDAR