BEGIN:VCALENDAR
VERSION:2.0
PRODID:-//Vores Cosmos - ECPv6.15.20//NONSGML v1.0//EN
CALSCALE:GREGORIAN
METHOD:PUBLISH
X-WR-CALNAME:Vores Cosmos
X-ORIGINAL-URL:https://vorescosmos.dk
X-WR-CALDESC:Begivenheder for Vores Cosmos
REFRESH-INTERVAL;VALUE=DURATION:PT1H
X-Robots-Tag:noindex
X-PUBLISHED-TTL:PT1H
BEGIN:VTIMEZONE
TZID:Europe/Copenhagen
BEGIN:DAYLIGHT
TZOFFSETFROM:+0100
TZOFFSETTO:+0200
TZNAME:CEST
DTSTART:20250330T010000
END:DAYLIGHT
BEGIN:STANDARD
TZOFFSETFROM:+0200
TZOFFSETTO:+0100
TZNAME:CET
DTSTART:20251026T010000
END:STANDARD
BEGIN:DAYLIGHT
TZOFFSETFROM:+0100
TZOFFSETTO:+0200
TZNAME:CEST
DTSTART:20260329T010000
END:DAYLIGHT
BEGIN:STANDARD
TZOFFSETFROM:+0200
TZOFFSETTO:+0100
TZNAME:CET
DTSTART:20261025T010000
END:STANDARD
BEGIN:DAYLIGHT
TZOFFSETFROM:+0100
TZOFFSETTO:+0200
TZNAME:CEST
DTSTART:20270328T010000
END:DAYLIGHT
BEGIN:STANDARD
TZOFFSETFROM:+0200
TZOFFSETTO:+0100
TZNAME:CET
DTSTART:20271031T010000
END:STANDARD
END:VTIMEZONE
BEGIN:VEVENT
DTSTART;TZID=Europe/Copenhagen:20260625T120000
DTEND;TZID=Europe/Copenhagen:20260625T173000
DTSTAMP:20260419T184240
CREATED:20250505T095126Z
LAST-MODIFIED:20250905T085924Z
UID:10046042-1782388800-1782408600@vorescosmos.dk
SUMMARY:Café Cosmos
DESCRIPTION:
URL:https://vorescosmos.dk/begivenhed/cafe-cosmos/2026-06-25/
LOCATION:Fælleskøkkenet\, Søndergade 11\, Viby Sj.\, 4130\, Danmark
CATEGORIES:Lokale bookninger
END:VEVENT
BEGIN:VEVENT
DTSTART;TZID=Europe/Copenhagen:20260627T103000
DTEND;TZID=Europe/Copenhagen:20260627T143000
DTSTAMP:20260419T184240
CREATED:20260216T112246Z
LAST-MODIFIED:20260216T112247Z
UID:10046775-1782556200-1782570600@vorescosmos.dk
SUMMARY:Café Cosmos
DESCRIPTION:
URL:https://vorescosmos.dk/begivenhed/cafe-cosmos-20/
LOCATION:Fælleskøkkenet\, Søndergade 11\, Viby Sj.\, 4130\, Danmark
CATEGORIES:Lokale bookninger
END:VEVENT
BEGIN:VEVENT
DTSTART;TZID=Europe/Copenhagen:20260629T120000
DTEND;TZID=Europe/Copenhagen:20260629T173000
DTSTAMP:20260419T184240
CREATED:20250505T095126Z
LAST-MODIFIED:20250905T085924Z
UID:10044770-1782734400-1782754200@vorescosmos.dk
SUMMARY:Café Cosmos
DESCRIPTION:
URL:https://vorescosmos.dk/begivenhed/cafe-cosmos/2026-06-29/
LOCATION:Fælleskøkkenet\, Søndergade 11\, Viby Sj.\, 4130\, Danmark
CATEGORIES:Lokale bookninger
END:VEVENT
BEGIN:VEVENT
DTSTART;TZID=Europe/Copenhagen:20260630T120000
DTEND;TZID=Europe/Copenhagen:20260630T173000
DTSTAMP:20260419T184240
CREATED:20250505T095126Z
LAST-MODIFIED:20250905T085924Z
UID:10044771-1782820800-1782840600@vorescosmos.dk
SUMMARY:Café Cosmos
DESCRIPTION:
URL:https://vorescosmos.dk/begivenhed/cafe-cosmos/2026-06-30/
LOCATION:Fælleskøkkenet\, Søndergade 11\, Viby Sj.\, 4130\, Danmark
CATEGORIES:Lokale bookninger
END:VEVENT
BEGIN:VEVENT
DTSTART;TZID=Europe/Copenhagen:20260701T120000
DTEND;TZID=Europe/Copenhagen:20260701T173000
DTSTAMP:20260419T184240
CREATED:20250505T095126Z
LAST-MODIFIED:20250905T085924Z
UID:10044772-1782907200-1782927000@vorescosmos.dk
SUMMARY:Café Cosmos
DESCRIPTION:
URL:https://vorescosmos.dk/begivenhed/cafe-cosmos/2026-07-01/
LOCATION:Fælleskøkkenet\, Søndergade 11\, Viby Sj.\, 4130\, Danmark
CATEGORIES:Lokale bookninger
END:VEVENT
BEGIN:VEVENT
DTSTART;TZID=Europe/Copenhagen:20260702T120000
DTEND;TZID=Europe/Copenhagen:20260702T173000
DTSTAMP:20260419T184240
CREATED:20250505T095126Z
LAST-MODIFIED:20250905T085924Z
UID:10046043-1782993600-1783013400@vorescosmos.dk
SUMMARY:Café Cosmos
DESCRIPTION:
URL:https://vorescosmos.dk/begivenhed/cafe-cosmos/2026-07-02/
LOCATION:Fælleskøkkenet\, Søndergade 11\, Viby Sj.\, 4130\, Danmark
CATEGORIES:Lokale bookninger
END:VEVENT
BEGIN:VEVENT
DTSTART;TZID=Europe/Copenhagen:20260704T103000
DTEND;TZID=Europe/Copenhagen:20260704T143000
DTSTAMP:20260419T184240
CREATED:20260216T112350Z
LAST-MODIFIED:20260216T112351Z
UID:10046776-1783161000-1783175400@vorescosmos.dk
SUMMARY:Café Cosmos
DESCRIPTION:
URL:https://vorescosmos.dk/begivenhed/cafe-cosmos-21/
LOCATION:Fælleskøkkenet\, Søndergade 11\, Viby Sj.\, 4130\, Danmark
CATEGORIES:Lokale bookninger
END:VEVENT
BEGIN:VEVENT
DTSTART;TZID=Europe/Copenhagen:20260706T120000
DTEND;TZID=Europe/Copenhagen:20260706T173000
DTSTAMP:20260419T184240
CREATED:20250505T095126Z
LAST-MODIFIED:20250905T085924Z
UID:10044774-1783339200-1783359000@vorescosmos.dk
SUMMARY:Café Cosmos
DESCRIPTION:
URL:https://vorescosmos.dk/begivenhed/cafe-cosmos/2026-07-06/
LOCATION:Fælleskøkkenet\, Søndergade 11\, Viby Sj.\, 4130\, Danmark
CATEGORIES:Lokale bookninger
END:VEVENT
BEGIN:VEVENT
DTSTART;TZID=Europe/Copenhagen:20260707T120000
DTEND;TZID=Europe/Copenhagen:20260707T173000
DTSTAMP:20260419T184240
CREATED:20250505T095126Z
LAST-MODIFIED:20250905T085924Z
UID:10044775-1783425600-1783445400@vorescosmos.dk
SUMMARY:Café Cosmos
DESCRIPTION:
URL:https://vorescosmos.dk/begivenhed/cafe-cosmos/2026-07-07/
LOCATION:Fælleskøkkenet\, Søndergade 11\, Viby Sj.\, 4130\, Danmark
CATEGORIES:Lokale bookninger
END:VEVENT
BEGIN:VEVENT
DTSTART;TZID=Europe/Copenhagen:20260708T120000
DTEND;TZID=Europe/Copenhagen:20260708T173000
DTSTAMP:20260419T184240
CREATED:20250505T095126Z
LAST-MODIFIED:20250905T085924Z
UID:10044776-1783512000-1783531800@vorescosmos.dk
SUMMARY:Café Cosmos
DESCRIPTION:
URL:https://vorescosmos.dk/begivenhed/cafe-cosmos/2026-07-08/
LOCATION:Fælleskøkkenet\, Søndergade 11\, Viby Sj.\, 4130\, Danmark
CATEGORIES:Lokale bookninger
END:VEVENT
BEGIN:VEVENT
DTSTART;TZID=Europe/Copenhagen:20260709T120000
DTEND;TZID=Europe/Copenhagen:20260709T173000
DTSTAMP:20260419T184240
CREATED:20250505T095126Z
LAST-MODIFIED:20250905T085924Z
UID:10046044-1783598400-1783618200@vorescosmos.dk
SUMMARY:Café Cosmos
DESCRIPTION:
URL:https://vorescosmos.dk/begivenhed/cafe-cosmos/2026-07-09/
LOCATION:Fælleskøkkenet\, Søndergade 11\, Viby Sj.\, 4130\, Danmark
CATEGORIES:Lokale bookninger
END:VEVENT
BEGIN:VEVENT
DTSTART;TZID=Europe/Copenhagen:20260711T103000
DTEND;TZID=Europe/Copenhagen:20260711T143000
DTSTAMP:20260419T184240
CREATED:20260216T112451Z
LAST-MODIFIED:20260216T112452Z
UID:10046777-1783765800-1783780200@vorescosmos.dk
SUMMARY:Café Cosmos
DESCRIPTION:
URL:https://vorescosmos.dk/begivenhed/cafe-cosmos-22/
LOCATION:Fælleskøkkenet\, Søndergade 11\, Viby Sj.\, 4130\, Danmark
CATEGORIES:Lokale bookninger
END:VEVENT
BEGIN:VEVENT
DTSTART;TZID=Europe/Copenhagen:20260713T120000
DTEND;TZID=Europe/Copenhagen:20260713T173000
DTSTAMP:20260419T184240
CREATED:20250505T095126Z
LAST-MODIFIED:20250905T085924Z
UID:10044778-1783944000-1783963800@vorescosmos.dk
SUMMARY:Café Cosmos
DESCRIPTION:
URL:https://vorescosmos.dk/begivenhed/cafe-cosmos/2026-07-13/
LOCATION:Fælleskøkkenet\, Søndergade 11\, Viby Sj.\, 4130\, Danmark
CATEGORIES:Lokale bookninger
END:VEVENT
BEGIN:VEVENT
DTSTART;TZID=Europe/Copenhagen:20260714T120000
DTEND;TZID=Europe/Copenhagen:20260714T173000
DTSTAMP:20260419T184240
CREATED:20250505T095126Z
LAST-MODIFIED:20250905T085924Z
UID:10044779-1784030400-1784050200@vorescosmos.dk
SUMMARY:Café Cosmos
DESCRIPTION:
URL:https://vorescosmos.dk/begivenhed/cafe-cosmos/2026-07-14/
LOCATION:Fælleskøkkenet\, Søndergade 11\, Viby Sj.\, 4130\, Danmark
CATEGORIES:Lokale bookninger
END:VEVENT
BEGIN:VEVENT
DTSTART;TZID=Europe/Copenhagen:20260715T120000
DTEND;TZID=Europe/Copenhagen:20260715T173000
DTSTAMP:20260419T184240
CREATED:20250505T095126Z
LAST-MODIFIED:20250905T085924Z
UID:10044780-1784116800-1784136600@vorescosmos.dk
SUMMARY:Café Cosmos
DESCRIPTION:
URL:https://vorescosmos.dk/begivenhed/cafe-cosmos/2026-07-15/
LOCATION:Fælleskøkkenet\, Søndergade 11\, Viby Sj.\, 4130\, Danmark
CATEGORIES:Lokale bookninger
END:VEVENT
BEGIN:VEVENT
DTSTART;TZID=Europe/Copenhagen:20260716T120000
DTEND;TZID=Europe/Copenhagen:20260716T173000
DTSTAMP:20260419T184240
CREATED:20250505T095126Z
LAST-MODIFIED:20250905T085924Z
UID:10046045-1784203200-1784223000@vorescosmos.dk
SUMMARY:Café Cosmos
DESCRIPTION:
URL:https://vorescosmos.dk/begivenhed/cafe-cosmos/2026-07-16/
LOCATION:Fælleskøkkenet\, Søndergade 11\, Viby Sj.\, 4130\, Danmark
CATEGORIES:Lokale bookninger
END:VEVENT
BEGIN:VEVENT
DTSTART;TZID=Europe/Copenhagen:20260718T103000
DTEND;TZID=Europe/Copenhagen:20260718T143000
DTSTAMP:20260419T184240
CREATED:20260216T112540Z
LAST-MODIFIED:20260216T112540Z
UID:10046778-1784370600-1784385000@vorescosmos.dk
SUMMARY:café Cosmos
DESCRIPTION:
URL:https://vorescosmos.dk/begivenhed/cafe-cosmos-23/
LOCATION:Fælleskøkkenet\, Søndergade 11\, Viby Sj.\, 4130\, Danmark
CATEGORIES:Lokale bookninger
END:VEVENT
BEGIN:VEVENT
DTSTART;TZID=Europe/Copenhagen:20260720T120000
DTEND;TZID=Europe/Copenhagen:20260720T173000
DTSTAMP:20260419T184240
CREATED:20250505T095126Z
LAST-MODIFIED:20250905T085924Z
UID:10044782-1784548800-1784568600@vorescosmos.dk
SUMMARY:Café Cosmos
DESCRIPTION:
URL:https://vorescosmos.dk/begivenhed/cafe-cosmos/2026-07-20/
LOCATION:Fælleskøkkenet\, Søndergade 11\, Viby Sj.\, 4130\, Danmark
CATEGORIES:Lokale bookninger
END:VEVENT
BEGIN:VEVENT
DTSTART;TZID=Europe/Copenhagen:20260721T120000
DTEND;TZID=Europe/Copenhagen:20260721T173000
DTSTAMP:20260419T184240
CREATED:20250505T095126Z
LAST-MODIFIED:20250905T085924Z
UID:10044783-1784635200-1784655000@vorescosmos.dk
SUMMARY:Café Cosmos
DESCRIPTION:
URL:https://vorescosmos.dk/begivenhed/cafe-cosmos/2026-07-21/
LOCATION:Fælleskøkkenet\, Søndergade 11\, Viby Sj.\, 4130\, Danmark
CATEGORIES:Lokale bookninger
END:VEVENT
BEGIN:VEVENT
DTSTART;TZID=Europe/Copenhagen:20260722T120000
DTEND;TZID=Europe/Copenhagen:20260722T173000
DTSTAMP:20260419T184240
CREATED:20250505T095126Z
LAST-MODIFIED:20250905T085924Z
UID:10044784-1784721600-1784741400@vorescosmos.dk
SUMMARY:Café Cosmos
DESCRIPTION:
URL:https://vorescosmos.dk/begivenhed/cafe-cosmos/2026-07-22/
LOCATION:Fælleskøkkenet\, Søndergade 11\, Viby Sj.\, 4130\, Danmark
CATEGORIES:Lokale bookninger
END:VEVENT
BEGIN:VEVENT
DTSTART;TZID=Europe/Copenhagen:20260723T120000
DTEND;TZID=Europe/Copenhagen:20260723T173000
DTSTAMP:20260419T184240
CREATED:20250505T095126Z
LAST-MODIFIED:20250905T085924Z
UID:10046046-1784808000-1784827800@vorescosmos.dk
SUMMARY:Café Cosmos
DESCRIPTION:
URL:https://vorescosmos.dk/begivenhed/cafe-cosmos/2026-07-23/
LOCATION:Fælleskøkkenet\, Søndergade 11\, Viby Sj.\, 4130\, Danmark
CATEGORIES:Lokale bookninger
END:VEVENT
BEGIN:VEVENT
DTSTART;TZID=Europe/Copenhagen:20260725T103000
DTEND;TZID=Europe/Copenhagen:20260725T143000
DTSTAMP:20260419T184240
CREATED:20260216T112630Z
LAST-MODIFIED:20260216T112631Z
UID:10046779-1784975400-1784989800@vorescosmos.dk
SUMMARY:Café Cosmos
DESCRIPTION:
URL:https://vorescosmos.dk/begivenhed/cafe-cosmos-24/
LOCATION:Fælleskøkkenet\, Søndergade 11\, Viby Sj.\, 4130\, Danmark
CATEGORIES:Lokale bookninger
END:VEVENT
BEGIN:VEVENT
DTSTART;TZID=Europe/Copenhagen:20260727T120000
DTEND;TZID=Europe/Copenhagen:20260727T173000
DTSTAMP:20260419T184240
CREATED:20250505T095126Z
LAST-MODIFIED:20250905T085924Z
UID:10044786-1785153600-1785173400@vorescosmos.dk
SUMMARY:Café Cosmos
DESCRIPTION:
URL:https://vorescosmos.dk/begivenhed/cafe-cosmos/2026-07-27/
LOCATION:Fælleskøkkenet\, Søndergade 11\, Viby Sj.\, 4130\, Danmark
CATEGORIES:Lokale bookninger
END:VEVENT
BEGIN:VEVENT
DTSTART;TZID=Europe/Copenhagen:20260728T120000
DTEND;TZID=Europe/Copenhagen:20260728T173000
DTSTAMP:20260419T184240
CREATED:20250505T095126Z
LAST-MODIFIED:20250905T085924Z
UID:10044787-1785240000-1785259800@vorescosmos.dk
SUMMARY:Café Cosmos
DESCRIPTION:
URL:https://vorescosmos.dk/begivenhed/cafe-cosmos/2026-07-28/
LOCATION:Fælleskøkkenet\, Søndergade 11\, Viby Sj.\, 4130\, Danmark
CATEGORIES:Lokale bookninger
END:VEVENT
BEGIN:VEVENT
DTSTART;TZID=Europe/Copenhagen:20260729T120000
DTEND;TZID=Europe/Copenhagen:20260729T173000
DTSTAMP:20260419T184240
CREATED:20250505T095126Z
LAST-MODIFIED:20250905T085924Z
UID:10044788-1785326400-1785346200@vorescosmos.dk
SUMMARY:Café Cosmos
DESCRIPTION:
URL:https://vorescosmos.dk/begivenhed/cafe-cosmos/2026-07-29/
LOCATION:Fælleskøkkenet\, Søndergade 11\, Viby Sj.\, 4130\, Danmark
CATEGORIES:Lokale bookninger
END:VEVENT
BEGIN:VEVENT
DTSTART;TZID=Europe/Copenhagen:20260730T120000
DTEND;TZID=Europe/Copenhagen:20260730T173000
DTSTAMP:20260419T184240
CREATED:20250505T095126Z
LAST-MODIFIED:20250905T085924Z
UID:10046047-1785412800-1785432600@vorescosmos.dk
SUMMARY:Café Cosmos
DESCRIPTION:
URL:https://vorescosmos.dk/begivenhed/cafe-cosmos/2026-07-30/
LOCATION:Fælleskøkkenet\, Søndergade 11\, Viby Sj.\, 4130\, Danmark
CATEGORIES:Lokale bookninger
END:VEVENT
BEGIN:VEVENT
DTSTART;TZID=Europe/Copenhagen:20260801T103000
DTEND;TZID=Europe/Copenhagen:20260801T143000
DTSTAMP:20260419T184240
CREATED:20260216T112746Z
LAST-MODIFIED:20260216T112747Z
UID:10046780-1785580200-1785594600@vorescosmos.dk
SUMMARY:Café Cosmos
DESCRIPTION:
URL:https://vorescosmos.dk/begivenhed/cafe-cosmos-25/
LOCATION:Fælleskøkkenet\, Søndergade 11\, Viby Sj.\, 4130\, Danmark
CATEGORIES:Lokale bookninger
END:VEVENT
BEGIN:VEVENT
DTSTART;TZID=Europe/Copenhagen:20260803T120000
DTEND;TZID=Europe/Copenhagen:20260803T173000
DTSTAMP:20260419T184240
CREATED:20250505T095126Z
LAST-MODIFIED:20250905T085924Z
UID:10044790-1785758400-1785778200@vorescosmos.dk
SUMMARY:Café Cosmos
DESCRIPTION:
URL:https://vorescosmos.dk/begivenhed/cafe-cosmos/2026-08-03/
LOCATION:Fælleskøkkenet\, Søndergade 11\, Viby Sj.\, 4130\, Danmark
CATEGORIES:Lokale bookninger
END:VEVENT
BEGIN:VEVENT
DTSTART;TZID=Europe/Copenhagen:20260804T120000
DTEND;TZID=Europe/Copenhagen:20260804T173000
DTSTAMP:20260419T184240
CREATED:20250505T095126Z
LAST-MODIFIED:20250905T085924Z
UID:10044791-1785844800-1785864600@vorescosmos.dk
SUMMARY:Café Cosmos
DESCRIPTION:
URL:https://vorescosmos.dk/begivenhed/cafe-cosmos/2026-08-04/
LOCATION:Fælleskøkkenet\, Søndergade 11\, Viby Sj.\, 4130\, Danmark
CATEGORIES:Lokale bookninger
END:VEVENT
BEGIN:VEVENT
DTSTART;TZID=Europe/Copenhagen:20260805T120000
DTEND;TZID=Europe/Copenhagen:20260805T173000
DTSTAMP:20260419T184240
CREATED:20250505T095126Z
LAST-MODIFIED:20250905T085924Z
UID:10044792-1785931200-1785951000@vorescosmos.dk
SUMMARY:Café Cosmos
DESCRIPTION:
URL:https://vorescosmos.dk/begivenhed/cafe-cosmos/2026-08-05/
LOCATION:Fælleskøkkenet\, Søndergade 11\, Viby Sj.\, 4130\, Danmark
CATEGORIES:Lokale bookninger
END:VEVENT
END:VCALENDAR