BEGIN:VCALENDAR
VERSION:2.0
PRODID:-//Vores Cosmos - ECPv6.15.20//NONSGML v1.0//EN
CALSCALE:GREGORIAN
METHOD:PUBLISH
X-WR-CALNAME:Vores Cosmos
X-ORIGINAL-URL:https://vorescosmos.dk
X-WR-CALDESC:Begivenheder for Vores Cosmos
REFRESH-INTERVAL;VALUE=DURATION:PT1H
X-Robots-Tag:noindex
X-PUBLISHED-TTL:PT1H
BEGIN:VTIMEZONE
TZID:Europe/Copenhagen
BEGIN:DAYLIGHT
TZOFFSETFROM:+0100
TZOFFSETTO:+0200
TZNAME:CEST
DTSTART:20270328T010000
END:DAYLIGHT
BEGIN:STANDARD
TZOFFSETFROM:+0200
TZOFFSETTO:+0100
TZNAME:CET
DTSTART:20271031T010000
END:STANDARD
BEGIN:DAYLIGHT
TZOFFSETFROM:+0100
TZOFFSETTO:+0200
TZNAME:CEST
DTSTART:20280326T010000
END:DAYLIGHT
BEGIN:STANDARD
TZOFFSETFROM:+0200
TZOFFSETTO:+0100
TZNAME:CET
DTSTART:20281029T010000
END:STANDARD
BEGIN:DAYLIGHT
TZOFFSETFROM:+0100
TZOFFSETTO:+0200
TZNAME:CEST
DTSTART:20290325T010000
END:DAYLIGHT
BEGIN:STANDARD
TZOFFSETFROM:+0200
TZOFFSETTO:+0100
TZNAME:CET
DTSTART:20291028T010000
END:STANDARD
BEGIN:DAYLIGHT
TZOFFSETFROM:+0100
TZOFFSETTO:+0200
TZNAME:CEST
DTSTART:20300331T010000
END:DAYLIGHT
BEGIN:STANDARD
TZOFFSETFROM:+0200
TZOFFSETTO:+0100
TZNAME:CET
DTSTART:20301027T010000
END:STANDARD
END:VTIMEZONE
BEGIN:VEVENT
DTSTART;TZID=Europe/Copenhagen:20281207T120000
DTEND;TZID=Europe/Copenhagen:20281207T173000
DTSTAMP:20260423T202306
CREATED:20250505T095126Z
LAST-MODIFIED:20250905T085924Z
UID:10046170-1859803200-1859823000@vorescosmos.dk
SUMMARY:Café Cosmos
DESCRIPTION:
URL:https://vorescosmos.dk/begivenhed/cafe-cosmos/2028-12-07/
LOCATION:Fælleskøkkenet\, Søndergade 11\, Viby Sj.\, 4130\, Danmark
CATEGORIES:Lokale bookninger
END:VEVENT
BEGIN:VEVENT
DTSTART;TZID=Europe/Copenhagen:20281211T120000
DTEND;TZID=Europe/Copenhagen:20281211T173000
DTSTAMP:20260423T202306
CREATED:20250505T095126Z
LAST-MODIFIED:20250905T085924Z
UID:10045282-1860148800-1860168600@vorescosmos.dk
SUMMARY:Café Cosmos
DESCRIPTION:
URL:https://vorescosmos.dk/begivenhed/cafe-cosmos/2028-12-11/
LOCATION:Fælleskøkkenet\, Søndergade 11\, Viby Sj.\, 4130\, Danmark
CATEGORIES:Lokale bookninger
END:VEVENT
BEGIN:VEVENT
DTSTART;TZID=Europe/Copenhagen:20281212T120000
DTEND;TZID=Europe/Copenhagen:20281212T173000
DTSTAMP:20260423T202306
CREATED:20250505T095126Z
LAST-MODIFIED:20250905T085924Z
UID:10045283-1860235200-1860255000@vorescosmos.dk
SUMMARY:Café Cosmos
DESCRIPTION:
URL:https://vorescosmos.dk/begivenhed/cafe-cosmos/2028-12-12/
LOCATION:Fælleskøkkenet\, Søndergade 11\, Viby Sj.\, 4130\, Danmark
CATEGORIES:Lokale bookninger
END:VEVENT
BEGIN:VEVENT
DTSTART;TZID=Europe/Copenhagen:20281213T120000
DTEND;TZID=Europe/Copenhagen:20281213T173000
DTSTAMP:20260423T202306
CREATED:20250505T095126Z
LAST-MODIFIED:20250905T085924Z
UID:10045284-1860321600-1860341400@vorescosmos.dk
SUMMARY:Café Cosmos
DESCRIPTION:
URL:https://vorescosmos.dk/begivenhed/cafe-cosmos/2028-12-13/
LOCATION:Fælleskøkkenet\, Søndergade 11\, Viby Sj.\, 4130\, Danmark
CATEGORIES:Lokale bookninger
END:VEVENT
BEGIN:VEVENT
DTSTART;TZID=Europe/Copenhagen:20281214T120000
DTEND;TZID=Europe/Copenhagen:20281214T173000
DTSTAMP:20260423T202306
CREATED:20250505T095126Z
LAST-MODIFIED:20250905T085924Z
UID:10046171-1860408000-1860427800@vorescosmos.dk
SUMMARY:Café Cosmos
DESCRIPTION:
URL:https://vorescosmos.dk/begivenhed/cafe-cosmos/2028-12-14/
LOCATION:Fælleskøkkenet\, Søndergade 11\, Viby Sj.\, 4130\, Danmark
CATEGORIES:Lokale bookninger
END:VEVENT
BEGIN:VEVENT
DTSTART;TZID=Europe/Copenhagen:20281218T120000
DTEND;TZID=Europe/Copenhagen:20281218T173000
DTSTAMP:20260423T202306
CREATED:20250505T095126Z
LAST-MODIFIED:20250905T085924Z
UID:10045286-1860753600-1860773400@vorescosmos.dk
SUMMARY:Café Cosmos
DESCRIPTION:
URL:https://vorescosmos.dk/begivenhed/cafe-cosmos/2028-12-18/
LOCATION:Fælleskøkkenet\, Søndergade 11\, Viby Sj.\, 4130\, Danmark
CATEGORIES:Lokale bookninger
END:VEVENT
BEGIN:VEVENT
DTSTART;TZID=Europe/Copenhagen:20281219T120000
DTEND;TZID=Europe/Copenhagen:20281219T173000
DTSTAMP:20260423T202306
CREATED:20250505T095126Z
LAST-MODIFIED:20250905T085924Z
UID:10045287-1860840000-1860859800@vorescosmos.dk
SUMMARY:Café Cosmos
DESCRIPTION:
URL:https://vorescosmos.dk/begivenhed/cafe-cosmos/2028-12-19/
LOCATION:Fælleskøkkenet\, Søndergade 11\, Viby Sj.\, 4130\, Danmark
CATEGORIES:Lokale bookninger
END:VEVENT
BEGIN:VEVENT
DTSTART;TZID=Europe/Copenhagen:20281220T120000
DTEND;TZID=Europe/Copenhagen:20281220T173000
DTSTAMP:20260423T202306
CREATED:20250505T095126Z
LAST-MODIFIED:20250905T085924Z
UID:10045288-1860926400-1860946200@vorescosmos.dk
SUMMARY:Café Cosmos
DESCRIPTION:
URL:https://vorescosmos.dk/begivenhed/cafe-cosmos/2028-12-20/
LOCATION:Fælleskøkkenet\, Søndergade 11\, Viby Sj.\, 4130\, Danmark
CATEGORIES:Lokale bookninger
END:VEVENT
BEGIN:VEVENT
DTSTART;TZID=Europe/Copenhagen:20281221T120000
DTEND;TZID=Europe/Copenhagen:20281221T173000
DTSTAMP:20260423T202306
CREATED:20250505T095126Z
LAST-MODIFIED:20250905T085924Z
UID:10046172-1861012800-1861032600@vorescosmos.dk
SUMMARY:Café Cosmos
DESCRIPTION:
URL:https://vorescosmos.dk/begivenhed/cafe-cosmos/2028-12-21/
LOCATION:Fælleskøkkenet\, Søndergade 11\, Viby Sj.\, 4130\, Danmark
CATEGORIES:Lokale bookninger
END:VEVENT
BEGIN:VEVENT
DTSTART;TZID=Europe/Copenhagen:20281225T120000
DTEND;TZID=Europe/Copenhagen:20281225T173000
DTSTAMP:20260423T202306
CREATED:20250505T095126Z
LAST-MODIFIED:20250905T085924Z
UID:10045290-1861358400-1861378200@vorescosmos.dk
SUMMARY:Café Cosmos
DESCRIPTION:
URL:https://vorescosmos.dk/begivenhed/cafe-cosmos/2028-12-25/
LOCATION:Fælleskøkkenet\, Søndergade 11\, Viby Sj.\, 4130\, Danmark
CATEGORIES:Lokale bookninger
END:VEVENT
BEGIN:VEVENT
DTSTART;TZID=Europe/Copenhagen:20281226T120000
DTEND;TZID=Europe/Copenhagen:20281226T173000
DTSTAMP:20260423T202306
CREATED:20250505T095126Z
LAST-MODIFIED:20250905T085924Z
UID:10045291-1861444800-1861464600@vorescosmos.dk
SUMMARY:Café Cosmos
DESCRIPTION:
URL:https://vorescosmos.dk/begivenhed/cafe-cosmos/2028-12-26/
LOCATION:Fælleskøkkenet\, Søndergade 11\, Viby Sj.\, 4130\, Danmark
CATEGORIES:Lokale bookninger
END:VEVENT
BEGIN:VEVENT
DTSTART;TZID=Europe/Copenhagen:20281227T120000
DTEND;TZID=Europe/Copenhagen:20281227T173000
DTSTAMP:20260423T202306
CREATED:20250505T095126Z
LAST-MODIFIED:20250905T085924Z
UID:10045292-1861531200-1861551000@vorescosmos.dk
SUMMARY:Café Cosmos
DESCRIPTION:
URL:https://vorescosmos.dk/begivenhed/cafe-cosmos/2028-12-27/
LOCATION:Fælleskøkkenet\, Søndergade 11\, Viby Sj.\, 4130\, Danmark
CATEGORIES:Lokale bookninger
END:VEVENT
BEGIN:VEVENT
DTSTART;TZID=Europe/Copenhagen:20281228T120000
DTEND;TZID=Europe/Copenhagen:20281228T173000
DTSTAMP:20260423T202306
CREATED:20250505T095126Z
LAST-MODIFIED:20250905T085924Z
UID:10046173-1861617600-1861637400@vorescosmos.dk
SUMMARY:Café Cosmos
DESCRIPTION:
URL:https://vorescosmos.dk/begivenhed/cafe-cosmos/2028-12-28/
LOCATION:Fælleskøkkenet\, Søndergade 11\, Viby Sj.\, 4130\, Danmark
CATEGORIES:Lokale bookninger
END:VEVENT
BEGIN:VEVENT
DTSTART;TZID=Europe/Copenhagen:20290101T120000
DTEND;TZID=Europe/Copenhagen:20290101T173000
DTSTAMP:20260423T202306
CREATED:20250505T095126Z
LAST-MODIFIED:20250905T085924Z
UID:10045294-1861963200-1861983000@vorescosmos.dk
SUMMARY:Café Cosmos
DESCRIPTION:
URL:https://vorescosmos.dk/begivenhed/cafe-cosmos/2029-01-01/
LOCATION:Fælleskøkkenet\, Søndergade 11\, Viby Sj.\, 4130\, Danmark
CATEGORIES:Lokale bookninger
END:VEVENT
BEGIN:VEVENT
DTSTART;TZID=Europe/Copenhagen:20290102T120000
DTEND;TZID=Europe/Copenhagen:20290102T173000
DTSTAMP:20260423T202306
CREATED:20250505T095126Z
LAST-MODIFIED:20250905T085924Z
UID:10045295-1862049600-1862069400@vorescosmos.dk
SUMMARY:Café Cosmos
DESCRIPTION:
URL:https://vorescosmos.dk/begivenhed/cafe-cosmos/2029-01-02/
LOCATION:Fælleskøkkenet\, Søndergade 11\, Viby Sj.\, 4130\, Danmark
CATEGORIES:Lokale bookninger
END:VEVENT
BEGIN:VEVENT
DTSTART;TZID=Europe/Copenhagen:20290103T120000
DTEND;TZID=Europe/Copenhagen:20290103T173000
DTSTAMP:20260423T202306
CREATED:20250505T095126Z
LAST-MODIFIED:20250905T085924Z
UID:10045296-1862136000-1862155800@vorescosmos.dk
SUMMARY:Café Cosmos
DESCRIPTION:
URL:https://vorescosmos.dk/begivenhed/cafe-cosmos/2029-01-03/
LOCATION:Fælleskøkkenet\, Søndergade 11\, Viby Sj.\, 4130\, Danmark
CATEGORIES:Lokale bookninger
END:VEVENT
BEGIN:VEVENT
DTSTART;TZID=Europe/Copenhagen:20290104T120000
DTEND;TZID=Europe/Copenhagen:20290104T173000
DTSTAMP:20260423T202306
CREATED:20250505T095126Z
LAST-MODIFIED:20250905T085924Z
UID:10046174-1862222400-1862242200@vorescosmos.dk
SUMMARY:Café Cosmos
DESCRIPTION:
URL:https://vorescosmos.dk/begivenhed/cafe-cosmos/2029-01-04/
LOCATION:Fælleskøkkenet\, Søndergade 11\, Viby Sj.\, 4130\, Danmark
CATEGORIES:Lokale bookninger
END:VEVENT
BEGIN:VEVENT
DTSTART;TZID=Europe/Copenhagen:20290108T120000
DTEND;TZID=Europe/Copenhagen:20290108T173000
DTSTAMP:20260423T202306
CREATED:20250505T095126Z
LAST-MODIFIED:20250905T085924Z
UID:10045298-1862568000-1862587800@vorescosmos.dk
SUMMARY:Café Cosmos
DESCRIPTION:
URL:https://vorescosmos.dk/begivenhed/cafe-cosmos/2029-01-08/
LOCATION:Fælleskøkkenet\, Søndergade 11\, Viby Sj.\, 4130\, Danmark
CATEGORIES:Lokale bookninger
END:VEVENT
BEGIN:VEVENT
DTSTART;TZID=Europe/Copenhagen:20290109T120000
DTEND;TZID=Europe/Copenhagen:20290109T173000
DTSTAMP:20260423T202306
CREATED:20250505T095126Z
LAST-MODIFIED:20250905T085924Z
UID:10045299-1862654400-1862674200@vorescosmos.dk
SUMMARY:Café Cosmos
DESCRIPTION:
URL:https://vorescosmos.dk/begivenhed/cafe-cosmos/2029-01-09/
LOCATION:Fælleskøkkenet\, Søndergade 11\, Viby Sj.\, 4130\, Danmark
CATEGORIES:Lokale bookninger
END:VEVENT
BEGIN:VEVENT
DTSTART;TZID=Europe/Copenhagen:20290110T120000
DTEND;TZID=Europe/Copenhagen:20290110T173000
DTSTAMP:20260423T202306
CREATED:20250505T095126Z
LAST-MODIFIED:20250905T085924Z
UID:10045300-1862740800-1862760600@vorescosmos.dk
SUMMARY:Café Cosmos
DESCRIPTION:
URL:https://vorescosmos.dk/begivenhed/cafe-cosmos/2029-01-10/
LOCATION:Fælleskøkkenet\, Søndergade 11\, Viby Sj.\, 4130\, Danmark
CATEGORIES:Lokale bookninger
END:VEVENT
BEGIN:VEVENT
DTSTART;TZID=Europe/Copenhagen:20290111T120000
DTEND;TZID=Europe/Copenhagen:20290111T173000
DTSTAMP:20260423T202306
CREATED:20250505T095126Z
LAST-MODIFIED:20250905T085924Z
UID:10046175-1862827200-1862847000@vorescosmos.dk
SUMMARY:Café Cosmos
DESCRIPTION:
URL:https://vorescosmos.dk/begivenhed/cafe-cosmos/2029-01-11/
LOCATION:Fælleskøkkenet\, Søndergade 11\, Viby Sj.\, 4130\, Danmark
CATEGORIES:Lokale bookninger
END:VEVENT
BEGIN:VEVENT
DTSTART;TZID=Europe/Copenhagen:20290115T120000
DTEND;TZID=Europe/Copenhagen:20290115T173000
DTSTAMP:20260423T202306
CREATED:20250505T095126Z
LAST-MODIFIED:20250905T085924Z
UID:10045302-1863172800-1863192600@vorescosmos.dk
SUMMARY:Café Cosmos
DESCRIPTION:
URL:https://vorescosmos.dk/begivenhed/cafe-cosmos/2029-01-15/
LOCATION:Fælleskøkkenet\, Søndergade 11\, Viby Sj.\, 4130\, Danmark
CATEGORIES:Lokale bookninger
END:VEVENT
BEGIN:VEVENT
DTSTART;TZID=Europe/Copenhagen:20290116T120000
DTEND;TZID=Europe/Copenhagen:20290116T173000
DTSTAMP:20260423T202306
CREATED:20250505T095126Z
LAST-MODIFIED:20250905T085924Z
UID:10045303-1863259200-1863279000@vorescosmos.dk
SUMMARY:Café Cosmos
DESCRIPTION:
URL:https://vorescosmos.dk/begivenhed/cafe-cosmos/2029-01-16/
LOCATION:Fælleskøkkenet\, Søndergade 11\, Viby Sj.\, 4130\, Danmark
CATEGORIES:Lokale bookninger
END:VEVENT
BEGIN:VEVENT
DTSTART;TZID=Europe/Copenhagen:20290117T120000
DTEND;TZID=Europe/Copenhagen:20290117T173000
DTSTAMP:20260423T202306
CREATED:20250505T095126Z
LAST-MODIFIED:20250905T085924Z
UID:10045304-1863345600-1863365400@vorescosmos.dk
SUMMARY:Café Cosmos
DESCRIPTION:
URL:https://vorescosmos.dk/begivenhed/cafe-cosmos/2029-01-17/
LOCATION:Fælleskøkkenet\, Søndergade 11\, Viby Sj.\, 4130\, Danmark
CATEGORIES:Lokale bookninger
END:VEVENT
BEGIN:VEVENT
DTSTART;TZID=Europe/Copenhagen:20290118T120000
DTEND;TZID=Europe/Copenhagen:20290118T173000
DTSTAMP:20260423T202306
CREATED:20250505T095126Z
LAST-MODIFIED:20250905T085924Z
UID:10046176-1863432000-1863451800@vorescosmos.dk
SUMMARY:Café Cosmos
DESCRIPTION:
URL:https://vorescosmos.dk/begivenhed/cafe-cosmos/2029-01-18/
LOCATION:Fælleskøkkenet\, Søndergade 11\, Viby Sj.\, 4130\, Danmark
CATEGORIES:Lokale bookninger
END:VEVENT
BEGIN:VEVENT
DTSTART;TZID=Europe/Copenhagen:20290122T120000
DTEND;TZID=Europe/Copenhagen:20290122T173000
DTSTAMP:20260423T202306
CREATED:20250505T095126Z
LAST-MODIFIED:20250905T085924Z
UID:10045306-1863777600-1863797400@vorescosmos.dk
SUMMARY:Café Cosmos
DESCRIPTION:
URL:https://vorescosmos.dk/begivenhed/cafe-cosmos/2029-01-22/
LOCATION:Fælleskøkkenet\, Søndergade 11\, Viby Sj.\, 4130\, Danmark
CATEGORIES:Lokale bookninger
END:VEVENT
BEGIN:VEVENT
DTSTART;TZID=Europe/Copenhagen:20290123T120000
DTEND;TZID=Europe/Copenhagen:20290123T173000
DTSTAMP:20260423T202306
CREATED:20250505T095126Z
LAST-MODIFIED:20250905T085924Z
UID:10045307-1863864000-1863883800@vorescosmos.dk
SUMMARY:Café Cosmos
DESCRIPTION:
URL:https://vorescosmos.dk/begivenhed/cafe-cosmos/2029-01-23/
LOCATION:Fælleskøkkenet\, Søndergade 11\, Viby Sj.\, 4130\, Danmark
CATEGORIES:Lokale bookninger
END:VEVENT
BEGIN:VEVENT
DTSTART;TZID=Europe/Copenhagen:20290124T120000
DTEND;TZID=Europe/Copenhagen:20290124T173000
DTSTAMP:20260423T202306
CREATED:20250505T095126Z
LAST-MODIFIED:20250905T085924Z
UID:10045308-1863950400-1863970200@vorescosmos.dk
SUMMARY:Café Cosmos
DESCRIPTION:
URL:https://vorescosmos.dk/begivenhed/cafe-cosmos/2029-01-24/
LOCATION:Fælleskøkkenet\, Søndergade 11\, Viby Sj.\, 4130\, Danmark
CATEGORIES:Lokale bookninger
END:VEVENT
BEGIN:VEVENT
DTSTART;TZID=Europe/Copenhagen:20290125T120000
DTEND;TZID=Europe/Copenhagen:20290125T173000
DTSTAMP:20260423T202306
CREATED:20250505T095126Z
LAST-MODIFIED:20250905T085924Z
UID:10046177-1864036800-1864056600@vorescosmos.dk
SUMMARY:Café Cosmos
DESCRIPTION:
URL:https://vorescosmos.dk/begivenhed/cafe-cosmos/2029-01-25/
LOCATION:Fælleskøkkenet\, Søndergade 11\, Viby Sj.\, 4130\, Danmark
CATEGORIES:Lokale bookninger
END:VEVENT
BEGIN:VEVENT
DTSTART;TZID=Europe/Copenhagen:20290129T120000
DTEND;TZID=Europe/Copenhagen:20290129T173000
DTSTAMP:20260423T202306
CREATED:20250505T095126Z
LAST-MODIFIED:20250905T085924Z
UID:10045310-1864382400-1864402200@vorescosmos.dk
SUMMARY:Café Cosmos
DESCRIPTION:
URL:https://vorescosmos.dk/begivenhed/cafe-cosmos/2029-01-29/
LOCATION:Fælleskøkkenet\, Søndergade 11\, Viby Sj.\, 4130\, Danmark
CATEGORIES:Lokale bookninger
END:VEVENT
END:VCALENDAR