BEGIN:VCALENDAR
VERSION:2.0
PRODID:-//Vores Cosmos - ECPv6.15.20//NONSGML v1.0//EN
CALSCALE:GREGORIAN
METHOD:PUBLISH
X-WR-CALNAME:Vores Cosmos
X-ORIGINAL-URL:https://vorescosmos.dk
X-WR-CALDESC:Begivenheder for Vores Cosmos
REFRESH-INTERVAL;VALUE=DURATION:PT1H
X-Robots-Tag:noindex
X-PUBLISHED-TTL:PT1H
BEGIN:VTIMEZONE
TZID:Europe/Copenhagen
BEGIN:DAYLIGHT
TZOFFSETFROM:+0100
TZOFFSETTO:+0200
TZNAME:CEST
DTSTART:20280326T010000
END:DAYLIGHT
BEGIN:STANDARD
TZOFFSETFROM:+0200
TZOFFSETTO:+0100
TZNAME:CET
DTSTART:20281029T010000
END:STANDARD
BEGIN:DAYLIGHT
TZOFFSETFROM:+0100
TZOFFSETTO:+0200
TZNAME:CEST
DTSTART:20290325T010000
END:DAYLIGHT
BEGIN:STANDARD
TZOFFSETFROM:+0200
TZOFFSETTO:+0100
TZNAME:CET
DTSTART:20291028T010000
END:STANDARD
BEGIN:DAYLIGHT
TZOFFSETFROM:+0100
TZOFFSETTO:+0200
TZNAME:CEST
DTSTART:20300331T010000
END:DAYLIGHT
BEGIN:STANDARD
TZOFFSETFROM:+0200
TZOFFSETTO:+0100
TZNAME:CET
DTSTART:20301027T010000
END:STANDARD
END:VTIMEZONE
BEGIN:VEVENT
DTSTART;TZID=Europe/Copenhagen:20290111T120000
DTEND;TZID=Europe/Copenhagen:20290111T173000
DTSTAMP:20260423T233056
CREATED:20250505T095126Z
LAST-MODIFIED:20250905T085924Z
UID:10046175-1862827200-1862847000@vorescosmos.dk
SUMMARY:Café Cosmos
DESCRIPTION:
URL:https://vorescosmos.dk/begivenhed/cafe-cosmos/2029-01-11/
LOCATION:Fælleskøkkenet\, Søndergade 11\, Viby Sj.\, 4130\, Danmark
CATEGORIES:Lokale bookninger
END:VEVENT
BEGIN:VEVENT
DTSTART;TZID=Europe/Copenhagen:20290115T120000
DTEND;TZID=Europe/Copenhagen:20290115T173000
DTSTAMP:20260423T233056
CREATED:20250505T095126Z
LAST-MODIFIED:20250905T085924Z
UID:10045302-1863172800-1863192600@vorescosmos.dk
SUMMARY:Café Cosmos
DESCRIPTION:
URL:https://vorescosmos.dk/begivenhed/cafe-cosmos/2029-01-15/
LOCATION:Fælleskøkkenet\, Søndergade 11\, Viby Sj.\, 4130\, Danmark
CATEGORIES:Lokale bookninger
END:VEVENT
BEGIN:VEVENT
DTSTART;TZID=Europe/Copenhagen:20290116T120000
DTEND;TZID=Europe/Copenhagen:20290116T173000
DTSTAMP:20260423T233056
CREATED:20250505T095126Z
LAST-MODIFIED:20250905T085924Z
UID:10045303-1863259200-1863279000@vorescosmos.dk
SUMMARY:Café Cosmos
DESCRIPTION:
URL:https://vorescosmos.dk/begivenhed/cafe-cosmos/2029-01-16/
LOCATION:Fælleskøkkenet\, Søndergade 11\, Viby Sj.\, 4130\, Danmark
CATEGORIES:Lokale bookninger
END:VEVENT
BEGIN:VEVENT
DTSTART;TZID=Europe/Copenhagen:20290117T120000
DTEND;TZID=Europe/Copenhagen:20290117T173000
DTSTAMP:20260423T233056
CREATED:20250505T095126Z
LAST-MODIFIED:20250905T085924Z
UID:10045304-1863345600-1863365400@vorescosmos.dk
SUMMARY:Café Cosmos
DESCRIPTION:
URL:https://vorescosmos.dk/begivenhed/cafe-cosmos/2029-01-17/
LOCATION:Fælleskøkkenet\, Søndergade 11\, Viby Sj.\, 4130\, Danmark
CATEGORIES:Lokale bookninger
END:VEVENT
BEGIN:VEVENT
DTSTART;TZID=Europe/Copenhagen:20290118T120000
DTEND;TZID=Europe/Copenhagen:20290118T173000
DTSTAMP:20260423T233056
CREATED:20250505T095126Z
LAST-MODIFIED:20250905T085924Z
UID:10046176-1863432000-1863451800@vorescosmos.dk
SUMMARY:Café Cosmos
DESCRIPTION:
URL:https://vorescosmos.dk/begivenhed/cafe-cosmos/2029-01-18/
LOCATION:Fælleskøkkenet\, Søndergade 11\, Viby Sj.\, 4130\, Danmark
CATEGORIES:Lokale bookninger
END:VEVENT
BEGIN:VEVENT
DTSTART;TZID=Europe/Copenhagen:20290122T120000
DTEND;TZID=Europe/Copenhagen:20290122T173000
DTSTAMP:20260423T233056
CREATED:20250505T095126Z
LAST-MODIFIED:20250905T085924Z
UID:10045306-1863777600-1863797400@vorescosmos.dk
SUMMARY:Café Cosmos
DESCRIPTION:
URL:https://vorescosmos.dk/begivenhed/cafe-cosmos/2029-01-22/
LOCATION:Fælleskøkkenet\, Søndergade 11\, Viby Sj.\, 4130\, Danmark
CATEGORIES:Lokale bookninger
END:VEVENT
BEGIN:VEVENT
DTSTART;TZID=Europe/Copenhagen:20290123T120000
DTEND;TZID=Europe/Copenhagen:20290123T173000
DTSTAMP:20260423T233056
CREATED:20250505T095126Z
LAST-MODIFIED:20250905T085924Z
UID:10045307-1863864000-1863883800@vorescosmos.dk
SUMMARY:Café Cosmos
DESCRIPTION:
URL:https://vorescosmos.dk/begivenhed/cafe-cosmos/2029-01-23/
LOCATION:Fælleskøkkenet\, Søndergade 11\, Viby Sj.\, 4130\, Danmark
CATEGORIES:Lokale bookninger
END:VEVENT
BEGIN:VEVENT
DTSTART;TZID=Europe/Copenhagen:20290124T120000
DTEND;TZID=Europe/Copenhagen:20290124T173000
DTSTAMP:20260423T233056
CREATED:20250505T095126Z
LAST-MODIFIED:20250905T085924Z
UID:10045308-1863950400-1863970200@vorescosmos.dk
SUMMARY:Café Cosmos
DESCRIPTION:
URL:https://vorescosmos.dk/begivenhed/cafe-cosmos/2029-01-24/
LOCATION:Fælleskøkkenet\, Søndergade 11\, Viby Sj.\, 4130\, Danmark
CATEGORIES:Lokale bookninger
END:VEVENT
BEGIN:VEVENT
DTSTART;TZID=Europe/Copenhagen:20290125T120000
DTEND;TZID=Europe/Copenhagen:20290125T173000
DTSTAMP:20260423T233056
CREATED:20250505T095126Z
LAST-MODIFIED:20250905T085924Z
UID:10046177-1864036800-1864056600@vorescosmos.dk
SUMMARY:Café Cosmos
DESCRIPTION:
URL:https://vorescosmos.dk/begivenhed/cafe-cosmos/2029-01-25/
LOCATION:Fælleskøkkenet\, Søndergade 11\, Viby Sj.\, 4130\, Danmark
CATEGORIES:Lokale bookninger
END:VEVENT
BEGIN:VEVENT
DTSTART;TZID=Europe/Copenhagen:20290129T120000
DTEND;TZID=Europe/Copenhagen:20290129T173000
DTSTAMP:20260423T233056
CREATED:20250505T095126Z
LAST-MODIFIED:20250905T085924Z
UID:10045310-1864382400-1864402200@vorescosmos.dk
SUMMARY:Café Cosmos
DESCRIPTION:
URL:https://vorescosmos.dk/begivenhed/cafe-cosmos/2029-01-29/
LOCATION:Fælleskøkkenet\, Søndergade 11\, Viby Sj.\, 4130\, Danmark
CATEGORIES:Lokale bookninger
END:VEVENT
BEGIN:VEVENT
DTSTART;TZID=Europe/Copenhagen:20290130T120000
DTEND;TZID=Europe/Copenhagen:20290130T173000
DTSTAMP:20260423T233056
CREATED:20250505T095126Z
LAST-MODIFIED:20250905T085924Z
UID:10045311-1864468800-1864488600@vorescosmos.dk
SUMMARY:Café Cosmos
DESCRIPTION:
URL:https://vorescosmos.dk/begivenhed/cafe-cosmos/2029-01-30/
LOCATION:Fælleskøkkenet\, Søndergade 11\, Viby Sj.\, 4130\, Danmark
CATEGORIES:Lokale bookninger
END:VEVENT
BEGIN:VEVENT
DTSTART;TZID=Europe/Copenhagen:20290131T120000
DTEND;TZID=Europe/Copenhagen:20290131T173000
DTSTAMP:20260423T233056
CREATED:20250505T095126Z
LAST-MODIFIED:20250905T085924Z
UID:10045312-1864555200-1864575000@vorescosmos.dk
SUMMARY:Café Cosmos
DESCRIPTION:
URL:https://vorescosmos.dk/begivenhed/cafe-cosmos/2029-01-31/
LOCATION:Fælleskøkkenet\, Søndergade 11\, Viby Sj.\, 4130\, Danmark
CATEGORIES:Lokale bookninger
END:VEVENT
BEGIN:VEVENT
DTSTART;TZID=Europe/Copenhagen:20290201T120000
DTEND;TZID=Europe/Copenhagen:20290201T173000
DTSTAMP:20260423T233056
CREATED:20250505T095126Z
LAST-MODIFIED:20250905T085924Z
UID:10046178-1864641600-1864661400@vorescosmos.dk
SUMMARY:Café Cosmos
DESCRIPTION:
URL:https://vorescosmos.dk/begivenhed/cafe-cosmos/2029-02-01/
LOCATION:Fælleskøkkenet\, Søndergade 11\, Viby Sj.\, 4130\, Danmark
CATEGORIES:Lokale bookninger
END:VEVENT
BEGIN:VEVENT
DTSTART;TZID=Europe/Copenhagen:20290205T120000
DTEND;TZID=Europe/Copenhagen:20290205T173000
DTSTAMP:20260423T233056
CREATED:20250505T095126Z
LAST-MODIFIED:20250905T085924Z
UID:10045314-1864987200-1865007000@vorescosmos.dk
SUMMARY:Café Cosmos
DESCRIPTION:
URL:https://vorescosmos.dk/begivenhed/cafe-cosmos/2029-02-05/
LOCATION:Fælleskøkkenet\, Søndergade 11\, Viby Sj.\, 4130\, Danmark
CATEGORIES:Lokale bookninger
END:VEVENT
BEGIN:VEVENT
DTSTART;TZID=Europe/Copenhagen:20290206T120000
DTEND;TZID=Europe/Copenhagen:20290206T173000
DTSTAMP:20260423T233056
CREATED:20250505T095126Z
LAST-MODIFIED:20250905T085924Z
UID:10045315-1865073600-1865093400@vorescosmos.dk
SUMMARY:Café Cosmos
DESCRIPTION:
URL:https://vorescosmos.dk/begivenhed/cafe-cosmos/2029-02-06/
LOCATION:Fælleskøkkenet\, Søndergade 11\, Viby Sj.\, 4130\, Danmark
CATEGORIES:Lokale bookninger
END:VEVENT
BEGIN:VEVENT
DTSTART;TZID=Europe/Copenhagen:20290207T120000
DTEND;TZID=Europe/Copenhagen:20290207T173000
DTSTAMP:20260423T233056
CREATED:20250505T095126Z
LAST-MODIFIED:20250905T085924Z
UID:10045316-1865160000-1865179800@vorescosmos.dk
SUMMARY:Café Cosmos
DESCRIPTION:
URL:https://vorescosmos.dk/begivenhed/cafe-cosmos/2029-02-07/
LOCATION:Fælleskøkkenet\, Søndergade 11\, Viby Sj.\, 4130\, Danmark
CATEGORIES:Lokale bookninger
END:VEVENT
BEGIN:VEVENT
DTSTART;TZID=Europe/Copenhagen:20290208T120000
DTEND;TZID=Europe/Copenhagen:20290208T173000
DTSTAMP:20260423T233056
CREATED:20250505T095126Z
LAST-MODIFIED:20250905T085924Z
UID:10046179-1865246400-1865266200@vorescosmos.dk
SUMMARY:Café Cosmos
DESCRIPTION:
URL:https://vorescosmos.dk/begivenhed/cafe-cosmos/2029-02-08/
LOCATION:Fælleskøkkenet\, Søndergade 11\, Viby Sj.\, 4130\, Danmark
CATEGORIES:Lokale bookninger
END:VEVENT
BEGIN:VEVENT
DTSTART;TZID=Europe/Copenhagen:20290212T120000
DTEND;TZID=Europe/Copenhagen:20290212T173000
DTSTAMP:20260423T233056
CREATED:20250505T095126Z
LAST-MODIFIED:20250905T085924Z
UID:10045318-1865592000-1865611800@vorescosmos.dk
SUMMARY:Café Cosmos
DESCRIPTION:
URL:https://vorescosmos.dk/begivenhed/cafe-cosmos/2029-02-12/
LOCATION:Fælleskøkkenet\, Søndergade 11\, Viby Sj.\, 4130\, Danmark
CATEGORIES:Lokale bookninger
END:VEVENT
BEGIN:VEVENT
DTSTART;TZID=Europe/Copenhagen:20290213T120000
DTEND;TZID=Europe/Copenhagen:20290213T173000
DTSTAMP:20260423T233056
CREATED:20250505T095126Z
LAST-MODIFIED:20250905T085924Z
UID:10045319-1865678400-1865698200@vorescosmos.dk
SUMMARY:Café Cosmos
DESCRIPTION:
URL:https://vorescosmos.dk/begivenhed/cafe-cosmos/2029-02-13/
LOCATION:Fælleskøkkenet\, Søndergade 11\, Viby Sj.\, 4130\, Danmark
CATEGORIES:Lokale bookninger
END:VEVENT
BEGIN:VEVENT
DTSTART;TZID=Europe/Copenhagen:20290214T120000
DTEND;TZID=Europe/Copenhagen:20290214T173000
DTSTAMP:20260423T233056
CREATED:20250505T095126Z
LAST-MODIFIED:20250905T085924Z
UID:10045320-1865764800-1865784600@vorescosmos.dk
SUMMARY:Café Cosmos
DESCRIPTION:
URL:https://vorescosmos.dk/begivenhed/cafe-cosmos/2029-02-14/
LOCATION:Fælleskøkkenet\, Søndergade 11\, Viby Sj.\, 4130\, Danmark
CATEGORIES:Lokale bookninger
END:VEVENT
BEGIN:VEVENT
DTSTART;TZID=Europe/Copenhagen:20290215T120000
DTEND;TZID=Europe/Copenhagen:20290215T173000
DTSTAMP:20260423T233056
CREATED:20250505T095126Z
LAST-MODIFIED:20250905T085924Z
UID:10046180-1865851200-1865871000@vorescosmos.dk
SUMMARY:Café Cosmos
DESCRIPTION:
URL:https://vorescosmos.dk/begivenhed/cafe-cosmos/2029-02-15/
LOCATION:Fælleskøkkenet\, Søndergade 11\, Viby Sj.\, 4130\, Danmark
CATEGORIES:Lokale bookninger
END:VEVENT
BEGIN:VEVENT
DTSTART;TZID=Europe/Copenhagen:20290219T120000
DTEND;TZID=Europe/Copenhagen:20290219T173000
DTSTAMP:20260423T233056
CREATED:20250505T095126Z
LAST-MODIFIED:20250905T085924Z
UID:10045322-1866196800-1866216600@vorescosmos.dk
SUMMARY:Café Cosmos
DESCRIPTION:
URL:https://vorescosmos.dk/begivenhed/cafe-cosmos/2029-02-19/
LOCATION:Fælleskøkkenet\, Søndergade 11\, Viby Sj.\, 4130\, Danmark
CATEGORIES:Lokale bookninger
END:VEVENT
BEGIN:VEVENT
DTSTART;TZID=Europe/Copenhagen:20290220T120000
DTEND;TZID=Europe/Copenhagen:20290220T173000
DTSTAMP:20260423T233056
CREATED:20250505T095126Z
LAST-MODIFIED:20250905T085924Z
UID:10045323-1866283200-1866303000@vorescosmos.dk
SUMMARY:Café Cosmos
DESCRIPTION:
URL:https://vorescosmos.dk/begivenhed/cafe-cosmos/2029-02-20/
LOCATION:Fælleskøkkenet\, Søndergade 11\, Viby Sj.\, 4130\, Danmark
CATEGORIES:Lokale bookninger
END:VEVENT
BEGIN:VEVENT
DTSTART;TZID=Europe/Copenhagen:20290221T120000
DTEND;TZID=Europe/Copenhagen:20290221T173000
DTSTAMP:20260423T233056
CREATED:20250505T095126Z
LAST-MODIFIED:20250905T085924Z
UID:10045324-1866369600-1866389400@vorescosmos.dk
SUMMARY:Café Cosmos
DESCRIPTION:
URL:https://vorescosmos.dk/begivenhed/cafe-cosmos/2029-02-21/
LOCATION:Fælleskøkkenet\, Søndergade 11\, Viby Sj.\, 4130\, Danmark
CATEGORIES:Lokale bookninger
END:VEVENT
BEGIN:VEVENT
DTSTART;TZID=Europe/Copenhagen:20290222T120000
DTEND;TZID=Europe/Copenhagen:20290222T173000
DTSTAMP:20260423T233056
CREATED:20250505T095126Z
LAST-MODIFIED:20250905T085924Z
UID:10046181-1866456000-1866475800@vorescosmos.dk
SUMMARY:Café Cosmos
DESCRIPTION:
URL:https://vorescosmos.dk/begivenhed/cafe-cosmos/2029-02-22/
LOCATION:Fælleskøkkenet\, Søndergade 11\, Viby Sj.\, 4130\, Danmark
CATEGORIES:Lokale bookninger
END:VEVENT
BEGIN:VEVENT
DTSTART;TZID=Europe/Copenhagen:20290226T120000
DTEND;TZID=Europe/Copenhagen:20290226T173000
DTSTAMP:20260423T233056
CREATED:20250505T095126Z
LAST-MODIFIED:20250905T085924Z
UID:10045326-1866801600-1866821400@vorescosmos.dk
SUMMARY:Café Cosmos
DESCRIPTION:
URL:https://vorescosmos.dk/begivenhed/cafe-cosmos/2029-02-26/
LOCATION:Fælleskøkkenet\, Søndergade 11\, Viby Sj.\, 4130\, Danmark
CATEGORIES:Lokale bookninger
END:VEVENT
BEGIN:VEVENT
DTSTART;TZID=Europe/Copenhagen:20290227T120000
DTEND;TZID=Europe/Copenhagen:20290227T173000
DTSTAMP:20260423T233056
CREATED:20250505T095126Z
LAST-MODIFIED:20250905T085924Z
UID:10045327-1866888000-1866907800@vorescosmos.dk
SUMMARY:Café Cosmos
DESCRIPTION:
URL:https://vorescosmos.dk/begivenhed/cafe-cosmos/2029-02-27/
LOCATION:Fælleskøkkenet\, Søndergade 11\, Viby Sj.\, 4130\, Danmark
CATEGORIES:Lokale bookninger
END:VEVENT
BEGIN:VEVENT
DTSTART;TZID=Europe/Copenhagen:20290228T120000
DTEND;TZID=Europe/Copenhagen:20290228T173000
DTSTAMP:20260423T233056
CREATED:20250505T095126Z
LAST-MODIFIED:20250905T085924Z
UID:10045328-1866974400-1866994200@vorescosmos.dk
SUMMARY:Café Cosmos
DESCRIPTION:
URL:https://vorescosmos.dk/begivenhed/cafe-cosmos/2029-02-28/
LOCATION:Fælleskøkkenet\, Søndergade 11\, Viby Sj.\, 4130\, Danmark
CATEGORIES:Lokale bookninger
END:VEVENT
BEGIN:VEVENT
DTSTART;TZID=Europe/Copenhagen:20290301T120000
DTEND;TZID=Europe/Copenhagen:20290301T173000
DTSTAMP:20260423T233056
CREATED:20250505T095126Z
LAST-MODIFIED:20250905T085924Z
UID:10046182-1867060800-1867080600@vorescosmos.dk
SUMMARY:Café Cosmos
DESCRIPTION:
URL:https://vorescosmos.dk/begivenhed/cafe-cosmos/2029-03-01/
LOCATION:Fælleskøkkenet\, Søndergade 11\, Viby Sj.\, 4130\, Danmark
CATEGORIES:Lokale bookninger
END:VEVENT
BEGIN:VEVENT
DTSTART;TZID=Europe/Copenhagen:20290305T120000
DTEND;TZID=Europe/Copenhagen:20290305T173000
DTSTAMP:20260423T233056
CREATED:20250505T095126Z
LAST-MODIFIED:20250905T085924Z
UID:10045330-1867406400-1867426200@vorescosmos.dk
SUMMARY:Café Cosmos
DESCRIPTION:
URL:https://vorescosmos.dk/begivenhed/cafe-cosmos/2029-03-05/
LOCATION:Fælleskøkkenet\, Søndergade 11\, Viby Sj.\, 4130\, Danmark
CATEGORIES:Lokale bookninger
END:VEVENT
END:VCALENDAR