BEGIN:VCALENDAR
VERSION:2.0
PRODID:-//Vores Cosmos - ECPv6.15.20//NONSGML v1.0//EN
CALSCALE:GREGORIAN
METHOD:PUBLISH
X-ORIGINAL-URL:https://vorescosmos.dk
X-WR-CALDESC:Begivenheder for Vores Cosmos
REFRESH-INTERVAL;VALUE=DURATION:PT1H
X-Robots-Tag:noindex
X-PUBLISHED-TTL:PT1H
BEGIN:VTIMEZONE
TZID:Europe/Copenhagen
BEGIN:DAYLIGHT
TZOFFSETFROM:+0100
TZOFFSETTO:+0200
TZNAME:CEST
DTSTART:20280326T010000
END:DAYLIGHT
BEGIN:STANDARD
TZOFFSETFROM:+0200
TZOFFSETTO:+0100
TZNAME:CET
DTSTART:20281029T010000
END:STANDARD
BEGIN:DAYLIGHT
TZOFFSETFROM:+0100
TZOFFSETTO:+0200
TZNAME:CEST
DTSTART:20290325T010000
END:DAYLIGHT
BEGIN:STANDARD
TZOFFSETFROM:+0200
TZOFFSETTO:+0100
TZNAME:CET
DTSTART:20291028T010000
END:STANDARD
BEGIN:DAYLIGHT
TZOFFSETFROM:+0100
TZOFFSETTO:+0200
TZNAME:CEST
DTSTART:20300331T010000
END:DAYLIGHT
BEGIN:STANDARD
TZOFFSETFROM:+0200
TZOFFSETTO:+0100
TZNAME:CET
DTSTART:20301027T010000
END:STANDARD
END:VTIMEZONE
BEGIN:VEVENT
DTSTART;TZID=Europe/Copenhagen:20290215T120000
DTEND;TZID=Europe/Copenhagen:20290215T173000
DTSTAMP:20260424T022240
CREATED:20250505T095126Z
LAST-MODIFIED:20250905T085924Z
UID:10046180-1865851200-1865871000@vorescosmos.dk
SUMMARY:Café Cosmos
DESCRIPTION:
URL:https://vorescosmos.dk/begivenhed/cafe-cosmos/2029-02-15/
LOCATION:Fælleskøkkenet\, Søndergade 11\, Viby Sj.\, 4130\, Danmark
CATEGORIES:Lokale bookninger
END:VEVENT
BEGIN:VEVENT
DTSTART;TZID=Europe/Copenhagen:20290219T120000
DTEND;TZID=Europe/Copenhagen:20290219T173000
DTSTAMP:20260424T022240
CREATED:20250505T095126Z
LAST-MODIFIED:20250905T085924Z
UID:10045322-1866196800-1866216600@vorescosmos.dk
SUMMARY:Café Cosmos
DESCRIPTION:
URL:https://vorescosmos.dk/begivenhed/cafe-cosmos/2029-02-19/
LOCATION:Fælleskøkkenet\, Søndergade 11\, Viby Sj.\, 4130\, Danmark
CATEGORIES:Lokale bookninger
END:VEVENT
BEGIN:VEVENT
DTSTART;TZID=Europe/Copenhagen:20290220T120000
DTEND;TZID=Europe/Copenhagen:20290220T173000
DTSTAMP:20260424T022240
CREATED:20250505T095126Z
LAST-MODIFIED:20250905T085924Z
UID:10045323-1866283200-1866303000@vorescosmos.dk
SUMMARY:Café Cosmos
DESCRIPTION:
URL:https://vorescosmos.dk/begivenhed/cafe-cosmos/2029-02-20/
LOCATION:Fælleskøkkenet\, Søndergade 11\, Viby Sj.\, 4130\, Danmark
CATEGORIES:Lokale bookninger
END:VEVENT
BEGIN:VEVENT
DTSTART;TZID=Europe/Copenhagen:20290221T120000
DTEND;TZID=Europe/Copenhagen:20290221T173000
DTSTAMP:20260424T022240
CREATED:20250505T095126Z
LAST-MODIFIED:20250905T085924Z
UID:10045324-1866369600-1866389400@vorescosmos.dk
SUMMARY:Café Cosmos
DESCRIPTION:
URL:https://vorescosmos.dk/begivenhed/cafe-cosmos/2029-02-21/
LOCATION:Fælleskøkkenet\, Søndergade 11\, Viby Sj.\, 4130\, Danmark
CATEGORIES:Lokale bookninger
END:VEVENT
BEGIN:VEVENT
DTSTART;TZID=Europe/Copenhagen:20290222T120000
DTEND;TZID=Europe/Copenhagen:20290222T173000
DTSTAMP:20260424T022240
CREATED:20250505T095126Z
LAST-MODIFIED:20250905T085924Z
UID:10046181-1866456000-1866475800@vorescosmos.dk
SUMMARY:Café Cosmos
DESCRIPTION:
URL:https://vorescosmos.dk/begivenhed/cafe-cosmos/2029-02-22/
LOCATION:Fælleskøkkenet\, Søndergade 11\, Viby Sj.\, 4130\, Danmark
CATEGORIES:Lokale bookninger
END:VEVENT
BEGIN:VEVENT
DTSTART;TZID=Europe/Copenhagen:20290226T120000
DTEND;TZID=Europe/Copenhagen:20290226T173000
DTSTAMP:20260424T022240
CREATED:20250505T095126Z
LAST-MODIFIED:20250905T085924Z
UID:10045326-1866801600-1866821400@vorescosmos.dk
SUMMARY:Café Cosmos
DESCRIPTION:
URL:https://vorescosmos.dk/begivenhed/cafe-cosmos/2029-02-26/
LOCATION:Fælleskøkkenet\, Søndergade 11\, Viby Sj.\, 4130\, Danmark
CATEGORIES:Lokale bookninger
END:VEVENT
BEGIN:VEVENT
DTSTART;TZID=Europe/Copenhagen:20290227T120000
DTEND;TZID=Europe/Copenhagen:20290227T173000
DTSTAMP:20260424T022240
CREATED:20250505T095126Z
LAST-MODIFIED:20250905T085924Z
UID:10045327-1866888000-1866907800@vorescosmos.dk
SUMMARY:Café Cosmos
DESCRIPTION:
URL:https://vorescosmos.dk/begivenhed/cafe-cosmos/2029-02-27/
LOCATION:Fælleskøkkenet\, Søndergade 11\, Viby Sj.\, 4130\, Danmark
CATEGORIES:Lokale bookninger
END:VEVENT
BEGIN:VEVENT
DTSTART;TZID=Europe/Copenhagen:20290228T120000
DTEND;TZID=Europe/Copenhagen:20290228T173000
DTSTAMP:20260424T022240
CREATED:20250505T095126Z
LAST-MODIFIED:20250905T085924Z
UID:10045328-1866974400-1866994200@vorescosmos.dk
SUMMARY:Café Cosmos
DESCRIPTION:
URL:https://vorescosmos.dk/begivenhed/cafe-cosmos/2029-02-28/
LOCATION:Fælleskøkkenet\, Søndergade 11\, Viby Sj.\, 4130\, Danmark
CATEGORIES:Lokale bookninger
END:VEVENT
BEGIN:VEVENT
DTSTART;TZID=Europe/Copenhagen:20290301T120000
DTEND;TZID=Europe/Copenhagen:20290301T173000
DTSTAMP:20260424T022240
CREATED:20250505T095126Z
LAST-MODIFIED:20250905T085924Z
UID:10046182-1867060800-1867080600@vorescosmos.dk
SUMMARY:Café Cosmos
DESCRIPTION:
URL:https://vorescosmos.dk/begivenhed/cafe-cosmos/2029-03-01/
LOCATION:Fælleskøkkenet\, Søndergade 11\, Viby Sj.\, 4130\, Danmark
CATEGORIES:Lokale bookninger
END:VEVENT
BEGIN:VEVENT
DTSTART;TZID=Europe/Copenhagen:20290305T120000
DTEND;TZID=Europe/Copenhagen:20290305T173000
DTSTAMP:20260424T022240
CREATED:20250505T095126Z
LAST-MODIFIED:20250905T085924Z
UID:10045330-1867406400-1867426200@vorescosmos.dk
SUMMARY:Café Cosmos
DESCRIPTION:
URL:https://vorescosmos.dk/begivenhed/cafe-cosmos/2029-03-05/
LOCATION:Fælleskøkkenet\, Søndergade 11\, Viby Sj.\, 4130\, Danmark
CATEGORIES:Lokale bookninger
END:VEVENT
BEGIN:VEVENT
DTSTART;TZID=Europe/Copenhagen:20290306T120000
DTEND;TZID=Europe/Copenhagen:20290306T173000
DTSTAMP:20260424T022240
CREATED:20250505T095126Z
LAST-MODIFIED:20250905T085924Z
UID:10045331-1867492800-1867512600@vorescosmos.dk
SUMMARY:Café Cosmos
DESCRIPTION:
URL:https://vorescosmos.dk/begivenhed/cafe-cosmos/2029-03-06/
LOCATION:Fælleskøkkenet\, Søndergade 11\, Viby Sj.\, 4130\, Danmark
CATEGORIES:Lokale bookninger
END:VEVENT
BEGIN:VEVENT
DTSTART;TZID=Europe/Copenhagen:20290307T120000
DTEND;TZID=Europe/Copenhagen:20290307T173000
DTSTAMP:20260424T022240
CREATED:20250505T095126Z
LAST-MODIFIED:20250905T085924Z
UID:10045332-1867579200-1867599000@vorescosmos.dk
SUMMARY:Café Cosmos
DESCRIPTION:
URL:https://vorescosmos.dk/begivenhed/cafe-cosmos/2029-03-07/
LOCATION:Fælleskøkkenet\, Søndergade 11\, Viby Sj.\, 4130\, Danmark
CATEGORIES:Lokale bookninger
END:VEVENT
BEGIN:VEVENT
DTSTART;TZID=Europe/Copenhagen:20290308T120000
DTEND;TZID=Europe/Copenhagen:20290308T173000
DTSTAMP:20260424T022240
CREATED:20250505T095126Z
LAST-MODIFIED:20250905T085924Z
UID:10046183-1867665600-1867685400@vorescosmos.dk
SUMMARY:Café Cosmos
DESCRIPTION:
URL:https://vorescosmos.dk/begivenhed/cafe-cosmos/2029-03-08/
LOCATION:Fælleskøkkenet\, Søndergade 11\, Viby Sj.\, 4130\, Danmark
CATEGORIES:Lokale bookninger
END:VEVENT
BEGIN:VEVENT
DTSTART;TZID=Europe/Copenhagen:20290312T120000
DTEND;TZID=Europe/Copenhagen:20290312T173000
DTSTAMP:20260424T022240
CREATED:20250505T095126Z
LAST-MODIFIED:20250905T085924Z
UID:10045334-1868011200-1868031000@vorescosmos.dk
SUMMARY:Café Cosmos
DESCRIPTION:
URL:https://vorescosmos.dk/begivenhed/cafe-cosmos/2029-03-12/
LOCATION:Fælleskøkkenet\, Søndergade 11\, Viby Sj.\, 4130\, Danmark
CATEGORIES:Lokale bookninger
END:VEVENT
BEGIN:VEVENT
DTSTART;TZID=Europe/Copenhagen:20290313T120000
DTEND;TZID=Europe/Copenhagen:20290313T173000
DTSTAMP:20260424T022240
CREATED:20250505T095126Z
LAST-MODIFIED:20250905T085924Z
UID:10045335-1868097600-1868117400@vorescosmos.dk
SUMMARY:Café Cosmos
DESCRIPTION:
URL:https://vorescosmos.dk/begivenhed/cafe-cosmos/2029-03-13/
LOCATION:Fælleskøkkenet\, Søndergade 11\, Viby Sj.\, 4130\, Danmark
CATEGORIES:Lokale bookninger
END:VEVENT
BEGIN:VEVENT
DTSTART;TZID=Europe/Copenhagen:20290314T120000
DTEND;TZID=Europe/Copenhagen:20290314T173000
DTSTAMP:20260424T022240
CREATED:20250505T095126Z
LAST-MODIFIED:20250905T085924Z
UID:10045336-1868184000-1868203800@vorescosmos.dk
SUMMARY:Café Cosmos
DESCRIPTION:
URL:https://vorescosmos.dk/begivenhed/cafe-cosmos/2029-03-14/
LOCATION:Fælleskøkkenet\, Søndergade 11\, Viby Sj.\, 4130\, Danmark
CATEGORIES:Lokale bookninger
END:VEVENT
BEGIN:VEVENT
DTSTART;TZID=Europe/Copenhagen:20290315T120000
DTEND;TZID=Europe/Copenhagen:20290315T173000
DTSTAMP:20260424T022240
CREATED:20250505T095126Z
LAST-MODIFIED:20250905T085924Z
UID:10046184-1868270400-1868290200@vorescosmos.dk
SUMMARY:Café Cosmos
DESCRIPTION:
URL:https://vorescosmos.dk/begivenhed/cafe-cosmos/2029-03-15/
LOCATION:Fælleskøkkenet\, Søndergade 11\, Viby Sj.\, 4130\, Danmark
CATEGORIES:Lokale bookninger
END:VEVENT
BEGIN:VEVENT
DTSTART;TZID=Europe/Copenhagen:20290319T120000
DTEND;TZID=Europe/Copenhagen:20290319T173000
DTSTAMP:20260424T022240
CREATED:20250505T095126Z
LAST-MODIFIED:20250905T085924Z
UID:10045338-1868616000-1868635800@vorescosmos.dk
SUMMARY:Café Cosmos
DESCRIPTION:
URL:https://vorescosmos.dk/begivenhed/cafe-cosmos/2029-03-19/
LOCATION:Fælleskøkkenet\, Søndergade 11\, Viby Sj.\, 4130\, Danmark
CATEGORIES:Lokale bookninger
END:VEVENT
BEGIN:VEVENT
DTSTART;TZID=Europe/Copenhagen:20290320T120000
DTEND;TZID=Europe/Copenhagen:20290320T173000
DTSTAMP:20260424T022240
CREATED:20250505T095126Z
LAST-MODIFIED:20250905T085924Z
UID:10045339-1868702400-1868722200@vorescosmos.dk
SUMMARY:Café Cosmos
DESCRIPTION:
URL:https://vorescosmos.dk/begivenhed/cafe-cosmos/2029-03-20/
LOCATION:Fælleskøkkenet\, Søndergade 11\, Viby Sj.\, 4130\, Danmark
CATEGORIES:Lokale bookninger
END:VEVENT
BEGIN:VEVENT
DTSTART;TZID=Europe/Copenhagen:20290321T120000
DTEND;TZID=Europe/Copenhagen:20290321T173000
DTSTAMP:20260424T022240
CREATED:20250505T095126Z
LAST-MODIFIED:20250905T085924Z
UID:10045340-1868788800-1868808600@vorescosmos.dk
SUMMARY:Café Cosmos
DESCRIPTION:
URL:https://vorescosmos.dk/begivenhed/cafe-cosmos/2029-03-21/
LOCATION:Fælleskøkkenet\, Søndergade 11\, Viby Sj.\, 4130\, Danmark
CATEGORIES:Lokale bookninger
END:VEVENT
BEGIN:VEVENT
DTSTART;TZID=Europe/Copenhagen:20290322T120000
DTEND;TZID=Europe/Copenhagen:20290322T173000
DTSTAMP:20260424T022240
CREATED:20250505T095126Z
LAST-MODIFIED:20250905T085924Z
UID:10046185-1868875200-1868895000@vorescosmos.dk
SUMMARY:Café Cosmos
DESCRIPTION:
URL:https://vorescosmos.dk/begivenhed/cafe-cosmos/2029-03-22/
LOCATION:Fælleskøkkenet\, Søndergade 11\, Viby Sj.\, 4130\, Danmark
CATEGORIES:Lokale bookninger
END:VEVENT
BEGIN:VEVENT
DTSTART;TZID=Europe/Copenhagen:20290326T120000
DTEND;TZID=Europe/Copenhagen:20290326T173000
DTSTAMP:20260424T022240
CREATED:20250505T095126Z
LAST-MODIFIED:20250905T085924Z
UID:10045342-1869220800-1869240600@vorescosmos.dk
SUMMARY:Café Cosmos
DESCRIPTION:
URL:https://vorescosmos.dk/begivenhed/cafe-cosmos/2029-03-26/
LOCATION:Fælleskøkkenet\, Søndergade 11\, Viby Sj.\, 4130\, Danmark
CATEGORIES:Lokale bookninger
END:VEVENT
BEGIN:VEVENT
DTSTART;TZID=Europe/Copenhagen:20290327T120000
DTEND;TZID=Europe/Copenhagen:20290327T173000
DTSTAMP:20260424T022240
CREATED:20250505T095126Z
LAST-MODIFIED:20250905T085924Z
UID:10045343-1869307200-1869327000@vorescosmos.dk
SUMMARY:Café Cosmos
DESCRIPTION:
URL:https://vorescosmos.dk/begivenhed/cafe-cosmos/2029-03-27/
LOCATION:Fælleskøkkenet\, Søndergade 11\, Viby Sj.\, 4130\, Danmark
CATEGORIES:Lokale bookninger
END:VEVENT
BEGIN:VEVENT
DTSTART;TZID=Europe/Copenhagen:20290328T120000
DTEND;TZID=Europe/Copenhagen:20290328T173000
DTSTAMP:20260424T022240
CREATED:20250505T095126Z
LAST-MODIFIED:20250905T085924Z
UID:10045344-1869393600-1869413400@vorescosmos.dk
SUMMARY:Café Cosmos
DESCRIPTION:
URL:https://vorescosmos.dk/begivenhed/cafe-cosmos/2029-03-28/
LOCATION:Fælleskøkkenet\, Søndergade 11\, Viby Sj.\, 4130\, Danmark
CATEGORIES:Lokale bookninger
END:VEVENT
BEGIN:VEVENT
DTSTART;TZID=Europe/Copenhagen:20290329T120000
DTEND;TZID=Europe/Copenhagen:20290329T173000
DTSTAMP:20260424T022240
CREATED:20250505T095126Z
LAST-MODIFIED:20250905T085924Z
UID:10046186-1869480000-1869499800@vorescosmos.dk
SUMMARY:Café Cosmos
DESCRIPTION:
URL:https://vorescosmos.dk/begivenhed/cafe-cosmos/2029-03-29/
LOCATION:Fælleskøkkenet\, Søndergade 11\, Viby Sj.\, 4130\, Danmark
CATEGORIES:Lokale bookninger
END:VEVENT
BEGIN:VEVENT
DTSTART;TZID=Europe/Copenhagen:20290402T120000
DTEND;TZID=Europe/Copenhagen:20290402T173000
DTSTAMP:20260424T022240
CREATED:20250505T095126Z
LAST-MODIFIED:20250905T085924Z
UID:10045346-1869825600-1869845400@vorescosmos.dk
SUMMARY:Café Cosmos
DESCRIPTION:
URL:https://vorescosmos.dk/begivenhed/cafe-cosmos/2029-04-02/
LOCATION:Fælleskøkkenet\, Søndergade 11\, Viby Sj.\, 4130\, Danmark
CATEGORIES:Lokale bookninger
END:VEVENT
BEGIN:VEVENT
DTSTART;TZID=Europe/Copenhagen:20290403T120000
DTEND;TZID=Europe/Copenhagen:20290403T173000
DTSTAMP:20260424T022240
CREATED:20250505T095126Z
LAST-MODIFIED:20250905T085924Z
UID:10045347-1869912000-1869931800@vorescosmos.dk
SUMMARY:Café Cosmos
DESCRIPTION:
URL:https://vorescosmos.dk/begivenhed/cafe-cosmos/2029-04-03/
LOCATION:Fælleskøkkenet\, Søndergade 11\, Viby Sj.\, 4130\, Danmark
CATEGORIES:Lokale bookninger
END:VEVENT
BEGIN:VEVENT
DTSTART;TZID=Europe/Copenhagen:20290404T120000
DTEND;TZID=Europe/Copenhagen:20290404T173000
DTSTAMP:20260424T022240
CREATED:20250505T095126Z
LAST-MODIFIED:20250905T085924Z
UID:10045348-1869998400-1870018200@vorescosmos.dk
SUMMARY:Café Cosmos
DESCRIPTION:
URL:https://vorescosmos.dk/begivenhed/cafe-cosmos/2029-04-04/
LOCATION:Fælleskøkkenet\, Søndergade 11\, Viby Sj.\, 4130\, Danmark
CATEGORIES:Lokale bookninger
END:VEVENT
BEGIN:VEVENT
DTSTART;TZID=Europe/Copenhagen:20290405T120000
DTEND;TZID=Europe/Copenhagen:20290405T173000
DTSTAMP:20260424T022240
CREATED:20250505T095126Z
LAST-MODIFIED:20250905T085924Z
UID:10046187-1870084800-1870104600@vorescosmos.dk
SUMMARY:Café Cosmos
DESCRIPTION:
URL:https://vorescosmos.dk/begivenhed/cafe-cosmos/2029-04-05/
LOCATION:Fælleskøkkenet\, Søndergade 11\, Viby Sj.\, 4130\, Danmark
CATEGORIES:Lokale bookninger
END:VEVENT
BEGIN:VEVENT
DTSTART;TZID=Europe/Copenhagen:20290409T120000
DTEND;TZID=Europe/Copenhagen:20290409T173000
DTSTAMP:20260424T022240
CREATED:20250505T095126Z
LAST-MODIFIED:20250905T085924Z
UID:10045350-1870430400-1870450200@vorescosmos.dk
SUMMARY:Café Cosmos
DESCRIPTION:
URL:https://vorescosmos.dk/begivenhed/cafe-cosmos/2029-04-09/
LOCATION:Fælleskøkkenet\, Søndergade 11\, Viby Sj.\, 4130\, Danmark
CATEGORIES:Lokale bookninger
END:VEVENT
END:VCALENDAR