BEGIN:VCALENDAR
VERSION:2.0
PRODID:-//Vores Cosmos - ECPv6.15.20//NONSGML v1.0//EN
CALSCALE:GREGORIAN
METHOD:PUBLISH
X-ORIGINAL-URL:https://vorescosmos.dk
X-WR-CALDESC:Begivenheder for Vores Cosmos
REFRESH-INTERVAL;VALUE=DURATION:PT1H
X-Robots-Tag:noindex
X-PUBLISHED-TTL:PT1H
BEGIN:VTIMEZONE
TZID:Europe/Copenhagen
BEGIN:DAYLIGHT
TZOFFSETFROM:+0100
TZOFFSETTO:+0200
TZNAME:CEST
DTSTART:20280326T010000
END:DAYLIGHT
BEGIN:STANDARD
TZOFFSETFROM:+0200
TZOFFSETTO:+0100
TZNAME:CET
DTSTART:20281029T010000
END:STANDARD
BEGIN:DAYLIGHT
TZOFFSETFROM:+0100
TZOFFSETTO:+0200
TZNAME:CEST
DTSTART:20290325T010000
END:DAYLIGHT
BEGIN:STANDARD
TZOFFSETFROM:+0200
TZOFFSETTO:+0100
TZNAME:CET
DTSTART:20291028T010000
END:STANDARD
BEGIN:DAYLIGHT
TZOFFSETFROM:+0100
TZOFFSETTO:+0200
TZNAME:CEST
DTSTART:20300331T010000
END:DAYLIGHT
BEGIN:STANDARD
TZOFFSETFROM:+0200
TZOFFSETTO:+0100
TZNAME:CET
DTSTART:20301027T010000
END:STANDARD
END:VTIMEZONE
BEGIN:VEVENT
DTSTART;TZID=Europe/Copenhagen:20290619T120000
DTEND;TZID=Europe/Copenhagen:20290619T173000
DTSTAMP:20260424T131858
CREATED:20250505T095126Z
LAST-MODIFIED:20250905T085924Z
UID:10045391-1876564800-1876584600@vorescosmos.dk
SUMMARY:Café Cosmos
DESCRIPTION:
URL:https://vorescosmos.dk/begivenhed/cafe-cosmos/2029-06-19/
LOCATION:Fælleskøkkenet\, Søndergade 11\, Viby Sj.\, 4130\, Danmark
CATEGORIES:Lokale bookninger
END:VEVENT
BEGIN:VEVENT
DTSTART;TZID=Europe/Copenhagen:20290620T120000
DTEND;TZID=Europe/Copenhagen:20290620T173000
DTSTAMP:20260424T131858
CREATED:20250505T095126Z
LAST-MODIFIED:20250905T085924Z
UID:10045392-1876651200-1876671000@vorescosmos.dk
SUMMARY:Café Cosmos
DESCRIPTION:
URL:https://vorescosmos.dk/begivenhed/cafe-cosmos/2029-06-20/
LOCATION:Fælleskøkkenet\, Søndergade 11\, Viby Sj.\, 4130\, Danmark
CATEGORIES:Lokale bookninger
END:VEVENT
BEGIN:VEVENT
DTSTART;TZID=Europe/Copenhagen:20290621T120000
DTEND;TZID=Europe/Copenhagen:20290621T173000
DTSTAMP:20260424T131858
CREATED:20250505T095126Z
LAST-MODIFIED:20250905T085924Z
UID:10046198-1876737600-1876757400@vorescosmos.dk
SUMMARY:Café Cosmos
DESCRIPTION:
URL:https://vorescosmos.dk/begivenhed/cafe-cosmos/2029-06-21/
LOCATION:Fælleskøkkenet\, Søndergade 11\, Viby Sj.\, 4130\, Danmark
CATEGORIES:Lokale bookninger
END:VEVENT
BEGIN:VEVENT
DTSTART;TZID=Europe/Copenhagen:20290625T120000
DTEND;TZID=Europe/Copenhagen:20290625T173000
DTSTAMP:20260424T131858
CREATED:20250505T095126Z
LAST-MODIFIED:20250905T085924Z
UID:10045394-1877083200-1877103000@vorescosmos.dk
SUMMARY:Café Cosmos
DESCRIPTION:
URL:https://vorescosmos.dk/begivenhed/cafe-cosmos/2029-06-25/
LOCATION:Fælleskøkkenet\, Søndergade 11\, Viby Sj.\, 4130\, Danmark
CATEGORIES:Lokale bookninger
END:VEVENT
BEGIN:VEVENT
DTSTART;TZID=Europe/Copenhagen:20290626T120000
DTEND;TZID=Europe/Copenhagen:20290626T173000
DTSTAMP:20260424T131858
CREATED:20250505T095126Z
LAST-MODIFIED:20250905T085924Z
UID:10045395-1877169600-1877189400@vorescosmos.dk
SUMMARY:Café Cosmos
DESCRIPTION:
URL:https://vorescosmos.dk/begivenhed/cafe-cosmos/2029-06-26/
LOCATION:Fælleskøkkenet\, Søndergade 11\, Viby Sj.\, 4130\, Danmark
CATEGORIES:Lokale bookninger
END:VEVENT
BEGIN:VEVENT
DTSTART;TZID=Europe/Copenhagen:20290627T120000
DTEND;TZID=Europe/Copenhagen:20290627T173000
DTSTAMP:20260424T131858
CREATED:20250505T095126Z
LAST-MODIFIED:20250905T085924Z
UID:10045396-1877256000-1877275800@vorescosmos.dk
SUMMARY:Café Cosmos
DESCRIPTION:
URL:https://vorescosmos.dk/begivenhed/cafe-cosmos/2029-06-27/
LOCATION:Fælleskøkkenet\, Søndergade 11\, Viby Sj.\, 4130\, Danmark
CATEGORIES:Lokale bookninger
END:VEVENT
BEGIN:VEVENT
DTSTART;TZID=Europe/Copenhagen:20290628T120000
DTEND;TZID=Europe/Copenhagen:20290628T173000
DTSTAMP:20260424T131858
CREATED:20250505T095126Z
LAST-MODIFIED:20250905T085924Z
UID:10046199-1877342400-1877362200@vorescosmos.dk
SUMMARY:Café Cosmos
DESCRIPTION:
URL:https://vorescosmos.dk/begivenhed/cafe-cosmos/2029-06-28/
LOCATION:Fælleskøkkenet\, Søndergade 11\, Viby Sj.\, 4130\, Danmark
CATEGORIES:Lokale bookninger
END:VEVENT
BEGIN:VEVENT
DTSTART;TZID=Europe/Copenhagen:20290702T120000
DTEND;TZID=Europe/Copenhagen:20290702T173000
DTSTAMP:20260424T131858
CREATED:20250505T095126Z
LAST-MODIFIED:20250905T085924Z
UID:10045398-1877688000-1877707800@vorescosmos.dk
SUMMARY:Café Cosmos
DESCRIPTION:
URL:https://vorescosmos.dk/begivenhed/cafe-cosmos/2029-07-02/
LOCATION:Fælleskøkkenet\, Søndergade 11\, Viby Sj.\, 4130\, Danmark
CATEGORIES:Lokale bookninger
END:VEVENT
BEGIN:VEVENT
DTSTART;TZID=Europe/Copenhagen:20290703T120000
DTEND;TZID=Europe/Copenhagen:20290703T173000
DTSTAMP:20260424T131858
CREATED:20250505T095126Z
LAST-MODIFIED:20250905T085924Z
UID:10045399-1877774400-1877794200@vorescosmos.dk
SUMMARY:Café Cosmos
DESCRIPTION:
URL:https://vorescosmos.dk/begivenhed/cafe-cosmos/2029-07-03/
LOCATION:Fælleskøkkenet\, Søndergade 11\, Viby Sj.\, 4130\, Danmark
CATEGORIES:Lokale bookninger
END:VEVENT
BEGIN:VEVENT
DTSTART;TZID=Europe/Copenhagen:20290704T120000
DTEND;TZID=Europe/Copenhagen:20290704T173000
DTSTAMP:20260424T131858
CREATED:20250505T095126Z
LAST-MODIFIED:20250905T085924Z
UID:10045400-1877860800-1877880600@vorescosmos.dk
SUMMARY:Café Cosmos
DESCRIPTION:
URL:https://vorescosmos.dk/begivenhed/cafe-cosmos/2029-07-04/
LOCATION:Fælleskøkkenet\, Søndergade 11\, Viby Sj.\, 4130\, Danmark
CATEGORIES:Lokale bookninger
END:VEVENT
BEGIN:VEVENT
DTSTART;TZID=Europe/Copenhagen:20290705T120000
DTEND;TZID=Europe/Copenhagen:20290705T173000
DTSTAMP:20260424T131858
CREATED:20250505T095126Z
LAST-MODIFIED:20250905T085924Z
UID:10046200-1877947200-1877967000@vorescosmos.dk
SUMMARY:Café Cosmos
DESCRIPTION:
URL:https://vorescosmos.dk/begivenhed/cafe-cosmos/2029-07-05/
LOCATION:Fælleskøkkenet\, Søndergade 11\, Viby Sj.\, 4130\, Danmark
CATEGORIES:Lokale bookninger
END:VEVENT
BEGIN:VEVENT
DTSTART;TZID=Europe/Copenhagen:20290709T120000
DTEND;TZID=Europe/Copenhagen:20290709T173000
DTSTAMP:20260424T131858
CREATED:20250505T095126Z
LAST-MODIFIED:20250905T085924Z
UID:10045402-1878292800-1878312600@vorescosmos.dk
SUMMARY:Café Cosmos
DESCRIPTION:
URL:https://vorescosmos.dk/begivenhed/cafe-cosmos/2029-07-09/
LOCATION:Fælleskøkkenet\, Søndergade 11\, Viby Sj.\, 4130\, Danmark
CATEGORIES:Lokale bookninger
END:VEVENT
BEGIN:VEVENT
DTSTART;TZID=Europe/Copenhagen:20290710T120000
DTEND;TZID=Europe/Copenhagen:20290710T173000
DTSTAMP:20260424T131858
CREATED:20250505T095126Z
LAST-MODIFIED:20250905T085924Z
UID:10045403-1878379200-1878399000@vorescosmos.dk
SUMMARY:Café Cosmos
DESCRIPTION:
URL:https://vorescosmos.dk/begivenhed/cafe-cosmos/2029-07-10/
LOCATION:Fælleskøkkenet\, Søndergade 11\, Viby Sj.\, 4130\, Danmark
CATEGORIES:Lokale bookninger
END:VEVENT
BEGIN:VEVENT
DTSTART;TZID=Europe/Copenhagen:20290711T120000
DTEND;TZID=Europe/Copenhagen:20290711T173000
DTSTAMP:20260424T131858
CREATED:20250505T095126Z
LAST-MODIFIED:20250905T085924Z
UID:10045404-1878465600-1878485400@vorescosmos.dk
SUMMARY:Café Cosmos
DESCRIPTION:
URL:https://vorescosmos.dk/begivenhed/cafe-cosmos/2029-07-11/
LOCATION:Fælleskøkkenet\, Søndergade 11\, Viby Sj.\, 4130\, Danmark
CATEGORIES:Lokale bookninger
END:VEVENT
BEGIN:VEVENT
DTSTART;TZID=Europe/Copenhagen:20290712T120000
DTEND;TZID=Europe/Copenhagen:20290712T173000
DTSTAMP:20260424T131858
CREATED:20250505T095126Z
LAST-MODIFIED:20250905T085924Z
UID:10046201-1878552000-1878571800@vorescosmos.dk
SUMMARY:Café Cosmos
DESCRIPTION:
URL:https://vorescosmos.dk/begivenhed/cafe-cosmos/2029-07-12/
LOCATION:Fælleskøkkenet\, Søndergade 11\, Viby Sj.\, 4130\, Danmark
CATEGORIES:Lokale bookninger
END:VEVENT
BEGIN:VEVENT
DTSTART;TZID=Europe/Copenhagen:20290716T120000
DTEND;TZID=Europe/Copenhagen:20290716T173000
DTSTAMP:20260424T131858
CREATED:20250505T095126Z
LAST-MODIFIED:20250905T085924Z
UID:10045406-1878897600-1878917400@vorescosmos.dk
SUMMARY:Café Cosmos
DESCRIPTION:
URL:https://vorescosmos.dk/begivenhed/cafe-cosmos/2029-07-16/
LOCATION:Fælleskøkkenet\, Søndergade 11\, Viby Sj.\, 4130\, Danmark
CATEGORIES:Lokale bookninger
END:VEVENT
BEGIN:VEVENT
DTSTART;TZID=Europe/Copenhagen:20290717T120000
DTEND;TZID=Europe/Copenhagen:20290717T173000
DTSTAMP:20260424T131858
CREATED:20250505T095126Z
LAST-MODIFIED:20250905T085924Z
UID:10045407-1878984000-1879003800@vorescosmos.dk
SUMMARY:Café Cosmos
DESCRIPTION:
URL:https://vorescosmos.dk/begivenhed/cafe-cosmos/2029-07-17/
LOCATION:Fælleskøkkenet\, Søndergade 11\, Viby Sj.\, 4130\, Danmark
CATEGORIES:Lokale bookninger
END:VEVENT
BEGIN:VEVENT
DTSTART;TZID=Europe/Copenhagen:20290718T120000
DTEND;TZID=Europe/Copenhagen:20290718T173000
DTSTAMP:20260424T131858
CREATED:20250505T095126Z
LAST-MODIFIED:20250905T085924Z
UID:10045408-1879070400-1879090200@vorescosmos.dk
SUMMARY:Café Cosmos
DESCRIPTION:
URL:https://vorescosmos.dk/begivenhed/cafe-cosmos/2029-07-18/
LOCATION:Fælleskøkkenet\, Søndergade 11\, Viby Sj.\, 4130\, Danmark
CATEGORIES:Lokale bookninger
END:VEVENT
BEGIN:VEVENT
DTSTART;TZID=Europe/Copenhagen:20290719T120000
DTEND;TZID=Europe/Copenhagen:20290719T173000
DTSTAMP:20260424T131858
CREATED:20250505T095126Z
LAST-MODIFIED:20250905T085924Z
UID:10046202-1879156800-1879176600@vorescosmos.dk
SUMMARY:Café Cosmos
DESCRIPTION:
URL:https://vorescosmos.dk/begivenhed/cafe-cosmos/2029-07-19/
LOCATION:Fælleskøkkenet\, Søndergade 11\, Viby Sj.\, 4130\, Danmark
CATEGORIES:Lokale bookninger
END:VEVENT
BEGIN:VEVENT
DTSTART;TZID=Europe/Copenhagen:20290723T120000
DTEND;TZID=Europe/Copenhagen:20290723T173000
DTSTAMP:20260424T131858
CREATED:20250505T095126Z
LAST-MODIFIED:20250905T085924Z
UID:10045410-1879502400-1879522200@vorescosmos.dk
SUMMARY:Café Cosmos
DESCRIPTION:
URL:https://vorescosmos.dk/begivenhed/cafe-cosmos/2029-07-23/
LOCATION:Fælleskøkkenet\, Søndergade 11\, Viby Sj.\, 4130\, Danmark
CATEGORIES:Lokale bookninger
END:VEVENT
BEGIN:VEVENT
DTSTART;TZID=Europe/Copenhagen:20290724T120000
DTEND;TZID=Europe/Copenhagen:20290724T173000
DTSTAMP:20260424T131858
CREATED:20250505T095126Z
LAST-MODIFIED:20250905T085924Z
UID:10045411-1879588800-1879608600@vorescosmos.dk
SUMMARY:Café Cosmos
DESCRIPTION:
URL:https://vorescosmos.dk/begivenhed/cafe-cosmos/2029-07-24/
LOCATION:Fælleskøkkenet\, Søndergade 11\, Viby Sj.\, 4130\, Danmark
CATEGORIES:Lokale bookninger
END:VEVENT
BEGIN:VEVENT
DTSTART;TZID=Europe/Copenhagen:20290725T120000
DTEND;TZID=Europe/Copenhagen:20290725T173000
DTSTAMP:20260424T131858
CREATED:20250505T095126Z
LAST-MODIFIED:20250905T085924Z
UID:10045412-1879675200-1879695000@vorescosmos.dk
SUMMARY:Café Cosmos
DESCRIPTION:
URL:https://vorescosmos.dk/begivenhed/cafe-cosmos/2029-07-25/
LOCATION:Fælleskøkkenet\, Søndergade 11\, Viby Sj.\, 4130\, Danmark
CATEGORIES:Lokale bookninger
END:VEVENT
BEGIN:VEVENT
DTSTART;TZID=Europe/Copenhagen:20290726T120000
DTEND;TZID=Europe/Copenhagen:20290726T173000
DTSTAMP:20260424T131858
CREATED:20250505T095126Z
LAST-MODIFIED:20250905T085924Z
UID:10046203-1879761600-1879781400@vorescosmos.dk
SUMMARY:Café Cosmos
DESCRIPTION:
URL:https://vorescosmos.dk/begivenhed/cafe-cosmos/2029-07-26/
LOCATION:Fælleskøkkenet\, Søndergade 11\, Viby Sj.\, 4130\, Danmark
CATEGORIES:Lokale bookninger
END:VEVENT
BEGIN:VEVENT
DTSTART;TZID=Europe/Copenhagen:20290730T120000
DTEND;TZID=Europe/Copenhagen:20290730T173000
DTSTAMP:20260424T131858
CREATED:20250505T095126Z
LAST-MODIFIED:20250905T085924Z
UID:10045414-1880107200-1880127000@vorescosmos.dk
SUMMARY:Café Cosmos
DESCRIPTION:
URL:https://vorescosmos.dk/begivenhed/cafe-cosmos/2029-07-30/
LOCATION:Fælleskøkkenet\, Søndergade 11\, Viby Sj.\, 4130\, Danmark
CATEGORIES:Lokale bookninger
END:VEVENT
BEGIN:VEVENT
DTSTART;TZID=Europe/Copenhagen:20290731T120000
DTEND;TZID=Europe/Copenhagen:20290731T173000
DTSTAMP:20260424T131858
CREATED:20250505T095126Z
LAST-MODIFIED:20250905T085924Z
UID:10045415-1880193600-1880213400@vorescosmos.dk
SUMMARY:Café Cosmos
DESCRIPTION:
URL:https://vorescosmos.dk/begivenhed/cafe-cosmos/2029-07-31/
LOCATION:Fælleskøkkenet\, Søndergade 11\, Viby Sj.\, 4130\, Danmark
CATEGORIES:Lokale bookninger
END:VEVENT
BEGIN:VEVENT
DTSTART;TZID=Europe/Copenhagen:20290801T120000
DTEND;TZID=Europe/Copenhagen:20290801T173000
DTSTAMP:20260424T131858
CREATED:20250505T095126Z
LAST-MODIFIED:20250905T085924Z
UID:10045416-1880280000-1880299800@vorescosmos.dk
SUMMARY:Café Cosmos
DESCRIPTION:
URL:https://vorescosmos.dk/begivenhed/cafe-cosmos/2029-08-01/
LOCATION:Fælleskøkkenet\, Søndergade 11\, Viby Sj.\, 4130\, Danmark
CATEGORIES:Lokale bookninger
END:VEVENT
BEGIN:VEVENT
DTSTART;TZID=Europe/Copenhagen:20290802T120000
DTEND;TZID=Europe/Copenhagen:20290802T173000
DTSTAMP:20260424T131858
CREATED:20250505T095126Z
LAST-MODIFIED:20250905T085924Z
UID:10046204-1880366400-1880386200@vorescosmos.dk
SUMMARY:Café Cosmos
DESCRIPTION:
URL:https://vorescosmos.dk/begivenhed/cafe-cosmos/2029-08-02/
LOCATION:Fælleskøkkenet\, Søndergade 11\, Viby Sj.\, 4130\, Danmark
CATEGORIES:Lokale bookninger
END:VEVENT
BEGIN:VEVENT
DTSTART;TZID=Europe/Copenhagen:20290806T120000
DTEND;TZID=Europe/Copenhagen:20290806T173000
DTSTAMP:20260424T131858
CREATED:20250505T095126Z
LAST-MODIFIED:20250905T085924Z
UID:10045418-1880712000-1880731800@vorescosmos.dk
SUMMARY:Café Cosmos
DESCRIPTION:
URL:https://vorescosmos.dk/begivenhed/cafe-cosmos/2029-08-06/
LOCATION:Fælleskøkkenet\, Søndergade 11\, Viby Sj.\, 4130\, Danmark
CATEGORIES:Lokale bookninger
END:VEVENT
BEGIN:VEVENT
DTSTART;TZID=Europe/Copenhagen:20290807T120000
DTEND;TZID=Europe/Copenhagen:20290807T173000
DTSTAMP:20260424T131858
CREATED:20250505T095126Z
LAST-MODIFIED:20250905T085924Z
UID:10045419-1880798400-1880818200@vorescosmos.dk
SUMMARY:Café Cosmos
DESCRIPTION:
URL:https://vorescosmos.dk/begivenhed/cafe-cosmos/2029-08-07/
LOCATION:Fælleskøkkenet\, Søndergade 11\, Viby Sj.\, 4130\, Danmark
CATEGORIES:Lokale bookninger
END:VEVENT
BEGIN:VEVENT
DTSTART;TZID=Europe/Copenhagen:20290808T120000
DTEND;TZID=Europe/Copenhagen:20290808T173000
DTSTAMP:20260424T131858
CREATED:20250505T095126Z
LAST-MODIFIED:20250905T085924Z
UID:10045420-1880884800-1880904600@vorescosmos.dk
SUMMARY:Café Cosmos
DESCRIPTION:
URL:https://vorescosmos.dk/begivenhed/cafe-cosmos/2029-08-08/
LOCATION:Fælleskøkkenet\, Søndergade 11\, Viby Sj.\, 4130\, Danmark
CATEGORIES:Lokale bookninger
END:VEVENT
END:VCALENDAR