BEGIN:VCALENDAR
VERSION:2.0
PRODID:-//Vores Cosmos - ECPv6.15.20//NONSGML v1.0//EN
CALSCALE:GREGORIAN
METHOD:PUBLISH
X-ORIGINAL-URL:https://vorescosmos.dk
X-WR-CALDESC:Begivenheder for Vores Cosmos
REFRESH-INTERVAL;VALUE=DURATION:PT1H
X-Robots-Tag:noindex
X-PUBLISHED-TTL:PT1H
BEGIN:VTIMEZONE
TZID:Europe/Copenhagen
BEGIN:DAYLIGHT
TZOFFSETFROM:+0100
TZOFFSETTO:+0200
TZNAME:CEST
DTSTART:20280326T010000
END:DAYLIGHT
BEGIN:STANDARD
TZOFFSETFROM:+0200
TZOFFSETTO:+0100
TZNAME:CET
DTSTART:20281029T010000
END:STANDARD
BEGIN:DAYLIGHT
TZOFFSETFROM:+0100
TZOFFSETTO:+0200
TZNAME:CEST
DTSTART:20290325T010000
END:DAYLIGHT
BEGIN:STANDARD
TZOFFSETFROM:+0200
TZOFFSETTO:+0100
TZNAME:CET
DTSTART:20291028T010000
END:STANDARD
BEGIN:DAYLIGHT
TZOFFSETFROM:+0100
TZOFFSETTO:+0200
TZNAME:CEST
DTSTART:20300331T010000
END:DAYLIGHT
BEGIN:STANDARD
TZOFFSETFROM:+0200
TZOFFSETTO:+0100
TZNAME:CET
DTSTART:20301027T010000
END:STANDARD
END:VTIMEZONE
BEGIN:VEVENT
DTSTART;TZID=Europe/Copenhagen:20290724T120000
DTEND;TZID=Europe/Copenhagen:20290724T173000
DTSTAMP:20260424T162511
CREATED:20250505T095126Z
LAST-MODIFIED:20250905T085924Z
UID:10045411-1879588800-1879608600@vorescosmos.dk
SUMMARY:Café Cosmos
DESCRIPTION:
URL:https://vorescosmos.dk/begivenhed/cafe-cosmos/2029-07-24/
LOCATION:Fælleskøkkenet\, Søndergade 11\, Viby Sj.\, 4130\, Danmark
CATEGORIES:Lokale bookninger
END:VEVENT
BEGIN:VEVENT
DTSTART;TZID=Europe/Copenhagen:20290725T120000
DTEND;TZID=Europe/Copenhagen:20290725T173000
DTSTAMP:20260424T162511
CREATED:20250505T095126Z
LAST-MODIFIED:20250905T085924Z
UID:10045412-1879675200-1879695000@vorescosmos.dk
SUMMARY:Café Cosmos
DESCRIPTION:
URL:https://vorescosmos.dk/begivenhed/cafe-cosmos/2029-07-25/
LOCATION:Fælleskøkkenet\, Søndergade 11\, Viby Sj.\, 4130\, Danmark
CATEGORIES:Lokale bookninger
END:VEVENT
BEGIN:VEVENT
DTSTART;TZID=Europe/Copenhagen:20290726T120000
DTEND;TZID=Europe/Copenhagen:20290726T173000
DTSTAMP:20260424T162511
CREATED:20250505T095126Z
LAST-MODIFIED:20250905T085924Z
UID:10046203-1879761600-1879781400@vorescosmos.dk
SUMMARY:Café Cosmos
DESCRIPTION:
URL:https://vorescosmos.dk/begivenhed/cafe-cosmos/2029-07-26/
LOCATION:Fælleskøkkenet\, Søndergade 11\, Viby Sj.\, 4130\, Danmark
CATEGORIES:Lokale bookninger
END:VEVENT
BEGIN:VEVENT
DTSTART;TZID=Europe/Copenhagen:20290730T120000
DTEND;TZID=Europe/Copenhagen:20290730T173000
DTSTAMP:20260424T162511
CREATED:20250505T095126Z
LAST-MODIFIED:20250905T085924Z
UID:10045414-1880107200-1880127000@vorescosmos.dk
SUMMARY:Café Cosmos
DESCRIPTION:
URL:https://vorescosmos.dk/begivenhed/cafe-cosmos/2029-07-30/
LOCATION:Fælleskøkkenet\, Søndergade 11\, Viby Sj.\, 4130\, Danmark
CATEGORIES:Lokale bookninger
END:VEVENT
BEGIN:VEVENT
DTSTART;TZID=Europe/Copenhagen:20290731T120000
DTEND;TZID=Europe/Copenhagen:20290731T173000
DTSTAMP:20260424T162511
CREATED:20250505T095126Z
LAST-MODIFIED:20250905T085924Z
UID:10045415-1880193600-1880213400@vorescosmos.dk
SUMMARY:Café Cosmos
DESCRIPTION:
URL:https://vorescosmos.dk/begivenhed/cafe-cosmos/2029-07-31/
LOCATION:Fælleskøkkenet\, Søndergade 11\, Viby Sj.\, 4130\, Danmark
CATEGORIES:Lokale bookninger
END:VEVENT
BEGIN:VEVENT
DTSTART;TZID=Europe/Copenhagen:20290801T120000
DTEND;TZID=Europe/Copenhagen:20290801T173000
DTSTAMP:20260424T162511
CREATED:20250505T095126Z
LAST-MODIFIED:20250905T085924Z
UID:10045416-1880280000-1880299800@vorescosmos.dk
SUMMARY:Café Cosmos
DESCRIPTION:
URL:https://vorescosmos.dk/begivenhed/cafe-cosmos/2029-08-01/
LOCATION:Fælleskøkkenet\, Søndergade 11\, Viby Sj.\, 4130\, Danmark
CATEGORIES:Lokale bookninger
END:VEVENT
BEGIN:VEVENT
DTSTART;TZID=Europe/Copenhagen:20290802T120000
DTEND;TZID=Europe/Copenhagen:20290802T173000
DTSTAMP:20260424T162511
CREATED:20250505T095126Z
LAST-MODIFIED:20250905T085924Z
UID:10046204-1880366400-1880386200@vorescosmos.dk
SUMMARY:Café Cosmos
DESCRIPTION:
URL:https://vorescosmos.dk/begivenhed/cafe-cosmos/2029-08-02/
LOCATION:Fælleskøkkenet\, Søndergade 11\, Viby Sj.\, 4130\, Danmark
CATEGORIES:Lokale bookninger
END:VEVENT
BEGIN:VEVENT
DTSTART;TZID=Europe/Copenhagen:20290806T120000
DTEND;TZID=Europe/Copenhagen:20290806T173000
DTSTAMP:20260424T162511
CREATED:20250505T095126Z
LAST-MODIFIED:20250905T085924Z
UID:10045418-1880712000-1880731800@vorescosmos.dk
SUMMARY:Café Cosmos
DESCRIPTION:
URL:https://vorescosmos.dk/begivenhed/cafe-cosmos/2029-08-06/
LOCATION:Fælleskøkkenet\, Søndergade 11\, Viby Sj.\, 4130\, Danmark
CATEGORIES:Lokale bookninger
END:VEVENT
BEGIN:VEVENT
DTSTART;TZID=Europe/Copenhagen:20290807T120000
DTEND;TZID=Europe/Copenhagen:20290807T173000
DTSTAMP:20260424T162511
CREATED:20250505T095126Z
LAST-MODIFIED:20250905T085924Z
UID:10045419-1880798400-1880818200@vorescosmos.dk
SUMMARY:Café Cosmos
DESCRIPTION:
URL:https://vorescosmos.dk/begivenhed/cafe-cosmos/2029-08-07/
LOCATION:Fælleskøkkenet\, Søndergade 11\, Viby Sj.\, 4130\, Danmark
CATEGORIES:Lokale bookninger
END:VEVENT
BEGIN:VEVENT
DTSTART;TZID=Europe/Copenhagen:20290808T120000
DTEND;TZID=Europe/Copenhagen:20290808T173000
DTSTAMP:20260424T162511
CREATED:20250505T095126Z
LAST-MODIFIED:20250905T085924Z
UID:10045420-1880884800-1880904600@vorescosmos.dk
SUMMARY:Café Cosmos
DESCRIPTION:
URL:https://vorescosmos.dk/begivenhed/cafe-cosmos/2029-08-08/
LOCATION:Fælleskøkkenet\, Søndergade 11\, Viby Sj.\, 4130\, Danmark
CATEGORIES:Lokale bookninger
END:VEVENT
BEGIN:VEVENT
DTSTART;TZID=Europe/Copenhagen:20290809T120000
DTEND;TZID=Europe/Copenhagen:20290809T173000
DTSTAMP:20260424T162511
CREATED:20250505T095126Z
LAST-MODIFIED:20250905T085924Z
UID:10046205-1880971200-1880991000@vorescosmos.dk
SUMMARY:Café Cosmos
DESCRIPTION:
URL:https://vorescosmos.dk/begivenhed/cafe-cosmos/2029-08-09/
LOCATION:Fælleskøkkenet\, Søndergade 11\, Viby Sj.\, 4130\, Danmark
CATEGORIES:Lokale bookninger
END:VEVENT
BEGIN:VEVENT
DTSTART;TZID=Europe/Copenhagen:20290813T120000
DTEND;TZID=Europe/Copenhagen:20290813T173000
DTSTAMP:20260424T162511
CREATED:20250505T095126Z
LAST-MODIFIED:20250905T085924Z
UID:10045422-1881316800-1881336600@vorescosmos.dk
SUMMARY:Café Cosmos
DESCRIPTION:
URL:https://vorescosmos.dk/begivenhed/cafe-cosmos/2029-08-13/
LOCATION:Fælleskøkkenet\, Søndergade 11\, Viby Sj.\, 4130\, Danmark
CATEGORIES:Lokale bookninger
END:VEVENT
BEGIN:VEVENT
DTSTART;TZID=Europe/Copenhagen:20290814T120000
DTEND;TZID=Europe/Copenhagen:20290814T173000
DTSTAMP:20260424T162511
CREATED:20250505T095126Z
LAST-MODIFIED:20250905T085924Z
UID:10045423-1881403200-1881423000@vorescosmos.dk
SUMMARY:Café Cosmos
DESCRIPTION:
URL:https://vorescosmos.dk/begivenhed/cafe-cosmos/2029-08-14/
LOCATION:Fælleskøkkenet\, Søndergade 11\, Viby Sj.\, 4130\, Danmark
CATEGORIES:Lokale bookninger
END:VEVENT
BEGIN:VEVENT
DTSTART;TZID=Europe/Copenhagen:20290815T120000
DTEND;TZID=Europe/Copenhagen:20290815T173000
DTSTAMP:20260424T162511
CREATED:20250505T095126Z
LAST-MODIFIED:20250905T085924Z
UID:10045424-1881489600-1881509400@vorescosmos.dk
SUMMARY:Café Cosmos
DESCRIPTION:
URL:https://vorescosmos.dk/begivenhed/cafe-cosmos/2029-08-15/
LOCATION:Fælleskøkkenet\, Søndergade 11\, Viby Sj.\, 4130\, Danmark
CATEGORIES:Lokale bookninger
END:VEVENT
BEGIN:VEVENT
DTSTART;TZID=Europe/Copenhagen:20290816T120000
DTEND;TZID=Europe/Copenhagen:20290816T173000
DTSTAMP:20260424T162511
CREATED:20250505T095126Z
LAST-MODIFIED:20250905T085924Z
UID:10046206-1881576000-1881595800@vorescosmos.dk
SUMMARY:Café Cosmos
DESCRIPTION:
URL:https://vorescosmos.dk/begivenhed/cafe-cosmos/2029-08-16/
LOCATION:Fælleskøkkenet\, Søndergade 11\, Viby Sj.\, 4130\, Danmark
CATEGORIES:Lokale bookninger
END:VEVENT
BEGIN:VEVENT
DTSTART;TZID=Europe/Copenhagen:20290820T120000
DTEND;TZID=Europe/Copenhagen:20290820T173000
DTSTAMP:20260424T162511
CREATED:20250505T095126Z
LAST-MODIFIED:20250905T085924Z
UID:10045426-1881921600-1881941400@vorescosmos.dk
SUMMARY:Café Cosmos
DESCRIPTION:
URL:https://vorescosmos.dk/begivenhed/cafe-cosmos/2029-08-20/
LOCATION:Fælleskøkkenet\, Søndergade 11\, Viby Sj.\, 4130\, Danmark
CATEGORIES:Lokale bookninger
END:VEVENT
BEGIN:VEVENT
DTSTART;TZID=Europe/Copenhagen:20290821T120000
DTEND;TZID=Europe/Copenhagen:20290821T173000
DTSTAMP:20260424T162511
CREATED:20250505T095126Z
LAST-MODIFIED:20250905T085924Z
UID:10045427-1882008000-1882027800@vorescosmos.dk
SUMMARY:Café Cosmos
DESCRIPTION:
URL:https://vorescosmos.dk/begivenhed/cafe-cosmos/2029-08-21/
LOCATION:Fælleskøkkenet\, Søndergade 11\, Viby Sj.\, 4130\, Danmark
CATEGORIES:Lokale bookninger
END:VEVENT
BEGIN:VEVENT
DTSTART;TZID=Europe/Copenhagen:20290822T120000
DTEND;TZID=Europe/Copenhagen:20290822T173000
DTSTAMP:20260424T162511
CREATED:20250505T095126Z
LAST-MODIFIED:20250905T085924Z
UID:10045428-1882094400-1882114200@vorescosmos.dk
SUMMARY:Café Cosmos
DESCRIPTION:
URL:https://vorescosmos.dk/begivenhed/cafe-cosmos/2029-08-22/
LOCATION:Fælleskøkkenet\, Søndergade 11\, Viby Sj.\, 4130\, Danmark
CATEGORIES:Lokale bookninger
END:VEVENT
BEGIN:VEVENT
DTSTART;TZID=Europe/Copenhagen:20290823T120000
DTEND;TZID=Europe/Copenhagen:20290823T173000
DTSTAMP:20260424T162511
CREATED:20250505T095126Z
LAST-MODIFIED:20250905T085924Z
UID:10046207-1882180800-1882200600@vorescosmos.dk
SUMMARY:Café Cosmos
DESCRIPTION:
URL:https://vorescosmos.dk/begivenhed/cafe-cosmos/2029-08-23/
LOCATION:Fælleskøkkenet\, Søndergade 11\, Viby Sj.\, 4130\, Danmark
CATEGORIES:Lokale bookninger
END:VEVENT
BEGIN:VEVENT
DTSTART;TZID=Europe/Copenhagen:20290827T120000
DTEND;TZID=Europe/Copenhagen:20290827T173000
DTSTAMP:20260424T162511
CREATED:20250505T095126Z
LAST-MODIFIED:20250905T085924Z
UID:10045430-1882526400-1882546200@vorescosmos.dk
SUMMARY:Café Cosmos
DESCRIPTION:
URL:https://vorescosmos.dk/begivenhed/cafe-cosmos/2029-08-27/
LOCATION:Fælleskøkkenet\, Søndergade 11\, Viby Sj.\, 4130\, Danmark
CATEGORIES:Lokale bookninger
END:VEVENT
BEGIN:VEVENT
DTSTART;TZID=Europe/Copenhagen:20290828T120000
DTEND;TZID=Europe/Copenhagen:20290828T173000
DTSTAMP:20260424T162511
CREATED:20250505T095126Z
LAST-MODIFIED:20250905T085924Z
UID:10045431-1882612800-1882632600@vorescosmos.dk
SUMMARY:Café Cosmos
DESCRIPTION:
URL:https://vorescosmos.dk/begivenhed/cafe-cosmos/2029-08-28/
LOCATION:Fælleskøkkenet\, Søndergade 11\, Viby Sj.\, 4130\, Danmark
CATEGORIES:Lokale bookninger
END:VEVENT
BEGIN:VEVENT
DTSTART;TZID=Europe/Copenhagen:20290829T120000
DTEND;TZID=Europe/Copenhagen:20290829T173000
DTSTAMP:20260424T162511
CREATED:20250505T095126Z
LAST-MODIFIED:20250905T085924Z
UID:10045432-1882699200-1882719000@vorescosmos.dk
SUMMARY:Café Cosmos
DESCRIPTION:
URL:https://vorescosmos.dk/begivenhed/cafe-cosmos/2029-08-29/
LOCATION:Fælleskøkkenet\, Søndergade 11\, Viby Sj.\, 4130\, Danmark
CATEGORIES:Lokale bookninger
END:VEVENT
BEGIN:VEVENT
DTSTART;TZID=Europe/Copenhagen:20290830T120000
DTEND;TZID=Europe/Copenhagen:20290830T173000
DTSTAMP:20260424T162511
CREATED:20250505T095126Z
LAST-MODIFIED:20250905T085924Z
UID:10046208-1882785600-1882805400@vorescosmos.dk
SUMMARY:Café Cosmos
DESCRIPTION:
URL:https://vorescosmos.dk/begivenhed/cafe-cosmos/2029-08-30/
LOCATION:Fælleskøkkenet\, Søndergade 11\, Viby Sj.\, 4130\, Danmark
CATEGORIES:Lokale bookninger
END:VEVENT
BEGIN:VEVENT
DTSTART;TZID=Europe/Copenhagen:20290903T120000
DTEND;TZID=Europe/Copenhagen:20290903T173000
DTSTAMP:20260424T162511
CREATED:20250505T095126Z
LAST-MODIFIED:20250905T085924Z
UID:10045434-1883131200-1883151000@vorescosmos.dk
SUMMARY:Café Cosmos
DESCRIPTION:
URL:https://vorescosmos.dk/begivenhed/cafe-cosmos/2029-09-03/
LOCATION:Fælleskøkkenet\, Søndergade 11\, Viby Sj.\, 4130\, Danmark
CATEGORIES:Lokale bookninger
END:VEVENT
BEGIN:VEVENT
DTSTART;TZID=Europe/Copenhagen:20290904T120000
DTEND;TZID=Europe/Copenhagen:20290904T173000
DTSTAMP:20260424T162511
CREATED:20250505T095126Z
LAST-MODIFIED:20250905T085924Z
UID:10045435-1883217600-1883237400@vorescosmos.dk
SUMMARY:Café Cosmos
DESCRIPTION:
URL:https://vorescosmos.dk/begivenhed/cafe-cosmos/2029-09-04/
LOCATION:Fælleskøkkenet\, Søndergade 11\, Viby Sj.\, 4130\, Danmark
CATEGORIES:Lokale bookninger
END:VEVENT
BEGIN:VEVENT
DTSTART;TZID=Europe/Copenhagen:20290905T120000
DTEND;TZID=Europe/Copenhagen:20290905T173000
DTSTAMP:20260424T162511
CREATED:20250505T095126Z
LAST-MODIFIED:20250905T085924Z
UID:10045436-1883304000-1883323800@vorescosmos.dk
SUMMARY:Café Cosmos
DESCRIPTION:
URL:https://vorescosmos.dk/begivenhed/cafe-cosmos/2029-09-05/
LOCATION:Fælleskøkkenet\, Søndergade 11\, Viby Sj.\, 4130\, Danmark
CATEGORIES:Lokale bookninger
END:VEVENT
BEGIN:VEVENT
DTSTART;TZID=Europe/Copenhagen:20290906T120000
DTEND;TZID=Europe/Copenhagen:20290906T173000
DTSTAMP:20260424T162511
CREATED:20250505T095126Z
LAST-MODIFIED:20250905T085924Z
UID:10046209-1883390400-1883410200@vorescosmos.dk
SUMMARY:Café Cosmos
DESCRIPTION:
URL:https://vorescosmos.dk/begivenhed/cafe-cosmos/2029-09-06/
LOCATION:Fælleskøkkenet\, Søndergade 11\, Viby Sj.\, 4130\, Danmark
CATEGORIES:Lokale bookninger
END:VEVENT
BEGIN:VEVENT
DTSTART;TZID=Europe/Copenhagen:20290910T120000
DTEND;TZID=Europe/Copenhagen:20290910T173000
DTSTAMP:20260424T162511
CREATED:20250505T095126Z
LAST-MODIFIED:20250905T085924Z
UID:10045438-1883736000-1883755800@vorescosmos.dk
SUMMARY:Café Cosmos
DESCRIPTION:
URL:https://vorescosmos.dk/begivenhed/cafe-cosmos/2029-09-10/
LOCATION:Fælleskøkkenet\, Søndergade 11\, Viby Sj.\, 4130\, Danmark
CATEGORIES:Lokale bookninger
END:VEVENT
BEGIN:VEVENT
DTSTART;TZID=Europe/Copenhagen:20290911T120000
DTEND;TZID=Europe/Copenhagen:20290911T173000
DTSTAMP:20260424T162511
CREATED:20250505T095126Z
LAST-MODIFIED:20250905T085924Z
UID:10045439-1883822400-1883842200@vorescosmos.dk
SUMMARY:Café Cosmos
DESCRIPTION:
URL:https://vorescosmos.dk/begivenhed/cafe-cosmos/2029-09-11/
LOCATION:Fælleskøkkenet\, Søndergade 11\, Viby Sj.\, 4130\, Danmark
CATEGORIES:Lokale bookninger
END:VEVENT
BEGIN:VEVENT
DTSTART;TZID=Europe/Copenhagen:20290912T120000
DTEND;TZID=Europe/Copenhagen:20290912T173000
DTSTAMP:20260424T162511
CREATED:20250505T095126Z
LAST-MODIFIED:20250905T085924Z
UID:10045440-1883908800-1883928600@vorescosmos.dk
SUMMARY:Café Cosmos
DESCRIPTION:
URL:https://vorescosmos.dk/begivenhed/cafe-cosmos/2029-09-12/
LOCATION:Fælleskøkkenet\, Søndergade 11\, Viby Sj.\, 4130\, Danmark
CATEGORIES:Lokale bookninger
END:VEVENT
END:VCALENDAR