BEGIN:VCALENDAR
VERSION:2.0
PRODID:-//Vores Cosmos - ECPv6.15.20//NONSGML v1.0//EN
CALSCALE:GREGORIAN
METHOD:PUBLISH
X-ORIGINAL-URL:https://vorescosmos.dk
X-WR-CALDESC:Begivenheder for Vores Cosmos
REFRESH-INTERVAL;VALUE=DURATION:PT1H
X-Robots-Tag:noindex
X-PUBLISHED-TTL:PT1H
BEGIN:VTIMEZONE
TZID:Europe/Copenhagen
BEGIN:DAYLIGHT
TZOFFSETFROM:+0100
TZOFFSETTO:+0200
TZNAME:CEST
DTSTART:20280326T010000
END:DAYLIGHT
BEGIN:STANDARD
TZOFFSETFROM:+0200
TZOFFSETTO:+0100
TZNAME:CET
DTSTART:20281029T010000
END:STANDARD
BEGIN:DAYLIGHT
TZOFFSETFROM:+0100
TZOFFSETTO:+0200
TZNAME:CEST
DTSTART:20290325T010000
END:DAYLIGHT
BEGIN:STANDARD
TZOFFSETFROM:+0200
TZOFFSETTO:+0100
TZNAME:CET
DTSTART:20291028T010000
END:STANDARD
BEGIN:DAYLIGHT
TZOFFSETFROM:+0100
TZOFFSETTO:+0200
TZNAME:CEST
DTSTART:20300331T010000
END:DAYLIGHT
BEGIN:STANDARD
TZOFFSETFROM:+0200
TZOFFSETTO:+0100
TZNAME:CET
DTSTART:20301027T010000
END:STANDARD
END:VTIMEZONE
BEGIN:VEVENT
DTSTART;TZID=Europe/Copenhagen:20290917T120000
DTEND;TZID=Europe/Copenhagen:20290917T173000
DTSTAMP:20260425T012418
CREATED:20250505T095126Z
LAST-MODIFIED:20250905T085924Z
UID:10045442-1884340800-1884360600@vorescosmos.dk
SUMMARY:Café Cosmos
DESCRIPTION:
URL:https://vorescosmos.dk/begivenhed/cafe-cosmos/2029-09-17/
LOCATION:Fælleskøkkenet\, Søndergade 11\, Viby Sj.\, 4130\, Danmark
CATEGORIES:Lokale bookninger
END:VEVENT
BEGIN:VEVENT
DTSTART;TZID=Europe/Copenhagen:20290918T120000
DTEND;TZID=Europe/Copenhagen:20290918T173000
DTSTAMP:20260425T012418
CREATED:20250505T095126Z
LAST-MODIFIED:20250905T085924Z
UID:10045443-1884427200-1884447000@vorescosmos.dk
SUMMARY:Café Cosmos
DESCRIPTION:
URL:https://vorescosmos.dk/begivenhed/cafe-cosmos/2029-09-18/
LOCATION:Fælleskøkkenet\, Søndergade 11\, Viby Sj.\, 4130\, Danmark
CATEGORIES:Lokale bookninger
END:VEVENT
BEGIN:VEVENT
DTSTART;TZID=Europe/Copenhagen:20290919T120000
DTEND;TZID=Europe/Copenhagen:20290919T173000
DTSTAMP:20260425T012418
CREATED:20250505T095126Z
LAST-MODIFIED:20250905T085924Z
UID:10045444-1884513600-1884533400@vorescosmos.dk
SUMMARY:Café Cosmos
DESCRIPTION:
URL:https://vorescosmos.dk/begivenhed/cafe-cosmos/2029-09-19/
LOCATION:Fælleskøkkenet\, Søndergade 11\, Viby Sj.\, 4130\, Danmark
CATEGORIES:Lokale bookninger
END:VEVENT
BEGIN:VEVENT
DTSTART;TZID=Europe/Copenhagen:20290920T120000
DTEND;TZID=Europe/Copenhagen:20290920T173000
DTSTAMP:20260425T012418
CREATED:20250505T095126Z
LAST-MODIFIED:20250905T085924Z
UID:10046211-1884600000-1884619800@vorescosmos.dk
SUMMARY:Café Cosmos
DESCRIPTION:
URL:https://vorescosmos.dk/begivenhed/cafe-cosmos/2029-09-20/
LOCATION:Fælleskøkkenet\, Søndergade 11\, Viby Sj.\, 4130\, Danmark
CATEGORIES:Lokale bookninger
END:VEVENT
BEGIN:VEVENT
DTSTART;TZID=Europe/Copenhagen:20290924T120000
DTEND;TZID=Europe/Copenhagen:20290924T173000
DTSTAMP:20260425T012418
CREATED:20250505T095126Z
LAST-MODIFIED:20250905T085924Z
UID:10045446-1884945600-1884965400@vorescosmos.dk
SUMMARY:Café Cosmos
DESCRIPTION:
URL:https://vorescosmos.dk/begivenhed/cafe-cosmos/2029-09-24/
LOCATION:Fælleskøkkenet\, Søndergade 11\, Viby Sj.\, 4130\, Danmark
CATEGORIES:Lokale bookninger
END:VEVENT
BEGIN:VEVENT
DTSTART;TZID=Europe/Copenhagen:20290925T120000
DTEND;TZID=Europe/Copenhagen:20290925T173000
DTSTAMP:20260425T012418
CREATED:20250505T095126Z
LAST-MODIFIED:20250905T085924Z
UID:10045447-1885032000-1885051800@vorescosmos.dk
SUMMARY:Café Cosmos
DESCRIPTION:
URL:https://vorescosmos.dk/begivenhed/cafe-cosmos/2029-09-25/
LOCATION:Fælleskøkkenet\, Søndergade 11\, Viby Sj.\, 4130\, Danmark
CATEGORIES:Lokale bookninger
END:VEVENT
BEGIN:VEVENT
DTSTART;TZID=Europe/Copenhagen:20290926T120000
DTEND;TZID=Europe/Copenhagen:20290926T173000
DTSTAMP:20260425T012418
CREATED:20250505T095126Z
LAST-MODIFIED:20250905T085924Z
UID:10045448-1885118400-1885138200@vorescosmos.dk
SUMMARY:Café Cosmos
DESCRIPTION:
URL:https://vorescosmos.dk/begivenhed/cafe-cosmos/2029-09-26/
LOCATION:Fælleskøkkenet\, Søndergade 11\, Viby Sj.\, 4130\, Danmark
CATEGORIES:Lokale bookninger
END:VEVENT
BEGIN:VEVENT
DTSTART;TZID=Europe/Copenhagen:20290927T120000
DTEND;TZID=Europe/Copenhagen:20290927T173000
DTSTAMP:20260425T012418
CREATED:20250505T095126Z
LAST-MODIFIED:20250905T085924Z
UID:10046212-1885204800-1885224600@vorescosmos.dk
SUMMARY:Café Cosmos
DESCRIPTION:
URL:https://vorescosmos.dk/begivenhed/cafe-cosmos/2029-09-27/
LOCATION:Fælleskøkkenet\, Søndergade 11\, Viby Sj.\, 4130\, Danmark
CATEGORIES:Lokale bookninger
END:VEVENT
BEGIN:VEVENT
DTSTART;TZID=Europe/Copenhagen:20291001T120000
DTEND;TZID=Europe/Copenhagen:20291001T173000
DTSTAMP:20260425T012418
CREATED:20250505T095126Z
LAST-MODIFIED:20250905T085924Z
UID:10045450-1885550400-1885570200@vorescosmos.dk
SUMMARY:Café Cosmos
DESCRIPTION:
URL:https://vorescosmos.dk/begivenhed/cafe-cosmos/2029-10-01/
LOCATION:Fælleskøkkenet\, Søndergade 11\, Viby Sj.\, 4130\, Danmark
CATEGORIES:Lokale bookninger
END:VEVENT
BEGIN:VEVENT
DTSTART;TZID=Europe/Copenhagen:20291002T120000
DTEND;TZID=Europe/Copenhagen:20291002T173000
DTSTAMP:20260425T012418
CREATED:20250505T095126Z
LAST-MODIFIED:20250905T085924Z
UID:10045451-1885636800-1885656600@vorescosmos.dk
SUMMARY:Café Cosmos
DESCRIPTION:
URL:https://vorescosmos.dk/begivenhed/cafe-cosmos/2029-10-02/
LOCATION:Fælleskøkkenet\, Søndergade 11\, Viby Sj.\, 4130\, Danmark
CATEGORIES:Lokale bookninger
END:VEVENT
BEGIN:VEVENT
DTSTART;TZID=Europe/Copenhagen:20291003T120000
DTEND;TZID=Europe/Copenhagen:20291003T173000
DTSTAMP:20260425T012418
CREATED:20250505T095126Z
LAST-MODIFIED:20250905T085924Z
UID:10045452-1885723200-1885743000@vorescosmos.dk
SUMMARY:Café Cosmos
DESCRIPTION:
URL:https://vorescosmos.dk/begivenhed/cafe-cosmos/2029-10-03/
LOCATION:Fælleskøkkenet\, Søndergade 11\, Viby Sj.\, 4130\, Danmark
CATEGORIES:Lokale bookninger
END:VEVENT
BEGIN:VEVENT
DTSTART;TZID=Europe/Copenhagen:20291004T120000
DTEND;TZID=Europe/Copenhagen:20291004T173000
DTSTAMP:20260425T012418
CREATED:20250505T095126Z
LAST-MODIFIED:20250905T085924Z
UID:10046213-1885809600-1885829400@vorescosmos.dk
SUMMARY:Café Cosmos
DESCRIPTION:
URL:https://vorescosmos.dk/begivenhed/cafe-cosmos/2029-10-04/
LOCATION:Fælleskøkkenet\, Søndergade 11\, Viby Sj.\, 4130\, Danmark
CATEGORIES:Lokale bookninger
END:VEVENT
BEGIN:VEVENT
DTSTART;TZID=Europe/Copenhagen:20291008T120000
DTEND;TZID=Europe/Copenhagen:20291008T173000
DTSTAMP:20260425T012418
CREATED:20250505T095126Z
LAST-MODIFIED:20250905T085924Z
UID:10045454-1886155200-1886175000@vorescosmos.dk
SUMMARY:Café Cosmos
DESCRIPTION:
URL:https://vorescosmos.dk/begivenhed/cafe-cosmos/2029-10-08/
LOCATION:Fælleskøkkenet\, Søndergade 11\, Viby Sj.\, 4130\, Danmark
CATEGORIES:Lokale bookninger
END:VEVENT
BEGIN:VEVENT
DTSTART;TZID=Europe/Copenhagen:20291009T120000
DTEND;TZID=Europe/Copenhagen:20291009T173000
DTSTAMP:20260425T012418
CREATED:20250505T095126Z
LAST-MODIFIED:20250905T085924Z
UID:10045455-1886241600-1886261400@vorescosmos.dk
SUMMARY:Café Cosmos
DESCRIPTION:
URL:https://vorescosmos.dk/begivenhed/cafe-cosmos/2029-10-09/
LOCATION:Fælleskøkkenet\, Søndergade 11\, Viby Sj.\, 4130\, Danmark
CATEGORIES:Lokale bookninger
END:VEVENT
BEGIN:VEVENT
DTSTART;TZID=Europe/Copenhagen:20291010T120000
DTEND;TZID=Europe/Copenhagen:20291010T173000
DTSTAMP:20260425T012418
CREATED:20250505T095126Z
LAST-MODIFIED:20250905T085924Z
UID:10045456-1886328000-1886347800@vorescosmos.dk
SUMMARY:Café Cosmos
DESCRIPTION:
URL:https://vorescosmos.dk/begivenhed/cafe-cosmos/2029-10-10/
LOCATION:Fælleskøkkenet\, Søndergade 11\, Viby Sj.\, 4130\, Danmark
CATEGORIES:Lokale bookninger
END:VEVENT
BEGIN:VEVENT
DTSTART;TZID=Europe/Copenhagen:20291011T120000
DTEND;TZID=Europe/Copenhagen:20291011T173000
DTSTAMP:20260425T012418
CREATED:20250505T095126Z
LAST-MODIFIED:20250905T085924Z
UID:10046214-1886414400-1886434200@vorescosmos.dk
SUMMARY:Café Cosmos
DESCRIPTION:
URL:https://vorescosmos.dk/begivenhed/cafe-cosmos/2029-10-11/
LOCATION:Fælleskøkkenet\, Søndergade 11\, Viby Sj.\, 4130\, Danmark
CATEGORIES:Lokale bookninger
END:VEVENT
BEGIN:VEVENT
DTSTART;TZID=Europe/Copenhagen:20291015T120000
DTEND;TZID=Europe/Copenhagen:20291015T173000
DTSTAMP:20260425T012418
CREATED:20250505T095126Z
LAST-MODIFIED:20250905T085924Z
UID:10045458-1886760000-1886779800@vorescosmos.dk
SUMMARY:Café Cosmos
DESCRIPTION:
URL:https://vorescosmos.dk/begivenhed/cafe-cosmos/2029-10-15/
LOCATION:Fælleskøkkenet\, Søndergade 11\, Viby Sj.\, 4130\, Danmark
CATEGORIES:Lokale bookninger
END:VEVENT
BEGIN:VEVENT
DTSTART;TZID=Europe/Copenhagen:20291016T120000
DTEND;TZID=Europe/Copenhagen:20291016T173000
DTSTAMP:20260425T012418
CREATED:20250505T095126Z
LAST-MODIFIED:20250905T085924Z
UID:10045459-1886846400-1886866200@vorescosmos.dk
SUMMARY:Café Cosmos
DESCRIPTION:
URL:https://vorescosmos.dk/begivenhed/cafe-cosmos/2029-10-16/
LOCATION:Fælleskøkkenet\, Søndergade 11\, Viby Sj.\, 4130\, Danmark
CATEGORIES:Lokale bookninger
END:VEVENT
BEGIN:VEVENT
DTSTART;TZID=Europe/Copenhagen:20291017T120000
DTEND;TZID=Europe/Copenhagen:20291017T173000
DTSTAMP:20260425T012418
CREATED:20250505T095126Z
LAST-MODIFIED:20250905T085924Z
UID:10045460-1886932800-1886952600@vorescosmos.dk
SUMMARY:Café Cosmos
DESCRIPTION:
URL:https://vorescosmos.dk/begivenhed/cafe-cosmos/2029-10-17/
LOCATION:Fælleskøkkenet\, Søndergade 11\, Viby Sj.\, 4130\, Danmark
CATEGORIES:Lokale bookninger
END:VEVENT
BEGIN:VEVENT
DTSTART;TZID=Europe/Copenhagen:20291018T120000
DTEND;TZID=Europe/Copenhagen:20291018T173000
DTSTAMP:20260425T012418
CREATED:20250505T095126Z
LAST-MODIFIED:20250905T085924Z
UID:10046215-1887019200-1887039000@vorescosmos.dk
SUMMARY:Café Cosmos
DESCRIPTION:
URL:https://vorescosmos.dk/begivenhed/cafe-cosmos/2029-10-18/
LOCATION:Fælleskøkkenet\, Søndergade 11\, Viby Sj.\, 4130\, Danmark
CATEGORIES:Lokale bookninger
END:VEVENT
BEGIN:VEVENT
DTSTART;TZID=Europe/Copenhagen:20291022T120000
DTEND;TZID=Europe/Copenhagen:20291022T173000
DTSTAMP:20260425T012418
CREATED:20250505T095126Z
LAST-MODIFIED:20250905T085924Z
UID:10045462-1887364800-1887384600@vorescosmos.dk
SUMMARY:Café Cosmos
DESCRIPTION:
URL:https://vorescosmos.dk/begivenhed/cafe-cosmos/2029-10-22/
LOCATION:Fælleskøkkenet\, Søndergade 11\, Viby Sj.\, 4130\, Danmark
CATEGORIES:Lokale bookninger
END:VEVENT
BEGIN:VEVENT
DTSTART;TZID=Europe/Copenhagen:20291023T120000
DTEND;TZID=Europe/Copenhagen:20291023T173000
DTSTAMP:20260425T012418
CREATED:20250505T095126Z
LAST-MODIFIED:20250905T085924Z
UID:10045463-1887451200-1887471000@vorescosmos.dk
SUMMARY:Café Cosmos
DESCRIPTION:
URL:https://vorescosmos.dk/begivenhed/cafe-cosmos/2029-10-23/
LOCATION:Fælleskøkkenet\, Søndergade 11\, Viby Sj.\, 4130\, Danmark
CATEGORIES:Lokale bookninger
END:VEVENT
BEGIN:VEVENT
DTSTART;TZID=Europe/Copenhagen:20291024T120000
DTEND;TZID=Europe/Copenhagen:20291024T173000
DTSTAMP:20260425T012418
CREATED:20250505T095126Z
LAST-MODIFIED:20250905T085924Z
UID:10045464-1887537600-1887557400@vorescosmos.dk
SUMMARY:Café Cosmos
DESCRIPTION:
URL:https://vorescosmos.dk/begivenhed/cafe-cosmos/2029-10-24/
LOCATION:Fælleskøkkenet\, Søndergade 11\, Viby Sj.\, 4130\, Danmark
CATEGORIES:Lokale bookninger
END:VEVENT
BEGIN:VEVENT
DTSTART;TZID=Europe/Copenhagen:20291025T120000
DTEND;TZID=Europe/Copenhagen:20291025T173000
DTSTAMP:20260425T012418
CREATED:20250505T095126Z
LAST-MODIFIED:20250905T085924Z
UID:10046216-1887624000-1887643800@vorescosmos.dk
SUMMARY:Café Cosmos
DESCRIPTION:
URL:https://vorescosmos.dk/begivenhed/cafe-cosmos/2029-10-25/
LOCATION:Fælleskøkkenet\, Søndergade 11\, Viby Sj.\, 4130\, Danmark
CATEGORIES:Lokale bookninger
END:VEVENT
BEGIN:VEVENT
DTSTART;TZID=Europe/Copenhagen:20291029T120000
DTEND;TZID=Europe/Copenhagen:20291029T173000
DTSTAMP:20260425T012418
CREATED:20250505T095126Z
LAST-MODIFIED:20250905T085924Z
UID:10045466-1887969600-1887989400@vorescosmos.dk
SUMMARY:Café Cosmos
DESCRIPTION:
URL:https://vorescosmos.dk/begivenhed/cafe-cosmos/2029-10-29/
LOCATION:Fælleskøkkenet\, Søndergade 11\, Viby Sj.\, 4130\, Danmark
CATEGORIES:Lokale bookninger
END:VEVENT
BEGIN:VEVENT
DTSTART;TZID=Europe/Copenhagen:20291030T120000
DTEND;TZID=Europe/Copenhagen:20291030T173000
DTSTAMP:20260425T012418
CREATED:20250505T095126Z
LAST-MODIFIED:20250905T085924Z
UID:10045467-1888056000-1888075800@vorescosmos.dk
SUMMARY:Café Cosmos
DESCRIPTION:
URL:https://vorescosmos.dk/begivenhed/cafe-cosmos/2029-10-30/
LOCATION:Fælleskøkkenet\, Søndergade 11\, Viby Sj.\, 4130\, Danmark
CATEGORIES:Lokale bookninger
END:VEVENT
BEGIN:VEVENT
DTSTART;TZID=Europe/Copenhagen:20291031T120000
DTEND;TZID=Europe/Copenhagen:20291031T173000
DTSTAMP:20260425T012418
CREATED:20250505T095126Z
LAST-MODIFIED:20250905T085924Z
UID:10045468-1888142400-1888162200@vorescosmos.dk
SUMMARY:Café Cosmos
DESCRIPTION:
URL:https://vorescosmos.dk/begivenhed/cafe-cosmos/2029-10-31/
LOCATION:Fælleskøkkenet\, Søndergade 11\, Viby Sj.\, 4130\, Danmark
CATEGORIES:Lokale bookninger
END:VEVENT
BEGIN:VEVENT
DTSTART;TZID=Europe/Copenhagen:20291101T120000
DTEND;TZID=Europe/Copenhagen:20291101T173000
DTSTAMP:20260425T012418
CREATED:20250505T095126Z
LAST-MODIFIED:20250905T085924Z
UID:10046217-1888228800-1888248600@vorescosmos.dk
SUMMARY:Café Cosmos
DESCRIPTION:
URL:https://vorescosmos.dk/begivenhed/cafe-cosmos/2029-11-01/
LOCATION:Fælleskøkkenet\, Søndergade 11\, Viby Sj.\, 4130\, Danmark
CATEGORIES:Lokale bookninger
END:VEVENT
BEGIN:VEVENT
DTSTART;TZID=Europe/Copenhagen:20291105T120000
DTEND;TZID=Europe/Copenhagen:20291105T173000
DTSTAMP:20260425T012418
CREATED:20250505T095126Z
LAST-MODIFIED:20250905T085924Z
UID:10045470-1888574400-1888594200@vorescosmos.dk
SUMMARY:Café Cosmos
DESCRIPTION:
URL:https://vorescosmos.dk/begivenhed/cafe-cosmos/2029-11-05/
LOCATION:Fælleskøkkenet\, Søndergade 11\, Viby Sj.\, 4130\, Danmark
CATEGORIES:Lokale bookninger
END:VEVENT
BEGIN:VEVENT
DTSTART;TZID=Europe/Copenhagen:20291106T120000
DTEND;TZID=Europe/Copenhagen:20291106T173000
DTSTAMP:20260425T012418
CREATED:20250505T095126Z
LAST-MODIFIED:20250905T085924Z
UID:10045471-1888660800-1888680600@vorescosmos.dk
SUMMARY:Café Cosmos
DESCRIPTION:
URL:https://vorescosmos.dk/begivenhed/cafe-cosmos/2029-11-06/
LOCATION:Fælleskøkkenet\, Søndergade 11\, Viby Sj.\, 4130\, Danmark
CATEGORIES:Lokale bookninger
END:VEVENT
END:VCALENDAR