BEGIN:VCALENDAR
VERSION:2.0
PRODID:-//Vores Cosmos - ECPv6.15.20//NONSGML v1.0//EN
CALSCALE:GREGORIAN
METHOD:PUBLISH
X-ORIGINAL-URL:https://vorescosmos.dk
X-WR-CALDESC:Begivenheder for Vores Cosmos
REFRESH-INTERVAL;VALUE=DURATION:PT1H
X-Robots-Tag:noindex
X-PUBLISHED-TTL:PT1H
BEGIN:VTIMEZONE
TZID:Europe/Copenhagen
BEGIN:DAYLIGHT
TZOFFSETFROM:+0100
TZOFFSETTO:+0200
TZNAME:CEST
DTSTART:20240331T010000
END:DAYLIGHT
BEGIN:STANDARD
TZOFFSETFROM:+0200
TZOFFSETTO:+0100
TZNAME:CET
DTSTART:20241027T010000
END:STANDARD
BEGIN:DAYLIGHT
TZOFFSETFROM:+0100
TZOFFSETTO:+0200
TZNAME:CEST
DTSTART:20250330T010000
END:DAYLIGHT
BEGIN:STANDARD
TZOFFSETFROM:+0200
TZOFFSETTO:+0100
TZNAME:CET
DTSTART:20251026T010000
END:STANDARD
BEGIN:DAYLIGHT
TZOFFSETFROM:+0100
TZOFFSETTO:+0200
TZNAME:CEST
DTSTART:20260329T010000
END:DAYLIGHT
BEGIN:STANDARD
TZOFFSETFROM:+0200
TZOFFSETTO:+0100
TZNAME:CET
DTSTART:20261025T010000
END:STANDARD
BEGIN:DAYLIGHT
TZOFFSETFROM:+0100
TZOFFSETTO:+0200
TZNAME:CEST
DTSTART:20270328T010000
END:DAYLIGHT
BEGIN:STANDARD
TZOFFSETFROM:+0200
TZOFFSETTO:+0100
TZNAME:CET
DTSTART:20271031T010000
END:STANDARD
END:VTIMEZONE
BEGIN:VEVENT
DTSTART;TZID=Europe/Copenhagen:20260129T120000
DTEND;TZID=Europe/Copenhagen:20260129T173000
DTSTAMP:20260422T002557
CREATED:20250505T095126Z
LAST-MODIFIED:20250905T085924Z
UID:10046021-1769688000-1769707800@vorescosmos.dk
SUMMARY:Café Cosmos
DESCRIPTION:
URL:https://vorescosmos.dk/begivenhed/cafe-cosmos/2026-01-29/
LOCATION:Fælleskøkkenet\, Søndergade 11\, Viby Sj.\, 4130\, Danmark
CATEGORIES:Lokale bookninger
END:VEVENT
BEGIN:VEVENT
DTSTART;TZID=Europe/Copenhagen:20260128T120000
DTEND;TZID=Europe/Copenhagen:20260128T173000
DTSTAMP:20260422T002557
CREATED:20250505T095126Z
LAST-MODIFIED:20250905T085924Z
UID:10044684-1769601600-1769621400@vorescosmos.dk
SUMMARY:Café Cosmos
DESCRIPTION:
URL:https://vorescosmos.dk/begivenhed/cafe-cosmos/2026-01-28/
LOCATION:Fælleskøkkenet\, Søndergade 11\, Viby Sj.\, 4130\, Danmark
CATEGORIES:Lokale bookninger
END:VEVENT
BEGIN:VEVENT
DTSTART;TZID=Europe/Copenhagen:20260127T180000
DTEND;TZID=Europe/Copenhagen:20260127T230000
DTSTAMP:20260422T002557
CREATED:20251103T115242Z
LAST-MODIFIED:20260302T120100Z
UID:10046458-1769536800-1769554800@vorescosmos.dk
SUMMARY:Ramsø Vinklub
DESCRIPTION:
URL:https://vorescosmos.dk/begivenhed/ramsoe-vinklub-27/2026-01-27/
LOCATION:Fælleskøkkenet\, Søndergade 11\, Viby Sj.\, 4130\, Danmark
CATEGORIES:Lokale bookninger
END:VEVENT
BEGIN:VEVENT
DTSTART;TZID=Europe/Copenhagen:20260127T120000
DTEND;TZID=Europe/Copenhagen:20260127T173000
DTSTAMP:20260422T002557
CREATED:20250505T095126Z
LAST-MODIFIED:20250905T085924Z
UID:10044683-1769515200-1769535000@vorescosmos.dk
SUMMARY:Café Cosmos
DESCRIPTION:
URL:https://vorescosmos.dk/begivenhed/cafe-cosmos/2026-01-27/
LOCATION:Fælleskøkkenet\, Søndergade 11\, Viby Sj.\, 4130\, Danmark
CATEGORIES:Lokale bookninger
END:VEVENT
BEGIN:VEVENT
DTSTART;TZID=Europe/Copenhagen:20260126T120000
DTEND;TZID=Europe/Copenhagen:20260126T173000
DTSTAMP:20260422T002557
CREATED:20250505T095126Z
LAST-MODIFIED:20250905T085924Z
UID:10044682-1769428800-1769448600@vorescosmos.dk
SUMMARY:Café Cosmos
DESCRIPTION:
URL:https://vorescosmos.dk/begivenhed/cafe-cosmos/2026-01-26/
LOCATION:Fælleskøkkenet\, Søndergade 11\, Viby Sj.\, 4130\, Danmark
CATEGORIES:Lokale bookninger
END:VEVENT
BEGIN:VEVENT
DTSTART;TZID=Europe/Copenhagen:20260123T170000
DTEND;TZID=Europe/Copenhagen:20260123T230000
DTSTAMP:20260422T002557
CREATED:20251202T134450Z
LAST-MODIFIED:20251202T134451Z
UID:10046593-1769187600-1769209200@vorescosmos.dk
SUMMARY:Kulturcosmos
DESCRIPTION:
URL:https://vorescosmos.dk/begivenhed/kulturcosmos-53/
LOCATION:Fælleskøkkenet\, Søndergade 11\, Viby Sj.\, 4130\, Danmark
CATEGORIES:Lokale bookninger
END:VEVENT
BEGIN:VEVENT
DTSTART;TZID=Europe/Copenhagen:20260122T120000
DTEND;TZID=Europe/Copenhagen:20260122T173000
DTSTAMP:20260422T002557
CREATED:20250505T095126Z
LAST-MODIFIED:20250905T085924Z
UID:10046020-1769083200-1769103000@vorescosmos.dk
SUMMARY:Café Cosmos
DESCRIPTION:
URL:https://vorescosmos.dk/begivenhed/cafe-cosmos/2026-01-22/
LOCATION:Fælleskøkkenet\, Søndergade 11\, Viby Sj.\, 4130\, Danmark
CATEGORIES:Lokale bookninger
END:VEVENT
BEGIN:VEVENT
DTSTART;TZID=Europe/Copenhagen:20260121T120000
DTEND;TZID=Europe/Copenhagen:20260121T173000
DTSTAMP:20260422T002557
CREATED:20250505T095126Z
LAST-MODIFIED:20250905T085924Z
UID:10044680-1768996800-1769016600@vorescosmos.dk
SUMMARY:Café Cosmos
DESCRIPTION:
URL:https://vorescosmos.dk/begivenhed/cafe-cosmos/2026-01-21/
LOCATION:Fælleskøkkenet\, Søndergade 11\, Viby Sj.\, 4130\, Danmark
CATEGORIES:Lokale bookninger
END:VEVENT
BEGIN:VEVENT
DTSTART;TZID=Europe/Copenhagen:20260120T120000
DTEND;TZID=Europe/Copenhagen:20260120T173000
DTSTAMP:20260422T002557
CREATED:20250505T095126Z
LAST-MODIFIED:20250905T085924Z
UID:10044679-1768910400-1768930200@vorescosmos.dk
SUMMARY:Café Cosmos
DESCRIPTION:
URL:https://vorescosmos.dk/begivenhed/cafe-cosmos/2026-01-20/
LOCATION:Fælleskøkkenet\, Søndergade 11\, Viby Sj.\, 4130\, Danmark
CATEGORIES:Lokale bookninger
END:VEVENT
BEGIN:VEVENT
DTSTART;TZID=Europe/Copenhagen:20260119T120000
DTEND;TZID=Europe/Copenhagen:20260119T173000
DTSTAMP:20260422T002557
CREATED:20250505T095126Z
LAST-MODIFIED:20250905T085924Z
UID:10044678-1768824000-1768843800@vorescosmos.dk
SUMMARY:Café Cosmos
DESCRIPTION:
URL:https://vorescosmos.dk/begivenhed/cafe-cosmos/2026-01-19/
LOCATION:Fælleskøkkenet\, Søndergade 11\, Viby Sj.\, 4130\, Danmark
CATEGORIES:Lokale bookninger
END:VEVENT
BEGIN:VEVENT
DTSTART;TZID=Europe/Copenhagen:20260116T110000
DTEND;TZID=Europe/Copenhagen:20260116T150000
DTSTAMP:20260422T002557
CREATED:20260102T120140Z
LAST-MODIFIED:20260102T120140Z
UID:10046634-1768561200-1768575600@vorescosmos.dk
SUMMARY:CosmosGryden
DESCRIPTION:
URL:https://vorescosmos.dk/begivenhed/cosmosgryden-12/2026-01-16/
LOCATION:Fælleskøkkenet\, Søndergade 11\, Viby Sj.\, 4130\, Danmark
CATEGORIES:Lokale bookninger
END:VEVENT
BEGIN:VEVENT
DTSTART;TZID=Europe/Copenhagen:20260115T120000
DTEND;TZID=Europe/Copenhagen:20260115T173000
DTSTAMP:20260422T002557
CREATED:20250505T095126Z
LAST-MODIFIED:20250905T085924Z
UID:10046019-1768478400-1768498200@vorescosmos.dk
SUMMARY:Café Cosmos
DESCRIPTION:
URL:https://vorescosmos.dk/begivenhed/cafe-cosmos/2026-01-15/
LOCATION:Fælleskøkkenet\, Søndergade 11\, Viby Sj.\, 4130\, Danmark
CATEGORIES:Lokale bookninger
END:VEVENT
BEGIN:VEVENT
DTSTART;TZID=Europe/Copenhagen:20260114T120000
DTEND;TZID=Europe/Copenhagen:20260114T173000
DTSTAMP:20260422T002557
CREATED:20250505T095126Z
LAST-MODIFIED:20250905T085924Z
UID:10044676-1768392000-1768411800@vorescosmos.dk
SUMMARY:Café Cosmos
DESCRIPTION:
URL:https://vorescosmos.dk/begivenhed/cafe-cosmos/2026-01-14/
LOCATION:Fælleskøkkenet\, Søndergade 11\, Viby Sj.\, 4130\, Danmark
CATEGORIES:Lokale bookninger
END:VEVENT
BEGIN:VEVENT
DTSTART;TZID=Europe/Copenhagen:20260113T120000
DTEND;TZID=Europe/Copenhagen:20260113T173000
DTSTAMP:20260422T002557
CREATED:20250505T095126Z
LAST-MODIFIED:20250905T085924Z
UID:10044675-1768305600-1768325400@vorescosmos.dk
SUMMARY:Café Cosmos
DESCRIPTION:
URL:https://vorescosmos.dk/begivenhed/cafe-cosmos/2026-01-13/
LOCATION:Fælleskøkkenet\, Søndergade 11\, Viby Sj.\, 4130\, Danmark
CATEGORIES:Lokale bookninger
END:VEVENT
BEGIN:VEVENT
DTSTART;TZID=Europe/Copenhagen:20260112T120000
DTEND;TZID=Europe/Copenhagen:20260112T173000
DTSTAMP:20260422T002557
CREATED:20250505T095126Z
LAST-MODIFIED:20250905T085924Z
UID:10044674-1768219200-1768239000@vorescosmos.dk
SUMMARY:Café Cosmos
DESCRIPTION:
URL:https://vorescosmos.dk/begivenhed/cafe-cosmos/2026-01-12/
LOCATION:Fælleskøkkenet\, Søndergade 11\, Viby Sj.\, 4130\, Danmark
CATEGORIES:Lokale bookninger
END:VEVENT
BEGIN:VEVENT
DTSTART;TZID=Europe/Copenhagen:20260108T120000
DTEND;TZID=Europe/Copenhagen:20260108T173000
DTSTAMP:20260422T002557
CREATED:20250505T095126Z
LAST-MODIFIED:20250905T085924Z
UID:10046018-1767873600-1767893400@vorescosmos.dk
SUMMARY:Café Cosmos
DESCRIPTION:
URL:https://vorescosmos.dk/begivenhed/cafe-cosmos/2026-01-08/
LOCATION:Fælleskøkkenet\, Søndergade 11\, Viby Sj.\, 4130\, Danmark
CATEGORIES:Lokale bookninger
END:VEVENT
BEGIN:VEVENT
DTSTART;TZID=Europe/Copenhagen:20260107T120000
DTEND;TZID=Europe/Copenhagen:20260107T173000
DTSTAMP:20260422T002557
CREATED:20250505T095126Z
LAST-MODIFIED:20250905T085924Z
UID:10044672-1767787200-1767807000@vorescosmos.dk
SUMMARY:Café Cosmos
DESCRIPTION:
URL:https://vorescosmos.dk/begivenhed/cafe-cosmos/2026-01-07/
LOCATION:Fælleskøkkenet\, Søndergade 11\, Viby Sj.\, 4130\, Danmark
CATEGORIES:Lokale bookninger
END:VEVENT
BEGIN:VEVENT
DTSTART;TZID=Europe/Copenhagen:20260106T120000
DTEND;TZID=Europe/Copenhagen:20260106T173000
DTSTAMP:20260422T002557
CREATED:20250505T095126Z
LAST-MODIFIED:20250905T085924Z
UID:10044671-1767700800-1767720600@vorescosmos.dk
SUMMARY:Café Cosmos
DESCRIPTION:
URL:https://vorescosmos.dk/begivenhed/cafe-cosmos/2026-01-06/
LOCATION:Fælleskøkkenet\, Søndergade 11\, Viby Sj.\, 4130\, Danmark
CATEGORIES:Lokale bookninger
END:VEVENT
BEGIN:VEVENT
DTSTART;TZID=Europe/Copenhagen:20260105T120000
DTEND;TZID=Europe/Copenhagen:20260105T173000
DTSTAMP:20260422T002557
CREATED:20250505T095126Z
LAST-MODIFIED:20250905T085924Z
UID:10044670-1767614400-1767634200@vorescosmos.dk
SUMMARY:Café Cosmos
DESCRIPTION:
URL:https://vorescosmos.dk/begivenhed/cafe-cosmos/2026-01-05/
LOCATION:Fælleskøkkenet\, Søndergade 11\, Viby Sj.\, 4130\, Danmark
CATEGORIES:Lokale bookninger
END:VEVENT
BEGIN:VEVENT
DTSTART;TZID=Europe/Copenhagen:20260101T120000
DTEND;TZID=Europe/Copenhagen:20260101T173000
DTSTAMP:20260422T002557
CREATED:20250505T095126Z
LAST-MODIFIED:20250905T085924Z
UID:10046017-1767268800-1767288600@vorescosmos.dk
SUMMARY:Café Cosmos
DESCRIPTION:
URL:https://vorescosmos.dk/begivenhed/cafe-cosmos/2026-01-01/
LOCATION:Fælleskøkkenet\, Søndergade 11\, Viby Sj.\, 4130\, Danmark
CATEGORIES:Lokale bookninger
END:VEVENT
BEGIN:VEVENT
DTSTART;TZID=Europe/Copenhagen:20251231T120000
DTEND;TZID=Europe/Copenhagen:20251231T173000
DTSTAMP:20260422T002557
CREATED:20250505T095126Z
LAST-MODIFIED:20250905T085924Z
UID:10044668-1767182400-1767202200@vorescosmos.dk
SUMMARY:Café Cosmos
DESCRIPTION:
URL:https://vorescosmos.dk/begivenhed/cafe-cosmos/2025-12-31/
LOCATION:Fælleskøkkenet\, Søndergade 11\, Viby Sj.\, 4130\, Danmark
CATEGORIES:Lokale bookninger
END:VEVENT
BEGIN:VEVENT
DTSTART;TZID=Europe/Copenhagen:20251230T120000
DTEND;TZID=Europe/Copenhagen:20251230T173000
DTSTAMP:20260422T002557
CREATED:20250505T095126Z
LAST-MODIFIED:20250905T085924Z
UID:10044667-1767096000-1767115800@vorescosmos.dk
SUMMARY:Café Cosmos
DESCRIPTION:
URL:https://vorescosmos.dk/begivenhed/cafe-cosmos/2025-12-30/
LOCATION:Fælleskøkkenet\, Søndergade 11\, Viby Sj.\, 4130\, Danmark
CATEGORIES:Lokale bookninger
END:VEVENT
BEGIN:VEVENT
DTSTART;TZID=Europe/Copenhagen:20251229T120000
DTEND;TZID=Europe/Copenhagen:20251229T173000
DTSTAMP:20260422T002557
CREATED:20250505T095126Z
LAST-MODIFIED:20250905T085924Z
UID:10044666-1767009600-1767029400@vorescosmos.dk
SUMMARY:Café Cosmos
DESCRIPTION:
URL:https://vorescosmos.dk/begivenhed/cafe-cosmos/2025-12-29/
LOCATION:Fælleskøkkenet\, Søndergade 11\, Viby Sj.\, 4130\, Danmark
CATEGORIES:Lokale bookninger
END:VEVENT
BEGIN:VEVENT
DTSTART;TZID=Europe/Copenhagen:20251225T120000
DTEND;TZID=Europe/Copenhagen:20251225T173000
DTSTAMP:20260422T002557
CREATED:20250505T095126Z
LAST-MODIFIED:20250905T085924Z
UID:10046016-1766664000-1766683800@vorescosmos.dk
SUMMARY:Café Cosmos
DESCRIPTION:
URL:https://vorescosmos.dk/begivenhed/cafe-cosmos/2025-12-25/
LOCATION:Fælleskøkkenet\, Søndergade 11\, Viby Sj.\, 4130\, Danmark
CATEGORIES:Lokale bookninger
END:VEVENT
BEGIN:VEVENT
DTSTART;TZID=Europe/Copenhagen:20251224T120000
DTEND;TZID=Europe/Copenhagen:20251224T173000
DTSTAMP:20260422T002557
CREATED:20250505T095126Z
LAST-MODIFIED:20250905T085924Z
UID:10044664-1766577600-1766597400@vorescosmos.dk
SUMMARY:Café Cosmos
DESCRIPTION:
URL:https://vorescosmos.dk/begivenhed/cafe-cosmos/2025-12-24/
LOCATION:Fælleskøkkenet\, Søndergade 11\, Viby Sj.\, 4130\, Danmark
CATEGORIES:Lokale bookninger
END:VEVENT
BEGIN:VEVENT
DTSTART;TZID=Europe/Copenhagen:20251223T120000
DTEND;TZID=Europe/Copenhagen:20251223T173000
DTSTAMP:20260422T002557
CREATED:20250505T095126Z
LAST-MODIFIED:20250905T085924Z
UID:10044663-1766491200-1766511000@vorescosmos.dk
SUMMARY:Café Cosmos
DESCRIPTION:
URL:https://vorescosmos.dk/begivenhed/cafe-cosmos/2025-12-23/
LOCATION:Fælleskøkkenet\, Søndergade 11\, Viby Sj.\, 4130\, Danmark
CATEGORIES:Lokale bookninger
END:VEVENT
BEGIN:VEVENT
DTSTART;TZID=Europe/Copenhagen:20251222T120000
DTEND;TZID=Europe/Copenhagen:20251222T173000
DTSTAMP:20260422T002557
CREATED:20250505T095126Z
LAST-MODIFIED:20250905T085924Z
UID:10044662-1766404800-1766424600@vorescosmos.dk
SUMMARY:Café Cosmos
DESCRIPTION:
URL:https://vorescosmos.dk/begivenhed/cafe-cosmos/2025-12-22/
LOCATION:Fælleskøkkenet\, Søndergade 11\, Viby Sj.\, 4130\, Danmark
CATEGORIES:Lokale bookninger
END:VEVENT
BEGIN:VEVENT
DTSTART;TZID=Europe/Copenhagen:20251218T180000
DTEND;TZID=Europe/Copenhagen:20251218T230000
DTSTAMP:20260422T002557
CREATED:20251110T082555Z
LAST-MODIFIED:20251110T082555Z
UID:10046522-1766080800-1766098800@vorescosmos.dk
SUMMARY:KulturCosmos: Creacaféen
DESCRIPTION:
URL:https://vorescosmos.dk/begivenhed/kulturcosmos-creacafeen/
LOCATION:Fælleskøkkenet\, Søndergade 11\, Viby Sj.\, 4130\, Danmark
CATEGORIES:Lokale bookninger
END:VEVENT
BEGIN:VEVENT
DTSTART;TZID=Europe/Copenhagen:20251218T120000
DTEND;TZID=Europe/Copenhagen:20251218T173000
DTSTAMP:20260422T002557
CREATED:20250505T095126Z
LAST-MODIFIED:20250905T085924Z
UID:10046015-1766059200-1766079000@vorescosmos.dk
SUMMARY:Café Cosmos
DESCRIPTION:
URL:https://vorescosmos.dk/begivenhed/cafe-cosmos/2025-12-18/
LOCATION:Fælleskøkkenet\, Søndergade 11\, Viby Sj.\, 4130\, Danmark
CATEGORIES:Lokale bookninger
END:VEVENT
BEGIN:VEVENT
DTSTART;TZID=Europe/Copenhagen:20251217T120000
DTEND;TZID=Europe/Copenhagen:20251217T173000
DTSTAMP:20260422T002557
CREATED:20250505T095126Z
LAST-MODIFIED:20250905T085924Z
UID:10044660-1765972800-1765992600@vorescosmos.dk
SUMMARY:Café Cosmos
DESCRIPTION:
URL:https://vorescosmos.dk/begivenhed/cafe-cosmos/2025-12-17/
LOCATION:Fælleskøkkenet\, Søndergade 11\, Viby Sj.\, 4130\, Danmark
CATEGORIES:Lokale bookninger
END:VEVENT
END:VCALENDAR