BEGIN:VCALENDAR
VERSION:2.0
PRODID:-//Vores Cosmos - ECPv6.15.20//NONSGML v1.0//EN
CALSCALE:GREGORIAN
METHOD:PUBLISH
X-ORIGINAL-URL:https://vorescosmos.dk
X-WR-CALDESC:Begivenheder for Vores Cosmos
REFRESH-INTERVAL;VALUE=DURATION:PT1H
X-Robots-Tag:noindex
X-PUBLISHED-TTL:PT1H
BEGIN:VTIMEZONE
TZID:Europe/Copenhagen
BEGIN:DAYLIGHT
TZOFFSETFROM:+0100
TZOFFSETTO:+0200
TZNAME:CEST
DTSTART:20220327T010000
END:DAYLIGHT
BEGIN:STANDARD
TZOFFSETFROM:+0200
TZOFFSETTO:+0100
TZNAME:CET
DTSTART:20221030T010000
END:STANDARD
BEGIN:DAYLIGHT
TZOFFSETFROM:+0100
TZOFFSETTO:+0200
TZNAME:CEST
DTSTART:20230326T010000
END:DAYLIGHT
BEGIN:STANDARD
TZOFFSETFROM:+0200
TZOFFSETTO:+0100
TZNAME:CET
DTSTART:20231029T010000
END:STANDARD
BEGIN:DAYLIGHT
TZOFFSETFROM:+0100
TZOFFSETTO:+0200
TZNAME:CEST
DTSTART:20240331T010000
END:DAYLIGHT
BEGIN:STANDARD
TZOFFSETFROM:+0200
TZOFFSETTO:+0100
TZNAME:CET
DTSTART:20241027T010000
END:STANDARD
BEGIN:DAYLIGHT
TZOFFSETFROM:+0100
TZOFFSETTO:+0200
TZNAME:CEST
DTSTART:20250330T010000
END:DAYLIGHT
BEGIN:STANDARD
TZOFFSETFROM:+0200
TZOFFSETTO:+0100
TZNAME:CET
DTSTART:20251026T010000
END:STANDARD
END:VTIMEZONE
BEGIN:VEVENT
DTSTART;TZID=Europe/Copenhagen:20240319T170000
DTEND;TZID=Europe/Copenhagen:20240319T220000
DTSTAMP:20260422T105453
CREATED:20240109T084055Z
LAST-MODIFIED:20240109T084056Z
UID:10041963-1710867600-1710885600@vorescosmos.dk
SUMMARY:Standup
DESCRIPTION:
URL:https://vorescosmos.dk/begivenhed/standup-5/
LOCATION:Medielab\, Søndergade 11\, Viby Sj.\, 4130\, Danmark
CATEGORIES:Lokale bookninger
END:VEVENT
BEGIN:VEVENT
DTSTART;TZID=Europe/Copenhagen:20240316T110000
DTEND;TZID=Europe/Copenhagen:20240316T130000
DTSTAMP:20260422T105453
CREATED:20240306T114556Z
LAST-MODIFIED:20240306T114557Z
UID:10042154-1710586800-1710594000@vorescosmos.dk
SUMMARY:Fjernvarmegruppen
DESCRIPTION:
URL:https://vorescosmos.dk/begivenhed/fjernvarmegruppen/
LOCATION:Medielab\, Søndergade 11\, Viby Sj.\, 4130\, Danmark
CATEGORIES:Lokale bookninger
END:VEVENT
BEGIN:VEVENT
DTSTART;TZID=Europe/Copenhagen:20240313T180000
DTEND;TZID=Europe/Copenhagen:20240313T210000
DTSTAMP:20260422T105453
CREATED:20240308T131750Z
LAST-MODIFIED:20240308T131751Z
UID:10042170-1710352800-1710363600@vorescosmos.dk
SUMMARY:Viby musikforening
DESCRIPTION:
URL:https://vorescosmos.dk/begivenhed/viby-musikforening-17/
LOCATION:Medielab\, Søndergade 11\, Viby Sj.\, 4130\, Danmark
CATEGORIES:Lokale bookninger
END:VEVENT
BEGIN:VEVENT
DTSTART;TZID=Europe/Copenhagen:20240306T180000
DTEND;TZID=Europe/Copenhagen:20240306T210000
DTSTAMP:20260422T105453
CREATED:20240229T075327Z
LAST-MODIFIED:20240229T075328Z
UID:10042138-1709748000-1709758800@vorescosmos.dk
SUMMARY:Viby musikforening
DESCRIPTION:
URL:https://vorescosmos.dk/begivenhed/viby-musikforening-15/
LOCATION:Medielab\, Søndergade 11\, Viby Sj.\, 4130\, Danmark
CATEGORIES:Lokale bookninger
END:VEVENT
BEGIN:VEVENT
DTSTART;TZID=Europe/Copenhagen:20240228T173000
DTEND;TZID=Europe/Copenhagen:20240228T203000
DTSTAMP:20260422T105453
CREATED:20240226T092431Z
LAST-MODIFIED:20240226T092432Z
UID:10042130-1709141400-1709152200@vorescosmos.dk
SUMMARY:Black Velvet Band (Viby Musikforening)
DESCRIPTION:
URL:https://vorescosmos.dk/begivenhed/black-velvet-band-viby-musikforening/
LOCATION:Medielab\, Søndergade 11\, Viby Sj.\, 4130\, Danmark
CATEGORIES:Lokale bookninger
END:VEVENT
BEGIN:VEVENT
DTSTART;TZID=Europe/Copenhagen:20240226T100000
DTEND;TZID=Europe/Copenhagen:20240226T120000
DTSTAMP:20260422T105453
CREATED:20240105T130016Z
LAST-MODIFIED:20240105T130017Z
UID:10041906-1708941600-1708948800@vorescosmos.dk
SUMMARY:Book en it-vejleder
DESCRIPTION:Slår teknikken knuder?Eller er der bare noget digitalt du gerne vil lære lidt mere om? \n\n\n\nFå hjælp til din PC\, dit mailprogram\, din tablet\, din smartphone mm.Book en halv time med it-vejleder\, Herbert Kristiansen på Viby Bibliotek \n\n\n\nBemærk:Din billet gælder ENTEN til klokken 10.00\, klokken 10.45 eller klokken 11.00.Vælg en af de ledige tider når du henter din billet. \n\n\n\n\n\n\nBestil tid
URL:https://vorescosmos.dk/begivenhed/book-en-it-vejleder/
LOCATION:Medielab\, Søndergade 11\, Viby Sj.\, 4130\, Danmark
CATEGORIES:Lokale bookninger
ATTACH;FMTTYPE=image/jpeg:https://vorescosmos.dk/wp-content/uploads/2023/09/Book-en-it-vejlder.jpg
END:VEVENT
BEGIN:VEVENT
DTSTART;TZID=Europe/Copenhagen:20240225T100000
DTEND;TZID=Europe/Copenhagen:20240225T140000
DTSTAMP:20260422T105453
CREATED:20240207T084449Z
LAST-MODIFIED:20240207T084450Z
UID:10042110-1708855200-1708869600@vorescosmos.dk
SUMMARY:Borgergruppens fjernvarme helpdisc
DESCRIPTION:
URL:https://vorescosmos.dk/begivenhed/borgergruppens-fjernvarme-helpdisc/2024-02-25/
LOCATION:Medielab\, Søndergade 11\, Viby Sj.\, 4130\, Danmark
CATEGORIES:Lokale bookninger
END:VEVENT
BEGIN:VEVENT
DTSTART;TZID=Europe/Copenhagen:20240224T100000
DTEND;TZID=Europe/Copenhagen:20240224T140000
DTSTAMP:20260422T105453
CREATED:20240207T084449Z
LAST-MODIFIED:20240207T084450Z
UID:10042109-1708768800-1708783200@vorescosmos.dk
SUMMARY:Borgergruppens fjernvarme helpdisc
DESCRIPTION:
URL:https://vorescosmos.dk/begivenhed/borgergruppens-fjernvarme-helpdisc/2024-02-24/
LOCATION:Medielab\, Søndergade 11\, Viby Sj.\, 4130\, Danmark
CATEGORIES:Lokale bookninger
END:VEVENT
BEGIN:VEVENT
DTSTART;TZID=Europe/Copenhagen:20240219T180000
DTEND;TZID=Europe/Copenhagen:20240219T210000
DTSTAMP:20260422T105453
CREATED:20240202T085340Z
LAST-MODIFIED:20240216T120043Z
UID:10042093-1708365600-1708376400@vorescosmos.dk
SUMMARY:The Black Velvet Band
DESCRIPTION:
URL:https://vorescosmos.dk/begivenhed/the-black-velvet-band-5/
LOCATION:Medielab\, Søndergade 11\, Viby Sj.\, 4130\, Danmark
CATEGORIES:Lokale bookninger
END:VEVENT
BEGIN:VEVENT
DTSTART;TZID=Europe/Copenhagen:20240218T100000
DTEND;TZID=Europe/Copenhagen:20240218T140000
DTSTAMP:20260422T105453
CREATED:20240207T084449Z
LAST-MODIFIED:20240207T084450Z
UID:10042108-1708250400-1708264800@vorescosmos.dk
SUMMARY:Borgergruppens fjernvarme helpdisc
DESCRIPTION:
URL:https://vorescosmos.dk/begivenhed/borgergruppens-fjernvarme-helpdisc/2024-02-18/
LOCATION:Medielab\, Søndergade 11\, Viby Sj.\, 4130\, Danmark
CATEGORIES:Lokale bookninger
END:VEVENT
BEGIN:VEVENT
DTSTART;TZID=Europe/Copenhagen:20240217T100000
DTEND;TZID=Europe/Copenhagen:20240217T140000
DTSTAMP:20260422T105453
CREATED:20240207T084449Z
LAST-MODIFIED:20240207T084450Z
UID:10042107-1708164000-1708178400@vorescosmos.dk
SUMMARY:Borgergruppens fjernvarme helpdisc
DESCRIPTION:
URL:https://vorescosmos.dk/begivenhed/borgergruppens-fjernvarme-helpdisc/2024-02-17/
LOCATION:Medielab\, Søndergade 11\, Viby Sj.\, 4130\, Danmark
CATEGORIES:Lokale bookninger
END:VEVENT
BEGIN:VEVENT
DTSTART;TZID=Europe/Copenhagen:20240214T173000
DTEND;TZID=Europe/Copenhagen:20240214T203000
DTSTAMP:20260422T105453
CREATED:20240202T085250Z
LAST-MODIFIED:20240202T085250Z
UID:10042092-1707931800-1707942600@vorescosmos.dk
SUMMARY:The Black Velvet Band
DESCRIPTION:
URL:https://vorescosmos.dk/begivenhed/the-black-velvet-band-4/
LOCATION:Medielab\, Søndergade 11\, Viby Sj.\, 4130\, Danmark
CATEGORIES:Lokale bookninger
END:VEVENT
BEGIN:VEVENT
DTSTART;TZID=Europe/Copenhagen:20240211T100000
DTEND;TZID=Europe/Copenhagen:20240211T140000
DTSTAMP:20260422T105453
CREATED:20240207T084449Z
LAST-MODIFIED:20240207T084450Z
UID:10042106-1707645600-1707660000@vorescosmos.dk
SUMMARY:Borgergruppens fjernvarme helpdisc
DESCRIPTION:
URL:https://vorescosmos.dk/begivenhed/borgergruppens-fjernvarme-helpdisc/2024-02-11/
LOCATION:Medielab\, Søndergade 11\, Viby Sj.\, 4130\, Danmark
CATEGORIES:Lokale bookninger
END:VEVENT
BEGIN:VEVENT
DTSTART;TZID=Europe/Copenhagen:20240210T100000
DTEND;TZID=Europe/Copenhagen:20240210T140000
DTSTAMP:20260422T105453
CREATED:20240207T084449Z
LAST-MODIFIED:20240207T084450Z
UID:10042105-1707559200-1707573600@vorescosmos.dk
SUMMARY:Borgergruppens fjernvarme helpdisc
DESCRIPTION:
URL:https://vorescosmos.dk/begivenhed/borgergruppens-fjernvarme-helpdisc/2024-02-10/
LOCATION:Medielab\, Søndergade 11\, Viby Sj.\, 4130\, Danmark
CATEGORIES:Lokale bookninger
END:VEVENT
BEGIN:VEVENT
DTSTART;TZID=Europe/Copenhagen:20240207T173000
DTEND;TZID=Europe/Copenhagen:20240207T203000
DTSTAMP:20260422T105453
CREATED:20240202T085156Z
LAST-MODIFIED:20240202T085157Z
UID:10042091-1707327000-1707337800@vorescosmos.dk
SUMMARY:The Black Velvet Band
DESCRIPTION:
URL:https://vorescosmos.dk/begivenhed/the-black-velvet-band-3/
LOCATION:Medielab\, Søndergade 11\, Viby Sj.\, 4130\, Danmark
CATEGORIES:Lokale bookninger
END:VEVENT
BEGIN:VEVENT
DTSTART;TZID=Europe/Copenhagen:20240205T160000
DTEND;TZID=Europe/Copenhagen:20240205T170000
DTSTAMP:20260422T105453
CREATED:20240202T090915Z
LAST-MODIFIED:20240202T090915Z
UID:10042094-1707148800-1707152400@vorescosmos.dk
SUMMARY:FKU Solstrålen
DESCRIPTION:
URL:https://vorescosmos.dk/begivenhed/fku-solstraalen/
LOCATION:Medielab\, Søndergade 11\, Viby Sj.\, 4130\, Danmark
CATEGORIES:Lokale bookninger
END:VEVENT
BEGIN:VEVENT
DTSTART;TZID=Europe/Copenhagen:20240131T173000
DTEND;TZID=Europe/Copenhagen:20240131T203000
DTSTAMP:20260422T105453
CREATED:20240112T142503Z
LAST-MODIFIED:20240112T142504Z
UID:10042002-1706722200-1706733000@vorescosmos.dk
SUMMARY:"The Black Velvet Band"
DESCRIPTION:
URL:https://vorescosmos.dk/begivenhed/the-black-velvet-band-2/2024-01-31/
LOCATION:Medielab\, Søndergade 11\, Viby Sj.\, 4130\, Danmark
CATEGORIES:Lokale bookninger
END:VEVENT
BEGIN:VEVENT
DTSTART;TZID=Europe/Copenhagen:20240130T190000
DTEND;TZID=Europe/Copenhagen:20240130T220000
DTSTAMP:20260422T105453
CREATED:20240129T113020Z
LAST-MODIFIED:20240129T113021Z
UID:10042076-1706641200-1706652000@vorescosmos.dk
SUMMARY:Forældreråd i 0. klasse på Viby Friskole.
DESCRIPTION:
URL:https://vorescosmos.dk/begivenhed/foraeldreraad-i-0-klasse-paa-viby-friskole/
LOCATION:Medielab\, Søndergade 11\, Viby Sj.\, 4130\, Danmark
CATEGORIES:Lokale bookninger
END:VEVENT
BEGIN:VEVENT
DTSTART;TZID=Europe/Copenhagen:20240127T080000
DTEND;TZID=Europe/Copenhagen:20240127T170000
DTSTAMP:20260422T105453
CREATED:20231123T165216Z
LAST-MODIFIED:20231123T165216Z
UID:10039432-1706342400-1706374800@vorescosmos.dk
SUMMARY:Strik i Cosmos
DESCRIPTION:
URL:https://vorescosmos.dk/begivenhed/strik-i-cosmos-7/
LOCATION:Medielab\, Søndergade 11\, Viby Sj.\, 4130\, Danmark
CATEGORIES:Lokale bookninger
END:VEVENT
BEGIN:VEVENT
DTSTART;TZID=Europe/Copenhagen:20240124T173000
DTEND;TZID=Europe/Copenhagen:20240124T203000
DTSTAMP:20260422T105453
CREATED:20240112T142503Z
LAST-MODIFIED:20240112T142504Z
UID:10042001-1706117400-1706128200@vorescosmos.dk
SUMMARY:"The Black Velvet Band"
DESCRIPTION:
URL:https://vorescosmos.dk/begivenhed/the-black-velvet-band-2/2024-01-24/
LOCATION:Medielab\, Søndergade 11\, Viby Sj.\, 4130\, Danmark
CATEGORIES:Lokale bookninger
END:VEVENT
BEGIN:VEVENT
DTSTART;TZID=Europe/Copenhagen:20240124T110000
DTEND;TZID=Europe/Copenhagen:20240124T120000
DTSTAMP:20260422T105453
CREATED:20240122T121349Z
LAST-MODIFIED:20240124T082854Z
UID:10042052-1706094000-1706097600@vorescosmos.dk
SUMMARY:Intern
DESCRIPTION:
URL:https://vorescosmos.dk/begivenhed/intern/
LOCATION:Medielab\, Søndergade 11\, Viby Sj.\, 4130\, Danmark
CATEGORIES:Lokale bookninger
END:VEVENT
BEGIN:VEVENT
DTSTART;TZID=Europe/Copenhagen:20240117T190000
DTEND;TZID=Europe/Copenhagen:20240117T213000
DTSTAMP:20260422T105453
CREATED:20240108T094051Z
LAST-MODIFIED:20240108T094052Z
UID:10041941-1705518000-1705527000@vorescosmos.dk
SUMMARY:Viby Friskole (0. klasse)
DESCRIPTION:
URL:https://vorescosmos.dk/begivenhed/viby-friskole-0-klasse/
LOCATION:Medielab\, Søndergade 11\, Viby Sj.\, 4130\, Danmark
CATEGORIES:Lokale bookninger
END:VEVENT
BEGIN:VEVENT
DTSTART;TZID=Europe/Copenhagen:20240111T173000
DTEND;TZID=Europe/Copenhagen:20240111T203000
DTSTAMP:20260422T105453
CREATED:20240108T095300Z
LAST-MODIFIED:20240108T095301Z
UID:10041943-1704994200-1705005000@vorescosmos.dk
SUMMARY:Black Velvet Band - musikøvning
DESCRIPTION:
URL:https://vorescosmos.dk/begivenhed/black-velvet-band-musikoevning/
LOCATION:Medielab\, Søndergade 11\, Viby Sj.\, 4130\, Danmark
CATEGORIES:Lokale bookninger
END:VEVENT
BEGIN:VEVENT
DTSTART;TZID=Europe/Copenhagen:20231210T130000
DTEND;TZID=Europe/Copenhagen:20231210T170000
DTSTAMP:20260422T105453
CREATED:20231123T165126Z
LAST-MODIFIED:20231123T165126Z
UID:10038029-1702213200-1702227600@vorescosmos.dk
SUMMARY:KulturCosmos
DESCRIPTION:
URL:https://vorescosmos.dk/begivenhed/kulturcosmos-10/
LOCATION:Medielab\, Søndergade 11\, Viby Sj.\, 4130\, Danmark
CATEGORIES:Lokale bookninger
END:VEVENT
BEGIN:VEVENT
DTSTART;TZID=Europe/Copenhagen:20231127T160000
DTEND;TZID=Europe/Copenhagen:20231127T180000
DTSTAMP:20260422T105453
CREATED:20231123T165114Z
LAST-MODIFIED:20231123T165114Z
UID:10040052-1701100800-1701108000@vorescosmos.dk
SUMMARY:Bibliotekscafé
DESCRIPTION:
URL:https://vorescosmos.dk/begivenhed/bibliotekscafe-2/
LOCATION:Medielab\, Søndergade 11\, Viby Sj.\, 4130\, Danmark
CATEGORIES:Lokale bookninger
END:VEVENT
BEGIN:VEVENT
DTSTART;TZID=Europe/Copenhagen:20231125T080000
DTEND;TZID=Europe/Copenhagen:20231125T230000
DTSTAMP:20260422T105453
CREATED:20231123T165113Z
LAST-MODIFIED:20231123T165113Z
UID:10038720-1700899200-1700953200@vorescosmos.dk
SUMMARY:Peder Syv aftenskole
DESCRIPTION:
URL:https://vorescosmos.dk/begivenhed/peder-syv-aftenskole-55/
LOCATION:Medielab\, Søndergade 11\, Viby Sj.\, 4130\, Danmark
CATEGORIES:Lokale bookninger
END:VEVENT
BEGIN:VEVENT
DTSTART;TZID=Europe/Copenhagen:20231124T160000
DTEND;TZID=Europe/Copenhagen:20231124T230000
DTSTAMP:20260422T105453
CREATED:20231123T165044Z
LAST-MODIFIED:20231123T165044Z
UID:10038693-1700841600-1700866800@vorescosmos.dk
SUMMARY:KulturCosmos/3. musikformat
DESCRIPTION:
URL:https://vorescosmos.dk/begivenhed/kulturcosmos-3-musikformat-3/
LOCATION:Medielab\, Søndergade 11\, Viby Sj.\, 4130\, Danmark
CATEGORIES:Lokale bookninger
END:VEVENT
BEGIN:VEVENT
DTSTART;TZID=Europe/Copenhagen:20231121T160000
DTEND;TZID=Europe/Copenhagen:20231121T230000
DTSTAMP:20260422T105453
CREATED:20231123T165045Z
LAST-MODIFIED:20231123T165045Z
UID:10038867-1700582400-1700607600@vorescosmos.dk
SUMMARY:KulturCosmos
DESCRIPTION:
URL:https://vorescosmos.dk/begivenhed/kulturcosmos-13/
LOCATION:Medielab\, Søndergade 11\, Viby Sj.\, 4130\, Danmark
CATEGORIES:Lokale bookninger
END:VEVENT
BEGIN:VEVENT
DTSTART;TZID=Europe/Copenhagen:20231119T190000
DTEND;TZID=Europe/Copenhagen:20231119T210000
DTSTAMP:20260422T105453
CREATED:20231123T165026Z
LAST-MODIFIED:20231123T165026Z
UID:10040065-1700420400-1700427600@vorescosmos.dk
SUMMARY:Viby Skole 1. a - forældregruppe
DESCRIPTION:
URL:https://vorescosmos.dk/begivenhed/viby-skole-1-a-foraeldregruppe/
LOCATION:Medielab\, Søndergade 11\, Viby Sj.\, 4130\, Danmark
CATEGORIES:Lokale bookninger
END:VEVENT
BEGIN:VEVENT
DTSTART;TZID=Europe/Copenhagen:20231119T083000
DTEND;TZID=Europe/Copenhagen:20231119T130000
DTSTAMP:20260422T105453
CREATED:20231123T165026Z
LAST-MODIFIED:20231123T165026Z
UID:10041576-1700382600-1700398800@vorescosmos.dk
SUMMARY:Spillebillen koncert
DESCRIPTION:
URL:https://vorescosmos.dk/begivenhed/spillebillen-koncert/
LOCATION:Medielab\, Søndergade 11\, Viby Sj.\, 4130\, Danmark
CATEGORIES:Lokale bookninger
END:VEVENT
END:VCALENDAR