BEGIN:VCALENDAR
VERSION:2.0
PRODID:-//Vores Cosmos - ECPv6.15.20//NONSGML v1.0//EN
CALSCALE:GREGORIAN
METHOD:PUBLISH
X-ORIGINAL-URL:https://vorescosmos.dk
X-WR-CALDESC:Begivenheder for Vores Cosmos
REFRESH-INTERVAL;VALUE=DURATION:PT1H
X-Robots-Tag:noindex
X-PUBLISHED-TTL:PT1H
BEGIN:VTIMEZONE
TZID:Europe/Copenhagen
BEGIN:DAYLIGHT
TZOFFSETFROM:+0100
TZOFFSETTO:+0200
TZNAME:CEST
DTSTART:20220327T010000
END:DAYLIGHT
BEGIN:STANDARD
TZOFFSETFROM:+0200
TZOFFSETTO:+0100
TZNAME:CET
DTSTART:20221030T010000
END:STANDARD
BEGIN:DAYLIGHT
TZOFFSETFROM:+0100
TZOFFSETTO:+0200
TZNAME:CEST
DTSTART:20230326T010000
END:DAYLIGHT
BEGIN:STANDARD
TZOFFSETFROM:+0200
TZOFFSETTO:+0100
TZNAME:CET
DTSTART:20231029T010000
END:STANDARD
BEGIN:DAYLIGHT
TZOFFSETFROM:+0100
TZOFFSETTO:+0200
TZNAME:CEST
DTSTART:20240331T010000
END:DAYLIGHT
BEGIN:STANDARD
TZOFFSETFROM:+0200
TZOFFSETTO:+0100
TZNAME:CET
DTSTART:20241027T010000
END:STANDARD
END:VTIMEZONE
BEGIN:VEVENT
DTSTART;TZID=Europe/Copenhagen:20231114T170000
DTEND;TZID=Europe/Copenhagen:20231114T230000
DTSTAMP:20260422T153711
CREATED:20231123T165026Z
LAST-MODIFIED:20231123T165026Z
UID:10039149-1699981200-1700002800@vorescosmos.dk
SUMMARY:Peder Syv aftenskole
DESCRIPTION:
URL:https://vorescosmos.dk/begivenhed/peder-syv-aftenskole-12/
LOCATION:Medielab\, Søndergade 11\, Viby Sj.\, 4130\, Danmark
CATEGORIES:Lokale bookninger
END:VEVENT
BEGIN:VEVENT
DTSTART;TZID=Europe/Copenhagen:20231107T160000
DTEND;TZID=Europe/Copenhagen:20231107T220000
DTSTAMP:20260422T153711
CREATED:20230630T092621Z
LAST-MODIFIED:20240104T142058Z
UID:10038842-1699372800-1699394400@vorescosmos.dk
SUMMARY:RB + KC
DESCRIPTION:
URL:https://vorescosmos.dk/begivenhed/rb-kc-2/
LOCATION:Medielab\, Søndergade 11\, Viby Sj.\, 4130\, Danmark
CATEGORIES:Lokale bookninger
END:VEVENT
BEGIN:VEVENT
DTSTART;TZID=Europe/Copenhagen:20231103T100000
DTEND;TZID=Europe/Copenhagen:20231103T150000
DTSTAMP:20260422T153711
CREATED:20231027T121418Z
LAST-MODIFIED:20240104T141722Z
UID:10039785-1699005600-1699023600@vorescosmos.dk
SUMMARY:Lyden af en fortælling
DESCRIPTION:
URL:https://vorescosmos.dk/begivenhed/lyden-af-en-fortaelling-2/
LOCATION:Medielab\, Søndergade 11\, Viby Sj.\, 4130\, Danmark
CATEGORIES:Lokale bookninger
END:VEVENT
BEGIN:VEVENT
DTSTART;TZID=Europe/Copenhagen:20231031T180000
DTEND;TZID=Europe/Copenhagen:20231031T220000
DTSTAMP:20260422T153711
CREATED:20230824T113253Z
LAST-MODIFIED:20240104T141829Z
UID:10039464-1698775200-1698789600@vorescosmos.dk
SUMMARY:Roskilde Studiekors Aftenskole
DESCRIPTION:
URL:https://vorescosmos.dk/begivenhed/roskilde-studiekors-aftenskole/
LOCATION:Medielab\, Søndergade 11\, Viby Sj.\, 4130\, Danmark
CATEGORIES:Lokale bookninger
END:VEVENT
BEGIN:VEVENT
DTSTART;TZID=Europe/Copenhagen:20231030T160000
DTEND;TZID=Europe/Copenhagen:20231030T180000
DTSTAMP:20260422T153711
CREATED:20231030T123208Z
LAST-MODIFIED:20240104T141708Z
UID:10039790-1698681600-1698688800@vorescosmos.dk
SUMMARY:Bibliotekscaféen
DESCRIPTION:
URL:https://vorescosmos.dk/begivenhed/bibliotekscafeen-11/
LOCATION:Medielab\, Søndergade 11\, Viby Sj.\, 4130\, Danmark
CATEGORIES:Lokale bookninger
END:VEVENT
BEGIN:VEVENT
DTSTART;TZID=Europe/Copenhagen:20231027T160000
DTEND;TZID=Europe/Copenhagen:20231027T230000
DTSTAMP:20260422T153711
CREATED:20230516T080131Z
LAST-MODIFIED:20240104T141601Z
UID:10038398-1698422400-1698447600@vorescosmos.dk
SUMMARY:3. Musikformat
DESCRIPTION:
URL:https://vorescosmos.dk/begivenhed/3-musikformat-2/
LOCATION:Medielab\, Søndergade 11\, Viby Sj.\, 4130\, Danmark
CATEGORIES:Lokale bookninger
END:VEVENT
BEGIN:VEVENT
DTSTART;TZID=Europe/Copenhagen:20231026T090000
DTEND;TZID=Europe/Copenhagen:20231026T130000
DTSTAMP:20260422T153711
CREATED:20231010T131509Z
LAST-MODIFIED:20240104T141442Z
UID:10039631-1698310800-1698325200@vorescosmos.dk
SUMMARY:Ramsø Lokalhistoriske Forening
DESCRIPTION:
URL:https://vorescosmos.dk/begivenhed/ramsoe-lokalhistoriske-forening-8/
LOCATION:Medielab\, Søndergade 11\, Viby Sj.\, 4130\, Danmark
CATEGORIES:Lokale bookninger
END:VEVENT
END:VCALENDAR