BEGIN:VCALENDAR
VERSION:2.0
PRODID:-//Vores Cosmos - ECPv6.15.20//NONSGML v1.0//EN
CALSCALE:GREGORIAN
METHOD:PUBLISH
X-WR-CALNAME:Vores Cosmos
X-ORIGINAL-URL:https://vorescosmos.dk
X-WR-CALDESC:Begivenheder for Vores Cosmos
REFRESH-INTERVAL;VALUE=DURATION:PT1H
X-Robots-Tag:noindex
X-PUBLISHED-TTL:PT1H
BEGIN:VTIMEZONE
TZID:Europe/Copenhagen
BEGIN:DAYLIGHT
TZOFFSETFROM:+0100
TZOFFSETTO:+0200
TZNAME:CEST
DTSTART:20240331T010000
END:DAYLIGHT
BEGIN:STANDARD
TZOFFSETFROM:+0200
TZOFFSETTO:+0100
TZNAME:CET
DTSTART:20241027T010000
END:STANDARD
BEGIN:DAYLIGHT
TZOFFSETFROM:+0100
TZOFFSETTO:+0200
TZNAME:CEST
DTSTART:20250330T010000
END:DAYLIGHT
BEGIN:STANDARD
TZOFFSETFROM:+0200
TZOFFSETTO:+0100
TZNAME:CET
DTSTART:20251026T010000
END:STANDARD
BEGIN:DAYLIGHT
TZOFFSETFROM:+0100
TZOFFSETTO:+0200
TZNAME:CEST
DTSTART:20260329T010000
END:DAYLIGHT
BEGIN:STANDARD
TZOFFSETFROM:+0200
TZOFFSETTO:+0100
TZNAME:CET
DTSTART:20261025T010000
END:STANDARD
END:VTIMEZONE
BEGIN:VEVENT
DTSTART;TZID=Europe/Copenhagen:20250616T100000
DTEND;TZID=Europe/Copenhagen:20250616T120000
DTSTAMP:20260421T152707
CREATED:20250408T121559Z
LAST-MODIFIED:20250408T121559Z
UID:10043565-1750068000-1750075200@vorescosmos.dk
SUMMARY:Kulturskolen Roskilde
DESCRIPTION:
URL:https://vorescosmos.dk/begivenhed/kulturskolen-roskilde/
LOCATION:Medielab\, Søndergade 11\, Viby Sj.\, 4130\, Danmark
CATEGORIES:Lokale bookninger
END:VEVENT
BEGIN:VEVENT
DTSTART;TZID=Europe/Copenhagen:20250614T080000
DTEND;TZID=Europe/Copenhagen:20250614T170000
DTSTAMP:20260421T152707
CREATED:20241127T095916Z
LAST-MODIFIED:20241127T095916Z
UID:10042942-1749888000-1749920400@vorescosmos.dk
SUMMARY:Cosmos folkefest
DESCRIPTION:
URL:https://vorescosmos.dk/begivenhed/cosmos-folkefest-9/
LOCATION:Medielab\, Søndergade 11\, Viby Sj.\, 4130\, Danmark
CATEGORIES:Lokale bookninger
END:VEVENT
BEGIN:VEVENT
DTSTART;TZID=Europe/Copenhagen:20250612T090000
DTEND;TZID=Europe/Copenhagen:20250612T120000
DTSTAMP:20260421T152707
CREATED:20250610T131928Z
LAST-MODIFIED:20250610T131928Z
UID:10045733-1749718800-1749729600@vorescosmos.dk
SUMMARY:Husrådet
DESCRIPTION:
URL:https://vorescosmos.dk/begivenhed/husraadet-6/
LOCATION:Medielab\, Søndergade 11\, Viby Sj.\, 4130\, Danmark
CATEGORIES:Lokale bookninger
END:VEVENT
BEGIN:VEVENT
DTSTART;TZID=Europe/Copenhagen:20250611T183000
DTEND;TZID=Europe/Copenhagen:20250611T203000
DTSTAMP:20260421T152707
CREATED:20250519T124558Z
LAST-MODIFIED:20250519T124559Z
UID:10045630-1749666600-1749673800@vorescosmos.dk
SUMMARY:Black Velvet Band
DESCRIPTION:
URL:https://vorescosmos.dk/begivenhed/black-velvet-band-3/
LOCATION:Medielab\, Søndergade 11\, Viby Sj.\, 4130\, Danmark
CATEGORIES:Lokale bookninger
END:VEVENT
BEGIN:VEVENT
DTSTART;TZID=Europe/Copenhagen:20250610T100000
DTEND;TZID=Europe/Copenhagen:20250610T200000
DTSTAMP:20260421T152707
CREATED:20250404T103239Z
LAST-MODIFIED:20250404T103239Z
UID:10043518-1749549600-1749585600@vorescosmos.dk
SUMMARY:Kulturskolen
DESCRIPTION:
URL:https://vorescosmos.dk/begivenhed/kulturskolen-4/
LOCATION:Medielab\, Søndergade 11\, Viby Sj.\, 4130\, Danmark
CATEGORIES:Lokale bookninger
END:VEVENT
BEGIN:VEVENT
DTSTART;TZID=Europe/Copenhagen:20250530T160000
DTEND;TZID=Europe/Copenhagen:20250530T230000
DTSTAMP:20260421T152707
CREATED:20241203T135942Z
LAST-MODIFIED:20241203T135942Z
UID:10042961-1748620800-1748646000@vorescosmos.dk
SUMMARY:Comedy banko
DESCRIPTION:
URL:https://vorescosmos.dk/begivenhed/comedy-banko-5/
LOCATION:Medielab\, Søndergade 11\, Viby Sj.\, 4130\, Danmark
CATEGORIES:Lokale bookninger
END:VEVENT
BEGIN:VEVENT
DTSTART;TZID=Europe/Copenhagen:20250527T160000
DTEND;TZID=Europe/Copenhagen:20250527T200000
DTSTAMP:20260421T152707
CREATED:20250507T100735Z
LAST-MODIFIED:20250507T100736Z
UID:10045586-1748361600-1748376000@vorescosmos.dk
SUMMARY:Ældresagen
DESCRIPTION:
URL:https://vorescosmos.dk/begivenhed/aeldresagen-16/
LOCATION:Medielab\, Søndergade 11\, Viby Sj.\, 4130\, Danmark
CATEGORIES:Lokale bookninger
END:VEVENT
BEGIN:VEVENT
DTSTART;TZID=Europe/Copenhagen:20250524T133000
DTEND;TZID=Europe/Copenhagen:20250524T230000
DTSTAMP:20260421T152707
CREATED:20250428T133129Z
LAST-MODIFIED:20250428T133130Z
UID:10043574-1748093400-1748127600@vorescosmos.dk
SUMMARY:KulturCosmos - 3. musikformat
DESCRIPTION:
URL:https://vorescosmos.dk/begivenhed/kulturcosmos-3-musikformat-6/
LOCATION:Medielab\, Søndergade 11\, Viby Sj.\, 4130\, Danmark
CATEGORIES:Lokale bookninger
END:VEVENT
BEGIN:VEVENT
DTSTART;TZID=Europe/Copenhagen:20250514T183000
DTEND;TZID=Europe/Copenhagen:20250514T213000
DTSTAMP:20260421T152707
CREATED:20250508T065558Z
LAST-MODIFIED:20250508T065558Z
UID:10045588-1747247400-1747258200@vorescosmos.dk
SUMMARY:Viby musikforening
DESCRIPTION:
URL:https://vorescosmos.dk/begivenhed/viby-musikforening-75/
LOCATION:Medielab\, Søndergade 11\, Viby Sj.\, 4130\, Danmark
CATEGORIES:Lokale bookninger
END:VEVENT
BEGIN:VEVENT
DTSTART;TZID=Europe/Copenhagen:20250512T200000
DTEND;TZID=Europe/Copenhagen:20250512T220000
DTSTAMP:20260421T152707
CREATED:20250508T065130Z
LAST-MODIFIED:20250508T065130Z
UID:10045587-1747080000-1747087200@vorescosmos.dk
SUMMARY:Forældrerådsmøde
DESCRIPTION:
URL:https://vorescosmos.dk/begivenhed/foraeldreraadsmoede-3/
LOCATION:Medielab\, Søndergade 11\, Viby Sj.\, 4130\, Danmark
CATEGORIES:Lokale bookninger
END:VEVENT
BEGIN:VEVENT
DTSTART;TZID=Europe/Copenhagen:20250509T170000
DTEND;TZID=Europe/Copenhagen:20250509T230000
DTSTAMP:20260421T152707
CREATED:20250115T132659Z
LAST-MODIFIED:20250115T132700Z
UID:10043388-1746810000-1746831600@vorescosmos.dk
SUMMARY:4. musikformat
DESCRIPTION:
URL:https://vorescosmos.dk/begivenhed/4-musikformat-14/
LOCATION:Medielab\, Søndergade 11\, Viby Sj.\, 4130\, Danmark
CATEGORIES:Lokale bookninger
END:VEVENT
BEGIN:VEVENT
DTSTART;TZID=Europe/Copenhagen:20250507T183000
DTEND;TZID=Europe/Copenhagen:20250507T213000
DTSTAMP:20260421T152707
CREATED:20250502T103947Z
LAST-MODIFIED:20250502T103948Z
UID:10043584-1746642600-1746653400@vorescosmos.dk
SUMMARY:Viby Musikforening
DESCRIPTION:
URL:https://vorescosmos.dk/begivenhed/viby-musikforening-74/
LOCATION:Medielab\, Søndergade 11\, Viby Sj.\, 4130\, Danmark
CATEGORIES:Lokale bookninger
END:VEVENT
BEGIN:VEVENT
DTSTART;TZID=Europe/Copenhagen:20250430T183000
DTEND;TZID=Europe/Copenhagen:20250430T213000
DTSTAMP:20260421T152707
CREATED:20250422T112435Z
LAST-MODIFIED:20250422T112436Z
UID:10043571-1746037800-1746048600@vorescosmos.dk
SUMMARY:Black Velvet Band fra Viby Musikforening
DESCRIPTION:
URL:https://vorescosmos.dk/begivenhed/black-velvet-band-fra-viby-musikforening-7/
LOCATION:Medielab\, Søndergade 11\, Viby Sj.\, 4130\, Danmark
CATEGORIES:Lokale bookninger
END:VEVENT
BEGIN:VEVENT
DTSTART;TZID=Europe/Copenhagen:20250416T180000
DTEND;TZID=Europe/Copenhagen:20250416T213000
DTSTAMP:20260421T152707
CREATED:20250414T145057Z
LAST-MODIFIED:20250414T145057Z
UID:10043568-1744826400-1744839000@vorescosmos.dk
SUMMARY:Viby musikforening
DESCRIPTION:
URL:https://vorescosmos.dk/begivenhed/viby-musikforening-73/
LOCATION:Medielab\, Søndergade 11\, Viby Sj.\, 4130\, Danmark
CATEGORIES:Lokale bookninger
END:VEVENT
BEGIN:VEVENT
DTSTART;TZID=Europe/Copenhagen:20250414T093000
DTEND;TZID=Europe/Copenhagen:20250414T123000
DTSTAMP:20260421T152707
CREATED:20250115T131951Z
LAST-MODIFIED:20250115T132121Z
UID:10043386-1744623000-1744633800@vorescosmos.dk
SUMMARY:Book en it-vejleder
DESCRIPTION:
URL:https://vorescosmos.dk/begivenhed/book-en-it-vejleder-3/2025-04-14/
LOCATION:Medielab\, Søndergade 11\, Viby Sj.\, 4130\, Danmark
CATEGORIES:Lokale bookninger
END:VEVENT
BEGIN:VEVENT
DTSTART;TZID=Europe/Copenhagen:20250411T150000
DTEND;TZID=Europe/Copenhagen:20250411T230000
DTSTAMP:20260421T152707
CREATED:20240429T083119Z
LAST-MODIFIED:20240429T083120Z
UID:10042339-1744383600-1744412400@vorescosmos.dk
SUMMARY:3. musikformat
DESCRIPTION:
URL:https://vorescosmos.dk/begivenhed/3-musikformat-11/
LOCATION:Medielab\, Søndergade 11\, Viby Sj.\, 4130\, Danmark
CATEGORIES:Lokale bookninger
END:VEVENT
BEGIN:VEVENT
DTSTART;TZID=Europe/Copenhagen:20250409T173000
DTEND;TZID=Europe/Copenhagen:20250409T210000
DTSTAMP:20260421T152707
CREATED:20250327T132002Z
LAST-MODIFIED:20250327T132003Z
UID:10043509-1744219800-1744232400@vorescosmos.dk
SUMMARY:Viby musikforening
DESCRIPTION:
URL:https://vorescosmos.dk/begivenhed/viby-musikforening-72/
LOCATION:Medielab\, Søndergade 11\, Viby Sj.\, 4130\, Danmark
CATEGORIES:Lokale bookninger
END:VEVENT
BEGIN:VEVENT
DTSTART;TZID=Europe/Copenhagen:20250408T120000
DTEND;TZID=Europe/Copenhagen:20250408T170000
DTSTAMP:20260421T152707
CREATED:20250407T142013Z
LAST-MODIFIED:20250407T142013Z
UID:10043564-1744113600-1744131600@vorescosmos.dk
SUMMARY:Arbejde med arkivalier fra Arkivet
DESCRIPTION:
URL:https://vorescosmos.dk/begivenhed/arbejde-med-arkivalier-fra-arkivet/
LOCATION:Medielab\, Søndergade 11\, Viby Sj.\, 4130\, Danmark
CATEGORIES:Lokale bookninger
END:VEVENT
BEGIN:VEVENT
DTSTART;TZID=Europe/Copenhagen:20250326T173000
DTEND;TZID=Europe/Copenhagen:20250326T210000
DTSTAMP:20260421T152707
CREATED:20250321T125649Z
LAST-MODIFIED:20250321T125649Z
UID:10043500-1743010200-1743022800@vorescosmos.dk
SUMMARY:Viby musikforening
DESCRIPTION:
URL:https://vorescosmos.dk/begivenhed/viby-musikforening-71/
LOCATION:Medielab\, Søndergade 11\, Viby Sj.\, 4130\, Danmark
CATEGORIES:Lokale bookninger
END:VEVENT
BEGIN:VEVENT
DTSTART;TZID=Europe/Copenhagen:20250319T180000
DTEND;TZID=Europe/Copenhagen:20250319T210000
DTSTAMP:20260421T152707
CREATED:20250314T112042Z
LAST-MODIFIED:20250314T112042Z
UID:10043481-1742407200-1742418000@vorescosmos.dk
SUMMARY:Viby musikforening
DESCRIPTION:
URL:https://vorescosmos.dk/begivenhed/viby-musikforening-69/
LOCATION:Medielab\, Søndergade 11\, Viby Sj.\, 4130\, Danmark
CATEGORIES:Lokale bookninger
END:VEVENT
BEGIN:VEVENT
DTSTART;TZID=Europe/Copenhagen:20250317T183000
DTEND;TZID=Europe/Copenhagen:20250317T210000
DTSTAMP:20260421T152707
CREATED:20250108T080544Z
LAST-MODIFIED:20250108T080606Z
UID:10043108-1742236200-1742245200@vorescosmos.dk
SUMMARY:Læsegruppe 4
DESCRIPTION:
URL:https://vorescosmos.dk/begivenhed/laesegruppe-4-4/
LOCATION:Medielab\, Søndergade 11\, Viby Sj.\, 4130\, Danmark
CATEGORIES:Lokale bookninger
END:VEVENT
BEGIN:VEVENT
DTSTART;TZID=Europe/Copenhagen:20250312T183000
DTEND;TZID=Europe/Copenhagen:20250312T210000
DTSTAMP:20260421T152707
CREATED:20250307T121014Z
LAST-MODIFIED:20250307T121014Z
UID:10043474-1741804200-1741813200@vorescosmos.dk
SUMMARY:Black Velvet Band
DESCRIPTION:
URL:https://vorescosmos.dk/begivenhed/black-velvet-band-2/
LOCATION:Medielab\, Søndergade 11\, Viby Sj.\, 4130\, Danmark
CATEGORIES:Lokale bookninger
END:VEVENT
BEGIN:VEVENT
DTSTART;TZID=Europe/Copenhagen:20250310T093000
DTEND;TZID=Europe/Copenhagen:20250310T123000
DTSTAMP:20260421T152707
CREATED:20250115T131951Z
LAST-MODIFIED:20250115T132121Z
UID:10043385-1741599000-1741609800@vorescosmos.dk
SUMMARY:Book en it-vejleder
DESCRIPTION:
URL:https://vorescosmos.dk/begivenhed/book-en-it-vejleder-3/2025-03-10/
LOCATION:Medielab\, Søndergade 11\, Viby Sj.\, 4130\, Danmark
CATEGORIES:Lokale bookninger
END:VEVENT
BEGIN:VEVENT
DTSTART;TZID=Europe/Copenhagen:20250306T090000
DTEND;TZID=Europe/Copenhagen:20250306T120000
DTSTAMP:20260421T152707
CREATED:20250213T125754Z
LAST-MODIFIED:20250213T125755Z
UID:10043454-1741251600-1741262400@vorescosmos.dk
SUMMARY:Husrådet
DESCRIPTION:
URL:https://vorescosmos.dk/begivenhed/husraadet-5/
LOCATION:Medielab\, Søndergade 11\, Viby Sj.\, 4130\, Danmark
CATEGORIES:Lokale bookninger
END:VEVENT
BEGIN:VEVENT
DTSTART;TZID=Europe/Copenhagen:20250305T173000
DTEND;TZID=Europe/Copenhagen:20250305T210000
DTSTAMP:20260421T152707
CREATED:20250227T133943Z
LAST-MODIFIED:20250227T133943Z
UID:10043469-1741195800-1741208400@vorescosmos.dk
SUMMARY:Viby musikforening
DESCRIPTION:
URL:https://vorescosmos.dk/begivenhed/viby-musikforening-68/
LOCATION:Medielab\, Søndergade 11\, Viby Sj.\, 4130\, Danmark
CATEGORIES:Lokale bookninger
END:VEVENT
BEGIN:VEVENT
DTSTART;TZID=Europe/Copenhagen:20250304T160000
DTEND;TZID=Europe/Copenhagen:20250304T230000
DTSTAMP:20260421T152707
CREATED:20241203T133942Z
LAST-MODIFIED:20241203T133942Z
UID:10042955-1741104000-1741129200@vorescosmos.dk
SUMMARY:Standup
DESCRIPTION:
URL:https://vorescosmos.dk/begivenhed/standup-8/
LOCATION:Medielab\, Søndergade 11\, Viby Sj.\, 4130\, Danmark
CATEGORIES:Lokale bookninger
END:VEVENT
BEGIN:VEVENT
DTSTART;TZID=Europe/Copenhagen:20250219T173000
DTEND;TZID=Europe/Copenhagen:20250219T210000
DTSTAMP:20260421T152707
CREATED:20250214T104303Z
LAST-MODIFIED:20250214T104303Z
UID:10043456-1739986200-1739998800@vorescosmos.dk
SUMMARY:Viby musikforening
DESCRIPTION:
URL:https://vorescosmos.dk/begivenhed/viby-musikforening-65/
LOCATION:Medielab\, Søndergade 11\, Viby Sj.\, 4130\, Danmark
CATEGORIES:Lokale bookninger
END:VEVENT
BEGIN:VEVENT
DTSTART;TZID=Europe/Copenhagen:20250212T173000
DTEND;TZID=Europe/Copenhagen:20250212T210000
DTSTAMP:20260421T152707
CREATED:20250210T093926Z
LAST-MODIFIED:20250210T093927Z
UID:10043430-1739381400-1739394000@vorescosmos.dk
SUMMARY:Black Velvet band fra Viby Musikforening
DESCRIPTION:
URL:https://vorescosmos.dk/begivenhed/black-velvet-band-fra-viby-musikforening-6/
LOCATION:Medielab\, Søndergade 11\, Viby Sj.\, 4130\, Danmark
CATEGORIES:Lokale bookninger
END:VEVENT
BEGIN:VEVENT
DTSTART;TZID=Europe/Copenhagen:20250211T160000
DTEND;TZID=Europe/Copenhagen:20250211T230000
DTSTAMP:20260421T152707
CREATED:20250203T122545Z
LAST-MODIFIED:20250203T122545Z
UID:10043416-1739289600-1739314800@vorescosmos.dk
SUMMARY:Viby musikforening
DESCRIPTION:
URL:https://vorescosmos.dk/begivenhed/viby-musikforening-62/
LOCATION:Medielab\, Søndergade 11\, Viby Sj.\, 4130\, Danmark
CATEGORIES:Lokale bookninger
END:VEVENT
BEGIN:VEVENT
DTSTART;TZID=Europe/Copenhagen:20250208T110000
DTEND;TZID=Europe/Copenhagen:20250208T180000
DTSTAMP:20260421T152707
CREATED:20250109T113442Z
LAST-MODIFIED:20250109T113443Z
UID:10043110-1739012400-1739037600@vorescosmos.dk
SUMMARY:BilledCosmos
DESCRIPTION:
URL:https://vorescosmos.dk/begivenhed/billedcosmos-25/
LOCATION:Medielab\, Søndergade 11\, Viby Sj.\, 4130\, Danmark
END:VEVENT
END:VCALENDAR